{"text_format":"1","workbook":"xlsx","n_sheets":12,"sheets":["Menu","CadMP","CadProd","Relatório","Cad","PE","AC","RC","GR","GR_Dados","Instruções","BaseProdutos"],"not_rendered":{"charts":6,"images":27,"macros":1,"external_links":1,"defined_names":10,"comments":2,"pivot_tables":1},"unopened":[],"bounds":{"document_bytes":16777216,"sheet_cells":100000,"rows_first":2000,"rows_last":500,"rows_between":2000,"halvings":0,"cell_chars":16384,"cell_head_chars":4096},"cells_cut":0,"cells_raw":0,"read":"whole","date_system":"1900"}

{"sheet":"Menu","index":0,"n_rows":26,"n_cols":7,"rows_kept":26,"cut":false,"hidden":false,"merged":[[25,4,25,5],[25,6,25,14]]}
[]
[]
[]
[]
[]
[]
[]
[]
[]
[]
[]
[]
[]
[]
[]
[]
[]
[]
[]
[]
[]
[]
[]
[]
[]
[null,null,null,null,"Empresa:",null,"Empresa ABCDE"]

{"sheet":"CadMP","index":1,"n_rows":16,"n_cols":4,"rows_kept":16,"cut":false,"hidden":false,"merged":[[9,1,9,3]]}
[]
[]
[]
[]
[]
[]
[]
[]
[]
[null,"CADASTRO DE MATERIAIS NECESSÁRIOS\nInsira os materiais necessários para execução dos serviços."]
[null,"MATERIAIS","UNIDADE DE MEDIDA","VALOR UNITÁRIO"]
[null,"Material 1","UN",5]
[null,"Material 2","UN",10]
[null,"Material 3","UN",20]
[null,"Material 4","UN",30]
[null,"Material 5","UN",40]

{"sheet":"CadProd","index":2,"n_rows":50,"n_cols":11,"rows_kept":50,"cut":false,"hidden":false,"merged":[[38,1,39,3],[38,4,39,4],[41,1,42,3],[41,4,42,4],[9,1,9,2],[15,3,15,4],[18,3,18,4],[26,1,27,3],[26,4,27,4],[11,1,11,10],[9,3,9,6],[13,3,13,4],[16,3,16,4]]}
[]
[]
[]
[]
[]
[]
[]
[]
[]
[null,"Empresa:",null,{"$f":"Menu!$G$26","v":"Empresa ABCDE"}]
[]
[null,"CADASTRO DE SERVIÇOS\nCadastre os serviços com seus custos, impostos e os materiais necessários."]
[]
[null,"Descrição do Serviço:",null,"Serviço 1"]
[]
[null,"A) Custo de Materiais:",null,{"$f":"SUM(K18:K32)","v":350}]
[null,"B) Custo de Mão de Obra:",null,null,null,null,"Materiais","Quantidade","Unidade de Medida","Valor Unitário","Valor Total"]
[null,null,null,null,null,null,"Material 2",20,{"$f":"IFERROR(VLOOKUP(G18,CadMP!B:D,2,0),\"\")","v":"UN"},{"$f":"IFERROR(VLOOKUP(G18,CadMP!B:D,3,0),\"\")","v":10},{"$f":"IFERROR(H18*J18,0)","v":200}]
[null,"C) Total de Custos Adicionais:",null,{"$f":"SUM(E20:E25)","v":450},null,null,"Material 4",5,{"$f":"IFERROR(VLOOKUP(G19,CadMP!B:D,2,0),\"\")","v":"UN"},{"$f":"IFERROR(VLOOKUP(G19,CadMP!B:D,3,0),\"\")","v":30},{"$f":"IFERROR(H19*J19,0)","v":150}]
[null,null,"Impostos Recuperáveis:",null,null,null,null,null,{"$f":"IFERROR(VLOOKUP(G20,CadMP!B:D,2,0),\"\")","v":""},{"$f":"IFERROR(VLOOKUP(G20,CadMP!B:D,3,0),\"\")","v":""},0]
[null,null,"Impostos Não Recuperáveis:",null,null,null,null,null,{"$f":"IFERROR(VLOOKUP(G21,CadMP!B:D,2,0),\"\")","v":""},{"$f":"IFERROR(VLOOKUP(G21,CadMP!B:D,3,0),\"\")","v":""},0]
[null,null,"Fretes:",null,150,null,null,null,{"$f":"IFERROR(VLOOKUP(G22,CadMP!B:D,2,0),\"\")","v":""},{"$f":"IFERROR(VLOOKUP(G22,CadMP!B:D,3,0),\"\")","v":""},0]
[null,null,"Seguros:",null,300,null,null,null,{"$f":"IFERROR(VLOOKUP(G23,CadMP!B:D,2,0),\"\")","v":""},{"$f":"IFERROR(VLOOKUP(G23,CadMP!B:D,3,0),\"\")","v":""},0]
[null,null,"Substituição Tributária:",null,null,null,null,null,{"$f":"IFERROR(VLOOKUP(G24,CadMP!B:D,2,0),\"\")","v":""},{"$f":"IFERROR(VLOOKUP(G24,CadMP!B:D,3,0),\"\")","v":""},0]
[null,null,"Outros Custos:",null,null,null,null,null,{"$f":"IFERROR(VLOOKUP(G25,CadMP!B:D,2,0),\"\")","v":""},{"$f":"IFERROR(VLOOKUP(G25,CadMP!B:D,3,0),\"\")","v":""},0]
[null,null,null,null,null,null,null,null,{"$f":"IFERROR(VLOOKUP(G26,CadMP!B:D,2,0),\"\")","v":""},{"$f":"IFERROR(VLOOKUP(G26,CadMP!B:D,3,0),\"\")","v":""},0]
[null,"D) Custo Materiais + Custos Adicionais + Custo Mão de Obra (A+B+C):",null,null,{"$f":"D16+D17+D19","v":800},null,null,null,{"$f":"IFERROR(VLOOKUP(G27,CadMP!B:D,2,0),\"\")","v":""},{"$f":"IFERROR(VLOOKUP(G27,CadMP!B:D,3,0),\"\")","v":""},0]
[null,null,null,null,null,null,null,null,{"$f":"IFERROR(VLOOKUP(G28,CadMP!B:D,2,0),\"\")","v":""},{"$f":"IFERROR(VLOOKUP(G28,CadMP!B:D,3,0),\"\")","v":""},0]
[null,null,null,null,null,null,null,null,{"$f":"IFERROR(VLOOKUP(G29,CadMP!B:D,2,0),\"\")","v":""},{"$f":"IFERROR(VLOOKUP(G29,CadMP!B:D,3,0),\"\")","v":""},0]
[null,"E) Índice de Composição do Preço (%):",null,null,{"$f":"SUM(E31:E37)","v":30},null,null,null,{"$f":"IFERROR(VLOOKUP(G30,CadMP!B:D,2,0),\"\")","v":""},{"$f":"IFERROR(VLOOKUP(G30,CadMP!B:D,3,0),\"\")","v":""},0]
[null,null,"% Impostos Estaduais (ICMS):",null,null,null,null,null,{"$f":"IFERROR(VLOOKUP(G31,CadMP!B:D,2,0),\"\")","v":""},{"$f":"IFERROR(VLOOKUP(G31,CadMP!B:D,3,0),\"\")","v":""},0]
[null,null,"% Impostos Municipais (ISS):",null,null,null,null,null,{"$f":"IFERROR(VLOOKUP(G32,CadMP!B:D,2,0),\"\")","v":""},{"$f":"IFERROR(VLOOKUP(G32,CadMP!B:D,3,0),\"\")","v":""},0]
[null,null,"% Outros 1:"]
[null,null,"% Outros 2:"]
[null,null,"% Comissões:"]
[null,null,"% Custo fixo:",null,10,"(custo fixo médio mensal /vendas média mensal) x 100"]
[null,null,"% Margem de Lucro:",null,20,"(desejada e possível)"]
[]
[null,"F) Taxa de Marcação Multiplicador = (100)/(100-D):",null,null,{"$f":"(100)/(100-E30)","v":1.4285714285714286}]
[]
[]
[null,"G) Cálculo do Preço de Venda = (D x F):",null,null,{"$f":"E27*E39","v":1142.8571428571429}]
[]
[null,"Observação:"]
[null,"Os percentuais (%) de impostos são vinculados com o ramo de atividade e respectivo regime tributário \n(Empreendedor Individual, Simples Nacional, Lucro Presumido e Lucro Real)."]
[]
[]
[]
[]
[null,"Código Registro:",null,1]

{"sheet":"Relatório","index":3,"n_rows":15,"n_cols":6,"rows_kept":15,"cut":false,"hidden":false,"merged":[[9,2,9,5]]}
[]
[]
[]
[]
[]
[]
[]
[]
[]
[null,"Empresa:",{"$f":"Menu!G26","v":"Empresa ABCDE"}]
[]
[null,"Serviços","Custo Materiais","Total Custos Adicionais","Índice de Composição do Preço (%)","Preço de Venda"]
[null,"Serviço 1",350,450,30,1142.8571428571429]
[null,"Serviço 2",390,450,30,1200]
[null,"(vazio)",0,0,0,0]

{"sheet":"Cad","index":4,"n_rows":511,"n_cols":25,"rows_kept":511,"cut":false,"hidden":false,"merged":[]}
[]
[]
[]
[]
[]
[]
[]
[]
[]
[]
[null,"Serviços","Preço de Venda","Projeções de vendas mensais","Receita bruta mensal","% de Participação","Materiais","Comissões (%)","Impostos (%)","Outros Índices (%)","Custos Adicionais","Total custo por serviço",null,"Custo Fixo","Valor (R$)",null,null,"Comissões (%)","Impostos (%)","Margem de contribuição unitária","IMC (%)","Receita no ponto de equilíbrio","Quantidade a ser vendida","Outros Gastos","Matéria Prima"]
[null,{"$f":"IF(BaseProdutos!B2=\"\",\"\",BaseProdutos!B2)","v":"Serviço 1"},{"$f":"IFERROR(VLOOKUP(B12,BaseProdutos!B:V,21,0),\"\")","v":1142.8571428571429},10,{"$f":"IFERROR(IF(B12=\"\",\"\",C12*D12),\"\")","v":11428.571428571429},{"$f":"IFERROR(E12/SUM($E$12:$E$511),\"\")","v":0.32258064516129037},{"$f":"IFERROR(VLOOKUP(B12,BaseProdutos!B:V,3,0),\"\")","v":350},{"$f":"IFERROR(VLOOKUP(B12,BaseProdutos!B:V,17,0)/100,\"\")","v":0},{"$f":"IFERROR(SUM(VLOOKUP(B12,BaseProdutos!B:V,13,0),VLOOKUP(B12,BaseProdutos!B:V,14,0))/100,\"\")","v":0},{"$f":"IFERROR(SUM(VLOOKUP(B12,BaseProdutos!B:V,15,0),VLOOKUP(B12,BaseProdutos!B:V,16,0))/100,\"\")","v":0},{"$f":"IFERROR(VLOOKUP(B12,BaseProdutos!B:V,4,0),\"\")","v":450},{"$f":"IFERROR(G12+C12*(H12+I12+J12)+K12,\"\")","v":800},null,"Pró Labore e salários",6500,null,null,{"$f":"IFERROR(H12*E12,\"\")","v":0},{"$f":"IFERROR(I12*E12,\"\")","v":0},{"$f":"IFERROR(C12-L12,\"\")","v":342.85714285714289},{"$f":"IFERROR(T12/C12,\"\")","v":0.30000000000000004},{"$f":"IFERROR(W12*C12,\"\")","v":16816.155258326777},{"$f":"IFERROR(F12*PE!$F$20,\"\")","v":14.71413585103593},{"$f":"IFERROR(K12*D12,\"\")","v":4500},{"$f":"IFERROR(G12*D12,\"\")","v":3500}]
[null,{"$f":"IF(BaseProdutos!B3=\"\",\"\",BaseProdutos!B3)","v":"Serviço 2"},{"$f":"IFERROR(VLOOKUP(B13,BaseProdutos!B:V,21,0),\"\")","v":1200},20,{"$f":"IFERROR(IF(B13=\"\",\"\",C13*D13),\"\")","v":24000},{"$f":"IFERROR(E13/SUM($E$12:$E$511),\"\")","v":0.67741935483870974},{"$f":"IFERROR(VLOOKUP(B13,BaseProdutos!B:V,3,0),\"\")","v":390},{"$f":"IFERROR(VLOOKUP(B13,BaseProdutos!B:V,17,0),\"\")","v":0},{"$f":"IFERROR(SUM(VLOOKUP(B13,BaseProdutos!B:V,13,0),VLOOKUP(B13,BaseProdutos!B:V,14,0)),\"\")","v":0},{"$f":"IFERROR(SUM(VLOOKUP(B13,BaseProdutos!B:V,15,0),VLOOKUP(B13,BaseProdutos!B:V,16,0))/100,\"\")","v":0},{"$f":"IFERROR(VLOOKUP(B13,BaseProdutos!B:V,4,0),\"\")","v":450},{"$f":"IFERROR(G13+C13*(H13+I13+J13)+K13,\"\")","v":840},null,"Taxa de propriedade (águal e luz)",600,null,null,{"$f":"IFERROR(H13*E13,\"\")","v":0},{"$f":"IFERROR(I13*E13,\"\")","v":0},{"$f":"IFERROR(C13-L13,\"\")","v":360},{"$f":"IFERROR(T13/C13,\"\")","v":0.3},{"$f":"IFERROR(W13*C13,\"\")","v":37079.622344610543},{"$f":"IFERROR(F13*PE!$F$20,\"\")","v":30.899685287175451},{"$f":"IFERROR(K13*D13,\"\")","v":9000},{"$f":"IFERROR(G13*D13,\"\")","v":7800}]
[null,{"$f":"IF(BaseProdutos!B4=\"\",\"\",BaseProdutos!B4)","v":""},{"$f":"IFERROR(VLOOKUP(B14,BaseProdutos!B:V,21,0),\"\")","v":""},null,"","",{"$f":"IFERROR(VLOOKUP(B14,BaseProdutos!B:V,3,0),\"\")","v":""},{"$f":"IFERROR(VLOOKUP(B14,BaseProdutos!B:V,17,0),\"\")","v":""},{"$f":"IFERROR(SUM(VLOOKUP(B14,BaseProdutos!B:V,13,0),VLOOKUP(B14,BaseProdutos!B:V,14,0)),\"\")","v":""},{"$f":"IFERROR(SUM(VLOOKUP(B14,BaseProdutos!B:V,15,0),VLOOKUP(B14,BaseProdutos!B:V,16,0))/100,\"\")","v":""},{"$f":"IFERROR(VLOOKUP(B14,BaseProdutos!B:V,4,0),\"\")","v":""},"",null,"Telefone e internet",700,null,null,"","","","","",{"$f":"IFERROR(F14*PE!$F$20,\"\")","v":""},"",""]
[null,{"$f":"IF(BaseProdutos!B5=\"\",\"\",BaseProdutos!B5)","v":""},{"$f":"IFERROR(VLOOKUP(B15,BaseProdutos!B:V,21,0),\"\")","v":""},null,"","",{"$f":"IFERROR(VLOOKUP(B15,BaseProdutos!B:V,3,0),\"\")","v":""},{"$f":"IFERROR(VLOOKUP(B15,BaseProdutos!B:V,17,0),\"\")","v":""},{"$f":"IFERROR(SUM(VLOOKUP(B15,BaseProdutos!B:V,13,0),VLOOKUP(B15,BaseProdutos!B:V,14,0)),\"\")","v":""},{"$f":"IFERROR(SUM(VLOOKUP(B15,BaseProdutos!B:V,15,0),VLOOKUP(B15,BaseProdutos!B:V,16,0))/100,\"\")","v":""},{"$f":"IFERROR(VLOOKUP(B15,BaseProdutos!B:V,4,0),\"\")","v":""},"",null,"Aluguel",2000,null,null,"","","","","",{"$f":"IFERROR(F15*PE!$F$20,\"\")","v":""},"",""]
[null,{"$f":"IF(BaseProdutos!B6=\"\",\"\",BaseProdutos!B6)","v":""},{"$f":"IFERROR(VLOOKUP(B16,BaseProdutos!B:V,21,0),\"\")","v":""},null,"","",{"$f":"IFERROR(VLOOKUP(B16,BaseProdutos!B:V,3,0),\"\")","v":""},{"$f":"IFERROR(VLOOKUP(B16,BaseProdutos!B:V,17,0),\"\")","v":""},{"$f":"IFERROR(SUM(VLOOKUP(B16,BaseProdutos!B:V,13,0),VLOOKUP(B16,BaseProdutos!B:V,14,0)),\"\")","v":""},{"$f":"IFERROR(SUM(VLOOKUP(B16,BaseProdutos!B:V,15,0),VLOOKUP(B16,BaseProdutos!B:V,16,0))/100,\"\")","v":""},{"$f":"IFERROR(VLOOKUP(B16,BaseProdutos!B:V,4,0),\"\")","v":""},"",null,"Marketing",2000,null,null,"","","","","",{"$f":"IFERROR(F16*PE!$F$20,\"\")","v":""},"",""]
[null,{"$f":"IF(BaseProdutos!B7=\"\",\"\",BaseProdutos!B7)","v":""},{"$f":"IFERROR(VLOOKUP(B17,BaseProdutos!B:V,21,0),\"\")","v":""},null,"","",{"$f":"IFERROR(VLOOKUP(B17,BaseProdutos!B:V,3,0),\"\")","v":""},{"$f":"IFERROR(VLOOKUP(B17,BaseProdutos!B:V,17,0),\"\")","v":""},{"$f":"IFERROR(SUM(VLOOKUP(B17,BaseProdutos!B:V,13,0),VLOOKUP(B17,BaseProdutos!B:V,14,0)),\"\")","v":""},{"$f":"IFERROR(SUM(VLOOKUP(B17,BaseProdutos!B:V,15,0),VLOOKUP(B17,BaseProdutos!B:V,16,0))/100,\"\")","v":""},{"$f":"IFERROR(VLOOKUP(B17,BaseProdutos!B:V,4,0),\"\")","v":""},"",null,"Empréstimos",1350,null,null,"","","","","",{"$f":"IFERROR(F17*PE!$F$20,\"\")","v":""},"",""]
[null,{"$f":"IF(BaseProdutos!B8=\"\",\"\",BaseProdutos!B8)","v":""},{"$f":"IFERROR(VLOOKUP(B18,BaseProdutos!B:V,21,0),\"\")","v":""},null,"","",{"$f":"IFERROR(VLOOKUP(B18,BaseProdutos!B:V,3,0),\"\")","v":""},{"$f":"IFERROR(VLOOKUP(B18,BaseProdutos!B:V,17,0),\"\")","v":""},{"$f":"IFERROR(SUM(VLOOKUP(B18,BaseProdutos!B:V,13,0),VLOOKUP(B18,BaseProdutos!B:V,14,0)),\"\")","v":""},{"$f":"IFERROR(SUM(VLOOKUP(B18,BaseProdutos!B:V,15,0),VLOOKUP(B18,BaseProdutos!B:V,16,0))/100,\"\")","v":""},{"$f":"IFERROR(VLOOKUP(B18,BaseProdutos!B:V,4,0),\"\")","v":""},"",null,"Legais e Jurídicos",980,null,null,"","","","","",{"$f":"IFERROR(F18*PE!$F$20,\"\")","v":""},"",""]
[null,{"$f":"IF(BaseProdutos!B9=\"\",\"\",BaseProdutos!B9)","v":""},{"$f":"IFERROR(VLOOKUP(B19,BaseProdutos!B:V,21,0),\"\")","v":""},null,"","",{"$f":"IFERROR(VLOOKUP(B19,BaseProdutos!B:V,3,0),\"\")","v":""},{"$f":"IFERROR(VLOOKUP(B19,BaseProdutos!B:V,17,0),\"\")","v":""},{"$f":"IFERROR(SUM(VLOOKUP(B19,BaseProdutos!B:V,13,0),VLOOKUP(B19,BaseProdutos!B:V,14,0)),\"\")","v":""},{"$f":"IFERROR(SUM(VLOOKUP(B19,BaseProdutos!B:V,15,0),VLOOKUP(B19,BaseProdutos!B:V,16,0))/100,\"\")","v":""},{"$f":"IFERROR(VLOOKUP(B19,BaseProdutos!B:V,4,0),\"\")","v":""},"",null,"Outros Custos",1900,null,null,"","","","","",{"$f":"IFERROR(F19*PE!$F$20,\"\")","v":""},"",""]
[null,{"$f":"IF(BaseProdutos!B10=\"\",\"\",BaseProdutos!B10)","v":""},{"$f":"IFERROR(VLOOKUP(B20,BaseProdutos!B:V,21,0),\"\")","v":""},null,"","",{"$f":"IFERROR(VLOOKUP(B20,BaseProdutos!B:V,3,0),\"\")","v":""},{"$f":"IFERROR(VLOOKUP(B20,BaseProdutos!B:V,17,0),\"\")","v":""},{"$f":"IFERROR(SUM(VLOOKUP(B20,BaseProdutos!B:V,13,0),VLOOKUP(B20,BaseProdutos!B:V,14,0)),\"\")","v":""},{"$f":"IFERROR(SUM(VLOOKUP(B20,BaseProdutos!B:V,15,0),VLOOKUP(B20,BaseProdutos!B:V,16,0))/100,\"\")","v":""},{"$f":"IFERROR(VLOOKUP(B20,BaseProdutos!B:V,4,0),\"\")","v":""},"",null,"Ourtros Custos Fixos",null,null,null,"","","","","",{"$f":"IFERROR(F20*PE!$F$20,\"\")","v":""},"",""]
[null,{"$f":"IF(BaseProdutos!B11=\"\",\"\",BaseProdutos!B11)","v":""},{"$f":"IFERROR(VLOOKUP(B21,BaseProdutos!B:V,21,0),\"\")","v":""},null,"","",{"$f":"IFERROR(VLOOKUP(B21,BaseProdutos!B:V,3,0),\"\")","v":""},{"$f":"IFERROR(VLOOKUP(B21,BaseProdutos!B:V,17,0),\"\")","v":""},{"$f":"IFERROR(SUM(VLOOKUP(B21,BaseProdutos!B:V,13,0),VLOOKUP(B21,BaseProdutos!B:V,14,0)),\"\")","v":""},{"$f":"IFERROR(SUM(VLOOKUP(B21,BaseProdutos!B:V,15,0),VLOOKUP(B21,BaseProdutos!B:V,16,0))/100,\"\")","v":""},{"$f":"IFERROR(VLOOKUP(B21,BaseProdutos!B:V,4,0),\"\")","v":""},"",null,null,null,null,null,"","","","","",{"$f":"IFERROR(F21*PE!$F$20,\"\")","v":""},"",""]
[null,{"$f":"IF(BaseProdutos!B12=\"\",\"\",BaseProdutos!B12)","v":""},{"$f":"IFERROR(VLOOKUP(B22,BaseProdutos!B:V,21,0),\"\")","v":""},null,"","",{"$f":"IFERROR(VLOOKUP(B22,BaseProdutos!B:V,3,0),\"\")","v":""},{"$f":"IFERROR(VLOOKUP(B22,BaseProdutos!B:V,17,0),\"\")","v":""},{"$f":"IFERROR(SUM(VLOOKUP(B22,BaseProdutos!B:V,13,0),VLOOKUP(B22,BaseProdutos!B:V,14,0)),\"\")","v":""},{"$f":"IFERROR(SUM(VLOOKUP(B22,BaseProdutos!B:V,15,0),VLOOKUP(B22,BaseProdutos!B:V,16,0))/100,\"\")","v":""},{"$f":"IFERROR(VLOOKUP(B22,BaseProdutos!B:V,4,0),\"\")","v":""},"",null,null,null,null,null,"","","","","",{"$f":"IFERROR(F22*PE!$F$20,\"\")","v":""},"",""]
[null,{"$f":"IF(BaseProdutos!B13=\"\",\"\",BaseProdutos!B13)","v":""},{"$f":"IFERROR(VLOOKUP(B23,BaseProdutos!B:V,21,0),\"\")","v":""},null,"","",{"$f":"IFERROR(VLOOKUP(B23,BaseProdutos!B:V,3,0),\"\")","v":""},{"$f":"IFERROR(VLOOKUP(B23,BaseProdutos!B:V,17,0),\"\")","v":""},{"$f":"IFERROR(SUM(VLOOKUP(B23,BaseProdutos!B:V,13,0),VLOOKUP(B23,BaseProdutos!B:V,14,0)),\"\")","v":""},{"$f":"IFERROR(SUM(VLOOKUP(B23,BaseProdutos!B:V,15,0),VLOOKUP(B23,BaseProdutos!B:V,16,0))/100,\"\")","v":""},{"$f":"IFERROR(VLOOKUP(B23,BaseProdutos!B:V,4,0),\"\")","v":""},"",null,null,null,null,null,"","","","","",{"$f":"IFERROR(F23*PE!$F$20,\"\")","v":""},"",""]
[null,{"$f":"IF(BaseProdutos!B14=\"\",\"\",BaseProdutos!B14)","v":""},{"$f":"IFERROR(VLOOKUP(B24,BaseProdutos!B:V,21,0),\"\")","v":""},null,"","",{"$f":"IFERROR(VLOOKUP(B24,BaseProdutos!B:V,3,0),\"\")","v":""},{"$f":"IFERROR(VLOOKUP(B24,BaseProdutos!B:V,17,0),\"\")","v":""},{"$f":"IFERROR(SUM(VLOOKUP(B24,BaseProdutos!B:V,13,0),VLOOKUP(B24,BaseProdutos!B:V,14,0)),\"\")","v":""},{"$f":"IFERROR(SUM(VLOOKUP(B24,BaseProdutos!B:V,15,0),VLOOKUP(B24,BaseProdutos!B:V,16,0))/100,\"\")","v":""},{"$f":"IFERROR(VLOOKUP(B24,BaseProdutos!B:V,4,0),\"\")","v":""},"",null,null,null,null,null,"","","","","",{"$f":"IFERROR(F24*PE!$F$20,\"\")","v":""},"",""]
[null,{"$f":"IF(BaseProdutos!B15=\"\",\"\",BaseProdutos!B15)","v":""},{"$f":"IFERROR(VLOOKUP(B25,BaseProdutos!B:V,21,0),\"\")","v":""},null,"","",{"$f":"IFERROR(VLOOKUP(B25,BaseProdutos!B:V,3,0),\"\")","v":""},{"$f":"IFERROR(VLOOKUP(B25,BaseProdutos!B:V,17,0),\"\")","v":""},{"$f":"IFERROR(SUM(VLOOKUP(B25,BaseProdutos!B:V,13,0),VLOOKUP(B25,BaseProdutos!B:V,14,0)),\"\")","v":""},{"$f":"IFERROR(SUM(VLOOKUP(B25,BaseProdutos!B:V,15,0),VLOOKUP(B25,BaseProdutos!B:V,16,0))/100,\"\")","v":""},{"$f":"IFERROR(VLOOKUP(B25,BaseProdutos!B:V,4,0),\"\")","v":""},"",null,null,null,null,null,"","","","","",{"$f":"IFERROR(F25*PE!$F$20,\"\")","v":""},"",""]
[null,{"$f":"IF(BaseProdutos!B16=\"\",\"\",BaseProdutos!B16)","v":""},{"$f":"IFERROR(VLOOKUP(B26,BaseProdutos!B:V,21,0),\"\")","v":""},null,"","",{"$f":"IFERROR(VLOOKUP(B26,BaseProdutos!B:V,3,0),\"\")","v":""},{"$f":"IFERROR(VLOOKUP(B26,BaseProdutos!B:V,17,0),\"\")","v":""},{"$f":"IFERROR(SUM(VLOOKUP(B26,BaseProdutos!B:V,13,0),VLOOKUP(B26,BaseProdutos!B:V,14,0)),\"\")","v":""},{"$f":"IFERROR(SUM(VLOOKUP(B26,BaseProdutos!B:V,15,0),VLOOKUP(B26,BaseProdutos!B:V,16,0))/100,\"\")","v":""},{"$f":"IFERROR(VLOOKUP(B26,BaseProdutos!B:V,4,0),\"\")","v":""},"",null,null,null,null,null,"","","","","",{"$f":"IFERROR(F26*PE!$F$20,\"\")","v":""},"",""]
[null,{"$f":"IF(BaseProdutos!B17=\"\",\"\",BaseProdutos!B17)","v":""},{"$f":"IFERROR(VLOOKUP(B27,BaseProdutos!B:V,21,0),\"\")","v":""},null,"","",{"$f":"IFERROR(VLOOKUP(B27,BaseProdutos!B:V,3,0),\"\")","v":""},{"$f":"IFERROR(VLOOKUP(B27,BaseProdutos!B:V,17,0),\"\")","v":""},{"$f":"IFERROR(SUM(VLOOKUP(B27,BaseProdutos!B:V,13,0),VLOOKUP(B27,BaseProdutos!B:V,14,0)),\"\")","v":""},{"$f":"IFERROR(SUM(VLOOKUP(B27,BaseProdutos!B:V,15,0),VLOOKUP(B27,BaseProdutos!B:V,16,0))/100,\"\")","v":""},{"$f":"IFERROR(VLOOKUP(B27,BaseProdutos!B:V,4,0),\"\")","v":""},"",null,null,null,null,null,"","","","","",{"$f":"IFERROR(F27*PE!$F$20,\"\")","v":""},"",""]
[null,{"$f":"IF(BaseProdutos!B18=\"\",\"\",BaseProdutos!B18)","v":""},{"$f":"IFERROR(VLOOKUP(B28,BaseProdutos!B:V,21,0),\"\")","v":""},null,"","",{"$f":"IFERROR(VLOOKUP(B28,BaseProdutos!B:V,3,0),\"\")","v":""},{"$f":"IFERROR(VLOOKUP(B28,BaseProdutos!B:V,17,0),\"\")","v":""},{"$f":"IFERROR(SUM(VLOOKUP(B28,BaseProdutos!B:V,13,0),VLOOKUP(B28,BaseProdutos!B:V,14,0)),\"\")","v":""},{"$f":"IFERROR(SUM(VLOOKUP(B28,BaseProdutos!B:V,15,0),VLOOKUP(B28,BaseProdutos!B:V,16,0))/100,\"\")","v":""},{"$f":"IFERROR(VLOOKUP(B28,BaseProdutos!B:V,4,0),\"\")","v":""},"",null,null,null,null,null,"","","","","",{"$f":"IFERROR(F28*PE!$F$20,\"\")","v":""},"",""]
[null,{"$f":"IF(BaseProdutos!B19=\"\",\"\",BaseProdutos!B19)","v":""},{"$f":"IFERROR(VLOOKUP(B29,BaseProdutos!B:V,21,0),\"\")","v":""},null,"","",{"$f":"IFERROR(VLOOKUP(B29,BaseProdutos!B:V,3,0),\"\")","v":""},{"$f":"IFERROR(VLOOKUP(B29,BaseProdutos!B:V,17,0),\"\")","v":""},{"$f":"IFERROR(SUM(VLOOKUP(B29,BaseProdutos!B:V,13,0),VLOOKUP(B29,BaseProdutos!B:V,14,0)),\"\")","v":""},{"$f":"IFERROR(SUM(VLOOKUP(B29,BaseProdutos!B:V,15,0),VLOOKUP(B29,BaseProdutos!B:V,16,0))/100,\"\")","v":""},{"$f":"IFERROR(VLOOKUP(B29,BaseProdutos!B:V,4,0),\"\")","v":""},"",null,null,null,null,null,"","","","","",{"$f":"IFERROR(F29*PE!$F$20,\"\")","v":""},"",""]
[null,{"$f":"IF(BaseProdutos!B20=\"\",\"\",BaseProdutos!B20)","v":""},{"$f":"IFERROR(VLOOKUP(B30,BaseProdutos!B:V,21,0),\"\")","v":""},null,"","",{"$f":"IFERROR(VLOOKUP(B30,BaseProdutos!B:V,3,0),\"\")","v":""},{"$f":"IFERROR(VLOOKUP(B30,BaseProdutos!B:V,17,0),\"\")","v":""},{"$f":"IFERROR(SUM(VLOOKUP(B30,BaseProdutos!B:V,13,0),VLOOKUP(B30,BaseProdutos!B:V,14,0)),\"\")","v":""},{"$f":"IFERROR(SUM(VLOOKUP(B30,BaseProdutos!B:V,15,0),VLOOKUP(B30,BaseProdutos!B:V,16,0))/100,\"\")","v":""},{"$f":"IFERROR(VLOOKUP(B30,BaseProdutos!B:V,4,0),\"\")","v":""},"",null,null,null,null,null,"","","","","",{"$f":"IFERROR(F30*PE!$F$20,\"\")","v":""},"",""]
[null,{"$f":"IF(BaseProdutos!B21=\"\",\"\",BaseProdutos!B21)","v":""},{"$f":"IFERROR(VLOOKUP(B31,BaseProdutos!B:V,21,0),\"\")","v":""},null,"","",{"$f":"IFERROR(VLOOKUP(B31,BaseProdutos!B:V,3,0),\"\")","v":""},{"$f":"IFERROR(VLOOKUP(B31,BaseProdutos!B:V,17,0),\"\")","v":""},{"$f":"IFERROR(SUM(VLOOKUP(B31,BaseProdutos!B:V,13,0),VLOOKUP(B31,BaseProdutos!B:V,14,0)),\"\")","v":""},{"$f":"IFERROR(SUM(VLOOKUP(B31,BaseProdutos!B:V,15,0),VLOOKUP(B31,BaseProdutos!B:V,16,0))/100,\"\")","v":""},{"$f":"IFERROR(VLOOKUP(B31,BaseProdutos!B:V,4,0),\"\")","v":""},"",null,null,null,null,null,"","","","","",{"$f":"IFERROR(F31*PE!$F$20,\"\")","v":""},"",""]
[null,{"$f":"IF(BaseProdutos!B22=\"\",\"\",BaseProdutos!B22)","v":""},{"$f":"IFERROR(VLOOKUP(B32,BaseProdutos!B:V,21,0),\"\")","v":""},null,"","",{"$f":"IFERROR(VLOOKUP(B32,BaseProdutos!B:V,3,0),\"\")","v":""},{"$f":"IFERROR(VLOOKUP(B32,BaseProdutos!B:V,17,0),\"\")","v":""},{"$f":"IFERROR(SUM(VLOOKUP(B32,BaseProdutos!B:V,13,0),VLOOKUP(B32,BaseProdutos!B:V,14,0)),\"\")","v":""},{"$f":"IFERROR(SUM(VLOOKUP(B32,BaseProdutos!B:V,15,0),VLOOKUP(B32,BaseProdutos!B:V,16,0))/100,\"\")","v":""},{"$f":"IFERROR(VLOOKUP(B32,BaseProdutos!B:V,4,0),\"\")","v":""},"",null,null,null,null,null,"","","","","",{"$f":"IFERROR(F32*PE!$F$20,\"\")","v":""},"",""]
[null,{"$f":"IF(BaseProdutos!B23=\"\",\"\",BaseProdutos!B23)","v":""},{"$f":"IFERROR(VLOOKUP(B33,BaseProdutos!B:V,21,0),\"\")","v":""},null,"","",{"$f":"IFERROR(VLOOKUP(B33,BaseProdutos!B:V,3,0),\"\")","v":""},{"$f":"IFERROR(VLOOKUP(B33,BaseProdutos!B:V,17,0),\"\")","v":""},{"$f":"IFERROR(SUM(VLOOKUP(B33,BaseProdutos!B:V,13,0),VLOOKUP(B33,BaseProdutos!B:V,14,0)),\"\")","v":""},{"$f":"IFERROR(SUM(VLOOKUP(B33,BaseProdutos!B:V,15,0),VLOOKUP(B33,BaseProdutos!B:V,16,0))/100,\"\")","v":""},{"$f":"IFERROR(VLOOKUP(B33,BaseProdutos!B:V,4,0),\"\")","v":""},"",null,null,null,null,null,"","","","","",{"$f":"IFERROR(F33*PE!$F$20,\"\")","v":""},"",""]
[null,{"$f":"IF(BaseProdutos!B24=\"\",\"\",BaseProdutos!B24)","v":""},{"$f":"IFERROR(VLOOKUP(B34,BaseProdutos!B:V,21,0),\"\")","v":""},null,"","",{"$f":"IFERROR(VLOOKUP(B34,BaseProdutos!B:V,3,0),\"\")","v":""},{"$f":"IFERROR(VLOOKUP(B34,BaseProdutos!B:V,17,0),\"\")","v":""},{"$f":"IFERROR(SUM(VLOOKUP(B34,BaseProdutos!B:V,13,0),VLOOKUP(B34,BaseProdutos!B:V,14,0)),\"\")","v":""},{"$f":"IFERROR(SUM(VLOOKUP(B34,BaseProdutos!B:V,15,0),VLOOKUP(B34,BaseProdutos!B:V,16,0))/100,\"\")","v":""},{"$f":"IFERROR(VLOOKUP(B34,BaseProdutos!B:V,4,0),\"\")","v":""},"",null,null,null,null,null,"","","","","",{"$f":"IFERROR(F34*PE!$F$20,\"\")","v":""},"",""]
[null,{"$f":"IF(BaseProdutos!B25=\"\",\"\",BaseProdutos!B25)","v":""},{"$f":"IFERROR(VLOOKUP(B35,BaseProdutos!B:V,21,0),\"\")","v":""},null,"","",{"$f":"IFERROR(VLOOKUP(B35,BaseProdutos!B:V,3,0),\"\")","v":""},{"$f":"IFERROR(VLOOKUP(B35,BaseProdutos!B:V,17,0),\"\")","v":""},{"$f":"IFERROR(SUM(VLOOKUP(B35,BaseProdutos!B:V,13,0),VLOOKUP(B35,BaseProdutos!B:V,14,0)),\"\")","v":""},{"$f":"IFERROR(SUM(VLOOKUP(B35,BaseProdutos!B:V,15,0),VLOOKUP(B35,BaseProdutos!B:V,16,0))/100,\"\")","v":""},{"$f":"IFERROR(VLOOKUP(B35,BaseProdutos!B:V,4,0),\"\")","v":""},"",null,null,null,null,null,"","","","","",{"$f":"IFERROR(F35*PE!$F$20,\"\")","v":""},"",""]
[null,{"$f":"IF(BaseProdutos!B26=\"\",\"\",BaseProdutos!B26)","v":""},{"$f":"IFERROR(VLOOKUP(B36,BaseProdutos!B:V,21,0),\"\")","v":""},null,"","",{"$f":"IFERROR(VLOOKUP(B36,BaseProdutos!B:V,3,0),\"\")","v":""},{"$f":"IFERROR(VLOOKUP(B36,BaseProdutos!B:V,17,0),\"\")","v":""},{"$f":"IFERROR(SUM(VLOOKUP(B36,BaseProdutos!B:V,13,0),VLOOKUP(B36,BaseProdutos!B:V,14,0)),\"\")","v":""},{"$f":"IFERROR(SUM(VLOOKUP(B36,BaseProdutos!B:V,15,0),VLOOKUP(B36,BaseProdutos!B:V,16,0))/100,\"\")","v":""},{"$f":"IFERROR(VLOOKUP(B36,BaseProdutos!B:V,4,0),\"\")","v":""},"",null,null,null,null,null,"","","","","",{"$f":"IFERROR(F36*PE!$F$20,\"\")","v":""},"",""]
[null,{"$f":"IF(BaseProdutos!B27=\"\",\"\",BaseProdutos!B27)","v":""},{"$f":"IFERROR(VLOOKUP(B37,BaseProdutos!B:V,21,0),\"\")","v":""},null,"","",{"$f":"IFERROR(VLOOKUP(B37,BaseProdutos!B:V,3,0),\"\")","v":""},{"$f":"IFERROR(VLOOKUP(B37,BaseProdutos!B:V,17,0),\"\")","v":""},{"$f":"IFERROR(SUM(VLOOKUP(B37,BaseProdutos!B:V,13,0),VLOOKUP(B37,BaseProdutos!B:V,14,0)),\"\")","v":""},{"$f":"IFERROR(SUM(VLOOKUP(B37,BaseProdutos!B:V,15,0),VLOOKUP(B37,BaseProdutos!B:V,16,0))/100,\"\")","v":""},{"$f":"IFERROR(VLOOKUP(B37,BaseProdutos!B:V,4,0),\"\")","v":""},"",null,null,null,null,null,"","","","","",{"$f":"IFERROR(F37*PE!$F$20,\"\")","v":""},"",""]
[null,{"$f":"IF(BaseProdutos!B28=\"\",\"\",BaseProdutos!B28)","v":""},{"$f":"IFERROR(VLOOKUP(B38,BaseProdutos!B:V,21,0),\"\")","v":""},null,"","",{"$f":"IFERROR(VLOOKUP(B38,BaseProdutos!B:V,3,0),\"\")","v":""},{"$f":"IFERROR(VLOOKUP(B38,BaseProdutos!B:V,17,0),\"\")","v":""},{"$f":"IFERROR(SUM(VLOOKUP(B38,BaseProdutos!B:V,13,0),VLOOKUP(B38,BaseProdutos!B:V,14,0)),\"\")","v":""},{"$f":"IFERROR(SUM(VLOOKUP(B38,BaseProdutos!B:V,15,0),VLOOKUP(B38,BaseProdutos!B:V,16,0))/100,\"\")","v":""},{"$f":"IFERROR(VLOOKUP(B38,BaseProdutos!B:V,4,0),\"\")","v":""},"",null,null,null,null,null,"","","","","",{"$f":"IFERROR(F38*PE!$F$20,\"\")","v":""},"",""]
[null,{"$f":"IF(BaseProdutos!B29=\"\",\"\",BaseProdutos!B29)","v":""},{"$f":"IFERROR(VLOOKUP(B39,BaseProdutos!B:V,21,0),\"\")","v":""},null,"","",{"$f":"IFERROR(VLOOKUP(B39,BaseProdutos!B:V,3,0),\"\")","v":""},{"$f":"IFERROR(VLOOKUP(B39,BaseProdutos!B:V,17,0),\"\")","v":""},{"$f":"IFERROR(SUM(VLOOKUP(B39,BaseProdutos!B:V,13,0),VLOOKUP(B39,BaseProdutos!B:V,14,0)),\"\")","v":""},{"$f":"IFERROR(SUM(VLOOKUP(B39,BaseProdutos!B:V,15,0),VLOOKUP(B39,BaseProdutos!B:V,16,0))/100,\"\")","v":""},{"$f":"IFERROR(VLOOKUP(B39,BaseProdutos!B:V,4,0),\"\")","v":""},"",null,null,null,null,null,"","","","","",{"$f":"IFERROR(F39*PE!$F$20,\"\")","v":""},"",""]
[null,{"$f":"IF(BaseProdutos!B30=\"\",\"\",BaseProdutos!B30)","v":""},{"$f":"IFERROR(VLOOKUP(B40,BaseProdutos!B:V,21,0),\"\")","v":""},null,"","",{"$f":"IFERROR(VLOOKUP(B40,BaseProdutos!B:V,3,0),\"\")","v":""},{"$f":"IFERROR(VLOOKUP(B40,BaseProdutos!B:V,17,0),\"\")","v":""},{"$f":"IFERROR(SUM(VLOOKUP(B40,BaseProdutos!B:V,13,0),VLOOKUP(B40,BaseProdutos!B:V,14,0)),\"\")","v":""},{"$f":"IFERROR(SUM(VLOOKUP(B40,BaseProdutos!B:V,15,0),VLOOKUP(B40,BaseProdutos!B:V,16,0))/100,\"\")","v":""},{"$f":"IFERROR(VLOOKUP(B40,BaseProdutos!B:V,4,0),\"\")","v":""},"",null,null,null,null,null,"","","","","",{"$f":"IFERROR(F40*PE!$F$20,\"\")","v":""},"",""]
[null,{"$f":"IF(BaseProdutos!B31=\"\",\"\",BaseProdutos!B31)","v":""},{"$f":"IFERROR(VLOOKUP(B41,BaseProdutos!B:V,21,0),\"\")","v":""},null,"","",{"$f":"IFERROR(VLOOKUP(B41,BaseProdutos!B:V,3,0),\"\")","v":""},{"$f":"IFERROR(VLOOKUP(B41,BaseProdutos!B:V,17,0),\"\")","v":""},{"$f":"IFERROR(SUM(VLOOKUP(B41,BaseProdutos!B:V,13,0),VLOOKUP(B41,BaseProdutos!B:V,14,0)),\"\")","v":""},{"$f":"IFERROR(SUM(VLOOKUP(B41,BaseProdutos!B:V,15,0),VLOOKUP(B41,BaseProdutos!B:V,16,0))/100,\"\")","v":""},{"$f":"IFERROR(VLOOKUP(B41,BaseProdutos!B:V,4,0),\"\")","v":""},"",null,null,null,null,null,"","","","","",{"$f":"IFERROR(F41*PE!$F$20,\"\")","v":""},"",""]
[null,{"$f":"IF(BaseProdutos!B32=\"\",\"\",BaseProdutos!B32)","v":""},{"$f":"IFERROR(VLOOKUP(B42,BaseProdutos!B:V,21,0),\"\")","v":""},null,"","",{"$f":"IFERROR(VLOOKUP(B42,BaseProdutos!B:V,3,0),\"\")","v":""},{"$f":"IFERROR(VLOOKUP(B42,BaseProdutos!B:V,17,0),\"\")","v":""},{"$f":"IFERROR(SUM(VLOOKUP(B42,BaseProdutos!B:V,13,0),VLOOKUP(B42,BaseProdutos!B:V,14,0)),\"\")","v":""},{"$f":"IFERROR(SUM(VLOOKUP(B42,BaseProdutos!B:V,15,0),VLOOKUP(B42,BaseProdutos!B:V,16,0))/100,\"\")","v":""},{"$f":"IFERROR(VLOOKUP(B42,BaseProdutos!B:V,4,0),\"\")","v":""},"",null,null,null,null,null,"","","","","",{"$f":"IFERROR(F42*PE!$F$20,\"\")","v":""},"",""]
[null,{"$f":"IF(BaseProdutos!B33=\"\",\"\",BaseProdutos!B33)","v":""},{"$f":"IFERROR(VLOOKUP(B43,BaseProdutos!B:V,21,0),\"\")","v":""},null,"","",{"$f":"IFERROR(VLOOKUP(B43,BaseProdutos!B:V,3,0),\"\")","v":""},{"$f":"IFERROR(VLOOKUP(B43,BaseProdutos!B:V,17,0),\"\")","v":""},{"$f":"IFERROR(SUM(VLOOKUP(B43,BaseProdutos!B:V,13,0),VLOOKUP(B43,BaseProdutos!B:V,14,0)),\"\")","v":""},{"$f":"IFERROR(SUM(VLOOKUP(B43,BaseProdutos!B:V,15,0),VLOOKUP(B43,BaseProdutos!B:V,16,0))/100,\"\")","v":""},{"$f":"IFERROR(VLOOKUP(B43,BaseProdutos!B:V,4,0),\"\")","v":""},"",null,null,null,null,null,"","","","","",{"$f":"IFERROR(F43*PE!$F$20,\"\")","v":""},"",""]
[null,{"$f":"IF(BaseProdutos!B34=\"\",\"\",BaseProdutos!B34)","v":""},{"$f":"IFERROR(VLOOKUP(B44,BaseProdutos!B:V,21,0),\"\")","v":""},null,"","",{"$f":"IFERROR(VLOOKUP(B44,BaseProdutos!B:V,3,0),\"\")","v":""},{"$f":"IFERROR(VLOOKUP(B44,BaseProdutos!B:V,17,0),\"\")","v":""},{"$f":"IFERROR(SUM(VLOOKUP(B44,BaseProdutos!B:V,13,0),VLOOKUP(B44,BaseProdutos!B:V,14,0)),\"\")","v":""},{"$f":"IFERROR(SUM(VLOOKUP(B44,BaseProdutos!B:V,15,0),VLOOKUP(B44,BaseProdutos!B:V,16,0))/100,\"\")","v":""},{"$f":"IFERROR(VLOOKUP(B44,BaseProdutos!B:V,4,0),\"\")","v":""},"",null,null,null,null,null,"","","","","",{"$f":"IFERROR(F44*PE!$F$20,\"\")","v":""},"",""]
[null,{"$f":"IF(BaseProdutos!B35=\"\",\"\",BaseProdutos!B35)","v":""},{"$f":"IFERROR(VLOOKUP(B45,BaseProdutos!B:V,21,0),\"\")","v":""},null,"","",{"$f":"IFERROR(VLOOKUP(B45,BaseProdutos!B:V,3,0),\"\")","v":""},{"$f":"IFERROR(VLOOKUP(B45,BaseProdutos!B:V,17,0),\"\")","v":""},{"$f":"IFERROR(SUM(VLOOKUP(B45,BaseProdutos!B:V,13,0),VLOOKUP(B45,BaseProdutos!B:V,14,0)),\"\")","v":""},{"$f":"IFERROR(SUM(VLOOKUP(B45,BaseProdutos!B:V,15,0),VLOOKUP(B45,BaseProdutos!B:V,16,0))/100,\"\")","v":""},{"$f":"IFERROR(VLOOKUP(B45,BaseProdutos!B:V,4,0),\"\")","v":""},"",null,null,null,null,null,"","","","","",{"$f":"IFERROR(F45*PE!$F$20,\"\")","v":""},"",""]
[null,{"$f":"IF(BaseProdutos!B36=\"\",\"\",BaseProdutos!B36)","v":""},{"$f":"IFERROR(VLOOKUP(B46,BaseProdutos!B:V,21,0),\"\")","v":""},null,"","",{"$f":"IFERROR(VLOOKUP(B46,BaseProdutos!B:V,3,0),\"\")","v":""},{"$f":"IFERROR(VLOOKUP(B46,BaseProdutos!B:V,17,0),\"\")","v":""},{"$f":"IFERROR(SUM(VLOOKUP(B46,BaseProdutos!B:V,13,0),VLOOKUP(B46,BaseProdutos!B:V,14,0)),\"\")","v":""},{"$f":"IFERROR(SUM(VLOOKUP(B46,BaseProdutos!B:V,15,0),VLOOKUP(B46,BaseProdutos!B:V,16,0))/100,\"\")","v":""},{"$f":"IFERROR(VLOOKUP(B46,BaseProdutos!B:V,4,0),\"\")","v":""},"",null,null,null,null,null,"","","","","",{"$f":"IFERROR(F46*PE!$F$20,\"\")","v":""},"",""]
[null,{"$f":"IF(BaseProdutos!B37=\"\",\"\",BaseProdutos!B37)","v":""},{"$f":"IFERROR(VLOOKUP(B47,BaseProdutos!B:V,21,0),\"\")","v":""},null,"","",{"$f":"IFERROR(VLOOKUP(B47,BaseProdutos!B:V,3,0),\"\")","v":""},{"$f":"IFERROR(VLOOKUP(B47,BaseProdutos!B:V,17,0),\"\")","v":""},{"$f":"IFERROR(SUM(VLOOKUP(B47,BaseProdutos!B:V,13,0),VLOOKUP(B47,BaseProdutos!B:V,14,0)),\"\")","v":""},{"$f":"IFERROR(SUM(VLOOKUP(B47,BaseProdutos!B:V,15,0),VLOOKUP(B47,BaseProdutos!B:V,16,0))/100,\"\")","v":""},{"$f":"IFERROR(VLOOKUP(B47,BaseProdutos!B:V,4,0),\"\")","v":""},"",null,null,null,null,null,"","","","","",{"$f":"IFERROR(F47*PE!$F$20,\"\")","v":""},"",""]
[null,{"$f":"IF(BaseProdutos!B38=\"\",\"\",BaseProdutos!B38)","v":""},{"$f":"IFERROR(VLOOKUP(B48,BaseProdutos!B:V,21,0),\"\")","v":""},null,"","",{"$f":"IFERROR(VLOOKUP(B48,BaseProdutos!B:V,3,0),\"\")","v":""},{"$f":"IFERROR(VLOOKUP(B48,BaseProdutos!B:V,17,0),\"\")","v":""},{"$f":"IFERROR(SUM(VLOOKUP(B48,BaseProdutos!B:V,13,0),VLOOKUP(B48,BaseProdutos!B:V,14,0)),\"\")","v":""},{"$f":"IFERROR(SUM(VLOOKUP(B48,BaseProdutos!B:V,15,0),VLOOKUP(B48,BaseProdutos!B:V,16,0))/100,\"\")","v":""},{"$f":"IFERROR(VLOOKUP(B48,BaseProdutos!B:V,4,0),\"\")","v":""},"",null,null,null,null,null,"","","","","",{"$f":"IFERROR(F48*PE!$F$20,\"\")","v":""},"",""]
[null,{"$f":"IF(BaseProdutos!B39=\"\",\"\",BaseProdutos!B39)","v":""},{"$f":"IFERROR(VLOOKUP(B49,BaseProdutos!B:V,21,0),\"\")","v":""},null,"","",{"$f":"IFERROR(VLOOKUP(B49,BaseProdutos!B:V,3,0),\"\")","v":""},{"$f":"IFERROR(VLOOKUP(B49,BaseProdutos!B:V,17,0),\"\")","v":""},{"$f":"IFERROR(SUM(VLOOKUP(B49,BaseProdutos!B:V,13,0),VLOOKUP(B49,BaseProdutos!B:V,14,0)),\"\")","v":""},{"$f":"IFERROR(SUM(VLOOKUP(B49,BaseProdutos!B:V,15,0),VLOOKUP(B49,BaseProdutos!B:V,16,0))/100,\"\")","v":""},{"$f":"IFERROR(VLOOKUP(B49,BaseProdutos!B:V,4,0),\"\")","v":""},"",null,null,null,null,null,"","","","","",{"$f":"IFERROR(F49*PE!$F$20,\"\")","v":""},"",""]
[null,{"$f":"IF(BaseProdutos!B40=\"\",\"\",BaseProdutos!B40)","v":""},{"$f":"IFERROR(VLOOKUP(B50,BaseProdutos!B:V,21,0),\"\")","v":""},null,"","",{"$f":"IFERROR(VLOOKUP(B50,BaseProdutos!B:V,3,0),\"\")","v":""},{"$f":"IFERROR(VLOOKUP(B50,BaseProdutos!B:V,17,0),\"\")","v":""},{"$f":"IFERROR(SUM(VLOOKUP(B50,BaseProdutos!B:V,13,0),VLOOKUP(B50,BaseProdutos!B:V,14,0)),\"\")","v":""},{"$f":"IFERROR(SUM(VLOOKUP(B50,BaseProdutos!B:V,15,0),VLOOKUP(B50,BaseProdutos!B:V,16,0))/100,\"\")","v":""},{"$f":"IFERROR(VLOOKUP(B50,BaseProdutos!B:V,4,0),\"\")","v":""},"",null,null,null,null,null,"","","","","",{"$f":"IFERROR(F50*PE!$F$20,\"\")","v":""},"",""]
[null,{"$f":"IF(BaseProdutos!B41=\"\",\"\",BaseProdutos!B41)","v":""},{"$f":"IFERROR(VLOOKUP(B51,BaseProdutos!B:V,21,0),\"\")","v":""},null,"","",{"$f":"IFERROR(VLOOKUP(B51,BaseProdutos!B:V,3,0),\"\")","v":""},{"$f":"IFERROR(VLOOKUP(B51,BaseProdutos!B:V,17,0),\"\")","v":""},{"$f":"IFERROR(SUM(VLOOKUP(B51,BaseProdutos!B:V,13,0),VLOOKUP(B51,BaseProdutos!B:V,14,0)),\"\")","v":""},{"$f":"IFERROR(SUM(VLOOKUP(B51,BaseProdutos!B:V,15,0),VLOOKUP(B51,BaseProdutos!B:V,16,0))/100,\"\")","v":""},{"$f":"IFERROR(VLOOKUP(B51,BaseProdutos!B:V,4,0),\"\")","v":""},"",null,null,null,null,null,"","","","","",{"$f":"IFERROR(F51*PE!$F$20,\"\")","v":""},"",""]
[null,{"$f":"IF(BaseProdutos!B42=\"\",\"\",BaseProdutos!B42)","v":""},{"$f":"IFERROR(VLOOKUP(B52,BaseProdutos!B:V,21,0),\"\")","v":""},null,"","",{"$f":"IFERROR(VLOOKUP(B52,BaseProdutos!B:V,3,0),\"\")","v":""},{"$f":"IFERROR(VLOOKUP(B52,BaseProdutos!B:V,17,0),\"\")","v":""},{"$f":"IFERROR(SUM(VLOOKUP(B52,BaseProdutos!B:V,13,0),VLOOKUP(B52,BaseProdutos!B:V,14,0)),\"\")","v":""},{"$f":"IFERROR(SUM(VLOOKUP(B52,BaseProdutos!B:V,15,0),VLOOKUP(B52,BaseProdutos!B:V,16,0))/100,\"\")","v":""},{"$f":"IFERROR(VLOOKUP(B52,BaseProdutos!B:V,4,0),\"\")","v":""},"",null,null,null,null,null,"","","","","",{"$f":"IFERROR(F52*PE!$F$20,\"\")","v":""},"",""]
[null,{"$f":"IF(BaseProdutos!B43=\"\",\"\",BaseProdutos!B43)","v":""},{"$f":"IFERROR(VLOOKUP(B53,BaseProdutos!B:V,21,0),\"\")","v":""},null,"","",{"$f":"IFERROR(VLOOKUP(B53,BaseProdutos!B:V,3,0),\"\")","v":""},{"$f":"IFERROR(VLOOKUP(B53,BaseProdutos!B:V,17,0),\"\")","v":""},{"$f":"IFERROR(SUM(VLOOKUP(B53,BaseProdutos!B:V,13,0),VLOOKUP(B53,BaseProdutos!B:V,14,0)),\"\")","v":""},{"$f":"IFERROR(SUM(VLOOKUP(B53,BaseProdutos!B:V,15,0),VLOOKUP(B53,BaseProdutos!B:V,16,0))/100,\"\")","v":""},{"$f":"IFERROR(VLOOKUP(B53,BaseProdutos!B:V,4,0),\"\")","v":""},"",null,null,null,null,null,"","","","","",{"$f":"IFERROR(F53*PE!$F$20,\"\")","v":""},"",""]
[null,{"$f":"IF(BaseProdutos!B44=\"\",\"\",BaseProdutos!B44)","v":""},{"$f":"IFERROR(VLOOKUP(B54,BaseProdutos!B:V,21,0),\"\")","v":""},null,"","",{"$f":"IFERROR(VLOOKUP(B54,BaseProdutos!B:V,3,0),\"\")","v":""},{"$f":"IFERROR(VLOOKUP(B54,BaseProdutos!B:V,17,0),\"\")","v":""},{"$f":"IFERROR(SUM(VLOOKUP(B54,BaseProdutos!B:V,13,0),VLOOKUP(B54,BaseProdutos!B:V,14,0)),\"\")","v":""},{"$f":"IFERROR(SUM(VLOOKUP(B54,BaseProdutos!B:V,15,0),VLOOKUP(B54,BaseProdutos!B:V,16,0))/100,\"\")","v":""},{"$f":"IFERROR(VLOOKUP(B54,BaseProdutos!B:V,4,0),\"\")","v":""},"",null,null,null,null,null,"","","","","",{"$f":"IFERROR(F54*PE!$F$20,\"\")","v":""},"",""]
[null,{"$f":"IF(BaseProdutos!B45=\"\",\"\",BaseProdutos!B45)","v":""},{"$f":"IFERROR(VLOOKUP(B55,BaseProdutos!B:V,21,0),\"\")","v":""},null,"","",{"$f":"IFERROR(VLOOKUP(B55,BaseProdutos!B:V,3,0),\"\")","v":""},{"$f":"IFERROR(VLOOKUP(B55,BaseProdutos!B:V,17,0),\"\")","v":""},{"$f":"IFERROR(SUM(VLOOKUP(B55,BaseProdutos!B:V,13,0),VLOOKUP(B55,BaseProdutos!B:V,14,0)),\"\")","v":""},{"$f":"IFERROR(SUM(VLOOKUP(B55,BaseProdutos!B:V,15,0),VLOOKUP(B55,BaseProdutos!B:V,16,0))/100,\"\")","v":""},{"$f":"IFERROR(VLOOKUP(B55,BaseProdutos!B:V,4,0),\"\")","v":""},"",null,null,null,null,null,"","","","","",{"$f":"IFERROR(F55*PE!$F$20,\"\")","v":""},"",""]
[null,{"$f":"IF(BaseProdutos!B46=\"\",\"\",BaseProdutos!B46)","v":""},{"$f":"IFERROR(VLOOKUP(B56,BaseProdutos!B:V,21,0),\"\")","v":""},null,"","",{"$f":"IFERROR(VLOOKUP(B56,BaseProdutos!B:V,3,0),\"\")","v":""},{"$f":"IFERROR(VLOOKUP(B56,BaseProdutos!B:V,17,0),\"\")","v":""},{"$f":"IFERROR(SUM(VLOOKUP(B56,BaseProdutos!B:V,13,0),VLOOKUP(B56,BaseProdutos!B:V,14,0)),\"\")","v":""},{"$f":"IFERROR(SUM(VLOOKUP(B56,BaseProdutos!B:V,15,0),VLOOKUP(B56,BaseProdutos!B:V,16,0))/100,\"\")","v":""},{"$f":"IFERROR(VLOOKUP(B56,BaseProdutos!B:V,4,0),\"\")","v":""},"",null,null,null,null,null,"","","","","",{"$f":"IFERROR(F56*PE!$F$20,\"\")","v":""},"",""]
[null,{"$f":"IF(BaseProdutos!B47=\"\",\"\",BaseProdutos!B47)","v":""},{"$f":"IFERROR(VLOOKUP(B57,BaseProdutos!B:V,21,0),\"\")","v":""},null,"","",{"$f":"IFERROR(VLOOKUP(B57,BaseProdutos!B:V,3,0),\"\")","v":""},{"$f":"IFERROR(VLOOKUP(B57,BaseProdutos!B:V,17,0),\"\")","v":""},{"$f":"IFERROR(SUM(VLOOKUP(B57,BaseProdutos!B:V,13,0),VLOOKUP(B57,BaseProdutos!B:V,14,0)),\"\")","v":""},{"$f":"IFERROR(SUM(VLOOKUP(B57,BaseProdutos!B:V,15,0),VLOOKUP(B57,BaseProdutos!B:V,16,0))/100,\"\")","v":""},{"$f":"IFERROR(VLOOKUP(B57,BaseProdutos!B:V,4,0),\"\")","v":""},"",null,null,null,null,null,"","","","","",{"$f":"IFERROR(F57*PE!$F$20,\"\")","v":""},"",""]
[null,{"$f":"IF(BaseProdutos!B48=\"\",\"\",BaseProdutos!B48)","v":""},{"$f":"IFERROR(VLOOKUP(B58,BaseProdutos!B:V,21,0),\"\")","v":""},null,"","",{"$f":"IFERROR(VLOOKUP(B58,BaseProdutos!B:V,3,0),\"\")","v":""},{"$f":"IFERROR(VLOOKUP(B58,BaseProdutos!B:V,17,0),\"\")","v":""},{"$f":"IFERROR(SUM(VLOOKUP(B58,BaseProdutos!B:V,13,0),VLOOKUP(B58,BaseProdutos!B:V,14,0)),\"\")","v":""},{"$f":"IFERROR(SUM(VLOOKUP(B58,BaseProdutos!B:V,15,0),VLOOKUP(B58,BaseProdutos!B:V,16,0))/100,\"\")","v":""},{"$f":"IFERROR(VLOOKUP(B58,BaseProdutos!B:V,4,0),\"\")","v":""},"",null,null,null,null,null,"","","","","",{"$f":"IFERROR(F58*PE!$F$20,\"\")","v":""},"",""]
[null,{"$f":"IF(BaseProdutos!B49=\"\",\"\",BaseProdutos!B49)","v":""},{"$f":"IFERROR(VLOOKUP(B59,BaseProdutos!B:V,21,0),\"\")","v":""},null,"","",{"$f":"IFERROR(VLOOKUP(B59,BaseProdutos!B:V,3,0),\"\")","v":""},{"$f":"IFERROR(VLOOKUP(B59,BaseProdutos!B:V,17,0),\"\")","v":""},{"$f":"IFERROR(SUM(VLOOKUP(B59,BaseProdutos!B:V,13,0),VLOOKUP(B59,BaseProdutos!B:V,14,0)),\"\")","v":""},{"$f":"IFERROR(SUM(VLOOKUP(B59,BaseProdutos!B:V,15,0),VLOOKUP(B59,BaseProdutos!B:V,16,0))/100,\"\")","v":""},{"$f":"IFERROR(VLOOKUP(B59,BaseProdutos!B:V,4,0),\"\")","v":""},"",null,null,null,null,null,"","","","","",{"$f":"IFERROR(F59*PE!$F$20,\"\")","v":""},"",""]
[null,{"$f":"IF(BaseProdutos!B50=\"\",\"\",BaseProdutos!B50)","v":""},{"$f":"IFERROR(VLOOKUP(B60,BaseProdutos!B:V,21,0),\"\")","v":""},null,"","",{"$f":"IFERROR(VLOOKUP(B60,BaseProdutos!B:V,3,0),\"\")","v":""},{"$f":"IFERROR(VLOOKUP(B60,BaseProdutos!B:V,17,0),\"\")","v":""},{"$f":"IFERROR(SUM(VLOOKUP(B60,BaseProdutos!B:V,13,0),VLOOKUP(B60,BaseProdutos!B:V,14,0)),\"\")","v":""},{"$f":"IFERROR(SUM(VLOOKUP(B60,BaseProdutos!B:V,15,0),VLOOKUP(B60,BaseProdutos!B:V,16,0))/100,\"\")","v":""},{"$f":"IFERROR(VLOOKUP(B60,BaseProdutos!B:V,4,0),\"\")","v":""},"",null,null,null,null,null,"","","","","",{"$f":"IFERROR(F60*PE!$F$20,\"\")","v":""},"",""]
[null,{"$f":"IF(BaseProdutos!B51=\"\",\"\",BaseProdutos!B51)","v":""},{"$f":"IFERROR(VLOOKUP(B61,BaseProdutos!B:V,21,0),\"\")","v":""},null,"","",{"$f":"IFERROR(VLOOKUP(B61,BaseProdutos!B:V,3,0),\"\")","v":""},{"$f":"IFERROR(VLOOKUP(B61,BaseProdutos!B:V,17,0),\"\")","v":""},{"$f":"IFERROR(SUM(VLOOKUP(B61,BaseProdutos!B:V,13,0),VLOOKUP(B61,BaseProdutos!B:V,14,0)),\"\")","v":""},{"$f":"IFERROR(SUM(VLOOKUP(B61,BaseProdutos!B:V,15,0),VLOOKUP(B61,BaseProdutos!B:V,16,0))/100,\"\")","v":""},{"$f":"IFERROR(VLOOKUP(B61,BaseProdutos!B:V,4,0),\"\")","v":""},"",null,null,null,null,null,"","","","","",{"$f":"IFERROR(F61*PE!$F$20,\"\")","v":""},"",""]
[null,{"$f":"IF(BaseProdutos!B52=\"\",\"\",BaseProdutos!B52)","v":""},{"$f":"IFERROR(VLOOKUP(B62,BaseProdutos!B:V,21,0),\"\")","v":""},null,"","",{"$f":"IFERROR(VLOOKUP(B62,BaseProdutos!B:V,3,0),\"\")","v":""},{"$f":"IFERROR(VLOOKUP(B62,BaseProdutos!B:V,17,0),\"\")","v":""},{"$f":"IFERROR(SUM(VLOOKUP(B62,BaseProdutos!B:V,13,0),VLOOKUP(B62,BaseProdutos!B:V,14,0)),\"\")","v":""},{"$f":"IFERROR(SUM(VLOOKUP(B62,BaseProdutos!B:V,15,0),VLOOKUP(B62,BaseProdutos!B:V,16,0))/100,\"\")","v":""},{"$f":"IFERROR(VLOOKUP(B62,BaseProdutos!B:V,4,0),\"\")","v":""},"",null,null,null,null,null,"","","","","",{"$f":"IFERROR(F62*PE!$F$20,\"\")","v":""},"",""]
[null,{"$f":"IF(BaseProdutos!B53=\"\",\"\",BaseProdutos!B53)","v":""},{"$f":"IFERROR(VLOOKUP(B63,BaseProdutos!B:V,21,0),\"\")","v":""},null,"","",{"$f":"IFERROR(VLOOKUP(B63,BaseProdutos!B:V,3,0),\"\")","v":""},{"$f":"IFERROR(VLOOKUP(B63,BaseProdutos!B:V,17,0),\"\")","v":""},{"$f":"IFERROR(SUM(VLOOKUP(B63,BaseProdutos!B:V,13,0),VLOOKUP(B63,BaseProdutos!B:V,14,0)),\"\")","v":""},{"$f":"IFERROR(SUM(VLOOKUP(B63,BaseProdutos!B:V,15,0),VLOOKUP(B63,BaseProdutos!B:V,16,0))/100,\"\")","v":""},{"$f":"IFERROR(VLOOKUP(B63,BaseProdutos!B:V,4,0),\"\")","v":""},"",null,null,null,null,null,"","","","","",{"$f":"IFERROR(F63*PE!$F$20,\"\")","v":""},"",""]
[null,{"$f":"IF(BaseProdutos!B54=\"\",\"\",BaseProdutos!B54)","v":""},{"$f":"IFERROR(VLOOKUP(B64,BaseProdutos!B:V,21,0),\"\")","v":""},null,"","",{"$f":"IFERROR(VLOOKUP(B64,BaseProdutos!B:V,3,0),\"\")","v":""},{"$f":"IFERROR(VLOOKUP(B64,BaseProdutos!B:V,17,0),\"\")","v":""},{"$f":"IFERROR(SUM(VLOOKUP(B64,BaseProdutos!B:V,13,0),VLOOKUP(B64,BaseProdutos!B:V,14,0)),\"\")","v":""},{"$f":"IFERROR(SUM(VLOOKUP(B64,BaseProdutos!B:V,15,0),VLOOKUP(B64,BaseProdutos!B:V,16,0))/100,\"\")","v":""},{"$f":"IFERROR(VLOOKUP(B64,BaseProdutos!B:V,4,0),\"\")","v":""},"",null,null,null,null,null,"","","","","",{"$f":"IFERROR(F64*PE!$F$20,\"\")","v":""},"",""]
[null,{"$f":"IF(BaseProdutos!B55=\"\",\"\",BaseProdutos!B55)","v":""},{"$f":"IFERROR(VLOOKUP(B65,BaseProdutos!B:V,21,0),\"\")","v":""},null,"","",{"$f":"IFERROR(VLOOKUP(B65,BaseProdutos!B:V,3,0),\"\")","v":""},{"$f":"IFERROR(VLOOKUP(B65,BaseProdutos!B:V,17,0),\"\")","v":""},{"$f":"IFERROR(SUM(VLOOKUP(B65,BaseProdutos!B:V,13,0),VLOOKUP(B65,BaseProdutos!B:V,14,0)),\"\")","v":""},{"$f":"IFERROR(SUM(VLOOKUP(B65,BaseProdutos!B:V,15,0),VLOOKUP(B65,BaseProdutos!B:V,16,0))/100,\"\")","v":""},{"$f":"IFERROR(VLOOKUP(B65,BaseProdutos!B:V,4,0),\"\")","v":""},"",null,null,null,null,null,"","","","","",{"$f":"IFERROR(F65*PE!$F$20,\"\")","v":""},"",""]
[null,{"$f":"IF(BaseProdutos!B56=\"\",\"\",BaseProdutos!B56)","v":""},{"$f":"IFERROR(VLOOKUP(B66,BaseProdutos!B:V,21,0),\"\")","v":""},null,"","",{"$f":"IFERROR(VLOOKUP(B66,BaseProdutos!B:V,3,0),\"\")","v":""},{"$f":"IFERROR(VLOOKUP(B66,BaseProdutos!B:V,17,0),\"\")","v":""},{"$f":"IFERROR(SUM(VLOOKUP(B66,BaseProdutos!B:V,13,0),VLOOKUP(B66,BaseProdutos!B:V,14,0)),\"\")","v":""},{"$f":"IFERROR(SUM(VLOOKUP(B66,BaseProdutos!B:V,15,0),VLOOKUP(B66,BaseProdutos!B:V,16,0))/100,\"\")","v":""},{"$f":"IFERROR(VLOOKUP(B66,BaseProdutos!B:V,4,0),\"\")","v":""},"",null,null,null,null,null,"","","","","",{"$f":"IFERROR(F66*PE!$F$20,\"\")","v":""},"",""]
[null,{"$f":"IF(BaseProdutos!B57=\"\",\"\",BaseProdutos!B57)","v":""},{"$f":"IFERROR(VLOOKUP(B67,BaseProdutos!B:V,21,0),\"\")","v":""},null,"","",{"$f":"IFERROR(VLOOKUP(B67,BaseProdutos!B:V,3,0),\"\")","v":""},{"$f":"IFERROR(VLOOKUP(B67,BaseProdutos!B:V,17,0),\"\")","v":""},{"$f":"IFERROR(SUM(VLOOKUP(B67,BaseProdutos!B:V,13,0),VLOOKUP(B67,BaseProdutos!B:V,14,0)),\"\")","v":""},{"$f":"IFERROR(SUM(VLOOKUP(B67,BaseProdutos!B:V,15,0),VLOOKUP(B67,BaseProdutos!B:V,16,0))/100,\"\")","v":""},{"$f":"IFERROR(VLOOKUP(B67,BaseProdutos!B:V,4,0),\"\")","v":""},"",null,null,null,null,null,"","","","","",{"$f":"IFERROR(F67*PE!$F$20,\"\")","v":""},"",""]
[null,{"$f":"IF(BaseProdutos!B58=\"\",\"\",BaseProdutos!B58)","v":""},{"$f":"IFERROR(VLOOKUP(B68,BaseProdutos!B:V,21,0),\"\")","v":""},null,"","",{"$f":"IFERROR(VLOOKUP(B68,BaseProdutos!B:V,3,0),\"\")","v":""},{"$f":"IFERROR(VLOOKUP(B68,BaseProdutos!B:V,17,0),\"\")","v":""},{"$f":"IFERROR(SUM(VLOOKUP(B68,BaseProdutos!B:V,13,0),VLOOKUP(B68,BaseProdutos!B:V,14,0)),\"\")","v":""},{"$f":"IFERROR(SUM(VLOOKUP(B68,BaseProdutos!B:V,15,0),VLOOKUP(B68,BaseProdutos!B:V,16,0))/100,\"\")","v":""},{"$f":"IFERROR(VLOOKUP(B68,BaseProdutos!B:V,4,0),\"\")","v":""},"",null,null,null,null,null,"","","","","",{"$f":"IFERROR(F68*PE!$F$20,\"\")","v":""},"",""]
[null,{"$f":"IF(BaseProdutos!B59=\"\",\"\",BaseProdutos!B59)","v":""},{"$f":"IFERROR(VLOOKUP(B69,BaseProdutos!B:V,21,0),\"\")","v":""},null,"","",{"$f":"IFERROR(VLOOKUP(B69,BaseProdutos!B:V,3,0),\"\")","v":""},{"$f":"IFERROR(VLOOKUP(B69,BaseProdutos!B:V,17,0),\"\")","v":""},{"$f":"IFERROR(SUM(VLOOKUP(B69,BaseProdutos!B:V,13,0),VLOOKUP(B69,BaseProdutos!B:V,14,0)),\"\")","v":""},{"$f":"IFERROR(SUM(VLOOKUP(B69,BaseProdutos!B:V,15,0),VLOOKUP(B69,BaseProdutos!B:V,16,0))/100,\"\")","v":""},{"$f":"IFERROR(VLOOKUP(B69,BaseProdutos!B:V,4,0),\"\")","v":""},"",null,null,null,null,null,"","","","","",{"$f":"IFERROR(F69*PE!$F$20,\"\")","v":""},"",""]
[null,{"$f":"IF(BaseProdutos!B60=\"\",\"\",BaseProdutos!B60)","v":""},{"$f":"IFERROR(VLOOKUP(B70,BaseProdutos!B:V,21,0),\"\")","v":""},null,"","",{"$f":"IFERROR(VLOOKUP(B70,BaseProdutos!B:V,3,0),\"\")","v":""},{"$f":"IFERROR(VLOOKUP(B70,BaseProdutos!B:V,17,0),\"\")","v":""},{"$f":"IFERROR(SUM(VLOOKUP(B70,BaseProdutos!B:V,13,0),VLOOKUP(B70,BaseProdutos!B:V,14,0)),\"\")","v":""},{"$f":"IFERROR(SUM(VLOOKUP(B70,BaseProdutos!B:V,15,0),VLOOKUP(B70,BaseProdutos!B:V,16,0))/100,\"\")","v":""},{"$f":"IFERROR(VLOOKUP(B70,BaseProdutos!B:V,4,0),\"\")","v":""},"",null,null,null,null,null,"","","","","",{"$f":"IFERROR(F70*PE!$F$20,\"\")","v":""},"",""]
[null,{"$f":"IF(BaseProdutos!B61=\"\",\"\",BaseProdutos!B61)","v":""},{"$f":"IFERROR(VLOOKUP(B71,BaseProdutos!B:V,21,0),\"\")","v":""},null,"","",{"$f":"IFERROR(VLOOKUP(B71,BaseProdutos!B:V,3,0),\"\")","v":""},{"$f":"IFERROR(VLOOKUP(B71,BaseProdutos!B:V,17,0),\"\")","v":""},{"$f":"IFERROR(SUM(VLOOKUP(B71,BaseProdutos!B:V,13,0),VLOOKUP(B71,BaseProdutos!B:V,14,0)),\"\")","v":""},{"$f":"IFERROR(SUM(VLOOKUP(B71,BaseProdutos!B:V,15,0),VLOOKUP(B71,BaseProdutos!B:V,16,0))/100,\"\")","v":""},{"$f":"IFERROR(VLOOKUP(B71,BaseProdutos!B:V,4,0),\"\")","v":""},"",null,null,null,null,null,"","","","","",{"$f":"IFERROR(F71*PE!$F$20,\"\")","v":""},"",""]
[null,{"$f":"IF(BaseProdutos!B62=\"\",\"\",BaseProdutos!B62)","v":""},{"$f":"IFERROR(VLOOKUP(B72,BaseProdutos!B:V,21,0),\"\")","v":""},null,"","",{"$f":"IFERROR(VLOOKUP(B72,BaseProdutos!B:V,3,0),\"\")","v":""},{"$f":"IFERROR(VLOOKUP(B72,BaseProdutos!B:V,17,0),\"\")","v":""},{"$f":"IFERROR(SUM(VLOOKUP(B72,BaseProdutos!B:V,13,0),VLOOKUP(B72,BaseProdutos!B:V,14,0)),\"\")","v":""},{"$f":"IFERROR(SUM(VLOOKUP(B72,BaseProdutos!B:V,15,0),VLOOKUP(B72,BaseProdutos!B:V,16,0))/100,\"\")","v":""},{"$f":"IFERROR(VLOOKUP(B72,BaseProdutos!B:V,4,0),\"\")","v":""},"",null,null,null,null,null,"","","","","",{"$f":"IFERROR(F72*PE!$F$20,\"\")","v":""},"",""]
[null,{"$f":"IF(BaseProdutos!B63=\"\",\"\",BaseProdutos!B63)","v":""},{"$f":"IFERROR(VLOOKUP(B73,BaseProdutos!B:V,21,0),\"\")","v":""},null,"","",{"$f":"IFERROR(VLOOKUP(B73,BaseProdutos!B:V,3,0),\"\")","v":""},{"$f":"IFERROR(VLOOKUP(B73,BaseProdutos!B:V,17,0),\"\")","v":""},{"$f":"IFERROR(SUM(VLOOKUP(B73,BaseProdutos!B:V,13,0),VLOOKUP(B73,BaseProdutos!B:V,14,0)),\"\")","v":""},{"$f":"IFERROR(SUM(VLOOKUP(B73,BaseProdutos!B:V,15,0),VLOOKUP(B73,BaseProdutos!B:V,16,0))/100,\"\")","v":""},{"$f":"IFERROR(VLOOKUP(B73,BaseProdutos!B:V,4,0),\"\")","v":""},"",null,null,null,null,null,"","","","","",{"$f":"IFERROR(F73*PE!$F$20,\"\")","v":""},"",""]
[null,{"$f":"IF(BaseProdutos!B64=\"\",\"\",BaseProdutos!B64)","v":""},{"$f":"IFERROR(VLOOKUP(B74,BaseProdutos!B:V,21,0),\"\")","v":""},null,"","",{"$f":"IFERROR(VLOOKUP(B74,BaseProdutos!B:V,3,0),\"\")","v":""},{"$f":"IFERROR(VLOOKUP(B74,BaseProdutos!B:V,17,0),\"\")","v":""},{"$f":"IFERROR(SUM(VLOOKUP(B74,BaseProdutos!B:V,13,0),VLOOKUP(B74,BaseProdutos!B:V,14,0)),\"\")","v":""},{"$f":"IFERROR(SUM(VLOOKUP(B74,BaseProdutos!B:V,15,0),VLOOKUP(B74,BaseProdutos!B:V,16,0))/100,\"\")","v":""},{"$f":"IFERROR(VLOOKUP(B74,BaseProdutos!B:V,4,0),\"\")","v":""},"",null,null,null,null,null,"","","","","",{"$f":"IFERROR(F74*PE!$F$20,\"\")","v":""},"",""]
[null,{"$f":"IF(BaseProdutos!B65=\"\",\"\",BaseProdutos!B65)","v":""},{"$f":"IFERROR(VLOOKUP(B75,BaseProdutos!B:V,21,0),\"\")","v":""},null,"","",{"$f":"IFERROR(VLOOKUP(B75,BaseProdutos!B:V,3,0),\"\")","v":""},{"$f":"IFERROR(VLOOKUP(B75,BaseProdutos!B:V,17,0),\"\")","v":""},{"$f":"IFERROR(SUM(VLOOKUP(B75,BaseProdutos!B:V,13,0),VLOOKUP(B75,BaseProdutos!B:V,14,0)),\"\")","v":""},{"$f":"IFERROR(SUM(VLOOKUP(B75,BaseProdutos!B:V,15,0),VLOOKUP(B75,BaseProdutos!B:V,16,0))/100,\"\")","v":""},{"$f":"IFERROR(VLOOKUP(B75,BaseProdutos!B:V,4,0),\"\")","v":""},"",null,null,null,null,null,"","","","","",{"$f":"IFERROR(F75*PE!$F$20,\"\")","v":""},"",""]
[null,{"$f":"IF(BaseProdutos!B66=\"\",\"\",BaseProdutos!B66)","v":""},{"$f":"IFERROR(VLOOKUP(B76,BaseProdutos!B:V,21,0),\"\")","v":""},null,"","",{"$f":"IFERROR(VLOOKUP(B76,BaseProdutos!B:V,3,0),\"\")","v":""},{"$f":"IFERROR(VLOOKUP(B76,BaseProdutos!B:V,17,0),\"\")","v":""},{"$f":"IFERROR(SUM(VLOOKUP(B76,BaseProdutos!B:V,13,0),VLOOKUP(B76,BaseProdutos!B:V,14,0)),\"\")","v":""},{"$f":"IFERROR(SUM(VLOOKUP(B76,BaseProdutos!B:V,15,0),VLOOKUP(B76,BaseProdutos!B:V,16,0))/100,\"\")","v":""},{"$f":"IFERROR(VLOOKUP(B76,BaseProdutos!B:V,4,0),\"\")","v":""},"",null,null,null,null,null,"","","","","",{"$f":"IFERROR(F76*PE!$F$20,\"\")","v":""},"",""]
[null,{"$f":"IF(BaseProdutos!B67=\"\",\"\",BaseProdutos!B67)","v":""},{"$f":"IFERROR(VLOOKUP(B77,BaseProdutos!B:V,21,0),\"\")","v":""},null,{"$f":"IFERROR(IF(B77=\"\",\"\",C77*D77),\"\")","v":""},{"$f":"IFERROR(E77/SUM($E$12:$E$511),\"\")","v":""},{"$f":"IFERROR(VLOOKUP(B77,BaseProdutos!B:V,3,0),\"\")","v":""},{"$f":"IFERROR(VLOOKUP(B77,BaseProdutos!B:V,17,0),\"\")","v":""},{"$f":"IFERROR(SUM(VLOOKUP(B77,BaseProdutos!B:V,13,0),VLOOKUP(B77,BaseProdutos!B:V,14,0)),\"\")","v":""},{"$f":"IFERROR(SUM(VLOOKUP(B77,BaseProdutos!B:V,15,0),VLOOKUP(B77,BaseProdutos!B:V,16,0))/100,\"\")","v":""},{"$f":"IFERROR(VLOOKUP(B77,BaseProdutos!B:V,4,0),\"\")","v":""},{"$f":"IFERROR(G77+C77*(H77+I77+J77)+K77,\"\")","v":""},null,null,null,null,null,{"$f":"IFERROR(H77*E77,\"\")","v":""},{"$f":"IFERROR(I77*E77,\"\")","v":""},{"$f":"IFERROR(C77-L77,\"\")","v":""},{"$f":"IFERROR(T77/C77,\"\")","v":""},{"$f":"IFERROR(W77*C77,\"\")","v":""},{"$f":"IFERROR(F77*PE!$F$20,\"\")","v":""},{"$f":"IFERROR(K77*D77,\"\")","v":""},{"$f":"IFERROR(G77*D77,\"\")","v":""}]
[null,{"$f":"IF(BaseProdutos!B68=\"\",\"\",BaseProdutos!B68)","v":""},{"$f":"IFERROR(VLOOKUP(B78,BaseProdutos!B:V,21,0),\"\")","v":""},null,"","",{"$f":"IFERROR(VLOOKUP(B78,BaseProdutos!B:V,3,0),\"\")","v":""},{"$f":"IFERROR(VLOOKUP(B78,BaseProdutos!B:V,17,0),\"\")","v":""},{"$f":"IFERROR(SUM(VLOOKUP(B78,BaseProdutos!B:V,13,0),VLOOKUP(B78,BaseProdutos!B:V,14,0)),\"\")","v":""},{"$f":"IFERROR(SUM(VLOOKUP(B78,BaseProdutos!B:V,15,0),VLOOKUP(B78,BaseProdutos!B:V,16,0))/100,\"\")","v":""},{"$f":"IFERROR(VLOOKUP(B78,BaseProdutos!B:V,4,0),\"\")","v":""},"",null,null,null,null,null,"","","","","",{"$f":"IFERROR(F78*PE!$F$20,\"\")","v":""},"",""]
[null,{"$f":"IF(BaseProdutos!B69=\"\",\"\",BaseProdutos!B69)","v":""},{"$f":"IFERROR(VLOOKUP(B79,BaseProdutos!B:V,21,0),\"\")","v":""},null,"","",{"$f":"IFERROR(VLOOKUP(B79,BaseProdutos!B:V,3,0),\"\")","v":""},{"$f":"IFERROR(VLOOKUP(B79,BaseProdutos!B:V,17,0),\"\")","v":""},{"$f":"IFERROR(SUM(VLOOKUP(B79,BaseProdutos!B:V,13,0),VLOOKUP(B79,BaseProdutos!B:V,14,0)),\"\")","v":""},{"$f":"IFERROR(SUM(VLOOKUP(B79,BaseProdutos!B:V,15,0),VLOOKUP(B79,BaseProdutos!B:V,16,0))/100,\"\")","v":""},{"$f":"IFERROR(VLOOKUP(B79,BaseProdutos!B:V,4,0),\"\")","v":""},"",null,null,null,null,null,"","","","","",{"$f":"IFERROR(F79*PE!$F$20,\"\")","v":""},"",""]
[null,{"$f":"IF(BaseProdutos!B70=\"\",\"\",BaseProdutos!B70)","v":""},{"$f":"IFERROR(VLOOKUP(B80,BaseProdutos!B:V,21,0),\"\")","v":""},null,"","",{"$f":"IFERROR(VLOOKUP(B80,BaseProdutos!B:V,3,0),\"\")","v":""},{"$f":"IFERROR(VLOOKUP(B80,BaseProdutos!B:V,17,0),\"\")","v":""},{"$f":"IFERROR(SUM(VLOOKUP(B80,BaseProdutos!B:V,13,0),VLOOKUP(B80,BaseProdutos!B:V,14,0)),\"\")","v":""},{"$f":"IFERROR(SUM(VLOOKUP(B80,BaseProdutos!B:V,15,0),VLOOKUP(B80,BaseProdutos!B:V,16,0))/100,\"\")","v":""},{"$f":"IFERROR(VLOOKUP(B80,BaseProdutos!B:V,4,0),\"\")","v":""},"",null,null,null,null,null,"","","","","",{"$f":"IFERROR(F80*PE!$F$20,\"\")","v":""},"",""]
[null,{"$f":"IF(BaseProdutos!B71=\"\",\"\",BaseProdutos!B71)","v":""},{"$f":"IFERROR(VLOOKUP(B81,BaseProdutos!B:V,21,0),\"\")","v":""},null,"","",{"$f":"IFERROR(VLOOKUP(B81,BaseProdutos!B:V,3,0),\"\")","v":""},{"$f":"IFERROR(VLOOKUP(B81,BaseProdutos!B:V,17,0),\"\")","v":""},{"$f":"IFERROR(SUM(VLOOKUP(B81,BaseProdutos!B:V,13,0),VLOOKUP(B81,BaseProdutos!B:V,14,0)),\"\")","v":""},{"$f":"IFERROR(SUM(VLOOKUP(B81,BaseProdutos!B:V,15,0),VLOOKUP(B81,BaseProdutos!B:V,16,0))/100,\"\")","v":""},{"$f":"IFERROR(VLOOKUP(B81,BaseProdutos!B:V,4,0),\"\")","v":""},"",null,null,null,null,null,"","","","","",{"$f":"IFERROR(F81*PE!$F$20,\"\")","v":""},"",""]
[null,{"$f":"IF(BaseProdutos!B72=\"\",\"\",BaseProdutos!B72)","v":""},{"$f":"IFERROR(VLOOKUP(B82,BaseProdutos!B:V,21,0),\"\")","v":""},null,"","",{"$f":"IFERROR(VLOOKUP(B82,BaseProdutos!B:V,3,0),\"\")","v":""},{"$f":"IFERROR(VLOOKUP(B82,BaseProdutos!B:V,17,0),\"\")","v":""},{"$f":"IFERROR(SUM(VLOOKUP(B82,BaseProdutos!B:V,13,0),VLOOKUP(B82,BaseProdutos!B:V,14,0)),\"\")","v":""},{"$f":"IFERROR(SUM(VLOOKUP(B82,BaseProdutos!B:V,15,0),VLOOKUP(B82,BaseProdutos!B:V,16,0))/100,\"\")","v":""},{"$f":"IFERROR(VLOOKUP(B82,BaseProdutos!B:V,4,0),\"\")","v":""},"",null,null,null,null,null,"","","","","",{"$f":"IFERROR(F82*PE!$F$20,\"\")","v":""},"",""]
[null,{"$f":"IF(BaseProdutos!B73=\"\",\"\",BaseProdutos!B73)","v":""},{"$f":"IFERROR(VLOOKUP(B83,BaseProdutos!B:V,21,0),\"\")","v":""},null,"","",{"$f":"IFERROR(VLOOKUP(B83,BaseProdutos!B:V,3,0),\"\")","v":""},{"$f":"IFERROR(VLOOKUP(B83,BaseProdutos!B:V,17,0),\"\")","v":""},{"$f":"IFERROR(SUM(VLOOKUP(B83,BaseProdutos!B:V,13,0),VLOOKUP(B83,BaseProdutos!B:V,14,0)),\"\")","v":""},{"$f":"IFERROR(SUM(VLOOKUP(B83,BaseProdutos!B:V,15,0),VLOOKUP(B83,BaseProdutos!B:V,16,0))/100,\"\")","v":""},{"$f":"IFERROR(VLOOKUP(B83,BaseProdutos!B:V,4,0),\"\")","v":""},"",null,null,null,null,null,"","","","","",{"$f":"IFERROR(F83*PE!$F$20,\"\")","v":""},"",""]
[null,{"$f":"IF(BaseProdutos!B74=\"\",\"\",BaseProdutos!B74)","v":""},{"$f":"IFERROR(VLOOKUP(B84,BaseProdutos!B:V,21,0),\"\")","v":""},null,"","",{"$f":"IFERROR(VLOOKUP(B84,BaseProdutos!B:V,3,0),\"\")","v":""},{"$f":"IFERROR(VLOOKUP(B84,BaseProdutos!B:V,17,0),\"\")","v":""},{"$f":"IFERROR(SUM(VLOOKUP(B84,BaseProdutos!B:V,13,0),VLOOKUP(B84,BaseProdutos!B:V,14,0)),\"\")","v":""},{"$f":"IFERROR(SUM(VLOOKUP(B84,BaseProdutos!B:V,15,0),VLOOKUP(B84,BaseProdutos!B:V,16,0))/100,\"\")","v":""},{"$f":"IFERROR(VLOOKUP(B84,BaseProdutos!B:V,4,0),\"\")","v":""},"",null,null,null,null,null,"","","","","",{"$f":"IFERROR(F84*PE!$F$20,\"\")","v":""},"",""]
[null,{"$f":"IF(BaseProdutos!B75=\"\",\"\",BaseProdutos!B75)","v":""},{"$f":"IFERROR(VLOOKUP(B85,BaseProdutos!B:V,21,0),\"\")","v":""},null,"","",{"$f":"IFERROR(VLOOKUP(B85,BaseProdutos!B:V,3,0),\"\")","v":""},{"$f":"IFERROR(VLOOKUP(B85,BaseProdutos!B:V,17,0),\"\")","v":""},{"$f":"IFERROR(SUM(VLOOKUP(B85,BaseProdutos!B:V,13,0),VLOOKUP(B85,BaseProdutos!B:V,14,0)),\"\")","v":""},{"$f":"IFERROR(SUM(VLOOKUP(B85,BaseProdutos!B:V,15,0),VLOOKUP(B85,BaseProdutos!B:V,16,0))/100,\"\")","v":""},{"$f":"IFERROR(VLOOKUP(B85,BaseProdutos!B:V,4,0),\"\")","v":""},"",null,null,null,null,null,"","","","","",{"$f":"IFERROR(F85*PE!$F$20,\"\")","v":""},"",""]
[null,{"$f":"IF(BaseProdutos!B76=\"\",\"\",BaseProdutos!B76)","v":""},{"$f":"IFERROR(VLOOKUP(B86,BaseProdutos!B:V,21,0),\"\")","v":""},null,"","",{"$f":"IFERROR(VLOOKUP(B86,BaseProdutos!B:V,3,0),\"\")","v":""},{"$f":"IFERROR(VLOOKUP(B86,BaseProdutos!B:V,17,0),\"\")","v":""},{"$f":"IFERROR(SUM(VLOOKUP(B86,BaseProdutos!B:V,13,0),VLOOKUP(B86,BaseProdutos!B:V,14,0)),\"\")","v":""},{"$f":"IFERROR(SUM(VLOOKUP(B86,BaseProdutos!B:V,15,0),VLOOKUP(B86,BaseProdutos!B:V,16,0))/100,\"\")","v":""},{"$f":"IFERROR(VLOOKUP(B86,BaseProdutos!B:V,4,0),\"\")","v":""},"",null,null,null,null,null,"","","","","",{"$f":"IFERROR(F86*PE!$F$20,\"\")","v":""},"",""]
[null,{"$f":"IF(BaseProdutos!B77=\"\",\"\",BaseProdutos!B77)","v":""},{"$f":"IFERROR(VLOOKUP(B87,BaseProdutos!B:V,21,0),\"\")","v":""},null,"","",{"$f":"IFERROR(VLOOKUP(B87,BaseProdutos!B:V,3,0),\"\")","v":""},{"$f":"IFERROR(VLOOKUP(B87,BaseProdutos!B:V,17,0),\"\")","v":""},{"$f":"IFERROR(SUM(VLOOKUP(B87,BaseProdutos!B:V,13,0),VLOOKUP(B87,BaseProdutos!B:V,14,0)),\"\")","v":""},{"$f":"IFERROR(SUM(VLOOKUP(B87,BaseProdutos!B:V,15,0),VLOOKUP(B87,BaseProdutos!B:V,16,0))/100,\"\")","v":""},{"$f":"IFERROR(VLOOKUP(B87,BaseProdutos!B:V,4,0),\"\")","v":""},"",null,null,null,null,null,"","","","","",{"$f":"IFERROR(F87*PE!$F$20,\"\")","v":""},"",""]
[null,{"$f":"IF(BaseProdutos!B78=\"\",\"\",BaseProdutos!B78)","v":""},{"$f":"IFERROR(VLOOKUP(B88,BaseProdutos!B:V,21,0),\"\")","v":""},null,"","",{"$f":"IFERROR(VLOOKUP(B88,BaseProdutos!B:V,3,0),\"\")","v":""},{"$f":"IFERROR(VLOOKUP(B88,BaseProdutos!B:V,17,0),\"\")","v":""},{"$f":"IFERROR(SUM(VLOOKUP(B88,BaseProdutos!B:V,13,0),VLOOKUP(B88,BaseProdutos!B:V,14,0)),\"\")","v":""},{"$f":"IFERROR(SUM(VLOOKUP(B88,BaseProdutos!B:V,15,0),VLOOKUP(B88,BaseProdutos!B:V,16,0))/100,\"\")","v":""},{"$f":"IFERROR(VLOOKUP(B88,BaseProdutos!B:V,4,0),\"\")","v":""},"",null,null,null,null,null,"","","","","",{"$f":"IFERROR(F88*PE!$F$20,\"\")","v":""},"",""]
[null,{"$f":"IF(BaseProdutos!B79=\"\",\"\",BaseProdutos!B79)","v":""},{"$f":"IFERROR(VLOOKUP(B89,BaseProdutos!B:V,21,0),\"\")","v":""},null,"","",{"$f":"IFERROR(VLOOKUP(B89,BaseProdutos!B:V,3,0),\"\")","v":""},{"$f":"IFERROR(VLOOKUP(B89,BaseProdutos!B:V,17,0),\"\")","v":""},{"$f":"IFERROR(SUM(VLOOKUP(B89,BaseProdutos!B:V,13,0),VLOOKUP(B89,BaseProdutos!B:V,14,0)),\"\")","v":""},{"$f":"IFERROR(SUM(VLOOKUP(B89,BaseProdutos!B:V,15,0),VLOOKUP(B89,BaseProdutos!B:V,16,0))/100,\"\")","v":""},{"$f":"IFERROR(VLOOKUP(B89,BaseProdutos!B:V,4,0),\"\")","v":""},"",null,null,null,null,null,"","","","","",{"$f":"IFERROR(F89*PE!$F$20,\"\")","v":""},"",""]
[null,{"$f":"IF(BaseProdutos!B80=\"\",\"\",BaseProdutos!B80)","v":""},{"$f":"IFERROR(VLOOKUP(B90,BaseProdutos!B:V,21,0),\"\")","v":""},null,"","",{"$f":"IFERROR(VLOOKUP(B90,BaseProdutos!B:V,3,0),\"\")","v":""},{"$f":"IFERROR(VLOOKUP(B90,BaseProdutos!B:V,17,0),\"\")","v":""},{"$f":"IFERROR(SUM(VLOOKUP(B90,BaseProdutos!B:V,13,0),VLOOKUP(B90,BaseProdutos!B:V,14,0)),\"\")","v":""},{"$f":"IFERROR(SUM(VLOOKUP(B90,BaseProdutos!B:V,15,0),VLOOKUP(B90,BaseProdutos!B:V,16,0))/100,\"\")","v":""},{"$f":"IFERROR(VLOOKUP(B90,BaseProdutos!B:V,4,0),\"\")","v":""},"",null,null,null,null,null,"","","","","",{"$f":"IFERROR(F90*PE!$F$20,\"\")","v":""},"",""]
[null,{"$f":"IF(BaseProdutos!B81=\"\",\"\",BaseProdutos!B81)","v":""},{"$f":"IFERROR(VLOOKUP(B91,BaseProdutos!B:V,21,0),\"\")","v":""},null,"","",{"$f":"IFERROR(VLOOKUP(B91,BaseProdutos!B:V,3,0),\"\")","v":""},{"$f":"IFERROR(VLOOKUP(B91,BaseProdutos!B:V,17,0),\"\")","v":""},{"$f":"IFERROR(SUM(VLOOKUP(B91,BaseProdutos!B:V,13,0),VLOOKUP(B91,BaseProdutos!B:V,14,0)),\"\")","v":""},{"$f":"IFERROR(SUM(VLOOKUP(B91,BaseProdutos!B:V,15,0),VLOOKUP(B91,BaseProdutos!B:V,16,0))/100,\"\")","v":""},{"$f":"IFERROR(VLOOKUP(B91,BaseProdutos!B:V,4,0),\"\")","v":""},"",null,null,null,null,null,"","","","","",{"$f":"IFERROR(F91*PE!$F$20,\"\")","v":""},"",""]
[null,{"$f":"IF(BaseProdutos!B82=\"\",\"\",BaseProdutos!B82)","v":""},{"$f":"IFERROR(VLOOKUP(B92,BaseProdutos!B:V,21,0),\"\")","v":""},null,"","",{"$f":"IFERROR(VLOOKUP(B92,BaseProdutos!B:V,3,0),\"\")","v":""},{"$f":"IFERROR(VLOOKUP(B92,BaseProdutos!B:V,17,0),\"\")","v":""},{"$f":"IFERROR(SUM(VLOOKUP(B92,BaseProdutos!B:V,13,0),VLOOKUP(B92,BaseProdutos!B:V,14,0)),\"\")","v":""},{"$f":"IFERROR(SUM(VLOOKUP(B92,BaseProdutos!B:V,15,0),VLOOKUP(B92,BaseProdutos!B:V,16,0))/100,\"\")","v":""},{"$f":"IFERROR(VLOOKUP(B92,BaseProdutos!B:V,4,0),\"\")","v":""},"",null,null,null,null,null,"","","","","",{"$f":"IFERROR(F92*PE!$F$20,\"\")","v":""},"",""]
[null,{"$f":"IF(BaseProdutos!B83=\"\",\"\",BaseProdutos!B83)","v":""},{"$f":"IFERROR(VLOOKUP(B93,BaseProdutos!B:V,21,0),\"\")","v":""},null,"","",{"$f":"IFERROR(VLOOKUP(B93,BaseProdutos!B:V,3,0),\"\")","v":""},{"$f":"IFERROR(VLOOKUP(B93,BaseProdutos!B:V,17,0),\"\")","v":""},{"$f":"IFERROR(SUM(VLOOKUP(B93,BaseProdutos!B:V,13,0),VLOOKUP(B93,BaseProdutos!B:V,14,0)),\"\")","v":""},{"$f":"IFERROR(SUM(VLOOKUP(B93,BaseProdutos!B:V,15,0),VLOOKUP(B93,BaseProdutos!B:V,16,0))/100,\"\")","v":""},{"$f":"IFERROR(VLOOKUP(B93,BaseProdutos!B:V,4,0),\"\")","v":""},"",null,null,null,null,null,"","","","","",{"$f":"IFERROR(F93*PE!$F$20,\"\")","v":""},"",""]
[null,{"$f":"IF(BaseProdutos!B84=\"\",\"\",BaseProdutos!B84)","v":""},{"$f":"IFERROR(VLOOKUP(B94,BaseProdutos!B:V,21,0),\"\")","v":""},null,"","",{"$f":"IFERROR(VLOOKUP(B94,BaseProdutos!B:V,3,0),\"\")","v":""},{"$f":"IFERROR(VLOOKUP(B94,BaseProdutos!B:V,17,0),\"\")","v":""},{"$f":"IFERROR(SUM(VLOOKUP(B94,BaseProdutos!B:V,13,0),VLOOKUP(B94,BaseProdutos!B:V,14,0)),\"\")","v":""},{"$f":"IFERROR(SUM(VLOOKUP(B94,BaseProdutos!B:V,15,0),VLOOKUP(B94,BaseProdutos!B:V,16,0))/100,\"\")","v":""},{"$f":"IFERROR(VLOOKUP(B94,BaseProdutos!B:V,4,0),\"\")","v":""},"",null,null,null,null,null,"","","","","",{"$f":"IFERROR(F94*PE!$F$20,\"\")","v":""},"",""]
[null,{"$f":"IF(BaseProdutos!B85=\"\",\"\",BaseProdutos!B85)","v":""},{"$f":"IFERROR(VLOOKUP(B95,BaseProdutos!B:V,21,0),\"\")","v":""},null,"","",{"$f":"IFERROR(VLOOKUP(B95,BaseProdutos!B:V,3,0),\"\")","v":""},{"$f":"IFERROR(VLOOKUP(B95,BaseProdutos!B:V,17,0),\"\")","v":""},{"$f":"IFERROR(SUM(VLOOKUP(B95,BaseProdutos!B:V,13,0),VLOOKUP(B95,BaseProdutos!B:V,14,0)),\"\")","v":""},{"$f":"IFERROR(SUM(VLOOKUP(B95,BaseProdutos!B:V,15,0),VLOOKUP(B95,BaseProdutos!B:V,16,0))/100,\"\")","v":""},{"$f":"IFERROR(VLOOKUP(B95,BaseProdutos!B:V,4,0),\"\")","v":""},"",null,null,null,null,null,"","","","","",{"$f":"IFERROR(F95*PE!$F$20,\"\")","v":""},"",""]
[null,{"$f":"IF(BaseProdutos!B86=\"\",\"\",BaseProdutos!B86)","v":""},{"$f":"IFERROR(VLOOKUP(B96,BaseProdutos!B:V,21,0),\"\")","v":""},null,"","",{"$f":"IFERROR(VLOOKUP(B96,BaseProdutos!B:V,3,0),\"\")","v":""},{"$f":"IFERROR(VLOOKUP(B96,BaseProdutos!B:V,17,0),\"\")","v":""},{"$f":"IFERROR(SUM(VLOOKUP(B96,BaseProdutos!B:V,13,0),VLOOKUP(B96,BaseProdutos!B:V,14,0)),\"\")","v":""},{"$f":"IFERROR(SUM(VLOOKUP(B96,BaseProdutos!B:V,15,0),VLOOKUP(B96,BaseProdutos!B:V,16,0))/100,\"\")","v":""},{"$f":"IFERROR(VLOOKUP(B96,BaseProdutos!B:V,4,0),\"\")","v":""},"",null,null,null,null,null,"","","","","",{"$f":"IFERROR(F96*PE!$F$20,\"\")","v":""},"",""]
[null,{"$f":"IF(BaseProdutos!B87=\"\",\"\",BaseProdutos!B87)","v":""},{"$f":"IFERROR(VLOOKUP(B97,BaseProdutos!B:V,21,0),\"\")","v":""},null,"","",{"$f":"IFERROR(VLOOKUP(B97,BaseProdutos!B:V,3,0),\"\")","v":""},{"$f":"IFERROR(VLOOKUP(B97,BaseProdutos!B:V,17,0),\"\")","v":""},{"$f":"IFERROR(SUM(VLOOKUP(B97,BaseProdutos!B:V,13,0),VLOOKUP(B97,BaseProdutos!B:V,14,0)),\"\")","v":""},{"$f":"IFERROR(SUM(VLOOKUP(B97,BaseProdutos!B:V,15,0),VLOOKUP(B97,BaseProdutos!B:V,16,0))/100,\"\")","v":""},{"$f":"IFERROR(VLOOKUP(B97,BaseProdutos!B:V,4,0),\"\")","v":""},"",null,null,null,null,null,"","","","","",{"$f":"IFERROR(F97*PE!$F$20,\"\")","v":""},"",""]
[null,{"$f":"IF(BaseProdutos!B88=\"\",\"\",BaseProdutos!B88)","v":""},{"$f":"IFERROR(VLOOKUP(B98,BaseProdutos!B:V,21,0),\"\")","v":""},null,"","",{"$f":"IFERROR(VLOOKUP(B98,BaseProdutos!B:V,3,0),\"\")","v":""},{"$f":"IFERROR(VLOOKUP(B98,BaseProdutos!B:V,17,0),\"\")","v":""},{"$f":"IFERROR(SUM(VLOOKUP(B98,BaseProdutos!B:V,13,0),VLOOKUP(B98,BaseProdutos!B:V,14,0)),\"\")","v":""},{"$f":"IFERROR(SUM(VLOOKUP(B98,BaseProdutos!B:V,15,0),VLOOKUP(B98,BaseProdutos!B:V,16,0))/100,\"\")","v":""},{"$f":"IFERROR(VLOOKUP(B98,BaseProdutos!B:V,4,0),\"\")","v":""},"",null,null,null,null,null,"","","","","",{"$f":"IFERROR(F98*PE!$F$20,\"\")","v":""},"",""]
[null,{"$f":"IF(BaseProdutos!B89=\"\",\"\",BaseProdutos!B89)","v":""},{"$f":"IFERROR(VLOOKUP(B99,BaseProdutos!B:V,21,0),\"\")","v":""},null,"","",{"$f":"IFERROR(VLOOKUP(B99,BaseProdutos!B:V,3,0),\"\")","v":""},{"$f":"IFERROR(VLOOKUP(B99,BaseProdutos!B:V,17,0),\"\")","v":""},{"$f":"IFERROR(SUM(VLOOKUP(B99,BaseProdutos!B:V,13,0),VLOOKUP(B99,BaseProdutos!B:V,14,0)),\"\")","v":""},{"$f":"IFERROR(SUM(VLOOKUP(B99,BaseProdutos!B:V,15,0),VLOOKUP(B99,BaseProdutos!B:V,16,0))/100,\"\")","v":""},{"$f":"IFERROR(VLOOKUP(B99,BaseProdutos!B:V,4,0),\"\")","v":""},"",null,null,null,null,null,"","","","","",{"$f":"IFERROR(F99*PE!$F$20,\"\")","v":""},"",""]
[null,{"$f":"IF(BaseProdutos!B90=\"\",\"\",BaseProdutos!B90)","v":""},{"$f":"IFERROR(VLOOKUP(B100,BaseProdutos!B:V,21,0),\"\")","v":""},null,"","",{"$f":"IFERROR(VLOOKUP(B100,BaseProdutos!B:V,3,0),\"\")","v":""},{"$f":"IFERROR(VLOOKUP(B100,BaseProdutos!B:V,17,0),\"\")","v":""},{"$f":"IFERROR(SUM(VLOOKUP(B100,BaseProdutos!B:V,13,0),VLOOKUP(B100,BaseProdutos!B:V,14,0)),\"\")","v":""},{"$f":"IFERROR(SUM(VLOOKUP(B100,BaseProdutos!B:V,15,0),VLOOKUP(B100,BaseProdutos!B:V,16,0))/100,\"\")","v":""},{"$f":"IFERROR(VLOOKUP(B100,BaseProdutos!B:V,4,0),\"\")","v":""},"",null,null,null,null,null,"","","","","",{"$f":"IFERROR(F100*PE!$F$20,\"\")","v":""},"",""]
[null,{"$f":"IF(BaseProdutos!B91=\"\",\"\",BaseProdutos!B91)","v":""},{"$f":"IFERROR(VLOOKUP(B101,BaseProdutos!B:V,21,0),\"\")","v":""},null,"","",{"$f":"IFERROR(VLOOKUP(B101,BaseProdutos!B:V,3,0),\"\")","v":""},{"$f":"IFERROR(VLOOKUP(B101,BaseProdutos!B:V,17,0),\"\")","v":""},{"$f":"IFERROR(SUM(VLOOKUP(B101,BaseProdutos!B:V,13,0),VLOOKUP(B101,BaseProdutos!B:V,14,0)),\"\")","v":""},{"$f":"IFERROR(SUM(VLOOKUP(B101,BaseProdutos!B:V,15,0),VLOOKUP(B101,BaseProdutos!B:V,16,0))/100,\"\")","v":""},{"$f":"IFERROR(VLOOKUP(B101,BaseProdutos!B:V,4,0),\"\")","v":""},"",null,null,null,null,null,"","","","","",{"$f":"IFERROR(F101*PE!$F$20,\"\")","v":""},"",""]
[null,{"$f":"IF(BaseProdutos!B92=\"\",\"\",BaseProdutos!B92)","v":""},{"$f":"IFERROR(VLOOKUP(B102,BaseProdutos!B:V,21,0),\"\")","v":""},null,"","",{"$f":"IFERROR(VLOOKUP(B102,BaseProdutos!B:V,3,0),\"\")","v":""},{"$f":"IFERROR(VLOOKUP(B102,BaseProdutos!B:V,17,0),\"\")","v":""},{"$f":"IFERROR(SUM(VLOOKUP(B102,BaseProdutos!B:V,13,0),VLOOKUP(B102,BaseProdutos!B:V,14,0)),\"\")","v":""},{"$f":"IFERROR(SUM(VLOOKUP(B102,BaseProdutos!B:V,15,0),VLOOKUP(B102,BaseProdutos!B:V,16,0))/100,\"\")","v":""},{"$f":"IFERROR(VLOOKUP(B102,BaseProdutos!B:V,4,0),\"\")","v":""},"",null,null,null,null,null,"","","","","",{"$f":"IFERROR(F102*PE!$F$20,\"\")","v":""},"",""]
[null,{"$f":"IF(BaseProdutos!B93=\"\",\"\",BaseProdutos!B93)","v":""},{"$f":"IFERROR(VLOOKUP(B103,BaseProdutos!B:V,21,0),\"\")","v":""},null,"","",{"$f":"IFERROR(VLOOKUP(B103,BaseProdutos!B:V,3,0),\"\")","v":""},{"$f":"IFERROR(VLOOKUP(B103,BaseProdutos!B:V,17,0),\"\")","v":""},{"$f":"IFERROR(SUM(VLOOKUP(B103,BaseProdutos!B:V,13,0),VLOOKUP(B103,BaseProdutos!B:V,14,0)),\"\")","v":""},{"$f":"IFERROR(SUM(VLOOKUP(B103,BaseProdutos!B:V,15,0),VLOOKUP(B103,BaseProdutos!B:V,16,0))/100,\"\")","v":""},{"$f":"IFERROR(VLOOKUP(B103,BaseProdutos!B:V,4,0),\"\")","v":""},"",null,null,null,null,null,"","","","","",{"$f":"IFERROR(F103*PE!$F$20,\"\")","v":""},"",""]
[null,{"$f":"IF(BaseProdutos!B94=\"\",\"\",BaseProdutos!B94)","v":""},{"$f":"IFERROR(VLOOKUP(B104,BaseProdutos!B:V,21,0),\"\")","v":""},null,"","",{"$f":"IFERROR(VLOOKUP(B104,BaseProdutos!B:V,3,0),\"\")","v":""},{"$f":"IFERROR(VLOOKUP(B104,BaseProdutos!B:V,17,0),\"\")","v":""},{"$f":"IFERROR(SUM(VLOOKUP(B104,BaseProdutos!B:V,13,0),VLOOKUP(B104,BaseProdutos!B:V,14,0)),\"\")","v":""},{"$f":"IFERROR(SUM(VLOOKUP(B104,BaseProdutos!B:V,15,0),VLOOKUP(B104,BaseProdutos!B:V,16,0))/100,\"\")","v":""},{"$f":"IFERROR(VLOOKUP(B104,BaseProdutos!B:V,4,0),\"\")","v":""},"",null,null,null,null,null,"","","","","",{"$f":"IFERROR(F104*PE!$F$20,\"\")","v":""},"",""]
[null,{"$f":"IF(BaseProdutos!B95=\"\",\"\",BaseProdutos!B95)","v":""},{"$f":"IFERROR(VLOOKUP(B105,BaseProdutos!B:V,21,0),\"\")","v":""},null,"","",{"$f":"IFERROR(VLOOKUP(B105,BaseProdutos!B:V,3,0),\"\")","v":""},{"$f":"IFERROR(VLOOKUP(B105,BaseProdutos!B:V,17,0),\"\")","v":""},{"$f":"IFERROR(SUM(VLOOKUP(B105,BaseProdutos!B:V,13,0),VLOOKUP(B105,BaseProdutos!B:V,14,0)),\"\")","v":""},{"$f":"IFERROR(SUM(VLOOKUP(B105,BaseProdutos!B:V,15,0),VLOOKUP(B105,BaseProdutos!B:V,16,0))/100,\"\")","v":""},{"$f":"IFERROR(VLOOKUP(B105,BaseProdutos!B:V,4,0),\"\")","v":""},"",null,null,null,null,null,"","","","","",{"$f":"IFERROR(F105*PE!$F$20,\"\")","v":""},"",""]
[null,{"$f":"IF(BaseProdutos!B96=\"\",\"\",BaseProdutos!B96)","v":""},{"$f":"IFERROR(VLOOKUP(B106,BaseProdutos!B:V,21,0),\"\")","v":""},null,"","",{"$f":"IFERROR(VLOOKUP(B106,BaseProdutos!B:V,3,0),\"\")","v":""},{"$f":"IFERROR(VLOOKUP(B106,BaseProdutos!B:V,17,0),\"\")","v":""},{"$f":"IFERROR(SUM(VLOOKUP(B106,BaseProdutos!B:V,13,0),VLOOKUP(B106,BaseProdutos!B:V,14,0)),\"\")","v":""},{"$f":"IFERROR(SUM(VLOOKUP(B106,BaseProdutos!B:V,15,0),VLOOKUP(B106,BaseProdutos!B:V,16,0))/100,\"\")","v":""},{"$f":"IFERROR(VLOOKUP(B106,BaseProdutos!B:V,4,0),\"\")","v":""},"",null,null,null,null,null,"","","","","",{"$f":"IFERROR(F106*PE!$F$20,\"\")","v":""},"",""]
[null,{"$f":"IF(BaseProdutos!B97=\"\",\"\",BaseProdutos!B97)","v":""},{"$f":"IFERROR(VLOOKUP(B107,BaseProdutos!B:V,21,0),\"\")","v":""},null,"","",{"$f":"IFERROR(VLOOKUP(B107,BaseProdutos!B:V,3,0),\"\")","v":""},{"$f":"IFERROR(VLOOKUP(B107,BaseProdutos!B:V,17,0),\"\")","v":""},{"$f":"IFERROR(SUM(VLOOKUP(B107,BaseProdutos!B:V,13,0),VLOOKUP(B107,BaseProdutos!B:V,14,0)),\"\")","v":""},{"$f":"IFERROR(SUM(VLOOKUP(B107,BaseProdutos!B:V,15,0),VLOOKUP(B107,BaseProdutos!B:V,16,0))/100,\"\")","v":""},{"$f":"IFERROR(VLOOKUP(B107,BaseProdutos!B:V,4,0),\"\")","v":""},"",null,null,null,null,null,"","","","","",{"$f":"IFERROR(F107*PE!$F$20,\"\")","v":""},"",""]
[null,{"$f":"IF(BaseProdutos!B98=\"\",\"\",BaseProdutos!B98)","v":""},{"$f":"IFERROR(VLOOKUP(B108,BaseProdutos!B:V,21,0),\"\")","v":""},null,"","",{"$f":"IFERROR(VLOOKUP(B108,BaseProdutos!B:V,3,0),\"\")","v":""},{"$f":"IFERROR(VLOOKUP(B108,BaseProdutos!B:V,17,0),\"\")","v":""},{"$f":"IFERROR(SUM(VLOOKUP(B108,BaseProdutos!B:V,13,0),VLOOKUP(B108,BaseProdutos!B:V,14,0)),\"\")","v":""},{"$f":"IFERROR(SUM(VLOOKUP(B108,BaseProdutos!B:V,15,0),VLOOKUP(B108,BaseProdutos!B:V,16,0))/100,\"\")","v":""},{"$f":"IFERROR(VLOOKUP(B108,BaseProdutos!B:V,4,0),\"\")","v":""},"",null,null,null,null,null,"","","","","",{"$f":"IFERROR(F108*PE!$F$20,\"\")","v":""},"",""]
[null,{"$f":"IF(BaseProdutos!B99=\"\",\"\",BaseProdutos!B99)","v":""},{"$f":"IFERROR(VLOOKUP(B109,BaseProdutos!B:V,21,0),\"\")","v":""},null,"","",{"$f":"IFERROR(VLOOKUP(B109,BaseProdutos!B:V,3,0),\"\")","v":""},{"$f":"IFERROR(VLOOKUP(B109,BaseProdutos!B:V,17,0),\"\")","v":""},{"$f":"IFERROR(SUM(VLOOKUP(B109,BaseProdutos!B:V,13,0),VLOOKUP(B109,BaseProdutos!B:V,14,0)),\"\")","v":""},{"$f":"IFERROR(SUM(VLOOKUP(B109,BaseProdutos!B:V,15,0),VLOOKUP(B109,BaseProdutos!B:V,16,0))/100,\"\")","v":""},{"$f":"IFERROR(VLOOKUP(B109,BaseProdutos!B:V,4,0),\"\")","v":""},"",null,null,null,null,null,"","","","","",{"$f":"IFERROR(F109*PE!$F$20,\"\")","v":""},"",""]
[null,{"$f":"IF(BaseProdutos!B100=\"\",\"\",BaseProdutos!B100)","v":""},{"$f":"IFERROR(VLOOKUP(B110,BaseProdutos!B:V,21,0),\"\")","v":""},null,"","",{"$f":"IFERROR(VLOOKUP(B110,BaseProdutos!B:V,3,0),\"\")","v":""},{"$f":"IFERROR(VLOOKUP(B110,BaseProdutos!B:V,17,0),\"\")","v":""},{"$f":"IFERROR(SUM(VLOOKUP(B110,BaseProdutos!B:V,13,0),VLOOKUP(B110,BaseProdutos!B:V,14,0)),\"\")","v":""},{"$f":"IFERROR(SUM(VLOOKUP(B110,BaseProdutos!B:V,15,0),VLOOKUP(B110,BaseProdutos!B:V,16,0))/100,\"\")","v":""},{"$f":"IFERROR(VLOOKUP(B110,BaseProdutos!B:V,4,0),\"\")","v":""},"",null,null,null,null,null,"","","","","",{"$f":"IFERROR(F110*PE!$F$20,\"\")","v":""},"",""]
[null,{"$f":"IF(BaseProdutos!B101=\"\",\"\",BaseProdutos!B101)","v":""},{"$f":"IFERROR(VLOOKUP(B111,BaseProdutos!B:V,21,0),\"\")","v":""},null,"","",{"$f":"IFERROR(VLOOKUP(B111,BaseProdutos!B:V,3,0),\"\")","v":""},{"$f":"IFERROR(VLOOKUP(B111,BaseProdutos!B:V,17,0),\"\")","v":""},{"$f":"IFERROR(SUM(VLOOKUP(B111,BaseProdutos!B:V,13,0),VLOOKUP(B111,BaseProdutos!B:V,14,0)),\"\")","v":""},{"$f":"IFERROR(SUM(VLOOKUP(B111,BaseProdutos!B:V,15,0),VLOOKUP(B111,BaseProdutos!B:V,16,0))/100,\"\")","v":""},{"$f":"IFERROR(VLOOKUP(B111,BaseProdutos!B:V,4,0),\"\")","v":""},"",null,null,null,null,null,"","","","","",{"$f":"IFERROR(F111*PE!$F$20,\"\")","v":""},"",""]
[null,{"$f":"IF(BaseProdutos!B102=\"\",\"\",BaseProdutos!B102)","v":""},{"$f":"IFERROR(VLOOKUP(B112,BaseProdutos!B:V,21,0),\"\")","v":""},null,"","",{"$f":"IFERROR(VLOOKUP(B112,BaseProdutos!B:V,3,0),\"\")","v":""},{"$f":"IFERROR(VLOOKUP(B112,BaseProdutos!B:V,17,0),\"\")","v":""},{"$f":"IFERROR(SUM(VLOOKUP(B112,BaseProdutos!B:V,13,0),VLOOKUP(B112,BaseProdutos!B:V,14,0)),\"\")","v":""},{"$f":"IFERROR(SUM(VLOOKUP(B112,BaseProdutos!B:V,15,0),VLOOKUP(B112,BaseProdutos!B:V,16,0))/100,\"\")","v":""},{"$f":"IFERROR(VLOOKUP(B112,BaseProdutos!B:V,4,0),\"\")","v":""},"",null,null,null,null,null,"","","","","",{"$f":"IFERROR(F112*PE!$F$20,\"\")","v":""},"",""]
[null,{"$f":"IF(BaseProdutos!B103=\"\",\"\",BaseProdutos!B103)","v":""},{"$f":"IFERROR(VLOOKUP(B113,BaseProdutos!B:V,21,0),\"\")","v":""},null,"","",{"$f":"IFERROR(VLOOKUP(B113,BaseProdutos!B:V,3,0),\"\")","v":""},{"$f":"IFERROR(VLOOKUP(B113,BaseProdutos!B:V,17,0),\"\")","v":""},{"$f":"IFERROR(SUM(VLOOKUP(B113,BaseProdutos!B:V,13,0),VLOOKUP(B113,BaseProdutos!B:V,14,0)),\"\")","v":""},{"$f":"IFERROR(SUM(VLOOKUP(B113,BaseProdutos!B:V,15,0),VLOOKUP(B113,BaseProdutos!B:V,16,0))/100,\"\")","v":""},{"$f":"IFERROR(VLOOKUP(B113,BaseProdutos!B:V,4,0),\"\")","v":""},"",null,null,null,null,null,"","","","","",{"$f":"IFERROR(F113*PE!$F$20,\"\")","v":""},"",""]
[null,{"$f":"IF(BaseProdutos!B104=\"\",\"\",BaseProdutos!B104)","v":""},{"$f":"IFERROR(VLOOKUP(B114,BaseProdutos!B:V,21,0),\"\")","v":""},null,"","",{"$f":"IFERROR(VLOOKUP(B114,BaseProdutos!B:V,3,0),\"\")","v":""},{"$f":"IFERROR(VLOOKUP(B114,BaseProdutos!B:V,17,0),\"\")","v":""},{"$f":"IFERROR(SUM(VLOOKUP(B114,BaseProdutos!B:V,13,0),VLOOKUP(B114,BaseProdutos!B:V,14,0)),\"\")","v":""},{"$f":"IFERROR(SUM(VLOOKUP(B114,BaseProdutos!B:V,15,0),VLOOKUP(B114,BaseProdutos!B:V,16,0))/100,\"\")","v":""},{"$f":"IFERROR(VLOOKUP(B114,BaseProdutos!B:V,4,0),\"\")","v":""},"",null,null,null,null,null,"","","","","",{"$f":"IFERROR(F114*PE!$F$20,\"\")","v":""},"",""]
[null,{"$f":"IF(BaseProdutos!B105=\"\",\"\",BaseProdutos!B105)","v":""},{"$f":"IFERROR(VLOOKUP(B115,BaseProdutos!B:V,21,0),\"\")","v":""},null,"","",{"$f":"IFERROR(VLOOKUP(B115,BaseProdutos!B:V,3,0),\"\")","v":""},{"$f":"IFERROR(VLOOKUP(B115,BaseProdutos!B:V,17,0),\"\")","v":""},{"$f":"IFERROR(SUM(VLOOKUP(B115,BaseProdutos!B:V,13,0),VLOOKUP(B115,BaseProdutos!B:V,14,0)),\"\")","v":""},{"$f":"IFERROR(SUM(VLOOKUP(B115,BaseProdutos!B:V,15,0),VLOOKUP(B115,BaseProdutos!B:V,16,0))/100,\"\")","v":""},{"$f":"IFERROR(VLOOKUP(B115,BaseProdutos!B:V,4,0),\"\")","v":""},"",null,null,null,null,null,"","","","","",{"$f":"IFERROR(F115*PE!$F$20,\"\")","v":""},"",""]
[null,{"$f":"IF(BaseProdutos!B106=\"\",\"\",BaseProdutos!B106)","v":""},{"$f":"IFERROR(VLOOKUP(B116,BaseProdutos!B:V,21,0),\"\")","v":""},null,"","",{"$f":"IFERROR(VLOOKUP(B116,BaseProdutos!B:V,3,0),\"\")","v":""},{"$f":"IFERROR(VLOOKUP(B116,BaseProdutos!B:V,17,0),\"\")","v":""},{"$f":"IFERROR(SUM(VLOOKUP(B116,BaseProdutos!B:V,13,0),VLOOKUP(B116,BaseProdutos!B:V,14,0)),\"\")","v":""},{"$f":"IFERROR(SUM(VLOOKUP(B116,BaseProdutos!B:V,15,0),VLOOKUP(B116,BaseProdutos!B:V,16,0))/100,\"\")","v":""},{"$f":"IFERROR(VLOOKUP(B116,BaseProdutos!B:V,4,0),\"\")","v":""},"",null,null,null,null,null,"","","","","",{"$f":"IFERROR(F116*PE!$F$20,\"\")","v":""},"",""]
[null,{"$f":"IF(BaseProdutos!B107=\"\",\"\",BaseProdutos!B107)","v":""},{"$f":"IFERROR(VLOOKUP(B117,BaseProdutos!B:V,21,0),\"\")","v":""},null,"","",{"$f":"IFERROR(VLOOKUP(B117,BaseProdutos!B:V,3,0),\"\")","v":""},{"$f":"IFERROR(VLOOKUP(B117,BaseProdutos!B:V,17,0),\"\")","v":""},{"$f":"IFERROR(SUM(VLOOKUP(B117,BaseProdutos!B:V,13,0),VLOOKUP(B117,BaseProdutos!B:V,14,0)),\"\")","v":""},{"$f":"IFERROR(SUM(VLOOKUP(B117,BaseProdutos!B:V,15,0),VLOOKUP(B117,BaseProdutos!B:V,16,0))/100,\"\")","v":""},{"$f":"IFERROR(VLOOKUP(B117,BaseProdutos!B:V,4,0),\"\")","v":""},"",null,null,null,null,null,"","","","","",{"$f":"IFERROR(F117*PE!$F$20,\"\")","v":""},"",""]
[null,{"$f":"IF(BaseProdutos!B108=\"\",\"\",BaseProdutos!B108)","v":""},{"$f":"IFERROR(VLOOKUP(B118,BaseProdutos!B:V,21,0),\"\")","v":""},null,"","",{"$f":"IFERROR(VLOOKUP(B118,BaseProdutos!B:V,3,0),\"\")","v":""},{"$f":"IFERROR(VLOOKUP(B118,BaseProdutos!B:V,17,0),\"\")","v":""},{"$f":"IFERROR(SUM(VLOOKUP(B118,BaseProdutos!B:V,13,0),VLOOKUP(B118,BaseProdutos!B:V,14,0)),\"\")","v":""},{"$f":"IFERROR(SUM(VLOOKUP(B118,BaseProdutos!B:V,15,0),VLOOKUP(B118,BaseProdutos!B:V,16,0))/100,\"\")","v":""},{"$f":"IFERROR(VLOOKUP(B118,BaseProdutos!B:V,4,0),\"\")","v":""},"",null,null,null,null,null,"","","","","",{"$f":"IFERROR(F118*PE!$F$20,\"\")","v":""},"",""]
[null,{"$f":"IF(BaseProdutos!B109=\"\",\"\",BaseProdutos!B109)","v":""},{"$f":"IFERROR(VLOOKUP(B119,BaseProdutos!B:V,21,0),\"\")","v":""},null,"","",{"$f":"IFERROR(VLOOKUP(B119,BaseProdutos!B:V,3,0),\"\")","v":""},{"$f":"IFERROR(VLOOKUP(B119,BaseProdutos!B:V,17,0),\"\")","v":""},{"$f":"IFERROR(SUM(VLOOKUP(B119,BaseProdutos!B:V,13,0),VLOOKUP(B119,BaseProdutos!B:V,14,0)),\"\")","v":""},{"$f":"IFERROR(SUM(VLOOKUP(B119,BaseProdutos!B:V,15,0),VLOOKUP(B119,BaseProdutos!B:V,16,0))/100,\"\")","v":""},{"$f":"IFERROR(VLOOKUP(B119,BaseProdutos!B:V,4,0),\"\")","v":""},"",null,null,null,null,null,"","","","","",{"$f":"IFERROR(F119*PE!$F$20,\"\")","v":""},"",""]
[null,{"$f":"IF(BaseProdutos!B110=\"\",\"\",BaseProdutos!B110)","v":""},{"$f":"IFERROR(VLOOKUP(B120,BaseProdutos!B:V,21,0),\"\")","v":""},null,"","",{"$f":"IFERROR(VLOOKUP(B120,BaseProdutos!B:V,3,0),\"\")","v":""},{"$f":"IFERROR(VLOOKUP(B120,BaseProdutos!B:V,17,0),\"\")","v":""},{"$f":"IFERROR(SUM(VLOOKUP(B120,BaseProdutos!B:V,13,0),VLOOKUP(B120,BaseProdutos!B:V,14,0)),\"\")","v":""},{"$f":"IFERROR(SUM(VLOOKUP(B120,BaseProdutos!B:V,15,0),VLOOKUP(B120,BaseProdutos!B:V,16,0))/100,\"\")","v":""},{"$f":"IFERROR(VLOOKUP(B120,BaseProdutos!B:V,4,0),\"\")","v":""},"",null,null,null,null,null,"","","","","",{"$f":"IFERROR(F120*PE!$F$20,\"\")","v":""},"",""]
[null,{"$f":"IF(BaseProdutos!B111=\"\",\"\",BaseProdutos!B111)","v":""},{"$f":"IFERROR(VLOOKUP(B121,BaseProdutos!B:V,21,0),\"\")","v":""},null,"","",{"$f":"IFERROR(VLOOKUP(B121,BaseProdutos!B:V,3,0),\"\")","v":""},{"$f":"IFERROR(VLOOKUP(B121,BaseProdutos!B:V,17,0),\"\")","v":""},{"$f":"IFERROR(SUM(VLOOKUP(B121,BaseProdutos!B:V,13,0),VLOOKUP(B121,BaseProdutos!B:V,14,0)),\"\")","v":""},{"$f":"IFERROR(SUM(VLOOKUP(B121,BaseProdutos!B:V,15,0),VLOOKUP(B121,BaseProdutos!B:V,16,0))/100,\"\")","v":""},{"$f":"IFERROR(VLOOKUP(B121,BaseProdutos!B:V,4,0),\"\")","v":""},"",null,null,null,null,null,"","","","","",{"$f":"IFERROR(F121*PE!$F$20,\"\")","v":""},"",""]
[null,{"$f":"IF(BaseProdutos!B112=\"\",\"\",BaseProdutos!B112)","v":""},{"$f":"IFERROR(VLOOKUP(B122,BaseProdutos!B:V,21,0),\"\")","v":""},null,"","",{"$f":"IFERROR(VLOOKUP(B122,BaseProdutos!B:V,3,0),\"\")","v":""},{"$f":"IFERROR(VLOOKUP(B122,BaseProdutos!B:V,17,0),\"\")","v":""},{"$f":"IFERROR(SUM(VLOOKUP(B122,BaseProdutos!B:V,13,0),VLOOKUP(B122,BaseProdutos!B:V,14,0)),\"\")","v":""},{"$f":"IFERROR(SUM(VLOOKUP(B122,BaseProdutos!B:V,15,0),VLOOKUP(B122,BaseProdutos!B:V,16,0))/100,\"\")","v":""},{"$f":"IFERROR(VLOOKUP(B122,BaseProdutos!B:V,4,0),\"\")","v":""},"",null,null,null,null,null,"","","","","",{"$f":"IFERROR(F122*PE!$F$20,\"\")","v":""},"",""]
[null,{"$f":"IF(BaseProdutos!B113=\"\",\"\",BaseProdutos!B113)","v":""},{"$f":"IFERROR(VLOOKUP(B123,BaseProdutos!B:V,21,0),\"\")","v":""},null,"","",{"$f":"IFERROR(VLOOKUP(B123,BaseProdutos!B:V,3,0),\"\")","v":""},{"$f":"IFERROR(VLOOKUP(B123,BaseProdutos!B:V,17,0),\"\")","v":""},{"$f":"IFERROR(SUM(VLOOKUP(B123,BaseProdutos!B:V,13,0),VLOOKUP(B123,BaseProdutos!B:V,14,0)),\"\")","v":""},{"$f":"IFERROR(SUM(VLOOKUP(B123,BaseProdutos!B:V,15,0),VLOOKUP(B123,BaseProdutos!B:V,16,0))/100,\"\")","v":""},{"$f":"IFERROR(VLOOKUP(B123,BaseProdutos!B:V,4,0),\"\")","v":""},"",null,null,null,null,null,"","","","","",{"$f":"IFERROR(F123*PE!$F$20,\"\")","v":""},"",""]
[null,{"$f":"IF(BaseProdutos!B114=\"\",\"\",BaseProdutos!B114)","v":""},{"$f":"IFERROR(VLOOKUP(B124,BaseProdutos!B:V,21,0),\"\")","v":""},null,"","",{"$f":"IFERROR(VLOOKUP(B124,BaseProdutos!B:V,3,0),\"\")","v":""},{"$f":"IFERROR(VLOOKUP(B124,BaseProdutos!B:V,17,0),\"\")","v":""},{"$f":"IFERROR(SUM(VLOOKUP(B124,BaseProdutos!B:V,13,0),VLOOKUP(B124,BaseProdutos!B:V,14,0)),\"\")","v":""},{"$f":"IFERROR(SUM(VLOOKUP(B124,BaseProdutos!B:V,15,0),VLOOKUP(B124,BaseProdutos!B:V,16,0))/100,\"\")","v":""},{"$f":"IFERROR(VLOOKUP(B124,BaseProdutos!B:V,4,0),\"\")","v":""},"",null,null,null,null,null,"","","","","",{"$f":"IFERROR(F124*PE!$F$20,\"\")","v":""},"",""]
[null,{"$f":"IF(BaseProdutos!B115=\"\",\"\",BaseProdutos!B115)","v":""},{"$f":"IFERROR(VLOOKUP(B125,BaseProdutos!B:V,21,0),\"\")","v":""},null,"","",{"$f":"IFERROR(VLOOKUP(B125,BaseProdutos!B:V,3,0),\"\")","v":""},{"$f":"IFERROR(VLOOKUP(B125,BaseProdutos!B:V,17,0),\"\")","v":""},{"$f":"IFERROR(SUM(VLOOKUP(B125,BaseProdutos!B:V,13,0),VLOOKUP(B125,BaseProdutos!B:V,14,0)),\"\")","v":""},{"$f":"IFERROR(SUM(VLOOKUP(B125,BaseProdutos!B:V,15,0),VLOOKUP(B125,BaseProdutos!B:V,16,0))/100,\"\")","v":""},{"$f":"IFERROR(VLOOKUP(B125,BaseProdutos!B:V,4,0),\"\")","v":""},"",null,null,null,null,null,"","","","","",{"$f":"IFERROR(F125*PE!$F$20,\"\")","v":""},"",""]
[null,{"$f":"IF(BaseProdutos!B116=\"\",\"\",BaseProdutos!B116)","v":""},{"$f":"IFERROR(VLOOKUP(B126,BaseProdutos!B:V,21,0),\"\")","v":""},null,"","",{"$f":"IFERROR(VLOOKUP(B126,BaseProdutos!B:V,3,0),\"\")","v":""},{"$f":"IFERROR(VLOOKUP(B126,BaseProdutos!B:V,17,0),\"\")","v":""},{"$f":"IFERROR(SUM(VLOOKUP(B126,BaseProdutos!B:V,13,0),VLOOKUP(B126,BaseProdutos!B:V,14,0)),\"\")","v":""},{"$f":"IFERROR(SUM(VLOOKUP(B126,BaseProdutos!B:V,15,0),VLOOKUP(B126,BaseProdutos!B:V,16,0))/100,\"\")","v":""},{"$f":"IFERROR(VLOOKUP(B126,BaseProdutos!B:V,4,0),\"\")","v":""},"",null,null,null,null,null,"","","","","",{"$f":"IFERROR(F126*PE!$F$20,\"\")","v":""},"",""]
[null,{"$f":"IF(BaseProdutos!B117=\"\",\"\",BaseProdutos!B117)","v":""},{"$f":"IFERROR(VLOOKUP(B127,BaseProdutos!B:V,21,0),\"\")","v":""},null,"","",{"$f":"IFERROR(VLOOKUP(B127,BaseProdutos!B:V,3,0),\"\")","v":""},{"$f":"IFERROR(VLOOKUP(B127,BaseProdutos!B:V,17,0),\"\")","v":""},{"$f":"IFERROR(SUM(VLOOKUP(B127,BaseProdutos!B:V,13,0),VLOOKUP(B127,BaseProdutos!B:V,14,0)),\"\")","v":""},{"$f":"IFERROR(SUM(VLOOKUP(B127,BaseProdutos!B:V,15,0),VLOOKUP(B127,BaseProdutos!B:V,16,0))/100,\"\")","v":""},{"$f":"IFERROR(VLOOKUP(B127,BaseProdutos!B:V,4,0),\"\")","v":""},"",null,null,null,null,null,"","","","","",{"$f":"IFERROR(F127*PE!$F$20,\"\")","v":""},"",""]
[null,{"$f":"IF(BaseProdutos!B118=\"\",\"\",BaseProdutos!B118)","v":""},{"$f":"IFERROR(VLOOKUP(B128,BaseProdutos!B:V,21,0),\"\")","v":""},null,"","",{"$f":"IFERROR(VLOOKUP(B128,BaseProdutos!B:V,3,0),\"\")","v":""},{"$f":"IFERROR(VLOOKUP(B128,BaseProdutos!B:V,17,0),\"\")","v":""},{"$f":"IFERROR(SUM(VLOOKUP(B128,BaseProdutos!B:V,13,0),VLOOKUP(B128,BaseProdutos!B:V,14,0)),\"\")","v":""},{"$f":"IFERROR(SUM(VLOOKUP(B128,BaseProdutos!B:V,15,0),VLOOKUP(B128,BaseProdutos!B:V,16,0))/100,\"\")","v":""},{"$f":"IFERROR(VLOOKUP(B128,BaseProdutos!B:V,4,0),\"\")","v":""},"",null,null,null,null,null,"","","","","",{"$f":"IFERROR(F128*PE!$F$20,\"\")","v":""},"",""]
[null,{"$f":"IF(BaseProdutos!B119=\"\",\"\",BaseProdutos!B119)","v":""},{"$f":"IFERROR(VLOOKUP(B129,BaseProdutos!B:V,21,0),\"\")","v":""},null,"","",{"$f":"IFERROR(VLOOKUP(B129,BaseProdutos!B:V,3,0),\"\")","v":""},{"$f":"IFERROR(VLOOKUP(B129,BaseProdutos!B:V,17,0),\"\")","v":""},{"$f":"IFERROR(SUM(VLOOKUP(B129,BaseProdutos!B:V,13,0),VLOOKUP(B129,BaseProdutos!B:V,14,0)),\"\")","v":""},{"$f":"IFERROR(SUM(VLOOKUP(B129,BaseProdutos!B:V,15,0),VLOOKUP(B129,BaseProdutos!B:V,16,0))/100,\"\")","v":""},{"$f":"IFERROR(VLOOKUP(B129,BaseProdutos!B:V,4,0),\"\")","v":""},"",null,null,null,null,null,"","","","","",{"$f":"IFERROR(F129*PE!$F$20,\"\")","v":""},"",""]
[null,{"$f":"IF(BaseProdutos!B120=\"\",\"\",BaseProdutos!B120)","v":""},{"$f":"IFERROR(VLOOKUP(B130,BaseProdutos!B:V,21,0),\"\")","v":""},null,"","",{"$f":"IFERROR(VLOOKUP(B130,BaseProdutos!B:V,3,0),\"\")","v":""},{"$f":"IFERROR(VLOOKUP(B130,BaseProdutos!B:V,17,0),\"\")","v":""},{"$f":"IFERROR(SUM(VLOOKUP(B130,BaseProdutos!B:V,13,0),VLOOKUP(B130,BaseProdutos!B:V,14,0)),\"\")","v":""},{"$f":"IFERROR(SUM(VLOOKUP(B130,BaseProdutos!B:V,15,0),VLOOKUP(B130,BaseProdutos!B:V,16,0))/100,\"\")","v":""},{"$f":"IFERROR(VLOOKUP(B130,BaseProdutos!B:V,4,0),\"\")","v":""},"",null,null,null,null,null,"","","","","",{"$f":"IFERROR(F130*PE!$F$20,\"\")","v":""},"",""]
[null,{"$f":"IF(BaseProdutos!B121=\"\",\"\",BaseProdutos!B121)","v":""},{"$f":"IFERROR(VLOOKUP(B131,BaseProdutos!B:V,21,0),\"\")","v":""},null,"","",{"$f":"IFERROR(VLOOKUP(B131,BaseProdutos!B:V,3,0),\"\")","v":""},{"$f":"IFERROR(VLOOKUP(B131,BaseProdutos!B:V,17,0),\"\")","v":""},{"$f":"IFERROR(SUM(VLOOKUP(B131,BaseProdutos!B:V,13,0),VLOOKUP(B131,BaseProdutos!B:V,14,0)),\"\")","v":""},{"$f":"IFERROR(SUM(VLOOKUP(B131,BaseProdutos!B:V,15,0),VLOOKUP(B131,BaseProdutos!B:V,16,0))/100,\"\")","v":""},{"$f":"IFERROR(VLOOKUP(B131,BaseProdutos!B:V,4,0),\"\")","v":""},"",null,null,null,null,null,"","","","","",{"$f":"IFERROR(F131*PE!$F$20,\"\")","v":""},"",""]
[null,{"$f":"IF(BaseProdutos!B122=\"\",\"\",BaseProdutos!B122)","v":""},{"$f":"IFERROR(VLOOKUP(B132,BaseProdutos!B:V,21,0),\"\")","v":""},null,"","",{"$f":"IFERROR(VLOOKUP(B132,BaseProdutos!B:V,3,0),\"\")","v":""},{"$f":"IFERROR(VLOOKUP(B132,BaseProdutos!B:V,17,0),\"\")","v":""},{"$f":"IFERROR(SUM(VLOOKUP(B132,BaseProdutos!B:V,13,0),VLOOKUP(B132,BaseProdutos!B:V,14,0)),\"\")","v":""},{"$f":"IFERROR(SUM(VLOOKUP(B132,BaseProdutos!B:V,15,0),VLOOKUP(B132,BaseProdutos!B:V,16,0))/100,\"\")","v":""},{"$f":"IFERROR(VLOOKUP(B132,BaseProdutos!B:V,4,0),\"\")","v":""},"",null,null,null,null,null,"","","","","",{"$f":"IFERROR(F132*PE!$F$20,\"\")","v":""},"",""]
[null,{"$f":"IF(BaseProdutos!B123=\"\",\"\",BaseProdutos!B123)","v":""},{"$f":"IFERROR(VLOOKUP(B133,BaseProdutos!B:V,21,0),\"\")","v":""},null,"","",{"$f":"IFERROR(VLOOKUP(B133,BaseProdutos!B:V,3,0),\"\")","v":""},{"$f":"IFERROR(VLOOKUP(B133,BaseProdutos!B:V,17,0),\"\")","v":""},{"$f":"IFERROR(SUM(VLOOKUP(B133,BaseProdutos!B:V,13,0),VLOOKUP(B133,BaseProdutos!B:V,14,0)),\"\")","v":""},{"$f":"IFERROR(SUM(VLOOKUP(B133,BaseProdutos!B:V,15,0),VLOOKUP(B133,BaseProdutos!B:V,16,0))/100,\"\")","v":""},{"$f":"IFERROR(VLOOKUP(B133,BaseProdutos!B:V,4,0),\"\")","v":""},"",null,null,null,null,null,"","","","","",{"$f":"IFERROR(F133*PE!$F$20,\"\")","v":""},"",""]
[null,{"$f":"IF(BaseProdutos!B124=\"\",\"\",BaseProdutos!B124)","v":""},{"$f":"IFERROR(VLOOKUP(B134,BaseProdutos!B:V,21,0),\"\")","v":""},null,"","",{"$f":"IFERROR(VLOOKUP(B134,BaseProdutos!B:V,3,0),\"\")","v":""},{"$f":"IFERROR(VLOOKUP(B134,BaseProdutos!B:V,17,0),\"\")","v":""},{"$f":"IFERROR(SUM(VLOOKUP(B134,BaseProdutos!B:V,13,0),VLOOKUP(B134,BaseProdutos!B:V,14,0)),\"\")","v":""},{"$f":"IFERROR(SUM(VLOOKUP(B134,BaseProdutos!B:V,15,0),VLOOKUP(B134,BaseProdutos!B:V,16,0))/100,\"\")","v":""},{"$f":"IFERROR(VLOOKUP(B134,BaseProdutos!B:V,4,0),\"\")","v":""},"",null,null,null,null,null,"","","","","",{"$f":"IFERROR(F134*PE!$F$20,\"\")","v":""},"",""]
[null,{"$f":"IF(BaseProdutos!B125=\"\",\"\",BaseProdutos!B125)","v":""},{"$f":"IFERROR(VLOOKUP(B135,BaseProdutos!B:V,21,0),\"\")","v":""},null,"","",{"$f":"IFERROR(VLOOKUP(B135,BaseProdutos!B:V,3,0),\"\")","v":""},{"$f":"IFERROR(VLOOKUP(B135,BaseProdutos!B:V,17,0),\"\")","v":""},{"$f":"IFERROR(SUM(VLOOKUP(B135,BaseProdutos!B:V,13,0),VLOOKUP(B135,BaseProdutos!B:V,14,0)),\"\")","v":""},{"$f":"IFERROR(SUM(VLOOKUP(B135,BaseProdutos!B:V,15,0),VLOOKUP(B135,BaseProdutos!B:V,16,0))/100,\"\")","v":""},{"$f":"IFERROR(VLOOKUP(B135,BaseProdutos!B:V,4,0),\"\")","v":""},"",null,null,null,null,null,"","","","","",{"$f":"IFERROR(F135*PE!$F$20,\"\")","v":""},"",""]
[null,{"$f":"IF(BaseProdutos!B126=\"\",\"\",BaseProdutos!B126)","v":""},{"$f":"IFERROR(VLOOKUP(B136,BaseProdutos!B:V,21,0),\"\")","v":""},null,"","",{"$f":"IFERROR(VLOOKUP(B136,BaseProdutos!B:V,3,0),\"\")","v":""},{"$f":"IFERROR(VLOOKUP(B136,BaseProdutos!B:V,17,0),\"\")","v":""},{"$f":"IFERROR(SUM(VLOOKUP(B136,BaseProdutos!B:V,13,0),VLOOKUP(B136,BaseProdutos!B:V,14,0)),\"\")","v":""},{"$f":"IFERROR(SUM(VLOOKUP(B136,BaseProdutos!B:V,15,0),VLOOKUP(B136,BaseProdutos!B:V,16,0))/100,\"\")","v":""},{"$f":"IFERROR(VLOOKUP(B136,BaseProdutos!B:V,4,0),\"\")","v":""},"",null,null,null,null,null,"","","","","",{"$f":"IFERROR(F136*PE!$F$20,\"\")","v":""},"",""]
[null,{"$f":"IF(BaseProdutos!B127=\"\",\"\",BaseProdutos!B127)","v":""},{"$f":"IFERROR(VLOOKUP(B137,BaseProdutos!B:V,21,0),\"\")","v":""},null,"","",{"$f":"IFERROR(VLOOKUP(B137,BaseProdutos!B:V,3,0),\"\")","v":""},{"$f":"IFERROR(VLOOKUP(B137,BaseProdutos!B:V,17,0),\"\")","v":""},{"$f":"IFERROR(SUM(VLOOKUP(B137,BaseProdutos!B:V,13,0),VLOOKUP(B137,BaseProdutos!B:V,14,0)),\"\")","v":""},{"$f":"IFERROR(SUM(VLOOKUP(B137,BaseProdutos!B:V,15,0),VLOOKUP(B137,BaseProdutos!B:V,16,0))/100,\"\")","v":""},{"$f":"IFERROR(VLOOKUP(B137,BaseProdutos!B:V,4,0),\"\")","v":""},"",null,null,null,null,null,"","","","","",{"$f":"IFERROR(F137*PE!$F$20,\"\")","v":""},"",""]
[null,{"$f":"IF(BaseProdutos!B128=\"\",\"\",BaseProdutos!B128)","v":""},{"$f":"IFERROR(VLOOKUP(B138,BaseProdutos!B:V,21,0),\"\")","v":""},null,"","",{"$f":"IFERROR(VLOOKUP(B138,BaseProdutos!B:V,3,0),\"\")","v":""},{"$f":"IFERROR(VLOOKUP(B138,BaseProdutos!B:V,17,0),\"\")","v":""},{"$f":"IFERROR(SUM(VLOOKUP(B138,BaseProdutos!B:V,13,0),VLOOKUP(B138,BaseProdutos!B:V,14,0)),\"\")","v":""},{"$f":"IFERROR(SUM(VLOOKUP(B138,BaseProdutos!B:V,15,0),VLOOKUP(B138,BaseProdutos!B:V,16,0))/100,\"\")","v":""},{"$f":"IFERROR(VLOOKUP(B138,BaseProdutos!B:V,4,0),\"\")","v":""},"",null,null,null,null,null,"","","","","",{"$f":"IFERROR(F138*PE!$F$20,\"\")","v":""},"",""]
[null,{"$f":"IF(BaseProdutos!B129=\"\",\"\",BaseProdutos!B129)","v":""},{"$f":"IFERROR(VLOOKUP(B139,BaseProdutos!B:V,21,0),\"\")","v":""},null,"","",{"$f":"IFERROR(VLOOKUP(B139,BaseProdutos!B:V,3,0),\"\")","v":""},{"$f":"IFERROR(VLOOKUP(B139,BaseProdutos!B:V,17,0),\"\")","v":""},{"$f":"IFERROR(SUM(VLOOKUP(B139,BaseProdutos!B:V,13,0),VLOOKUP(B139,BaseProdutos!B:V,14,0)),\"\")","v":""},{"$f":"IFERROR(SUM(VLOOKUP(B139,BaseProdutos!B:V,15,0),VLOOKUP(B139,BaseProdutos!B:V,16,0))/100,\"\")","v":""},{"$f":"IFERROR(VLOOKUP(B139,BaseProdutos!B:V,4,0),\"\")","v":""},"",null,null,null,null,null,"","","","","",{"$f":"IFERROR(F139*PE!$F$20,\"\")","v":""},"",""]
[null,{"$f":"IF(BaseProdutos!B130=\"\",\"\",BaseProdutos!B130)","v":""},{"$f":"IFERROR(VLOOKUP(B140,BaseProdutos!B:V,21,0),\"\")","v":""},null,"","",{"$f":"IFERROR(VLOOKUP(B140,BaseProdutos!B:V,3,0),\"\")","v":""},{"$f":"IFERROR(VLOOKUP(B140,BaseProdutos!B:V,17,0),\"\")","v":""},{"$f":"IFERROR(SUM(VLOOKUP(B140,BaseProdutos!B:V,13,0),VLOOKUP(B140,BaseProdutos!B:V,14,0)),\"\")","v":""},{"$f":"IFERROR(SUM(VLOOKUP(B140,BaseProdutos!B:V,15,0),VLOOKUP(B140,BaseProdutos!B:V,16,0))/100,\"\")","v":""},{"$f":"IFERROR(VLOOKUP(B140,BaseProdutos!B:V,4,0),\"\")","v":""},"",null,null,null,null,null,"","","","","",{"$f":"IFERROR(F140*PE!$F$20,\"\")","v":""},"",""]
[null,{"$f":"IF(BaseProdutos!B131=\"\",\"\",BaseProdutos!B131)","v":""},{"$f":"IFERROR(VLOOKUP(B141,BaseProdutos!B:V,21,0),\"\")","v":""},null,{"$f":"IFERROR(IF(B141=\"\",\"\",C141*D141),\"\")","v":""},{"$f":"IFERROR(E141/SUM($E$12:$E$511),\"\")","v":""},{"$f":"IFERROR(VLOOKUP(B141,BaseProdutos!B:V,3,0),\"\")","v":""},{"$f":"IFERROR(VLOOKUP(B141,BaseProdutos!B:V,17,0),\"\")","v":""},{"$f":"IFERROR(SUM(VLOOKUP(B141,BaseProdutos!B:V,13,0),VLOOKUP(B141,BaseProdutos!B:V,14,0)),\"\")","v":""},{"$f":"IFERROR(SUM(VLOOKUP(B141,BaseProdutos!B:V,15,0),VLOOKUP(B141,BaseProdutos!B:V,16,0))/100,\"\")","v":""},{"$f":"IFERROR(VLOOKUP(B141,BaseProdutos!B:V,4,0),\"\")","v":""},{"$f":"IFERROR(G141+C141*(H141+I141+J141)+K141,\"\")","v":""},null,null,null,null,null,{"$f":"IFERROR(H141*E141,\"\")","v":""},{"$f":"IFERROR(I141*E141,\"\")","v":""},{"$f":"IFERROR(C141-L141,\"\")","v":""},{"$f":"IFERROR(T141/C141,\"\")","v":""},{"$f":"IFERROR(W141*C141,\"\")","v":""},{"$f":"IFERROR(F141*PE!$F$20,\"\")","v":""},{"$f":"IFERROR(K141*D141,\"\")","v":""},{"$f":"IFERROR(G141*D141,\"\")","v":""}]
[null,{"$f":"IF(BaseProdutos!B132=\"\",\"\",BaseProdutos!B132)","v":""},{"$f":"IFERROR(VLOOKUP(B142,BaseProdutos!B:V,21,0),\"\")","v":""},null,"","",{"$f":"IFERROR(VLOOKUP(B142,BaseProdutos!B:V,3,0),\"\")","v":""},{"$f":"IFERROR(VLOOKUP(B142,BaseProdutos!B:V,17,0),\"\")","v":""},{"$f":"IFERROR(SUM(VLOOKUP(B142,BaseProdutos!B:V,13,0),VLOOKUP(B142,BaseProdutos!B:V,14,0)),\"\")","v":""},{"$f":"IFERROR(SUM(VLOOKUP(B142,BaseProdutos!B:V,15,0),VLOOKUP(B142,BaseProdutos!B:V,16,0))/100,\"\")","v":""},{"$f":"IFERROR(VLOOKUP(B142,BaseProdutos!B:V,4,0),\"\")","v":""},"",null,null,null,null,null,"","","","","",{"$f":"IFERROR(F142*PE!$F$20,\"\")","v":""},"",""]
[null,{"$f":"IF(BaseProdutos!B133=\"\",\"\",BaseProdutos!B133)","v":""},{"$f":"IFERROR(VLOOKUP(B143,BaseProdutos!B:V,21,0),\"\")","v":""},null,"","",{"$f":"IFERROR(VLOOKUP(B143,BaseProdutos!B:V,3,0),\"\")","v":""},{"$f":"IFERROR(VLOOKUP(B143,BaseProdutos!B:V,17,0),\"\")","v":""},{"$f":"IFERROR(SUM(VLOOKUP(B143,BaseProdutos!B:V,13,0),VLOOKUP(B143,BaseProdutos!B:V,14,0)),\"\")","v":""},{"$f":"IFERROR(SUM(VLOOKUP(B143,BaseProdutos!B:V,15,0),VLOOKUP(B143,BaseProdutos!B:V,16,0))/100,\"\")","v":""},{"$f":"IFERROR(VLOOKUP(B143,BaseProdutos!B:V,4,0),\"\")","v":""},"",null,null,null,null,null,"","","","","",{"$f":"IFERROR(F143*PE!$F$20,\"\")","v":""},"",""]
[null,{"$f":"IF(BaseProdutos!B134=\"\",\"\",BaseProdutos!B134)","v":""},{"$f":"IFERROR(VLOOKUP(B144,BaseProdutos!B:V,21,0),\"\")","v":""},null,"","",{"$f":"IFERROR(VLOOKUP(B144,BaseProdutos!B:V,3,0),\"\")","v":""},{"$f":"IFERROR(VLOOKUP(B144,BaseProdutos!B:V,17,0),\"\")","v":""},{"$f":"IFERROR(SUM(VLOOKUP(B144,BaseProdutos!B:V,13,0),VLOOKUP(B144,BaseProdutos!B:V,14,0)),\"\")","v":""},{"$f":"IFERROR(SUM(VLOOKUP(B144,BaseProdutos!B:V,15,0),VLOOKUP(B144,BaseProdutos!B:V,16,0))/100,\"\")","v":""},{"$f":"IFERROR(VLOOKUP(B144,BaseProdutos!B:V,4,0),\"\")","v":""},"",null,null,null,null,null,"","","","","",{"$f":"IFERROR(F144*PE!$F$20,\"\")","v":""},"",""]
[null,{"$f":"IF(BaseProdutos!B135=\"\",\"\",BaseProdutos!B135)","v":""},{"$f":"IFERROR(VLOOKUP(B145,BaseProdutos!B:V,21,0),\"\")","v":""},null,"","",{"$f":"IFERROR(VLOOKUP(B145,BaseProdutos!B:V,3,0),\"\")","v":""},{"$f":"IFERROR(VLOOKUP(B145,BaseProdutos!B:V,17,0),\"\")","v":""},{"$f":"IFERROR(SUM(VLOOKUP(B145,BaseProdutos!B:V,13,0),VLOOKUP(B145,BaseProdutos!B:V,14,0)),\"\")","v":""},{"$f":"IFERROR(SUM(VLOOKUP(B145,BaseProdutos!B:V,15,0),VLOOKUP(B145,BaseProdutos!B:V,16,0))/100,\"\")","v":""},{"$f":"IFERROR(VLOOKUP(B145,BaseProdutos!B:V,4,0),\"\")","v":""},"",null,null,null,null,null,"","","","","",{"$f":"IFERROR(F145*PE!$F$20,\"\")","v":""},"",""]
[null,{"$f":"IF(BaseProdutos!B136=\"\",\"\",BaseProdutos!B136)","v":""},{"$f":"IFERROR(VLOOKUP(B146,BaseProdutos!B:V,21,0),\"\")","v":""},null,"","",{"$f":"IFERROR(VLOOKUP(B146,BaseProdutos!B:V,3,0),\"\")","v":""},{"$f":"IFERROR(VLOOKUP(B146,BaseProdutos!B:V,17,0),\"\")","v":""},{"$f":"IFERROR(SUM(VLOOKUP(B146,BaseProdutos!B:V,13,0),VLOOKUP(B146,BaseProdutos!B:V,14,0)),\"\")","v":""},{"$f":"IFERROR(SUM(VLOOKUP(B146,BaseProdutos!B:V,15,0),VLOOKUP(B146,BaseProdutos!B:V,16,0))/100,\"\")","v":""},{"$f":"IFERROR(VLOOKUP(B146,BaseProdutos!B:V,4,0),\"\")","v":""},"",null,null,null,null,null,"","","","","",{"$f":"IFERROR(F146*PE!$F$20,\"\")","v":""},"",""]
[null,{"$f":"IF(BaseProdutos!B137=\"\",\"\",BaseProdutos!B137)","v":""},{"$f":"IFERROR(VLOOKUP(B147,BaseProdutos!B:V,21,0),\"\")","v":""},null,"","",{"$f":"IFERROR(VLOOKUP(B147,BaseProdutos!B:V,3,0),\"\")","v":""},{"$f":"IFERROR(VLOOKUP(B147,BaseProdutos!B:V,17,0),\"\")","v":""},{"$f":"IFERROR(SUM(VLOOKUP(B147,BaseProdutos!B:V,13,0),VLOOKUP(B147,BaseProdutos!B:V,14,0)),\"\")","v":""},{"$f":"IFERROR(SUM(VLOOKUP(B147,BaseProdutos!B:V,15,0),VLOOKUP(B147,BaseProdutos!B:V,16,0))/100,\"\")","v":""},{"$f":"IFERROR(VLOOKUP(B147,BaseProdutos!B:V,4,0),\"\")","v":""},"",null,null,null,null,null,"","","","","",{"$f":"IFERROR(F147*PE!$F$20,\"\")","v":""},"",""]
[null,{"$f":"IF(BaseProdutos!B138=\"\",\"\",BaseProdutos!B138)","v":""},{"$f":"IFERROR(VLOOKUP(B148,BaseProdutos!B:V,21,0),\"\")","v":""},null,"","",{"$f":"IFERROR(VLOOKUP(B148,BaseProdutos!B:V,3,0),\"\")","v":""},{"$f":"IFERROR(VLOOKUP(B148,BaseProdutos!B:V,17,0),\"\")","v":""},{"$f":"IFERROR(SUM(VLOOKUP(B148,BaseProdutos!B:V,13,0),VLOOKUP(B148,BaseProdutos!B:V,14,0)),\"\")","v":""},{"$f":"IFERROR(SUM(VLOOKUP(B148,BaseProdutos!B:V,15,0),VLOOKUP(B148,BaseProdutos!B:V,16,0))/100,\"\")","v":""},{"$f":"IFERROR(VLOOKUP(B148,BaseProdutos!B:V,4,0),\"\")","v":""},"",null,null,null,null,null,"","","","","",{"$f":"IFERROR(F148*PE!$F$20,\"\")","v":""},"",""]
[null,{"$f":"IF(BaseProdutos!B139=\"\",\"\",BaseProdutos!B139)","v":""},{"$f":"IFERROR(VLOOKUP(B149,BaseProdutos!B:V,21,0),\"\")","v":""},null,"","",{"$f":"IFERROR(VLOOKUP(B149,BaseProdutos!B:V,3,0),\"\")","v":""},{"$f":"IFERROR(VLOOKUP(B149,BaseProdutos!B:V,17,0),\"\")","v":""},{"$f":"IFERROR(SUM(VLOOKUP(B149,BaseProdutos!B:V,13,0),VLOOKUP(B149,BaseProdutos!B:V,14,0)),\"\")","v":""},{"$f":"IFERROR(SUM(VLOOKUP(B149,BaseProdutos!B:V,15,0),VLOOKUP(B149,BaseProdutos!B:V,16,0))/100,\"\")","v":""},{"$f":"IFERROR(VLOOKUP(B149,BaseProdutos!B:V,4,0),\"\")","v":""},"",null,null,null,null,null,"","","","","",{"$f":"IFERROR(F149*PE!$F$20,\"\")","v":""},"",""]
[null,{"$f":"IF(BaseProdutos!B140=\"\",\"\",BaseProdutos!B140)","v":""},{"$f":"IFERROR(VLOOKUP(B150,BaseProdutos!B:V,21,0),\"\")","v":""},null,"","",{"$f":"IFERROR(VLOOKUP(B150,BaseProdutos!B:V,3,0),\"\")","v":""},{"$f":"IFERROR(VLOOKUP(B150,BaseProdutos!B:V,17,0),\"\")","v":""},{"$f":"IFERROR(SUM(VLOOKUP(B150,BaseProdutos!B:V,13,0),VLOOKUP(B150,BaseProdutos!B:V,14,0)),\"\")","v":""},{"$f":"IFERROR(SUM(VLOOKUP(B150,BaseProdutos!B:V,15,0),VLOOKUP(B150,BaseProdutos!B:V,16,0))/100,\"\")","v":""},{"$f":"IFERROR(VLOOKUP(B150,BaseProdutos!B:V,4,0),\"\")","v":""},"",null,null,null,null,null,"","","","","",{"$f":"IFERROR(F150*PE!$F$20,\"\")","v":""},"",""]
[null,{"$f":"IF(BaseProdutos!B141=\"\",\"\",BaseProdutos!B141)","v":""},{"$f":"IFERROR(VLOOKUP(B151,BaseProdutos!B:V,21,0),\"\")","v":""},null,"","",{"$f":"IFERROR(VLOOKUP(B151,BaseProdutos!B:V,3,0),\"\")","v":""},{"$f":"IFERROR(VLOOKUP(B151,BaseProdutos!B:V,17,0),\"\")","v":""},{"$f":"IFERROR(SUM(VLOOKUP(B151,BaseProdutos!B:V,13,0),VLOOKUP(B151,BaseProdutos!B:V,14,0)),\"\")","v":""},{"$f":"IFERROR(SUM(VLOOKUP(B151,BaseProdutos!B:V,15,0),VLOOKUP(B151,BaseProdutos!B:V,16,0))/100,\"\")","v":""},{"$f":"IFERROR(VLOOKUP(B151,BaseProdutos!B:V,4,0),\"\")","v":""},"",null,null,null,null,null,"","","","","",{"$f":"IFERROR(F151*PE!$F$20,\"\")","v":""},"",""]
[null,{"$f":"IF(BaseProdutos!B142=\"\",\"\",BaseProdutos!B142)","v":""},{"$f":"IFERROR(VLOOKUP(B152,BaseProdutos!B:V,21,0),\"\")","v":""},null,"","",{"$f":"IFERROR(VLOOKUP(B152,BaseProdutos!B:V,3,0),\"\")","v":""},{"$f":"IFERROR(VLOOKUP(B152,BaseProdutos!B:V,17,0),\"\")","v":""},{"$f":"IFERROR(SUM(VLOOKUP(B152,BaseProdutos!B:V,13,0),VLOOKUP(B152,BaseProdutos!B:V,14,0)),\"\")","v":""},{"$f":"IFERROR(SUM(VLOOKUP(B152,BaseProdutos!B:V,15,0),VLOOKUP(B152,BaseProdutos!B:V,16,0))/100,\"\")","v":""},{"$f":"IFERROR(VLOOKUP(B152,BaseProdutos!B:V,4,0),\"\")","v":""},"",null,null,null,null,null,"","","","","",{"$f":"IFERROR(F152*PE!$F$20,\"\")","v":""},"",""]
[null,{"$f":"IF(BaseProdutos!B143=\"\",\"\",BaseProdutos!B143)","v":""},{"$f":"IFERROR(VLOOKUP(B153,BaseProdutos!B:V,21,0),\"\")","v":""},null,"","",{"$f":"IFERROR(VLOOKUP(B153,BaseProdutos!B:V,3,0),\"\")","v":""},{"$f":"IFERROR(VLOOKUP(B153,BaseProdutos!B:V,17,0),\"\")","v":""},{"$f":"IFERROR(SUM(VLOOKUP(B153,BaseProdutos!B:V,13,0),VLOOKUP(B153,BaseProdutos!B:V,14,0)),\"\")","v":""},{"$f":"IFERROR(SUM(VLOOKUP(B153,BaseProdutos!B:V,15,0),VLOOKUP(B153,BaseProdutos!B:V,16,0))/100,\"\")","v":""},{"$f":"IFERROR(VLOOKUP(B153,BaseProdutos!B:V,4,0),\"\")","v":""},"",null,null,null,null,null,"","","","","",{"$f":"IFERROR(F153*PE!$F$20,\"\")","v":""},"",""]
[null,{"$f":"IF(BaseProdutos!B144=\"\",\"\",BaseProdutos!B144)","v":""},{"$f":"IFERROR(VLOOKUP(B154,BaseProdutos!B:V,21,0),\"\")","v":""},null,"","",{"$f":"IFERROR(VLOOKUP(B154,BaseProdutos!B:V,3,0),\"\")","v":""},{"$f":"IFERROR(VLOOKUP(B154,BaseProdutos!B:V,17,0),\"\")","v":""},{"$f":"IFERROR(SUM(VLOOKUP(B154,BaseProdutos!B:V,13,0),VLOOKUP(B154,BaseProdutos!B:V,14,0)),\"\")","v":""},{"$f":"IFERROR(SUM(VLOOKUP(B154,BaseProdutos!B:V,15,0),VLOOKUP(B154,BaseProdutos!B:V,16,0))/100,\"\")","v":""},{"$f":"IFERROR(VLOOKUP(B154,BaseProdutos!B:V,4,0),\"\")","v":""},"",null,null,null,null,null,"","","","","",{"$f":"IFERROR(F154*PE!$F$20,\"\")","v":""},"",""]
[null,{"$f":"IF(BaseProdutos!B145=\"\",\"\",BaseProdutos!B145)","v":""},{"$f":"IFERROR(VLOOKUP(B155,BaseProdutos!B:V,21,0),\"\")","v":""},null,"","",{"$f":"IFERROR(VLOOKUP(B155,BaseProdutos!B:V,3,0),\"\")","v":""},{"$f":"IFERROR(VLOOKUP(B155,BaseProdutos!B:V,17,0),\"\")","v":""},{"$f":"IFERROR(SUM(VLOOKUP(B155,BaseProdutos!B:V,13,0),VLOOKUP(B155,BaseProdutos!B:V,14,0)),\"\")","v":""},{"$f":"IFERROR(SUM(VLOOKUP(B155,BaseProdutos!B:V,15,0),VLOOKUP(B155,BaseProdutos!B:V,16,0))/100,\"\")","v":""},{"$f":"IFERROR(VLOOKUP(B155,BaseProdutos!B:V,4,0),\"\")","v":""},"",null,null,null,null,null,"","","","","",{"$f":"IFERROR(F155*PE!$F$20,\"\")","v":""},"",""]
[null,{"$f":"IF(BaseProdutos!B146=\"\",\"\",BaseProdutos!B146)","v":""},{"$f":"IFERROR(VLOOKUP(B156,BaseProdutos!B:V,21,0),\"\")","v":""},null,"","",{"$f":"IFERROR(VLOOKUP(B156,BaseProdutos!B:V,3,0),\"\")","v":""},{"$f":"IFERROR(VLOOKUP(B156,BaseProdutos!B:V,17,0),\"\")","v":""},{"$f":"IFERROR(SUM(VLOOKUP(B156,BaseProdutos!B:V,13,0),VLOOKUP(B156,BaseProdutos!B:V,14,0)),\"\")","v":""},{"$f":"IFERROR(SUM(VLOOKUP(B156,BaseProdutos!B:V,15,0),VLOOKUP(B156,BaseProdutos!B:V,16,0))/100,\"\")","v":""},{"$f":"IFERROR(VLOOKUP(B156,BaseProdutos!B:V,4,0),\"\")","v":""},"",null,null,null,null,null,"","","","","",{"$f":"IFERROR(F156*PE!$F$20,\"\")","v":""},"",""]
[null,{"$f":"IF(BaseProdutos!B147=\"\",\"\",BaseProdutos!B147)","v":""},{"$f":"IFERROR(VLOOKUP(B157,BaseProdutos!B:V,21,0),\"\")","v":""},null,"","",{"$f":"IFERROR(VLOOKUP(B157,BaseProdutos!B:V,3,0),\"\")","v":""},{"$f":"IFERROR(VLOOKUP(B157,BaseProdutos!B:V,17,0),\"\")","v":""},{"$f":"IFERROR(SUM(VLOOKUP(B157,BaseProdutos!B:V,13,0),VLOOKUP(B157,BaseProdutos!B:V,14,0)),\"\")","v":""},{"$f":"IFERROR(SUM(VLOOKUP(B157,BaseProdutos!B:V,15,0),VLOOKUP(B157,BaseProdutos!B:V,16,0))/100,\"\")","v":""},{"$f":"IFERROR(VLOOKUP(B157,BaseProdutos!B:V,4,0),\"\")","v":""},"",null,null,null,null,null,"","","","","",{"$f":"IFERROR(F157*PE!$F$20,\"\")","v":""},"",""]
[null,{"$f":"IF(BaseProdutos!B148=\"\",\"\",BaseProdutos!B148)","v":""},{"$f":"IFERROR(VLOOKUP(B158,BaseProdutos!B:V,21,0),\"\")","v":""},null,"","",{"$f":"IFERROR(VLOOKUP(B158,BaseProdutos!B:V,3,0),\"\")","v":""},{"$f":"IFERROR(VLOOKUP(B158,BaseProdutos!B:V,17,0),\"\")","v":""},{"$f":"IFERROR(SUM(VLOOKUP(B158,BaseProdutos!B:V,13,0),VLOOKUP(B158,BaseProdutos!B:V,14,0)),\"\")","v":""},{"$f":"IFERROR(SUM(VLOOKUP(B158,BaseProdutos!B:V,15,0),VLOOKUP(B158,BaseProdutos!B:V,16,0))/100,\"\")","v":""},{"$f":"IFERROR(VLOOKUP(B158,BaseProdutos!B:V,4,0),\"\")","v":""},"",null,null,null,null,null,"","","","","",{"$f":"IFERROR(F158*PE!$F$20,\"\")","v":""},"",""]
[null,{"$f":"IF(BaseProdutos!B149=\"\",\"\",BaseProdutos!B149)","v":""},{"$f":"IFERROR(VLOOKUP(B159,BaseProdutos!B:V,21,0),\"\")","v":""},null,"","",{"$f":"IFERROR(VLOOKUP(B159,BaseProdutos!B:V,3,0),\"\")","v":""},{"$f":"IFERROR(VLOOKUP(B159,BaseProdutos!B:V,17,0),\"\")","v":""},{"$f":"IFERROR(SUM(VLOOKUP(B159,BaseProdutos!B:V,13,0),VLOOKUP(B159,BaseProdutos!B:V,14,0)),\"\")","v":""},{"$f":"IFERROR(SUM(VLOOKUP(B159,BaseProdutos!B:V,15,0),VLOOKUP(B159,BaseProdutos!B:V,16,0))/100,\"\")","v":""},{"$f":"IFERROR(VLOOKUP(B159,BaseProdutos!B:V,4,0),\"\")","v":""},"",null,null,null,null,null,"","","","","",{"$f":"IFERROR(F159*PE!$F$20,\"\")","v":""},"",""]
[null,{"$f":"IF(BaseProdutos!B150=\"\",\"\",BaseProdutos!B150)","v":""},{"$f":"IFERROR(VLOOKUP(B160,BaseProdutos!B:V,21,0),\"\")","v":""},null,"","",{"$f":"IFERROR(VLOOKUP(B160,BaseProdutos!B:V,3,0),\"\")","v":""},{"$f":"IFERROR(VLOOKUP(B160,BaseProdutos!B:V,17,0),\"\")","v":""},{"$f":"IFERROR(SUM(VLOOKUP(B160,BaseProdutos!B:V,13,0),VLOOKUP(B160,BaseProdutos!B:V,14,0)),\"\")","v":""},{"$f":"IFERROR(SUM(VLOOKUP(B160,BaseProdutos!B:V,15,0),VLOOKUP(B160,BaseProdutos!B:V,16,0))/100,\"\")","v":""},{"$f":"IFERROR(VLOOKUP(B160,BaseProdutos!B:V,4,0),\"\")","v":""},"",null,null,null,null,null,"","","","","",{"$f":"IFERROR(F160*PE!$F$20,\"\")","v":""},"",""]
[null,{"$f":"IF(BaseProdutos!B151=\"\",\"\",BaseProdutos!B151)","v":""},{"$f":"IFERROR(VLOOKUP(B161,BaseProdutos!B:V,21,0),\"\")","v":""},null,"","",{"$f":"IFERROR(VLOOKUP(B161,BaseProdutos!B:V,3,0),\"\")","v":""},{"$f":"IFERROR(VLOOKUP(B161,BaseProdutos!B:V,17,0),\"\")","v":""},{"$f":"IFERROR(SUM(VLOOKUP(B161,BaseProdutos!B:V,13,0),VLOOKUP(B161,BaseProdutos!B:V,14,0)),\"\")","v":""},{"$f":"IFERROR(SUM(VLOOKUP(B161,BaseProdutos!B:V,15,0),VLOOKUP(B161,BaseProdutos!B:V,16,0))/100,\"\")","v":""},{"$f":"IFERROR(VLOOKUP(B161,BaseProdutos!B:V,4,0),\"\")","v":""},"",null,null,null,null,null,"","","","","",{"$f":"IFERROR(F161*PE!$F$20,\"\")","v":""},"",""]
[null,{"$f":"IF(BaseProdutos!B152=\"\",\"\",BaseProdutos!B152)","v":""},{"$f":"IFERROR(VLOOKUP(B162,BaseProdutos!B:V,21,0),\"\")","v":""},null,"","",{"$f":"IFERROR(VLOOKUP(B162,BaseProdutos!B:V,3,0),\"\")","v":""},{"$f":"IFERROR(VLOOKUP(B162,BaseProdutos!B:V,17,0),\"\")","v":""},{"$f":"IFERROR(SUM(VLOOKUP(B162,BaseProdutos!B:V,13,0),VLOOKUP(B162,BaseProdutos!B:V,14,0)),\"\")","v":""},{"$f":"IFERROR(SUM(VLOOKUP(B162,BaseProdutos!B:V,15,0),VLOOKUP(B162,BaseProdutos!B:V,16,0))/100,\"\")","v":""},{"$f":"IFERROR(VLOOKUP(B162,BaseProdutos!B:V,4,0),\"\")","v":""},"",null,null,null,null,null,"","","","","",{"$f":"IFERROR(F162*PE!$F$20,\"\")","v":""},"",""]
[null,{"$f":"IF(BaseProdutos!B153=\"\",\"\",BaseProdutos!B153)","v":""},{"$f":"IFERROR(VLOOKUP(B163,BaseProdutos!B:V,21,0),\"\")","v":""},null,"","",{"$f":"IFERROR(VLOOKUP(B163,BaseProdutos!B:V,3,0),\"\")","v":""},{"$f":"IFERROR(VLOOKUP(B163,BaseProdutos!B:V,17,0),\"\")","v":""},{"$f":"IFERROR(SUM(VLOOKUP(B163,BaseProdutos!B:V,13,0),VLOOKUP(B163,BaseProdutos!B:V,14,0)),\"\")","v":""},{"$f":"IFERROR(SUM(VLOOKUP(B163,BaseProdutos!B:V,15,0),VLOOKUP(B163,BaseProdutos!B:V,16,0))/100,\"\")","v":""},{"$f":"IFERROR(VLOOKUP(B163,BaseProdutos!B:V,4,0),\"\")","v":""},"",null,null,null,null,null,"","","","","",{"$f":"IFERROR(F163*PE!$F$20,\"\")","v":""},"",""]
[null,{"$f":"IF(BaseProdutos!B154=\"\",\"\",BaseProdutos!B154)","v":""},{"$f":"IFERROR(VLOOKUP(B164,BaseProdutos!B:V,21,0),\"\")","v":""},null,"","",{"$f":"IFERROR(VLOOKUP(B164,BaseProdutos!B:V,3,0),\"\")","v":""},{"$f":"IFERROR(VLOOKUP(B164,BaseProdutos!B:V,17,0),\"\")","v":""},{"$f":"IFERROR(SUM(VLOOKUP(B164,BaseProdutos!B:V,13,0),VLOOKUP(B164,BaseProdutos!B:V,14,0)),\"\")","v":""},{"$f":"IFERROR(SUM(VLOOKUP(B164,BaseProdutos!B:V,15,0),VLOOKUP(B164,BaseProdutos!B:V,16,0))/100,\"\")","v":""},{"$f":"IFERROR(VLOOKUP(B164,BaseProdutos!B:V,4,0),\"\")","v":""},"",null,null,null,null,null,"","","","","",{"$f":"IFERROR(F164*PE!$F$20,\"\")","v":""},"",""]
[null,{"$f":"IF(BaseProdutos!B155=\"\",\"\",BaseProdutos!B155)","v":""},{"$f":"IFERROR(VLOOKUP(B165,BaseProdutos!B:V,21,0),\"\")","v":""},null,"","",{"$f":"IFERROR(VLOOKUP(B165,BaseProdutos!B:V,3,0),\"\")","v":""},{"$f":"IFERROR(VLOOKUP(B165,BaseProdutos!B:V,17,0),\"\")","v":""},{"$f":"IFERROR(SUM(VLOOKUP(B165,BaseProdutos!B:V,13,0),VLOOKUP(B165,BaseProdutos!B:V,14,0)),\"\")","v":""},{"$f":"IFERROR(SUM(VLOOKUP(B165,BaseProdutos!B:V,15,0),VLOOKUP(B165,BaseProdutos!B:V,16,0))/100,\"\")","v":""},{"$f":"IFERROR(VLOOKUP(B165,BaseProdutos!B:V,4,0),\"\")","v":""},"",null,null,null,null,null,"","","","","",{"$f":"IFERROR(F165*PE!$F$20,\"\")","v":""},"",""]
[null,{"$f":"IF(BaseProdutos!B156=\"\",\"\",BaseProdutos!B156)","v":""},{"$f":"IFERROR(VLOOKUP(B166,BaseProdutos!B:V,21,0),\"\")","v":""},null,"","",{"$f":"IFERROR(VLOOKUP(B166,BaseProdutos!B:V,3,0),\"\")","v":""},{"$f":"IFERROR(VLOOKUP(B166,BaseProdutos!B:V,17,0),\"\")","v":""},{"$f":"IFERROR(SUM(VLOOKUP(B166,BaseProdutos!B:V,13,0),VLOOKUP(B166,BaseProdutos!B:V,14,0)),\"\")","v":""},{"$f":"IFERROR(SUM(VLOOKUP(B166,BaseProdutos!B:V,15,0),VLOOKUP(B166,BaseProdutos!B:V,16,0))/100,\"\")","v":""},{"$f":"IFERROR(VLOOKUP(B166,BaseProdutos!B:V,4,0),\"\")","v":""},"",null,null,null,null,null,"","","","","",{"$f":"IFERROR(F166*PE!$F$20,\"\")","v":""},"",""]
[null,{"$f":"IF(BaseProdutos!B157=\"\",\"\",BaseProdutos!B157)","v":""},{"$f":"IFERROR(VLOOKUP(B167,BaseProdutos!B:V,21,0),\"\")","v":""},null,"","",{"$f":"IFERROR(VLOOKUP(B167,BaseProdutos!B:V,3,0),\"\")","v":""},{"$f":"IFERROR(VLOOKUP(B167,BaseProdutos!B:V,17,0),\"\")","v":""},{"$f":"IFERROR(SUM(VLOOKUP(B167,BaseProdutos!B:V,13,0),VLOOKUP(B167,BaseProdutos!B:V,14,0)),\"\")","v":""},{"$f":"IFERROR(SUM(VLOOKUP(B167,BaseProdutos!B:V,15,0),VLOOKUP(B167,BaseProdutos!B:V,16,0))/100,\"\")","v":""},{"$f":"IFERROR(VLOOKUP(B167,BaseProdutos!B:V,4,0),\"\")","v":""},"",null,null,null,null,null,"","","","","",{"$f":"IFERROR(F167*PE!$F$20,\"\")","v":""},"",""]
[null,{"$f":"IF(BaseProdutos!B158=\"\",\"\",BaseProdutos!B158)","v":""},{"$f":"IFERROR(VLOOKUP(B168,BaseProdutos!B:V,21,0),\"\")","v":""},null,"","",{"$f":"IFERROR(VLOOKUP(B168,BaseProdutos!B:V,3,0),\"\")","v":""},{"$f":"IFERROR(VLOOKUP(B168,BaseProdutos!B:V,17,0),\"\")","v":""},{"$f":"IFERROR(SUM(VLOOKUP(B168,BaseProdutos!B:V,13,0),VLOOKUP(B168,BaseProdutos!B:V,14,0)),\"\")","v":""},{"$f":"IFERROR(SUM(VLOOKUP(B168,BaseProdutos!B:V,15,0),VLOOKUP(B168,BaseProdutos!B:V,16,0))/100,\"\")","v":""},{"$f":"IFERROR(VLOOKUP(B168,BaseProdutos!B:V,4,0),\"\")","v":""},"",null,null,null,null,null,"","","","","",{"$f":"IFERROR(F168*PE!$F$20,\"\")","v":""},"",""]
[null,{"$f":"IF(BaseProdutos!B159=\"\",\"\",BaseProdutos!B159)","v":""},{"$f":"IFERROR(VLOOKUP(B169,BaseProdutos!B:V,21,0),\"\")","v":""},null,"","",{"$f":"IFERROR(VLOOKUP(B169,BaseProdutos!B:V,3,0),\"\")","v":""},{"$f":"IFERROR(VLOOKUP(B169,BaseProdutos!B:V,17,0),\"\")","v":""},{"$f":"IFERROR(SUM(VLOOKUP(B169,BaseProdutos!B:V,13,0),VLOOKUP(B169,BaseProdutos!B:V,14,0)),\"\")","v":""},{"$f":"IFERROR(SUM(VLOOKUP(B169,BaseProdutos!B:V,15,0),VLOOKUP(B169,BaseProdutos!B:V,16,0))/100,\"\")","v":""},{"$f":"IFERROR(VLOOKUP(B169,BaseProdutos!B:V,4,0),\"\")","v":""},"",null,null,null,null,null,"","","","","",{"$f":"IFERROR(F169*PE!$F$20,\"\")","v":""},"",""]
[null,{"$f":"IF(BaseProdutos!B160=\"\",\"\",BaseProdutos!B160)","v":""},{"$f":"IFERROR(VLOOKUP(B170,BaseProdutos!B:V,21,0),\"\")","v":""},null,"","",{"$f":"IFERROR(VLOOKUP(B170,BaseProdutos!B:V,3,0),\"\")","v":""},{"$f":"IFERROR(VLOOKUP(B170,BaseProdutos!B:V,17,0),\"\")","v":""},{"$f":"IFERROR(SUM(VLOOKUP(B170,BaseProdutos!B:V,13,0),VLOOKUP(B170,BaseProdutos!B:V,14,0)),\"\")","v":""},{"$f":"IFERROR(SUM(VLOOKUP(B170,BaseProdutos!B:V,15,0),VLOOKUP(B170,BaseProdutos!B:V,16,0))/100,\"\")","v":""},{"$f":"IFERROR(VLOOKUP(B170,BaseProdutos!B:V,4,0),\"\")","v":""},"",null,null,null,null,null,"","","","","",{"$f":"IFERROR(F170*PE!$F$20,\"\")","v":""},"",""]
[null,{"$f":"IF(BaseProdutos!B161=\"\",\"\",BaseProdutos!B161)","v":""},{"$f":"IFERROR(VLOOKUP(B171,BaseProdutos!B:V,21,0),\"\")","v":""},null,"","",{"$f":"IFERROR(VLOOKUP(B171,BaseProdutos!B:V,3,0),\"\")","v":""},{"$f":"IFERROR(VLOOKUP(B171,BaseProdutos!B:V,17,0),\"\")","v":""},{"$f":"IFERROR(SUM(VLOOKUP(B171,BaseProdutos!B:V,13,0),VLOOKUP(B171,BaseProdutos!B:V,14,0)),\"\")","v":""},{"$f":"IFERROR(SUM(VLOOKUP(B171,BaseProdutos!B:V,15,0),VLOOKUP(B171,BaseProdutos!B:V,16,0))/100,\"\")","v":""},{"$f":"IFERROR(VLOOKUP(B171,BaseProdutos!B:V,4,0),\"\")","v":""},"",null,null,null,null,null,"","","","","",{"$f":"IFERROR(F171*PE!$F$20,\"\")","v":""},"",""]
[null,{"$f":"IF(BaseProdutos!B162=\"\",\"\",BaseProdutos!B162)","v":""},{"$f":"IFERROR(VLOOKUP(B172,BaseProdutos!B:V,21,0),\"\")","v":""},null,"","",{"$f":"IFERROR(VLOOKUP(B172,BaseProdutos!B:V,3,0),\"\")","v":""},{"$f":"IFERROR(VLOOKUP(B172,BaseProdutos!B:V,17,0),\"\")","v":""},{"$f":"IFERROR(SUM(VLOOKUP(B172,BaseProdutos!B:V,13,0),VLOOKUP(B172,BaseProdutos!B:V,14,0)),\"\")","v":""},{"$f":"IFERROR(SUM(VLOOKUP(B172,BaseProdutos!B:V,15,0),VLOOKUP(B172,BaseProdutos!B:V,16,0))/100,\"\")","v":""},{"$f":"IFERROR(VLOOKUP(B172,BaseProdutos!B:V,4,0),\"\")","v":""},"",null,null,null,null,null,"","","","","",{"$f":"IFERROR(F172*PE!$F$20,\"\")","v":""},"",""]
[null,{"$f":"IF(BaseProdutos!B163=\"\",\"\",BaseProdutos!B163)","v":""},{"$f":"IFERROR(VLOOKUP(B173,BaseProdutos!B:V,21,0),\"\")","v":""},null,"","",{"$f":"IFERROR(VLOOKUP(B173,BaseProdutos!B:V,3,0),\"\")","v":""},{"$f":"IFERROR(VLOOKUP(B173,BaseProdutos!B:V,17,0),\"\")","v":""},{"$f":"IFERROR(SUM(VLOOKUP(B173,BaseProdutos!B:V,13,0),VLOOKUP(B173,BaseProdutos!B:V,14,0)),\"\")","v":""},{"$f":"IFERROR(SUM(VLOOKUP(B173,BaseProdutos!B:V,15,0),VLOOKUP(B173,BaseProdutos!B:V,16,0))/100,\"\")","v":""},{"$f":"IFERROR(VLOOKUP(B173,BaseProdutos!B:V,4,0),\"\")","v":""},"",null,null,null,null,null,"","","","","",{"$f":"IFERROR(F173*PE!$F$20,\"\")","v":""},"",""]
[null,{"$f":"IF(BaseProdutos!B164=\"\",\"\",BaseProdutos!B164)","v":""},{"$f":"IFERROR(VLOOKUP(B174,BaseProdutos!B:V,21,0),\"\")","v":""},null,"","",{"$f":"IFERROR(VLOOKUP(B174,BaseProdutos!B:V,3,0),\"\")","v":""},{"$f":"IFERROR(VLOOKUP(B174,BaseProdutos!B:V,17,0),\"\")","v":""},{"$f":"IFERROR(SUM(VLOOKUP(B174,BaseProdutos!B:V,13,0),VLOOKUP(B174,BaseProdutos!B:V,14,0)),\"\")","v":""},{"$f":"IFERROR(SUM(VLOOKUP(B174,BaseProdutos!B:V,15,0),VLOOKUP(B174,BaseProdutos!B:V,16,0))/100,\"\")","v":""},{"$f":"IFERROR(VLOOKUP(B174,BaseProdutos!B:V,4,0),\"\")","v":""},"",null,null,null,null,null,"","","","","",{"$f":"IFERROR(F174*PE!$F$20,\"\")","v":""},"",""]
[null,{"$f":"IF(BaseProdutos!B165=\"\",\"\",BaseProdutos!B165)","v":""},{"$f":"IFERROR(VLOOKUP(B175,BaseProdutos!B:V,21,0),\"\")","v":""},null,"","",{"$f":"IFERROR(VLOOKUP(B175,BaseProdutos!B:V,3,0),\"\")","v":""},{"$f":"IFERROR(VLOOKUP(B175,BaseProdutos!B:V,17,0),\"\")","v":""},{"$f":"IFERROR(SUM(VLOOKUP(B175,BaseProdutos!B:V,13,0),VLOOKUP(B175,BaseProdutos!B:V,14,0)),\"\")","v":""},{"$f":"IFERROR(SUM(VLOOKUP(B175,BaseProdutos!B:V,15,0),VLOOKUP(B175,BaseProdutos!B:V,16,0))/100,\"\")","v":""},{"$f":"IFERROR(VLOOKUP(B175,BaseProdutos!B:V,4,0),\"\")","v":""},"",null,null,null,null,null,"","","","","",{"$f":"IFERROR(F175*PE!$F$20,\"\")","v":""},"",""]
[null,{"$f":"IF(BaseProdutos!B166=\"\",\"\",BaseProdutos!B166)","v":""},{"$f":"IFERROR(VLOOKUP(B176,BaseProdutos!B:V,21,0),\"\")","v":""},null,"","",{"$f":"IFERROR(VLOOKUP(B176,BaseProdutos!B:V,3,0),\"\")","v":""},{"$f":"IFERROR(VLOOKUP(B176,BaseProdutos!B:V,17,0),\"\")","v":""},{"$f":"IFERROR(SUM(VLOOKUP(B176,BaseProdutos!B:V,13,0),VLOOKUP(B176,BaseProdutos!B:V,14,0)),\"\")","v":""},{"$f":"IFERROR(SUM(VLOOKUP(B176,BaseProdutos!B:V,15,0),VLOOKUP(B176,BaseProdutos!B:V,16,0))/100,\"\")","v":""},{"$f":"IFERROR(VLOOKUP(B176,BaseProdutos!B:V,4,0),\"\")","v":""},"",null,null,null,null,null,"","","","","",{"$f":"IFERROR(F176*PE!$F$20,\"\")","v":""},"",""]
[null,{"$f":"IF(BaseProdutos!B167=\"\",\"\",BaseProdutos!B167)","v":""},{"$f":"IFERROR(VLOOKUP(B177,BaseProdutos!B:V,21,0),\"\")","v":""},null,"","",{"$f":"IFERROR(VLOOKUP(B177,BaseProdutos!B:V,3,0),\"\")","v":""},{"$f":"IFERROR(VLOOKUP(B177,BaseProdutos!B:V,17,0),\"\")","v":""},{"$f":"IFERROR(SUM(VLOOKUP(B177,BaseProdutos!B:V,13,0),VLOOKUP(B177,BaseProdutos!B:V,14,0)),\"\")","v":""},{"$f":"IFERROR(SUM(VLOOKUP(B177,BaseProdutos!B:V,15,0),VLOOKUP(B177,BaseProdutos!B:V,16,0))/100,\"\")","v":""},{"$f":"IFERROR(VLOOKUP(B177,BaseProdutos!B:V,4,0),\"\")","v":""},"",null,null,null,null,null,"","","","","",{"$f":"IFERROR(F177*PE!$F$20,\"\")","v":""},"",""]
[null,{"$f":"IF(BaseProdutos!B168=\"\",\"\",BaseProdutos!B168)","v":""},{"$f":"IFERROR(VLOOKUP(B178,BaseProdutos!B:V,21,0),\"\")","v":""},null,"","",{"$f":"IFERROR(VLOOKUP(B178,BaseProdutos!B:V,3,0),\"\")","v":""},{"$f":"IFERROR(VLOOKUP(B178,BaseProdutos!B:V,17,0),\"\")","v":""},{"$f":"IFERROR(SUM(VLOOKUP(B178,BaseProdutos!B:V,13,0),VLOOKUP(B178,BaseProdutos!B:V,14,0)),\"\")","v":""},{"$f":"IFERROR(SUM(VLOOKUP(B178,BaseProdutos!B:V,15,0),VLOOKUP(B178,BaseProdutos!B:V,16,0))/100,\"\")","v":""},{"$f":"IFERROR(VLOOKUP(B178,BaseProdutos!B:V,4,0),\"\")","v":""},"",null,null,null,null,null,"","","","","",{"$f":"IFERROR(F178*PE!$F$20,\"\")","v":""},"",""]
[null,{"$f":"IF(BaseProdutos!B169=\"\",\"\",BaseProdutos!B169)","v":""},{"$f":"IFERROR(VLOOKUP(B179,BaseProdutos!B:V,21,0),\"\")","v":""},null,"","",{"$f":"IFERROR(VLOOKUP(B179,BaseProdutos!B:V,3,0),\"\")","v":""},{"$f":"IFERROR(VLOOKUP(B179,BaseProdutos!B:V,17,0),\"\")","v":""},{"$f":"IFERROR(SUM(VLOOKUP(B179,BaseProdutos!B:V,13,0),VLOOKUP(B179,BaseProdutos!B:V,14,0)),\"\")","v":""},{"$f":"IFERROR(SUM(VLOOKUP(B179,BaseProdutos!B:V,15,0),VLOOKUP(B179,BaseProdutos!B:V,16,0))/100,\"\")","v":""},{"$f":"IFERROR(VLOOKUP(B179,BaseProdutos!B:V,4,0),\"\")","v":""},"",null,null,null,null,null,"","","","","",{"$f":"IFERROR(F179*PE!$F$20,\"\")","v":""},"",""]
[null,{"$f":"IF(BaseProdutos!B170=\"\",\"\",BaseProdutos!B170)","v":""},{"$f":"IFERROR(VLOOKUP(B180,BaseProdutos!B:V,21,0),\"\")","v":""},null,"","",{"$f":"IFERROR(VLOOKUP(B180,BaseProdutos!B:V,3,0),\"\")","v":""},{"$f":"IFERROR(VLOOKUP(B180,BaseProdutos!B:V,17,0),\"\")","v":""},{"$f":"IFERROR(SUM(VLOOKUP(B180,BaseProdutos!B:V,13,0),VLOOKUP(B180,BaseProdutos!B:V,14,0)),\"\")","v":""},{"$f":"IFERROR(SUM(VLOOKUP(B180,BaseProdutos!B:V,15,0),VLOOKUP(B180,BaseProdutos!B:V,16,0))/100,\"\")","v":""},{"$f":"IFERROR(VLOOKUP(B180,BaseProdutos!B:V,4,0),\"\")","v":""},"",null,null,null,null,null,"","","","","",{"$f":"IFERROR(F180*PE!$F$20,\"\")","v":""},"",""]
[null,{"$f":"IF(BaseProdutos!B171=\"\",\"\",BaseProdutos!B171)","v":""},{"$f":"IFERROR(VLOOKUP(B181,BaseProdutos!B:V,21,0),\"\")","v":""},null,"","",{"$f":"IFERROR(VLOOKUP(B181,BaseProdutos!B:V,3,0),\"\")","v":""},{"$f":"IFERROR(VLOOKUP(B181,BaseProdutos!B:V,17,0),\"\")","v":""},{"$f":"IFERROR(SUM(VLOOKUP(B181,BaseProdutos!B:V,13,0),VLOOKUP(B181,BaseProdutos!B:V,14,0)),\"\")","v":""},{"$f":"IFERROR(SUM(VLOOKUP(B181,BaseProdutos!B:V,15,0),VLOOKUP(B181,BaseProdutos!B:V,16,0))/100,\"\")","v":""},{"$f":"IFERROR(VLOOKUP(B181,BaseProdutos!B:V,4,0),\"\")","v":""},"",null,null,null,null,null,"","","","","",{"$f":"IFERROR(F181*PE!$F$20,\"\")","v":""},"",""]
[null,{"$f":"IF(BaseProdutos!B172=\"\",\"\",BaseProdutos!B172)","v":""},{"$f":"IFERROR(VLOOKUP(B182,BaseProdutos!B:V,21,0),\"\")","v":""},null,"","",{"$f":"IFERROR(VLOOKUP(B182,BaseProdutos!B:V,3,0),\"\")","v":""},{"$f":"IFERROR(VLOOKUP(B182,BaseProdutos!B:V,17,0),\"\")","v":""},{"$f":"IFERROR(SUM(VLOOKUP(B182,BaseProdutos!B:V,13,0),VLOOKUP(B182,BaseProdutos!B:V,14,0)),\"\")","v":""},{"$f":"IFERROR(SUM(VLOOKUP(B182,BaseProdutos!B:V,15,0),VLOOKUP(B182,BaseProdutos!B:V,16,0))/100,\"\")","v":""},{"$f":"IFERROR(VLOOKUP(B182,BaseProdutos!B:V,4,0),\"\")","v":""},"",null,null,null,null,null,"","","","","",{"$f":"IFERROR(F182*PE!$F$20,\"\")","v":""},"",""]
[null,{"$f":"IF(BaseProdutos!B173=\"\",\"\",BaseProdutos!B173)","v":""},{"$f":"IFERROR(VLOOKUP(B183,BaseProdutos!B:V,21,0),\"\")","v":""},null,"","",{"$f":"IFERROR(VLOOKUP(B183,BaseProdutos!B:V,3,0),\"\")","v":""},{"$f":"IFERROR(VLOOKUP(B183,BaseProdutos!B:V,17,0),\"\")","v":""},{"$f":"IFERROR(SUM(VLOOKUP(B183,BaseProdutos!B:V,13,0),VLOOKUP(B183,BaseProdutos!B:V,14,0)),\"\")","v":""},{"$f":"IFERROR(SUM(VLOOKUP(B183,BaseProdutos!B:V,15,0),VLOOKUP(B183,BaseProdutos!B:V,16,0))/100,\"\")","v":""},{"$f":"IFERROR(VLOOKUP(B183,BaseProdutos!B:V,4,0),\"\")","v":""},"",null,null,null,null,null,"","","","","",{"$f":"IFERROR(F183*PE!$F$20,\"\")","v":""},"",""]
[null,{"$f":"IF(BaseProdutos!B174=\"\",\"\",BaseProdutos!B174)","v":""},{"$f":"IFERROR(VLOOKUP(B184,BaseProdutos!B:V,21,0),\"\")","v":""},null,"","",{"$f":"IFERROR(VLOOKUP(B184,BaseProdutos!B:V,3,0),\"\")","v":""},{"$f":"IFERROR(VLOOKUP(B184,BaseProdutos!B:V,17,0),\"\")","v":""},{"$f":"IFERROR(SUM(VLOOKUP(B184,BaseProdutos!B:V,13,0),VLOOKUP(B184,BaseProdutos!B:V,14,0)),\"\")","v":""},{"$f":"IFERROR(SUM(VLOOKUP(B184,BaseProdutos!B:V,15,0),VLOOKUP(B184,BaseProdutos!B:V,16,0))/100,\"\")","v":""},{"$f":"IFERROR(VLOOKUP(B184,BaseProdutos!B:V,4,0),\"\")","v":""},"",null,null,null,null,null,"","","","","",{"$f":"IFERROR(F184*PE!$F$20,\"\")","v":""},"",""]
[null,{"$f":"IF(BaseProdutos!B175=\"\",\"\",BaseProdutos!B175)","v":""},{"$f":"IFERROR(VLOOKUP(B185,BaseProdutos!B:V,21,0),\"\")","v":""},null,"","",{"$f":"IFERROR(VLOOKUP(B185,BaseProdutos!B:V,3,0),\"\")","v":""},{"$f":"IFERROR(VLOOKUP(B185,BaseProdutos!B:V,17,0),\"\")","v":""},{"$f":"IFERROR(SUM(VLOOKUP(B185,BaseProdutos!B:V,13,0),VLOOKUP(B185,BaseProdutos!B:V,14,0)),\"\")","v":""},{"$f":"IFERROR(SUM(VLOOKUP(B185,BaseProdutos!B:V,15,0),VLOOKUP(B185,BaseProdutos!B:V,16,0))/100,\"\")","v":""},{"$f":"IFERROR(VLOOKUP(B185,BaseProdutos!B:V,4,0),\"\")","v":""},"",null,null,null,null,null,"","","","","",{"$f":"IFERROR(F185*PE!$F$20,\"\")","v":""},"",""]
[null,{"$f":"IF(BaseProdutos!B176=\"\",\"\",BaseProdutos!B176)","v":""},{"$f":"IFERROR(VLOOKUP(B186,BaseProdutos!B:V,21,0),\"\")","v":""},null,"","",{"$f":"IFERROR(VLOOKUP(B186,BaseProdutos!B:V,3,0),\"\")","v":""},{"$f":"IFERROR(VLOOKUP(B186,BaseProdutos!B:V,17,0),\"\")","v":""},{"$f":"IFERROR(SUM(VLOOKUP(B186,BaseProdutos!B:V,13,0),VLOOKUP(B186,BaseProdutos!B:V,14,0)),\"\")","v":""},{"$f":"IFERROR(SUM(VLOOKUP(B186,BaseProdutos!B:V,15,0),VLOOKUP(B186,BaseProdutos!B:V,16,0))/100,\"\")","v":""},{"$f":"IFERROR(VLOOKUP(B186,BaseProdutos!B:V,4,0),\"\")","v":""},"",null,null,null,null,null,"","","","","",{"$f":"IFERROR(F186*PE!$F$20,\"\")","v":""},"",""]
[null,{"$f":"IF(BaseProdutos!B177=\"\",\"\",BaseProdutos!B177)","v":""},{"$f":"IFERROR(VLOOKUP(B187,BaseProdutos!B:V,21,0),\"\")","v":""},null,"","",{"$f":"IFERROR(VLOOKUP(B187,BaseProdutos!B:V,3,0),\"\")","v":""},{"$f":"IFERROR(VLOOKUP(B187,BaseProdutos!B:V,17,0),\"\")","v":""},{"$f":"IFERROR(SUM(VLOOKUP(B187,BaseProdutos!B:V,13,0),VLOOKUP(B187,BaseProdutos!B:V,14,0)),\"\")","v":""},{"$f":"IFERROR(SUM(VLOOKUP(B187,BaseProdutos!B:V,15,0),VLOOKUP(B187,BaseProdutos!B:V,16,0))/100,\"\")","v":""},{"$f":"IFERROR(VLOOKUP(B187,BaseProdutos!B:V,4,0),\"\")","v":""},"",null,null,null,null,null,"","","","","",{"$f":"IFERROR(F187*PE!$F$20,\"\")","v":""},"",""]
[null,{"$f":"IF(BaseProdutos!B178=\"\",\"\",BaseProdutos!B178)","v":""},{"$f":"IFERROR(VLOOKUP(B188,BaseProdutos!B:V,21,0),\"\")","v":""},null,"","",{"$f":"IFERROR(VLOOKUP(B188,BaseProdutos!B:V,3,0),\"\")","v":""},{"$f":"IFERROR(VLOOKUP(B188,BaseProdutos!B:V,17,0),\"\")","v":""},{"$f":"IFERROR(SUM(VLOOKUP(B188,BaseProdutos!B:V,13,0),VLOOKUP(B188,BaseProdutos!B:V,14,0)),\"\")","v":""},{"$f":"IFERROR(SUM(VLOOKUP(B188,BaseProdutos!B:V,15,0),VLOOKUP(B188,BaseProdutos!B:V,16,0))/100,\"\")","v":""},{"$f":"IFERROR(VLOOKUP(B188,BaseProdutos!B:V,4,0),\"\")","v":""},"",null,null,null,null,null,"","","","","",{"$f":"IFERROR(F188*PE!$F$20,\"\")","v":""},"",""]
[null,{"$f":"IF(BaseProdutos!B179=\"\",\"\",BaseProdutos!B179)","v":""},{"$f":"IFERROR(VLOOKUP(B189,BaseProdutos!B:V,21,0),\"\")","v":""},null,"","",{"$f":"IFERROR(VLOOKUP(B189,BaseProdutos!B:V,3,0),\"\")","v":""},{"$f":"IFERROR(VLOOKUP(B189,BaseProdutos!B:V,17,0),\"\")","v":""},{"$f":"IFERROR(SUM(VLOOKUP(B189,BaseProdutos!B:V,13,0),VLOOKUP(B189,BaseProdutos!B:V,14,0)),\"\")","v":""},{"$f":"IFERROR(SUM(VLOOKUP(B189,BaseProdutos!B:V,15,0),VLOOKUP(B189,BaseProdutos!B:V,16,0))/100,\"\")","v":""},{"$f":"IFERROR(VLOOKUP(B189,BaseProdutos!B:V,4,0),\"\")","v":""},"",null,null,null,null,null,"","","","","",{"$f":"IFERROR(F189*PE!$F$20,\"\")","v":""},"",""]
[null,{"$f":"IF(BaseProdutos!B180=\"\",\"\",BaseProdutos!B180)","v":""},{"$f":"IFERROR(VLOOKUP(B190,BaseProdutos!B:V,21,0),\"\")","v":""},null,"","",{"$f":"IFERROR(VLOOKUP(B190,BaseProdutos!B:V,3,0),\"\")","v":""},{"$f":"IFERROR(VLOOKUP(B190,BaseProdutos!B:V,17,0),\"\")","v":""},{"$f":"IFERROR(SUM(VLOOKUP(B190,BaseProdutos!B:V,13,0),VLOOKUP(B190,BaseProdutos!B:V,14,0)),\"\")","v":""},{"$f":"IFERROR(SUM(VLOOKUP(B190,BaseProdutos!B:V,15,0),VLOOKUP(B190,BaseProdutos!B:V,16,0))/100,\"\")","v":""},{"$f":"IFERROR(VLOOKUP(B190,BaseProdutos!B:V,4,0),\"\")","v":""},"",null,null,null,null,null,"","","","","",{"$f":"IFERROR(F190*PE!$F$20,\"\")","v":""},"",""]
[null,{"$f":"IF(BaseProdutos!B181=\"\",\"\",BaseProdutos!B181)","v":""},{"$f":"IFERROR(VLOOKUP(B191,BaseProdutos!B:V,21,0),\"\")","v":""},null,"","",{"$f":"IFERROR(VLOOKUP(B191,BaseProdutos!B:V,3,0),\"\")","v":""},{"$f":"IFERROR(VLOOKUP(B191,BaseProdutos!B:V,17,0),\"\")","v":""},{"$f":"IFERROR(SUM(VLOOKUP(B191,BaseProdutos!B:V,13,0),VLOOKUP(B191,BaseProdutos!B:V,14,0)),\"\")","v":""},{"$f":"IFERROR(SUM(VLOOKUP(B191,BaseProdutos!B:V,15,0),VLOOKUP(B191,BaseProdutos!B:V,16,0))/100,\"\")","v":""},{"$f":"IFERROR(VLOOKUP(B191,BaseProdutos!B:V,4,0),\"\")","v":""},"",null,null,null,null,null,"","","","","",{"$f":"IFERROR(F191*PE!$F$20,\"\")","v":""},"",""]
[null,{"$f":"IF(BaseProdutos!B182=\"\",\"\",BaseProdutos!B182)","v":""},{"$f":"IFERROR(VLOOKUP(B192,BaseProdutos!B:V,21,0),\"\")","v":""},null,"","",{"$f":"IFERROR(VLOOKUP(B192,BaseProdutos!B:V,3,0),\"\")","v":""},{"$f":"IFERROR(VLOOKUP(B192,BaseProdutos!B:V,17,0),\"\")","v":""},{"$f":"IFERROR(SUM(VLOOKUP(B192,BaseProdutos!B:V,13,0),VLOOKUP(B192,BaseProdutos!B:V,14,0)),\"\")","v":""},{"$f":"IFERROR(SUM(VLOOKUP(B192,BaseProdutos!B:V,15,0),VLOOKUP(B192,BaseProdutos!B:V,16,0))/100,\"\")","v":""},{"$f":"IFERROR(VLOOKUP(B192,BaseProdutos!B:V,4,0),\"\")","v":""},"",null,null,null,null,null,"","","","","",{"$f":"IFERROR(F192*PE!$F$20,\"\")","v":""},"",""]
[null,{"$f":"IF(BaseProdutos!B183=\"\",\"\",BaseProdutos!B183)","v":""},{"$f":"IFERROR(VLOOKUP(B193,BaseProdutos!B:V,21,0),\"\")","v":""},null,"","",{"$f":"IFERROR(VLOOKUP(B193,BaseProdutos!B:V,3,0),\"\")","v":""},{"$f":"IFERROR(VLOOKUP(B193,BaseProdutos!B:V,17,0),\"\")","v":""},{"$f":"IFERROR(SUM(VLOOKUP(B193,BaseProdutos!B:V,13,0),VLOOKUP(B193,BaseProdutos!B:V,14,0)),\"\")","v":""},{"$f":"IFERROR(SUM(VLOOKUP(B193,BaseProdutos!B:V,15,0),VLOOKUP(B193,BaseProdutos!B:V,16,0))/100,\"\")","v":""},{"$f":"IFERROR(VLOOKUP(B193,BaseProdutos!B:V,4,0),\"\")","v":""},"",null,null,null,null,null,"","","","","",{"$f":"IFERROR(F193*PE!$F$20,\"\")","v":""},"",""]
[null,{"$f":"IF(BaseProdutos!B184=\"\",\"\",BaseProdutos!B184)","v":""},{"$f":"IFERROR(VLOOKUP(B194,BaseProdutos!B:V,21,0),\"\")","v":""},null,"","",{"$f":"IFERROR(VLOOKUP(B194,BaseProdutos!B:V,3,0),\"\")","v":""},{"$f":"IFERROR(VLOOKUP(B194,BaseProdutos!B:V,17,0),\"\")","v":""},{"$f":"IFERROR(SUM(VLOOKUP(B194,BaseProdutos!B:V,13,0),VLOOKUP(B194,BaseProdutos!B:V,14,0)),\"\")","v":""},{"$f":"IFERROR(SUM(VLOOKUP(B194,BaseProdutos!B:V,15,0),VLOOKUP(B194,BaseProdutos!B:V,16,0))/100,\"\")","v":""},{"$f":"IFERROR(VLOOKUP(B194,BaseProdutos!B:V,4,0),\"\")","v":""},"",null,null,null,null,null,"","","","","",{"$f":"IFERROR(F194*PE!$F$20,\"\")","v":""},"",""]
[null,{"$f":"IF(BaseProdutos!B185=\"\",\"\",BaseProdutos!B185)","v":""},{"$f":"IFERROR(VLOOKUP(B195,BaseProdutos!B:V,21,0),\"\")","v":""},null,"","",{"$f":"IFERROR(VLOOKUP(B195,BaseProdutos!B:V,3,0),\"\")","v":""},{"$f":"IFERROR(VLOOKUP(B195,BaseProdutos!B:V,17,0),\"\")","v":""},{"$f":"IFERROR(SUM(VLOOKUP(B195,BaseProdutos!B:V,13,0),VLOOKUP(B195,BaseProdutos!B:V,14,0)),\"\")","v":""},{"$f":"IFERROR(SUM(VLOOKUP(B195,BaseProdutos!B:V,15,0),VLOOKUP(B195,BaseProdutos!B:V,16,0))/100,\"\")","v":""},{"$f":"IFERROR(VLOOKUP(B195,BaseProdutos!B:V,4,0),\"\")","v":""},"",null,null,null,null,null,"","","","","",{"$f":"IFERROR(F195*PE!$F$20,\"\")","v":""},"",""]
[null,{"$f":"IF(BaseProdutos!B186=\"\",\"\",BaseProdutos!B186)","v":""},{"$f":"IFERROR(VLOOKUP(B196,BaseProdutos!B:V,21,0),\"\")","v":""},null,"","",{"$f":"IFERROR(VLOOKUP(B196,BaseProdutos!B:V,3,0),\"\")","v":""},{"$f":"IFERROR(VLOOKUP(B196,BaseProdutos!B:V,17,0),\"\")","v":""},{"$f":"IFERROR(SUM(VLOOKUP(B196,BaseProdutos!B:V,13,0),VLOOKUP(B196,BaseProdutos!B:V,14,0)),\"\")","v":""},{"$f":"IFERROR(SUM(VLOOKUP(B196,BaseProdutos!B:V,15,0),VLOOKUP(B196,BaseProdutos!B:V,16,0))/100,\"\")","v":""},{"$f":"IFERROR(VLOOKUP(B196,BaseProdutos!B:V,4,0),\"\")","v":""},"",null,null,null,null,null,"","","","","",{"$f":"IFERROR(F196*PE!$F$20,\"\")","v":""},"",""]
[null,{"$f":"IF(BaseProdutos!B187=\"\",\"\",BaseProdutos!B187)","v":""},{"$f":"IFERROR(VLOOKUP(B197,BaseProdutos!B:V,21,0),\"\")","v":""},null,"","",{"$f":"IFERROR(VLOOKUP(B197,BaseProdutos!B:V,3,0),\"\")","v":""},{"$f":"IFERROR(VLOOKUP(B197,BaseProdutos!B:V,17,0),\"\")","v":""},{"$f":"IFERROR(SUM(VLOOKUP(B197,BaseProdutos!B:V,13,0),VLOOKUP(B197,BaseProdutos!B:V,14,0)),\"\")","v":""},{"$f":"IFERROR(SUM(VLOOKUP(B197,BaseProdutos!B:V,15,0),VLOOKUP(B197,BaseProdutos!B:V,16,0))/100,\"\")","v":""},{"$f":"IFERROR(VLOOKUP(B197,BaseProdutos!B:V,4,0),\"\")","v":""},"",null,null,null,null,null,"","","","","",{"$f":"IFERROR(F197*PE!$F$20,\"\")","v":""},"",""]
[null,{"$f":"IF(BaseProdutos!B188=\"\",\"\",BaseProdutos!B188)","v":""},{"$f":"IFERROR(VLOOKUP(B198,BaseProdutos!B:V,21,0),\"\")","v":""},null,"","",{"$f":"IFERROR(VLOOKUP(B198,BaseProdutos!B:V,3,0),\"\")","v":""},{"$f":"IFERROR(VLOOKUP(B198,BaseProdutos!B:V,17,0),\"\")","v":""},{"$f":"IFERROR(SUM(VLOOKUP(B198,BaseProdutos!B:V,13,0),VLOOKUP(B198,BaseProdutos!B:V,14,0)),\"\")","v":""},{"$f":"IFERROR(SUM(VLOOKUP(B198,BaseProdutos!B:V,15,0),VLOOKUP(B198,BaseProdutos!B:V,16,0))/100,\"\")","v":""},{"$f":"IFERROR(VLOOKUP(B198,BaseProdutos!B:V,4,0),\"\")","v":""},"",null,null,null,null,null,"","","","","",{"$f":"IFERROR(F198*PE!$F$20,\"\")","v":""},"",""]
[null,{"$f":"IF(BaseProdutos!B189=\"\",\"\",BaseProdutos!B189)","v":""},{"$f":"IFERROR(VLOOKUP(B199,BaseProdutos!B:V,21,0),\"\")","v":""},null,"","",{"$f":"IFERROR(VLOOKUP(B199,BaseProdutos!B:V,3,0),\"\")","v":""},{"$f":"IFERROR(VLOOKUP(B199,BaseProdutos!B:V,17,0),\"\")","v":""},{"$f":"IFERROR(SUM(VLOOKUP(B199,BaseProdutos!B:V,13,0),VLOOKUP(B199,BaseProdutos!B:V,14,0)),\"\")","v":""},{"$f":"IFERROR(SUM(VLOOKUP(B199,BaseProdutos!B:V,15,0),VLOOKUP(B199,BaseProdutos!B:V,16,0))/100,\"\")","v":""},{"$f":"IFERROR(VLOOKUP(B199,BaseProdutos!B:V,4,0),\"\")","v":""},"",null,null,null,null,null,"","","","","",{"$f":"IFERROR(F199*PE!$F$20,\"\")","v":""},"",""]
[null,{"$f":"IF(BaseProdutos!B190=\"\",\"\",BaseProdutos!B190)","v":""},{"$f":"IFERROR(VLOOKUP(B200,BaseProdutos!B:V,21,0),\"\")","v":""},null,"","",{"$f":"IFERROR(VLOOKUP(B200,BaseProdutos!B:V,3,0),\"\")","v":""},{"$f":"IFERROR(VLOOKUP(B200,BaseProdutos!B:V,17,0),\"\")","v":""},{"$f":"IFERROR(SUM(VLOOKUP(B200,BaseProdutos!B:V,13,0),VLOOKUP(B200,BaseProdutos!B:V,14,0)),\"\")","v":""},{"$f":"IFERROR(SUM(VLOOKUP(B200,BaseProdutos!B:V,15,0),VLOOKUP(B200,BaseProdutos!B:V,16,0))/100,\"\")","v":""},{"$f":"IFERROR(VLOOKUP(B200,BaseProdutos!B:V,4,0),\"\")","v":""},"",null,null,null,null,null,"","","","","",{"$f":"IFERROR(F200*PE!$F$20,\"\")","v":""},"",""]
[null,{"$f":"IF(BaseProdutos!B191=\"\",\"\",BaseProdutos!B191)","v":""},{"$f":"IFERROR(VLOOKUP(B201,BaseProdutos!B:V,21,0),\"\")","v":""},null,"","",{"$f":"IFERROR(VLOOKUP(B201,BaseProdutos!B:V,3,0),\"\")","v":""},{"$f":"IFERROR(VLOOKUP(B201,BaseProdutos!B:V,17,0),\"\")","v":""},{"$f":"IFERROR(SUM(VLOOKUP(B201,BaseProdutos!B:V,13,0),VLOOKUP(B201,BaseProdutos!B:V,14,0)),\"\")","v":""},{"$f":"IFERROR(SUM(VLOOKUP(B201,BaseProdutos!B:V,15,0),VLOOKUP(B201,BaseProdutos!B:V,16,0))/100,\"\")","v":""},{"$f":"IFERROR(VLOOKUP(B201,BaseProdutos!B:V,4,0),\"\")","v":""},"",null,null,null,null,null,"","","","","",{"$f":"IFERROR(F201*PE!$F$20,\"\")","v":""},"",""]
[null,{"$f":"IF(BaseProdutos!B192=\"\",\"\",BaseProdutos!B192)","v":""},{"$f":"IFERROR(VLOOKUP(B202,BaseProdutos!B:V,21,0),\"\")","v":""},null,"","",{"$f":"IFERROR(VLOOKUP(B202,BaseProdutos!B:V,3,0),\"\")","v":""},{"$f":"IFERROR(VLOOKUP(B202,BaseProdutos!B:V,17,0),\"\")","v":""},{"$f":"IFERROR(SUM(VLOOKUP(B202,BaseProdutos!B:V,13,0),VLOOKUP(B202,BaseProdutos!B:V,14,0)),\"\")","v":""},{"$f":"IFERROR(SUM(VLOOKUP(B202,BaseProdutos!B:V,15,0),VLOOKUP(B202,BaseProdutos!B:V,16,0))/100,\"\")","v":""},{"$f":"IFERROR(VLOOKUP(B202,BaseProdutos!B:V,4,0),\"\")","v":""},"",null,null,null,null,null,"","","","","",{"$f":"IFERROR(F202*PE!$F$20,\"\")","v":""},"",""]
[null,{"$f":"IF(BaseProdutos!B193=\"\",\"\",BaseProdutos!B193)","v":""},{"$f":"IFERROR(VLOOKUP(B203,BaseProdutos!B:V,21,0),\"\")","v":""},null,"","",{"$f":"IFERROR(VLOOKUP(B203,BaseProdutos!B:V,3,0),\"\")","v":""},{"$f":"IFERROR(VLOOKUP(B203,BaseProdutos!B:V,17,0),\"\")","v":""},{"$f":"IFERROR(SUM(VLOOKUP(B203,BaseProdutos!B:V,13,0),VLOOKUP(B203,BaseProdutos!B:V,14,0)),\"\")","v":""},{"$f":"IFERROR(SUM(VLOOKUP(B203,BaseProdutos!B:V,15,0),VLOOKUP(B203,BaseProdutos!B:V,16,0))/100,\"\")","v":""},{"$f":"IFERROR(VLOOKUP(B203,BaseProdutos!B:V,4,0),\"\")","v":""},"",null,null,null,null,null,"","","","","",{"$f":"IFERROR(F203*PE!$F$20,\"\")","v":""},"",""]
[null,{"$f":"IF(BaseProdutos!B194=\"\",\"\",BaseProdutos!B194)","v":""},{"$f":"IFERROR(VLOOKUP(B204,BaseProdutos!B:V,21,0),\"\")","v":""},null,"","",{"$f":"IFERROR(VLOOKUP(B204,BaseProdutos!B:V,3,0),\"\")","v":""},{"$f":"IFERROR(VLOOKUP(B204,BaseProdutos!B:V,17,0),\"\")","v":""},{"$f":"IFERROR(SUM(VLOOKUP(B204,BaseProdutos!B:V,13,0),VLOOKUP(B204,BaseProdutos!B:V,14,0)),\"\")","v":""},{"$f":"IFERROR(SUM(VLOOKUP(B204,BaseProdutos!B:V,15,0),VLOOKUP(B204,BaseProdutos!B:V,16,0))/100,\"\")","v":""},{"$f":"IFERROR(VLOOKUP(B204,BaseProdutos!B:V,4,0),\"\")","v":""},"",null,null,null,null,null,"","","","","",{"$f":"IFERROR(F204*PE!$F$20,\"\")","v":""},"",""]
[null,{"$f":"IF(BaseProdutos!B195=\"\",\"\",BaseProdutos!B195)","v":""},{"$f":"IFERROR(VLOOKUP(B205,BaseProdutos!B:V,21,0),\"\")","v":""},null,{"$f":"IFERROR(IF(B205=\"\",\"\",C205*D205),\"\")","v":""},{"$f":"IFERROR(E205/SUM($E$12:$E$511),\"\")","v":""},{"$f":"IFERROR(VLOOKUP(B205,BaseProdutos!B:V,3,0),\"\")","v":""},{"$f":"IFERROR(VLOOKUP(B205,BaseProdutos!B:V,17,0),\"\")","v":""},{"$f":"IFERROR(SUM(VLOOKUP(B205,BaseProdutos!B:V,13,0),VLOOKUP(B205,BaseProdutos!B:V,14,0)),\"\")","v":""},{"$f":"IFERROR(SUM(VLOOKUP(B205,BaseProdutos!B:V,15,0),VLOOKUP(B205,BaseProdutos!B:V,16,0))/100,\"\")","v":""},{"$f":"IFERROR(VLOOKUP(B205,BaseProdutos!B:V,4,0),\"\")","v":""},{"$f":"IFERROR(G205+C205*(H205+I205+J205)+K205,\"\")","v":""},null,null,null,null,null,{"$f":"IFERROR(H205*E205,\"\")","v":""},{"$f":"IFERROR(I205*E205,\"\")","v":""},{"$f":"IFERROR(C205-L205,\"\")","v":""},{"$f":"IFERROR(T205/C205,\"\")","v":""},{"$f":"IFERROR(W205*C205,\"\")","v":""},{"$f":"IFERROR(F205*PE!$F$20,\"\")","v":""},{"$f":"IFERROR(K205*D205,\"\")","v":""},{"$f":"IFERROR(G205*D205,\"\")","v":""}]
[null,{"$f":"IF(BaseProdutos!B196=\"\",\"\",BaseProdutos!B196)","v":""},{"$f":"IFERROR(VLOOKUP(B206,BaseProdutos!B:V,21,0),\"\")","v":""},null,"","",{"$f":"IFERROR(VLOOKUP(B206,BaseProdutos!B:V,3,0),\"\")","v":""},{"$f":"IFERROR(VLOOKUP(B206,BaseProdutos!B:V,17,0),\"\")","v":""},{"$f":"IFERROR(SUM(VLOOKUP(B206,BaseProdutos!B:V,13,0),VLOOKUP(B206,BaseProdutos!B:V,14,0)),\"\")","v":""},{"$f":"IFERROR(SUM(VLOOKUP(B206,BaseProdutos!B:V,15,0),VLOOKUP(B206,BaseProdutos!B:V,16,0))/100,\"\")","v":""},{"$f":"IFERROR(VLOOKUP(B206,BaseProdutos!B:V,4,0),\"\")","v":""},"",null,null,null,null,null,"","","","","",{"$f":"IFERROR(F206*PE!$F$20,\"\")","v":""},"",""]
[null,{"$f":"IF(BaseProdutos!B197=\"\",\"\",BaseProdutos!B197)","v":""},{"$f":"IFERROR(VLOOKUP(B207,BaseProdutos!B:V,21,0),\"\")","v":""},null,"","",{"$f":"IFERROR(VLOOKUP(B207,BaseProdutos!B:V,3,0),\"\")","v":""},{"$f":"IFERROR(VLOOKUP(B207,BaseProdutos!B:V,17,0),\"\")","v":""},{"$f":"IFERROR(SUM(VLOOKUP(B207,BaseProdutos!B:V,13,0),VLOOKUP(B207,BaseProdutos!B:V,14,0)),\"\")","v":""},{"$f":"IFERROR(SUM(VLOOKUP(B207,BaseProdutos!B:V,15,0),VLOOKUP(B207,BaseProdutos!B:V,16,0))/100,\"\")","v":""},{"$f":"IFERROR(VLOOKUP(B207,BaseProdutos!B:V,4,0),\"\")","v":""},"",null,null,null,null,null,"","","","","",{"$f":"IFERROR(F207*PE!$F$20,\"\")","v":""},"",""]
[null,{"$f":"IF(BaseProdutos!B198=\"\",\"\",BaseProdutos!B198)","v":""},{"$f":"IFERROR(VLOOKUP(B208,BaseProdutos!B:V,21,0),\"\")","v":""},null,"","",{"$f":"IFERROR(VLOOKUP(B208,BaseProdutos!B:V,3,0),\"\")","v":""},{"$f":"IFERROR(VLOOKUP(B208,BaseProdutos!B:V,17,0),\"\")","v":""},{"$f":"IFERROR(SUM(VLOOKUP(B208,BaseProdutos!B:V,13,0),VLOOKUP(B208,BaseProdutos!B:V,14,0)),\"\")","v":""},{"$f":"IFERROR(SUM(VLOOKUP(B208,BaseProdutos!B:V,15,0),VLOOKUP(B208,BaseProdutos!B:V,16,0))/100,\"\")","v":""},{"$f":"IFERROR(VLOOKUP(B208,BaseProdutos!B:V,4,0),\"\")","v":""},"",null,null,null,null,null,"","","","","",{"$f":"IFERROR(F208*PE!$F$20,\"\")","v":""},"",""]
[null,{"$f":"IF(BaseProdutos!B199=\"\",\"\",BaseProdutos!B199)","v":""},{"$f":"IFERROR(VLOOKUP(B209,BaseProdutos!B:V,21,0),\"\")","v":""},null,"","",{"$f":"IFERROR(VLOOKUP(B209,BaseProdutos!B:V,3,0),\"\")","v":""},{"$f":"IFERROR(VLOOKUP(B209,BaseProdutos!B:V,17,0),\"\")","v":""},{"$f":"IFERROR(SUM(VLOOKUP(B209,BaseProdutos!B:V,13,0),VLOOKUP(B209,BaseProdutos!B:V,14,0)),\"\")","v":""},{"$f":"IFERROR(SUM(VLOOKUP(B209,BaseProdutos!B:V,15,0),VLOOKUP(B209,BaseProdutos!B:V,16,0))/100,\"\")","v":""},{"$f":"IFERROR(VLOOKUP(B209,BaseProdutos!B:V,4,0),\"\")","v":""},"",null,null,null,null,null,"","","","","",{"$f":"IFERROR(F209*PE!$F$20,\"\")","v":""},"",""]
[null,{"$f":"IF(BaseProdutos!B200=\"\",\"\",BaseProdutos!B200)","v":""},{"$f":"IFERROR(VLOOKUP(B210,BaseProdutos!B:V,21,0),\"\")","v":""},null,"","",{"$f":"IFERROR(VLOOKUP(B210,BaseProdutos!B:V,3,0),\"\")","v":""},{"$f":"IFERROR(VLOOKUP(B210,BaseProdutos!B:V,17,0),\"\")","v":""},{"$f":"IFERROR(SUM(VLOOKUP(B210,BaseProdutos!B:V,13,0),VLOOKUP(B210,BaseProdutos!B:V,14,0)),\"\")","v":""},{"$f":"IFERROR(SUM(VLOOKUP(B210,BaseProdutos!B:V,15,0),VLOOKUP(B210,BaseProdutos!B:V,16,0))/100,\"\")","v":""},{"$f":"IFERROR(VLOOKUP(B210,BaseProdutos!B:V,4,0),\"\")","v":""},"",null,null,null,null,null,"","","","","",{"$f":"IFERROR(F210*PE!$F$20,\"\")","v":""},"",""]
[null,{"$f":"IF(BaseProdutos!B201=\"\",\"\",BaseProdutos!B201)","v":""},{"$f":"IFERROR(VLOOKUP(B211,BaseProdutos!B:V,21,0),\"\")","v":""},null,"","",{"$f":"IFERROR(VLOOKUP(B211,BaseProdutos!B:V,3,0),\"\")","v":""},{"$f":"IFERROR(VLOOKUP(B211,BaseProdutos!B:V,17,0),\"\")","v":""},{"$f":"IFERROR(SUM(VLOOKUP(B211,BaseProdutos!B:V,13,0),VLOOKUP(B211,BaseProdutos!B:V,14,0)),\"\")","v":""},{"$f":"IFERROR(SUM(VLOOKUP(B211,BaseProdutos!B:V,15,0),VLOOKUP(B211,BaseProdutos!B:V,16,0))/100,\"\")","v":""},{"$f":"IFERROR(VLOOKUP(B211,BaseProdutos!B:V,4,0),\"\")","v":""},"",null,null,null,null,null,"","","","","",{"$f":"IFERROR(F211*PE!$F$20,\"\")","v":""},"",""]
[null,{"$f":"IF(BaseProdutos!B202=\"\",\"\",BaseProdutos!B202)","v":""},{"$f":"IFERROR(VLOOKUP(B212,BaseProdutos!B:V,21,0),\"\")","v":""},null,"","",{"$f":"IFERROR(VLOOKUP(B212,BaseProdutos!B:V,3,0),\"\")","v":""},{"$f":"IFERROR(VLOOKUP(B212,BaseProdutos!B:V,17,0),\"\")","v":""},{"$f":"IFERROR(SUM(VLOOKUP(B212,BaseProdutos!B:V,13,0),VLOOKUP(B212,BaseProdutos!B:V,14,0)),\"\")","v":""},{"$f":"IFERROR(SUM(VLOOKUP(B212,BaseProdutos!B:V,15,0),VLOOKUP(B212,BaseProdutos!B:V,16,0))/100,\"\")","v":""},{"$f":"IFERROR(VLOOKUP(B212,BaseProdutos!B:V,4,0),\"\")","v":""},"",null,null,null,null,null,"","","","","",{"$f":"IFERROR(F212*PE!$F$20,\"\")","v":""},"",""]
[null,{"$f":"IF(BaseProdutos!B203=\"\",\"\",BaseProdutos!B203)","v":""},{"$f":"IFERROR(VLOOKUP(B213,BaseProdutos!B:V,21,0),\"\")","v":""},null,"","",{"$f":"IFERROR(VLOOKUP(B213,BaseProdutos!B:V,3,0),\"\")","v":""},{"$f":"IFERROR(VLOOKUP(B213,BaseProdutos!B:V,17,0),\"\")","v":""},{"$f":"IFERROR(SUM(VLOOKUP(B213,BaseProdutos!B:V,13,0),VLOOKUP(B213,BaseProdutos!B:V,14,0)),\"\")","v":""},{"$f":"IFERROR(SUM(VLOOKUP(B213,BaseProdutos!B:V,15,0),VLOOKUP(B213,BaseProdutos!B:V,16,0))/100,\"\")","v":""},{"$f":"IFERROR(VLOOKUP(B213,BaseProdutos!B:V,4,0),\"\")","v":""},"",null,null,null,null,null,"","","","","",{"$f":"IFERROR(F213*PE!$F$20,\"\")","v":""},"",""]
[null,{"$f":"IF(BaseProdutos!B204=\"\",\"\",BaseProdutos!B204)","v":""},{"$f":"IFERROR(VLOOKUP(B214,BaseProdutos!B:V,21,0),\"\")","v":""},null,"","",{"$f":"IFERROR(VLOOKUP(B214,BaseProdutos!B:V,3,0),\"\")","v":""},{"$f":"IFERROR(VLOOKUP(B214,BaseProdutos!B:V,17,0),\"\")","v":""},{"$f":"IFERROR(SUM(VLOOKUP(B214,BaseProdutos!B:V,13,0),VLOOKUP(B214,BaseProdutos!B:V,14,0)),\"\")","v":""},{"$f":"IFERROR(SUM(VLOOKUP(B214,BaseProdutos!B:V,15,0),VLOOKUP(B214,BaseProdutos!B:V,16,0))/100,\"\")","v":""},{"$f":"IFERROR(VLOOKUP(B214,BaseProdutos!B:V,4,0),\"\")","v":""},"",null,null,null,null,null,"","","","","",{"$f":"IFERROR(F214*PE!$F$20,\"\")","v":""},"",""]
[null,{"$f":"IF(BaseProdutos!B205=\"\",\"\",BaseProdutos!B205)","v":""},{"$f":"IFERROR(VLOOKUP(B215,BaseProdutos!B:V,21,0),\"\")","v":""},null,"","",{"$f":"IFERROR(VLOOKUP(B215,BaseProdutos!B:V,3,0),\"\")","v":""},{"$f":"IFERROR(VLOOKUP(B215,BaseProdutos!B:V,17,0),\"\")","v":""},{"$f":"IFERROR(SUM(VLOOKUP(B215,BaseProdutos!B:V,13,0),VLOOKUP(B215,BaseProdutos!B:V,14,0)),\"\")","v":""},{"$f":"IFERROR(SUM(VLOOKUP(B215,BaseProdutos!B:V,15,0),VLOOKUP(B215,BaseProdutos!B:V,16,0))/100,\"\")","v":""},{"$f":"IFERROR(VLOOKUP(B215,BaseProdutos!B:V,4,0),\"\")","v":""},"",null,null,null,null,null,"","","","","",{"$f":"IFERROR(F215*PE!$F$20,\"\")","v":""},"",""]
[null,{"$f":"IF(BaseProdutos!B206=\"\",\"\",BaseProdutos!B206)","v":""},{"$f":"IFERROR(VLOOKUP(B216,BaseProdutos!B:V,21,0),\"\")","v":""},null,"","",{"$f":"IFERROR(VLOOKUP(B216,BaseProdutos!B:V,3,0),\"\")","v":""},{"$f":"IFERROR(VLOOKUP(B216,BaseProdutos!B:V,17,0),\"\")","v":""},{"$f":"IFERROR(SUM(VLOOKUP(B216,BaseProdutos!B:V,13,0),VLOOKUP(B216,BaseProdutos!B:V,14,0)),\"\")","v":""},{"$f":"IFERROR(SUM(VLOOKUP(B216,BaseProdutos!B:V,15,0),VLOOKUP(B216,BaseProdutos!B:V,16,0))/100,\"\")","v":""},{"$f":"IFERROR(VLOOKUP(B216,BaseProdutos!B:V,4,0),\"\")","v":""},"",null,null,null,null,null,"","","","","",{"$f":"IFERROR(F216*PE!$F$20,\"\")","v":""},"",""]
[null,{"$f":"IF(BaseProdutos!B207=\"\",\"\",BaseProdutos!B207)","v":""},{"$f":"IFERROR(VLOOKUP(B217,BaseProdutos!B:V,21,0),\"\")","v":""},null,"","",{"$f":"IFERROR(VLOOKUP(B217,BaseProdutos!B:V,3,0),\"\")","v":""},{"$f":"IFERROR(VLOOKUP(B217,BaseProdutos!B:V,17,0),\"\")","v":""},{"$f":"IFERROR(SUM(VLOOKUP(B217,BaseProdutos!B:V,13,0),VLOOKUP(B217,BaseProdutos!B:V,14,0)),\"\")","v":""},{"$f":"IFERROR(SUM(VLOOKUP(B217,BaseProdutos!B:V,15,0),VLOOKUP(B217,BaseProdutos!B:V,16,0))/100,\"\")","v":""},{"$f":"IFERROR(VLOOKUP(B217,BaseProdutos!B:V,4,0),\"\")","v":""},"",null,null,null,null,null,"","","","","",{"$f":"IFERROR(F217*PE!$F$20,\"\")","v":""},"",""]
[null,{"$f":"IF(BaseProdutos!B208=\"\",\"\",BaseProdutos!B208)","v":""},{"$f":"IFERROR(VLOOKUP(B218,BaseProdutos!B:V,21,0),\"\")","v":""},null,"","",{"$f":"IFERROR(VLOOKUP(B218,BaseProdutos!B:V,3,0),\"\")","v":""},{"$f":"IFERROR(VLOOKUP(B218,BaseProdutos!B:V,17,0),\"\")","v":""},{"$f":"IFERROR(SUM(VLOOKUP(B218,BaseProdutos!B:V,13,0),VLOOKUP(B218,BaseProdutos!B:V,14,0)),\"\")","v":""},{"$f":"IFERROR(SUM(VLOOKUP(B218,BaseProdutos!B:V,15,0),VLOOKUP(B218,BaseProdutos!B:V,16,0))/100,\"\")","v":""},{"$f":"IFERROR(VLOOKUP(B218,BaseProdutos!B:V,4,0),\"\")","v":""},"",null,null,null,null,null,"","","","","",{"$f":"IFERROR(F218*PE!$F$20,\"\")","v":""},"",""]
[null,{"$f":"IF(BaseProdutos!B209=\"\",\"\",BaseProdutos!B209)","v":""},{"$f":"IFERROR(VLOOKUP(B219,BaseProdutos!B:V,21,0),\"\")","v":""},null,"","",{"$f":"IFERROR(VLOOKUP(B219,BaseProdutos!B:V,3,0),\"\")","v":""},{"$f":"IFERROR(VLOOKUP(B219,BaseProdutos!B:V,17,0),\"\")","v":""},{"$f":"IFERROR(SUM(VLOOKUP(B219,BaseProdutos!B:V,13,0),VLOOKUP(B219,BaseProdutos!B:V,14,0)),\"\")","v":""},{"$f":"IFERROR(SUM(VLOOKUP(B219,BaseProdutos!B:V,15,0),VLOOKUP(B219,BaseProdutos!B:V,16,0))/100,\"\")","v":""},{"$f":"IFERROR(VLOOKUP(B219,BaseProdutos!B:V,4,0),\"\")","v":""},"",null,null,null,null,null,"","","","","",{"$f":"IFERROR(F219*PE!$F$20,\"\")","v":""},"",""]
[null,{"$f":"IF(BaseProdutos!B210=\"\",\"\",BaseProdutos!B210)","v":""},{"$f":"IFERROR(VLOOKUP(B220,BaseProdutos!B:V,21,0),\"\")","v":""},null,"","",{"$f":"IFERROR(VLOOKUP(B220,BaseProdutos!B:V,3,0),\"\")","v":""},{"$f":"IFERROR(VLOOKUP(B220,BaseProdutos!B:V,17,0),\"\")","v":""},{"$f":"IFERROR(SUM(VLOOKUP(B220,BaseProdutos!B:V,13,0),VLOOKUP(B220,BaseProdutos!B:V,14,0)),\"\")","v":""},{"$f":"IFERROR(SUM(VLOOKUP(B220,BaseProdutos!B:V,15,0),VLOOKUP(B220,BaseProdutos!B:V,16,0))/100,\"\")","v":""},{"$f":"IFERROR(VLOOKUP(B220,BaseProdutos!B:V,4,0),\"\")","v":""},"",null,null,null,null,null,"","","","","",{"$f":"IFERROR(F220*PE!$F$20,\"\")","v":""},"",""]
[null,{"$f":"IF(BaseProdutos!B211=\"\",\"\",BaseProdutos!B211)","v":""},{"$f":"IFERROR(VLOOKUP(B221,BaseProdutos!B:V,21,0),\"\")","v":""},null,"","",{"$f":"IFERROR(VLOOKUP(B221,BaseProdutos!B:V,3,0),\"\")","v":""},{"$f":"IFERROR(VLOOKUP(B221,BaseProdutos!B:V,17,0),\"\")","v":""},{"$f":"IFERROR(SUM(VLOOKUP(B221,BaseProdutos!B:V,13,0),VLOOKUP(B221,BaseProdutos!B:V,14,0)),\"\")","v":""},{"$f":"IFERROR(SUM(VLOOKUP(B221,BaseProdutos!B:V,15,0),VLOOKUP(B221,BaseProdutos!B:V,16,0))/100,\"\")","v":""},{"$f":"IFERROR(VLOOKUP(B221,BaseProdutos!B:V,4,0),\"\")","v":""},"",null,null,null,null,null,"","","","","",{"$f":"IFERROR(F221*PE!$F$20,\"\")","v":""},"",""]
[null,{"$f":"IF(BaseProdutos!B212=\"\",\"\",BaseProdutos!B212)","v":""},{"$f":"IFERROR(VLOOKUP(B222,BaseProdutos!B:V,21,0),\"\")","v":""},null,"","",{"$f":"IFERROR(VLOOKUP(B222,BaseProdutos!B:V,3,0),\"\")","v":""},{"$f":"IFERROR(VLOOKUP(B222,BaseProdutos!B:V,17,0),\"\")","v":""},{"$f":"IFERROR(SUM(VLOOKUP(B222,BaseProdutos!B:V,13,0),VLOOKUP(B222,BaseProdutos!B:V,14,0)),\"\")","v":""},{"$f":"IFERROR(SUM(VLOOKUP(B222,BaseProdutos!B:V,15,0),VLOOKUP(B222,BaseProdutos!B:V,16,0))/100,\"\")","v":""},{"$f":"IFERROR(VLOOKUP(B222,BaseProdutos!B:V,4,0),\"\")","v":""},"",null,null,null,null,null,"","","","","",{"$f":"IFERROR(F222*PE!$F$20,\"\")","v":""},"",""]
[null,{"$f":"IF(BaseProdutos!B213=\"\",\"\",BaseProdutos!B213)","v":""},{"$f":"IFERROR(VLOOKUP(B223,BaseProdutos!B:V,21,0),\"\")","v":""},null,"","",{"$f":"IFERROR(VLOOKUP(B223,BaseProdutos!B:V,3,0),\"\")","v":""},{"$f":"IFERROR(VLOOKUP(B223,BaseProdutos!B:V,17,0),\"\")","v":""},{"$f":"IFERROR(SUM(VLOOKUP(B223,BaseProdutos!B:V,13,0),VLOOKUP(B223,BaseProdutos!B:V,14,0)),\"\")","v":""},{"$f":"IFERROR(SUM(VLOOKUP(B223,BaseProdutos!B:V,15,0),VLOOKUP(B223,BaseProdutos!B:V,16,0))/100,\"\")","v":""},{"$f":"IFERROR(VLOOKUP(B223,BaseProdutos!B:V,4,0),\"\")","v":""},"",null,null,null,null,null,"","","","","",{"$f":"IFERROR(F223*PE!$F$20,\"\")","v":""},"",""]
[null,{"$f":"IF(BaseProdutos!B214=\"\",\"\",BaseProdutos!B214)","v":""},{"$f":"IFERROR(VLOOKUP(B224,BaseProdutos!B:V,21,0),\"\")","v":""},null,"","",{"$f":"IFERROR(VLOOKUP(B224,BaseProdutos!B:V,3,0),\"\")","v":""},{"$f":"IFERROR(VLOOKUP(B224,BaseProdutos!B:V,17,0),\"\")","v":""},{"$f":"IFERROR(SUM(VLOOKUP(B224,BaseProdutos!B:V,13,0),VLOOKUP(B224,BaseProdutos!B:V,14,0)),\"\")","v":""},{"$f":"IFERROR(SUM(VLOOKUP(B224,BaseProdutos!B:V,15,0),VLOOKUP(B224,BaseProdutos!B:V,16,0))/100,\"\")","v":""},{"$f":"IFERROR(VLOOKUP(B224,BaseProdutos!B:V,4,0),\"\")","v":""},"",null,null,null,null,null,"","","","","",{"$f":"IFERROR(F224*PE!$F$20,\"\")","v":""},"",""]
[null,{"$f":"IF(BaseProdutos!B215=\"\",\"\",BaseProdutos!B215)","v":""},{"$f":"IFERROR(VLOOKUP(B225,BaseProdutos!B:V,21,0),\"\")","v":""},null,"","",{"$f":"IFERROR(VLOOKUP(B225,BaseProdutos!B:V,3,0),\"\")","v":""},{"$f":"IFERROR(VLOOKUP(B225,BaseProdutos!B:V,17,0),\"\")","v":""},{"$f":"IFERROR(SUM(VLOOKUP(B225,BaseProdutos!B:V,13,0),VLOOKUP(B225,BaseProdutos!B:V,14,0)),\"\")","v":""},{"$f":"IFERROR(SUM(VLOOKUP(B225,BaseProdutos!B:V,15,0),VLOOKUP(B225,BaseProdutos!B:V,16,0))/100,\"\")","v":""},{"$f":"IFERROR(VLOOKUP(B225,BaseProdutos!B:V,4,0),\"\")","v":""},"",null,null,null,null,null,"","","","","",{"$f":"IFERROR(F225*PE!$F$20,\"\")","v":""},"",""]
[null,{"$f":"IF(BaseProdutos!B216=\"\",\"\",BaseProdutos!B216)","v":""},{"$f":"IFERROR(VLOOKUP(B226,BaseProdutos!B:V,21,0),\"\")","v":""},null,"","",{"$f":"IFERROR(VLOOKUP(B226,BaseProdutos!B:V,3,0),\"\")","v":""},{"$f":"IFERROR(VLOOKUP(B226,BaseProdutos!B:V,17,0),\"\")","v":""},{"$f":"IFERROR(SUM(VLOOKUP(B226,BaseProdutos!B:V,13,0),VLOOKUP(B226,BaseProdutos!B:V,14,0)),\"\")","v":""},{"$f":"IFERROR(SUM(VLOOKUP(B226,BaseProdutos!B:V,15,0),VLOOKUP(B226,BaseProdutos!B:V,16,0))/100,\"\")","v":""},{"$f":"IFERROR(VLOOKUP(B226,BaseProdutos!B:V,4,0),\"\")","v":""},"",null,null,null,null,null,"","","","","",{"$f":"IFERROR(F226*PE!$F$20,\"\")","v":""},"",""]
[null,{"$f":"IF(BaseProdutos!B217=\"\",\"\",BaseProdutos!B217)","v":""},{"$f":"IFERROR(VLOOKUP(B227,BaseProdutos!B:V,21,0),\"\")","v":""},null,"","",{"$f":"IFERROR(VLOOKUP(B227,BaseProdutos!B:V,3,0),\"\")","v":""},{"$f":"IFERROR(VLOOKUP(B227,BaseProdutos!B:V,17,0),\"\")","v":""},{"$f":"IFERROR(SUM(VLOOKUP(B227,BaseProdutos!B:V,13,0),VLOOKUP(B227,BaseProdutos!B:V,14,0)),\"\")","v":""},{"$f":"IFERROR(SUM(VLOOKUP(B227,BaseProdutos!B:V,15,0),VLOOKUP(B227,BaseProdutos!B:V,16,0))/100,\"\")","v":""},{"$f":"IFERROR(VLOOKUP(B227,BaseProdutos!B:V,4,0),\"\")","v":""},"",null,null,null,null,null,"","","","","",{"$f":"IFERROR(F227*PE!$F$20,\"\")","v":""},"",""]
[null,{"$f":"IF(BaseProdutos!B218=\"\",\"\",BaseProdutos!B218)","v":""},{"$f":"IFERROR(VLOOKUP(B228,BaseProdutos!B:V,21,0),\"\")","v":""},null,"","",{"$f":"IFERROR(VLOOKUP(B228,BaseProdutos!B:V,3,0),\"\")","v":""},{"$f":"IFERROR(VLOOKUP(B228,BaseProdutos!B:V,17,0),\"\")","v":""},{"$f":"IFERROR(SUM(VLOOKUP(B228,BaseProdutos!B:V,13,0),VLOOKUP(B228,BaseProdutos!B:V,14,0)),\"\")","v":""},{"$f":"IFERROR(SUM(VLOOKUP(B228,BaseProdutos!B:V,15,0),VLOOKUP(B228,BaseProdutos!B:V,16,0))/100,\"\")","v":""},{"$f":"IFERROR(VLOOKUP(B228,BaseProdutos!B:V,4,0),\"\")","v":""},"",null,null,null,null,null,"","","","","",{"$f":"IFERROR(F228*PE!$F$20,\"\")","v":""},"",""]
[null,{"$f":"IF(BaseProdutos!B219=\"\",\"\",BaseProdutos!B219)","v":""},{"$f":"IFERROR(VLOOKUP(B229,BaseProdutos!B:V,21,0),\"\")","v":""},null,"","",{"$f":"IFERROR(VLOOKUP(B229,BaseProdutos!B:V,3,0),\"\")","v":""},{"$f":"IFERROR(VLOOKUP(B229,BaseProdutos!B:V,17,0),\"\")","v":""},{"$f":"IFERROR(SUM(VLOOKUP(B229,BaseProdutos!B:V,13,0),VLOOKUP(B229,BaseProdutos!B:V,14,0)),\"\")","v":""},{"$f":"IFERROR(SUM(VLOOKUP(B229,BaseProdutos!B:V,15,0),VLOOKUP(B229,BaseProdutos!B:V,16,0))/100,\"\")","v":""},{"$f":"IFERROR(VLOOKUP(B229,BaseProdutos!B:V,4,0),\"\")","v":""},"",null,null,null,null,null,"","","","","",{"$f":"IFERROR(F229*PE!$F$20,\"\")","v":""},"",""]
[null,{"$f":"IF(BaseProdutos!B220=\"\",\"\",BaseProdutos!B220)","v":""},{"$f":"IFERROR(VLOOKUP(B230,BaseProdutos!B:V,21,0),\"\")","v":""},null,"","",{"$f":"IFERROR(VLOOKUP(B230,BaseProdutos!B:V,3,0),\"\")","v":""},{"$f":"IFERROR(VLOOKUP(B230,BaseProdutos!B:V,17,0),\"\")","v":""},{"$f":"IFERROR(SUM(VLOOKUP(B230,BaseProdutos!B:V,13,0),VLOOKUP(B230,BaseProdutos!B:V,14,0)),\"\")","v":""},{"$f":"IFERROR(SUM(VLOOKUP(B230,BaseProdutos!B:V,15,0),VLOOKUP(B230,BaseProdutos!B:V,16,0))/100,\"\")","v":""},{"$f":"IFERROR(VLOOKUP(B230,BaseProdutos!B:V,4,0),\"\")","v":""},"",null,null,null,null,null,"","","","","",{"$f":"IFERROR(F230*PE!$F$20,\"\")","v":""},"",""]
[null,{"$f":"IF(BaseProdutos!B221=\"\",\"\",BaseProdutos!B221)","v":""},{"$f":"IFERROR(VLOOKUP(B231,BaseProdutos!B:V,21,0),\"\")","v":""},null,"","",{"$f":"IFERROR(VLOOKUP(B231,BaseProdutos!B:V,3,0),\"\")","v":""},{"$f":"IFERROR(VLOOKUP(B231,BaseProdutos!B:V,17,0),\"\")","v":""},{"$f":"IFERROR(SUM(VLOOKUP(B231,BaseProdutos!B:V,13,0),VLOOKUP(B231,BaseProdutos!B:V,14,0)),\"\")","v":""},{"$f":"IFERROR(SUM(VLOOKUP(B231,BaseProdutos!B:V,15,0),VLOOKUP(B231,BaseProdutos!B:V,16,0))/100,\"\")","v":""},{"$f":"IFERROR(VLOOKUP(B231,BaseProdutos!B:V,4,0),\"\")","v":""},"",null,null,null,null,null,"","","","","",{"$f":"IFERROR(F231*PE!$F$20,\"\")","v":""},"",""]
[null,{"$f":"IF(BaseProdutos!B222=\"\",\"\",BaseProdutos!B222)","v":""},{"$f":"IFERROR(VLOOKUP(B232,BaseProdutos!B:V,21,0),\"\")","v":""},null,"","",{"$f":"IFERROR(VLOOKUP(B232,BaseProdutos!B:V,3,0),\"\")","v":""},{"$f":"IFERROR(VLOOKUP(B232,BaseProdutos!B:V,17,0),\"\")","v":""},{"$f":"IFERROR(SUM(VLOOKUP(B232,BaseProdutos!B:V,13,0),VLOOKUP(B232,BaseProdutos!B:V,14,0)),\"\")","v":""},{"$f":"IFERROR(SUM(VLOOKUP(B232,BaseProdutos!B:V,15,0),VLOOKUP(B232,BaseProdutos!B:V,16,0))/100,\"\")","v":""},{"$f":"IFERROR(VLOOKUP(B232,BaseProdutos!B:V,4,0),\"\")","v":""},"",null,null,null,null,null,"","","","","",{"$f":"IFERROR(F232*PE!$F$20,\"\")","v":""},"",""]
[null,{"$f":"IF(BaseProdutos!B223=\"\",\"\",BaseProdutos!B223)","v":""},{"$f":"IFERROR(VLOOKUP(B233,BaseProdutos!B:V,21,0),\"\")","v":""},null,"","",{"$f":"IFERROR(VLOOKUP(B233,BaseProdutos!B:V,3,0),\"\")","v":""},{"$f":"IFERROR(VLOOKUP(B233,BaseProdutos!B:V,17,0),\"\")","v":""},{"$f":"IFERROR(SUM(VLOOKUP(B233,BaseProdutos!B:V,13,0),VLOOKUP(B233,BaseProdutos!B:V,14,0)),\"\")","v":""},{"$f":"IFERROR(SUM(VLOOKUP(B233,BaseProdutos!B:V,15,0),VLOOKUP(B233,BaseProdutos!B:V,16,0))/100,\"\")","v":""},{"$f":"IFERROR(VLOOKUP(B233,BaseProdutos!B:V,4,0),\"\")","v":""},"",null,null,null,null,null,"","","","","",{"$f":"IFERROR(F233*PE!$F$20,\"\")","v":""},"",""]
[null,{"$f":"IF(BaseProdutos!B224=\"\",\"\",BaseProdutos!B224)","v":""},{"$f":"IFERROR(VLOOKUP(B234,BaseProdutos!B:V,21,0),\"\")","v":""},null,"","",{"$f":"IFERROR(VLOOKUP(B234,BaseProdutos!B:V,3,0),\"\")","v":""},{"$f":"IFERROR(VLOOKUP(B234,BaseProdutos!B:V,17,0),\"\")","v":""},{"$f":"IFERROR(SUM(VLOOKUP(B234,BaseProdutos!B:V,13,0),VLOOKUP(B234,BaseProdutos!B:V,14,0)),\"\")","v":""},{"$f":"IFERROR(SUM(VLOOKUP(B234,BaseProdutos!B:V,15,0),VLOOKUP(B234,BaseProdutos!B:V,16,0))/100,\"\")","v":""},{"$f":"IFERROR(VLOOKUP(B234,BaseProdutos!B:V,4,0),\"\")","v":""},"",null,null,null,null,null,"","","","","",{"$f":"IFERROR(F234*PE!$F$20,\"\")","v":""},"",""]
[null,{"$f":"IF(BaseProdutos!B225=\"\",\"\",BaseProdutos!B225)","v":""},{"$f":"IFERROR(VLOOKUP(B235,BaseProdutos!B:V,21,0),\"\")","v":""},null,"","",{"$f":"IFERROR(VLOOKUP(B235,BaseProdutos!B:V,3,0),\"\")","v":""},{"$f":"IFERROR(VLOOKUP(B235,BaseProdutos!B:V,17,0),\"\")","v":""},{"$f":"IFERROR(SUM(VLOOKUP(B235,BaseProdutos!B:V,13,0),VLOOKUP(B235,BaseProdutos!B:V,14,0)),\"\")","v":""},{"$f":"IFERROR(SUM(VLOOKUP(B235,BaseProdutos!B:V,15,0),VLOOKUP(B235,BaseProdutos!B:V,16,0))/100,\"\")","v":""},{"$f":"IFERROR(VLOOKUP(B235,BaseProdutos!B:V,4,0),\"\")","v":""},"",null,null,null,null,null,"","","","","",{"$f":"IFERROR(F235*PE!$F$20,\"\")","v":""},"",""]
[null,{"$f":"IF(BaseProdutos!B226=\"\",\"\",BaseProdutos!B226)","v":""},{"$f":"IFERROR(VLOOKUP(B236,BaseProdutos!B:V,21,0),\"\")","v":""},null,"","",{"$f":"IFERROR(VLOOKUP(B236,BaseProdutos!B:V,3,0),\"\")","v":""},{"$f":"IFERROR(VLOOKUP(B236,BaseProdutos!B:V,17,0),\"\")","v":""},{"$f":"IFERROR(SUM(VLOOKUP(B236,BaseProdutos!B:V,13,0),VLOOKUP(B236,BaseProdutos!B:V,14,0)),\"\")","v":""},{"$f":"IFERROR(SUM(VLOOKUP(B236,BaseProdutos!B:V,15,0),VLOOKUP(B236,BaseProdutos!B:V,16,0))/100,\"\")","v":""},{"$f":"IFERROR(VLOOKUP(B236,BaseProdutos!B:V,4,0),\"\")","v":""},"",null,null,null,null,null,"","","","","",{"$f":"IFERROR(F236*PE!$F$20,\"\")","v":""},"",""]
[null,{"$f":"IF(BaseProdutos!B227=\"\",\"\",BaseProdutos!B227)","v":""},{"$f":"IFERROR(VLOOKUP(B237,BaseProdutos!B:V,21,0),\"\")","v":""},null,"","",{"$f":"IFERROR(VLOOKUP(B237,BaseProdutos!B:V,3,0),\"\")","v":""},{"$f":"IFERROR(VLOOKUP(B237,BaseProdutos!B:V,17,0),\"\")","v":""},{"$f":"IFERROR(SUM(VLOOKUP(B237,BaseProdutos!B:V,13,0),VLOOKUP(B237,BaseProdutos!B:V,14,0)),\"\")","v":""},{"$f":"IFERROR(SUM(VLOOKUP(B237,BaseProdutos!B:V,15,0),VLOOKUP(B237,BaseProdutos!B:V,16,0))/100,\"\")","v":""},{"$f":"IFERROR(VLOOKUP(B237,BaseProdutos!B:V,4,0),\"\")","v":""},"",null,null,null,null,null,"","","","","",{"$f":"IFERROR(F237*PE!$F$20,\"\")","v":""},"",""]
[null,{"$f":"IF(BaseProdutos!B228=\"\",\"\",BaseProdutos!B228)","v":""},{"$f":"IFERROR(VLOOKUP(B238,BaseProdutos!B:V,21,0),\"\")","v":""},null,"","",{"$f":"IFERROR(VLOOKUP(B238,BaseProdutos!B:V,3,0),\"\")","v":""},{"$f":"IFERROR(VLOOKUP(B238,BaseProdutos!B:V,17,0),\"\")","v":""},{"$f":"IFERROR(SUM(VLOOKUP(B238,BaseProdutos!B:V,13,0),VLOOKUP(B238,BaseProdutos!B:V,14,0)),\"\")","v":""},{"$f":"IFERROR(SUM(VLOOKUP(B238,BaseProdutos!B:V,15,0),VLOOKUP(B238,BaseProdutos!B:V,16,0))/100,\"\")","v":""},{"$f":"IFERROR(VLOOKUP(B238,BaseProdutos!B:V,4,0),\"\")","v":""},"",null,null,null,null,null,"","","","","",{"$f":"IFERROR(F238*PE!$F$20,\"\")","v":""},"",""]
[null,{"$f":"IF(BaseProdutos!B229=\"\",\"\",BaseProdutos!B229)","v":""},{"$f":"IFERROR(VLOOKUP(B239,BaseProdutos!B:V,21,0),\"\")","v":""},null,"","",{"$f":"IFERROR(VLOOKUP(B239,BaseProdutos!B:V,3,0),\"\")","v":""},{"$f":"IFERROR(VLOOKUP(B239,BaseProdutos!B:V,17,0),\"\")","v":""},{"$f":"IFERROR(SUM(VLOOKUP(B239,BaseProdutos!B:V,13,0),VLOOKUP(B239,BaseProdutos!B:V,14,0)),\"\")","v":""},{"$f":"IFERROR(SUM(VLOOKUP(B239,BaseProdutos!B:V,15,0),VLOOKUP(B239,BaseProdutos!B:V,16,0))/100,\"\")","v":""},{"$f":"IFERROR(VLOOKUP(B239,BaseProdutos!B:V,4,0),\"\")","v":""},"",null,null,null,null,null,"","","","","",{"$f":"IFERROR(F239*PE!$F$20,\"\")","v":""},"",""]
[null,{"$f":"IF(BaseProdutos!B230=\"\",\"\",BaseProdutos!B230)","v":""},{"$f":"IFERROR(VLOOKUP(B240,BaseProdutos!B:V,21,0),\"\")","v":""},null,"","",{"$f":"IFERROR(VLOOKUP(B240,BaseProdutos!B:V,3,0),\"\")","v":""},{"$f":"IFERROR(VLOOKUP(B240,BaseProdutos!B:V,17,0),\"\")","v":""},{"$f":"IFERROR(SUM(VLOOKUP(B240,BaseProdutos!B:V,13,0),VLOOKUP(B240,BaseProdutos!B:V,14,0)),\"\")","v":""},{"$f":"IFERROR(SUM(VLOOKUP(B240,BaseProdutos!B:V,15,0),VLOOKUP(B240,BaseProdutos!B:V,16,0))/100,\"\")","v":""},{"$f":"IFERROR(VLOOKUP(B240,BaseProdutos!B:V,4,0),\"\")","v":""},"",null,null,null,null,null,"","","","","",{"$f":"IFERROR(F240*PE!$F$20,\"\")","v":""},"",""]
[null,{"$f":"IF(BaseProdutos!B231=\"\",\"\",BaseProdutos!B231)","v":""},{"$f":"IFERROR(VLOOKUP(B241,BaseProdutos!B:V,21,0),\"\")","v":""},null,"","",{"$f":"IFERROR(VLOOKUP(B241,BaseProdutos!B:V,3,0),\"\")","v":""},{"$f":"IFERROR(VLOOKUP(B241,BaseProdutos!B:V,17,0),\"\")","v":""},{"$f":"IFERROR(SUM(VLOOKUP(B241,BaseProdutos!B:V,13,0),VLOOKUP(B241,BaseProdutos!B:V,14,0)),\"\")","v":""},{"$f":"IFERROR(SUM(VLOOKUP(B241,BaseProdutos!B:V,15,0),VLOOKUP(B241,BaseProdutos!B:V,16,0))/100,\"\")","v":""},{"$f":"IFERROR(VLOOKUP(B241,BaseProdutos!B:V,4,0),\"\")","v":""},"",null,null,null,null,null,"","","","","",{"$f":"IFERROR(F241*PE!$F$20,\"\")","v":""},"",""]
[null,{"$f":"IF(BaseProdutos!B232=\"\",\"\",BaseProdutos!B232)","v":""},{"$f":"IFERROR(VLOOKUP(B242,BaseProdutos!B:V,21,0),\"\")","v":""},null,"","",{"$f":"IFERROR(VLOOKUP(B242,BaseProdutos!B:V,3,0),\"\")","v":""},{"$f":"IFERROR(VLOOKUP(B242,BaseProdutos!B:V,17,0),\"\")","v":""},{"$f":"IFERROR(SUM(VLOOKUP(B242,BaseProdutos!B:V,13,0),VLOOKUP(B242,BaseProdutos!B:V,14,0)),\"\")","v":""},{"$f":"IFERROR(SUM(VLOOKUP(B242,BaseProdutos!B:V,15,0),VLOOKUP(B242,BaseProdutos!B:V,16,0))/100,\"\")","v":""},{"$f":"IFERROR(VLOOKUP(B242,BaseProdutos!B:V,4,0),\"\")","v":""},"",null,null,null,null,null,"","","","","",{"$f":"IFERROR(F242*PE!$F$20,\"\")","v":""},"",""]
[null,{"$f":"IF(BaseProdutos!B233=\"\",\"\",BaseProdutos!B233)","v":""},{"$f":"IFERROR(VLOOKUP(B243,BaseProdutos!B:V,21,0),\"\")","v":""},null,"","",{"$f":"IFERROR(VLOOKUP(B243,BaseProdutos!B:V,3,0),\"\")","v":""},{"$f":"IFERROR(VLOOKUP(B243,BaseProdutos!B:V,17,0),\"\")","v":""},{"$f":"IFERROR(SUM(VLOOKUP(B243,BaseProdutos!B:V,13,0),VLOOKUP(B243,BaseProdutos!B:V,14,0)),\"\")","v":""},{"$f":"IFERROR(SUM(VLOOKUP(B243,BaseProdutos!B:V,15,0),VLOOKUP(B243,BaseProdutos!B:V,16,0))/100,\"\")","v":""},{"$f":"IFERROR(VLOOKUP(B243,BaseProdutos!B:V,4,0),\"\")","v":""},"",null,null,null,null,null,"","","","","",{"$f":"IFERROR(F243*PE!$F$20,\"\")","v":""},"",""]
[null,{"$f":"IF(BaseProdutos!B234=\"\",\"\",BaseProdutos!B234)","v":""},{"$f":"IFERROR(VLOOKUP(B244,BaseProdutos!B:V,21,0),\"\")","v":""},null,"","",{"$f":"IFERROR(VLOOKUP(B244,BaseProdutos!B:V,3,0),\"\")","v":""},{"$f":"IFERROR(VLOOKUP(B244,BaseProdutos!B:V,17,0),\"\")","v":""},{"$f":"IFERROR(SUM(VLOOKUP(B244,BaseProdutos!B:V,13,0),VLOOKUP(B244,BaseProdutos!B:V,14,0)),\"\")","v":""},{"$f":"IFERROR(SUM(VLOOKUP(B244,BaseProdutos!B:V,15,0),VLOOKUP(B244,BaseProdutos!B:V,16,0))/100,\"\")","v":""},{"$f":"IFERROR(VLOOKUP(B244,BaseProdutos!B:V,4,0),\"\")","v":""},"",null,null,null,null,null,"","","","","",{"$f":"IFERROR(F244*PE!$F$20,\"\")","v":""},"",""]
[null,{"$f":"IF(BaseProdutos!B235=\"\",\"\",BaseProdutos!B235)","v":""},{"$f":"IFERROR(VLOOKUP(B245,BaseProdutos!B:V,21,0),\"\")","v":""},null,"","",{"$f":"IFERROR(VLOOKUP(B245,BaseProdutos!B:V,3,0),\"\")","v":""},{"$f":"IFERROR(VLOOKUP(B245,BaseProdutos!B:V,17,0),\"\")","v":""},{"$f":"IFERROR(SUM(VLOOKUP(B245,BaseProdutos!B:V,13,0),VLOOKUP(B245,BaseProdutos!B:V,14,0)),\"\")","v":""},{"$f":"IFERROR(SUM(VLOOKUP(B245,BaseProdutos!B:V,15,0),VLOOKUP(B245,BaseProdutos!B:V,16,0))/100,\"\")","v":""},{"$f":"IFERROR(VLOOKUP(B245,BaseProdutos!B:V,4,0),\"\")","v":""},"",null,null,null,null,null,"","","","","",{"$f":"IFERROR(F245*PE!$F$20,\"\")","v":""},"",""]
[null,{"$f":"IF(BaseProdutos!B236=\"\",\"\",BaseProdutos!B236)","v":""},{"$f":"IFERROR(VLOOKUP(B246,BaseProdutos!B:V,21,0),\"\")","v":""},null,"","",{"$f":"IFERROR(VLOOKUP(B246,BaseProdutos!B:V,3,0),\"\")","v":""},{"$f":"IFERROR(VLOOKUP(B246,BaseProdutos!B:V,17,0),\"\")","v":""},{"$f":"IFERROR(SUM(VLOOKUP(B246,BaseProdutos!B:V,13,0),VLOOKUP(B246,BaseProdutos!B:V,14,0)),\"\")","v":""},{"$f":"IFERROR(SUM(VLOOKUP(B246,BaseProdutos!B:V,15,0),VLOOKUP(B246,BaseProdutos!B:V,16,0))/100,\"\")","v":""},{"$f":"IFERROR(VLOOKUP(B246,BaseProdutos!B:V,4,0),\"\")","v":""},"",null,null,null,null,null,"","","","","",{"$f":"IFERROR(F246*PE!$F$20,\"\")","v":""},"",""]
[null,{"$f":"IF(BaseProdutos!B237=\"\",\"\",BaseProdutos!B237)","v":""},{"$f":"IFERROR(VLOOKUP(B247,BaseProdutos!B:V,21,0),\"\")","v":""},null,"","",{"$f":"IFERROR(VLOOKUP(B247,BaseProdutos!B:V,3,0),\"\")","v":""},{"$f":"IFERROR(VLOOKUP(B247,BaseProdutos!B:V,17,0),\"\")","v":""},{"$f":"IFERROR(SUM(VLOOKUP(B247,BaseProdutos!B:V,13,0),VLOOKUP(B247,BaseProdutos!B:V,14,0)),\"\")","v":""},{"$f":"IFERROR(SUM(VLOOKUP(B247,BaseProdutos!B:V,15,0),VLOOKUP(B247,BaseProdutos!B:V,16,0))/100,\"\")","v":""},{"$f":"IFERROR(VLOOKUP(B247,BaseProdutos!B:V,4,0),\"\")","v":""},"",null,null,null,null,null,"","","","","",{"$f":"IFERROR(F247*PE!$F$20,\"\")","v":""},"",""]
[null,{"$f":"IF(BaseProdutos!B238=\"\",\"\",BaseProdutos!B238)","v":""},{"$f":"IFERROR(VLOOKUP(B248,BaseProdutos!B:V,21,0),\"\")","v":""},null,"","",{"$f":"IFERROR(VLOOKUP(B248,BaseProdutos!B:V,3,0),\"\")","v":""},{"$f":"IFERROR(VLOOKUP(B248,BaseProdutos!B:V,17,0),\"\")","v":""},{"$f":"IFERROR(SUM(VLOOKUP(B248,BaseProdutos!B:V,13,0),VLOOKUP(B248,BaseProdutos!B:V,14,0)),\"\")","v":""},{"$f":"IFERROR(SUM(VLOOKUP(B248,BaseProdutos!B:V,15,0),VLOOKUP(B248,BaseProdutos!B:V,16,0))/100,\"\")","v":""},{"$f":"IFERROR(VLOOKUP(B248,BaseProdutos!B:V,4,0),\"\")","v":""},"",null,null,null,null,null,"","","","","",{"$f":"IFERROR(F248*PE!$F$20,\"\")","v":""},"",""]
[null,{"$f":"IF(BaseProdutos!B239=\"\",\"\",BaseProdutos!B239)","v":""},{"$f":"IFERROR(VLOOKUP(B249,BaseProdutos!B:V,21,0),\"\")","v":""},null,"","",{"$f":"IFERROR(VLOOKUP(B249,BaseProdutos!B:V,3,0),\"\")","v":""},{"$f":"IFERROR(VLOOKUP(B249,BaseProdutos!B:V,17,0),\"\")","v":""},{"$f":"IFERROR(SUM(VLOOKUP(B249,BaseProdutos!B:V,13,0),VLOOKUP(B249,BaseProdutos!B:V,14,0)),\"\")","v":""},{"$f":"IFERROR(SUM(VLOOKUP(B249,BaseProdutos!B:V,15,0),VLOOKUP(B249,BaseProdutos!B:V,16,0))/100,\"\")","v":""},{"$f":"IFERROR(VLOOKUP(B249,BaseProdutos!B:V,4,0),\"\")","v":""},"",null,null,null,null,null,"","","","","",{"$f":"IFERROR(F249*PE!$F$20,\"\")","v":""},"",""]
[null,{"$f":"IF(BaseProdutos!B240=\"\",\"\",BaseProdutos!B240)","v":""},{"$f":"IFERROR(VLOOKUP(B250,BaseProdutos!B:V,21,0),\"\")","v":""},null,"","",{"$f":"IFERROR(VLOOKUP(B250,BaseProdutos!B:V,3,0),\"\")","v":""},{"$f":"IFERROR(VLOOKUP(B250,BaseProdutos!B:V,17,0),\"\")","v":""},{"$f":"IFERROR(SUM(VLOOKUP(B250,BaseProdutos!B:V,13,0),VLOOKUP(B250,BaseProdutos!B:V,14,0)),\"\")","v":""},{"$f":"IFERROR(SUM(VLOOKUP(B250,BaseProdutos!B:V,15,0),VLOOKUP(B250,BaseProdutos!B:V,16,0))/100,\"\")","v":""},{"$f":"IFERROR(VLOOKUP(B250,BaseProdutos!B:V,4,0),\"\")","v":""},"",null,null,null,null,null,"","","","","",{"$f":"IFERROR(F250*PE!$F$20,\"\")","v":""},"",""]
[null,{"$f":"IF(BaseProdutos!B241=\"\",\"\",BaseProdutos!B241)","v":""},{"$f":"IFERROR(VLOOKUP(B251,BaseProdutos!B:V,21,0),\"\")","v":""},null,"","",{"$f":"IFERROR(VLOOKUP(B251,BaseProdutos!B:V,3,0),\"\")","v":""},{"$f":"IFERROR(VLOOKUP(B251,BaseProdutos!B:V,17,0),\"\")","v":""},{"$f":"IFERROR(SUM(VLOOKUP(B251,BaseProdutos!B:V,13,0),VLOOKUP(B251,BaseProdutos!B:V,14,0)),\"\")","v":""},{"$f":"IFERROR(SUM(VLOOKUP(B251,BaseProdutos!B:V,15,0),VLOOKUP(B251,BaseProdutos!B:V,16,0))/100,\"\")","v":""},{"$f":"IFERROR(VLOOKUP(B251,BaseProdutos!B:V,4,0),\"\")","v":""},"",null,null,null,null,null,"","","","","",{"$f":"IFERROR(F251*PE!$F$20,\"\")","v":""},"",""]
[null,{"$f":"IF(BaseProdutos!B242=\"\",\"\",BaseProdutos!B242)","v":""},{"$f":"IFERROR(VLOOKUP(B252,BaseProdutos!B:V,21,0),\"\")","v":""},null,"","",{"$f":"IFERROR(VLOOKUP(B252,BaseProdutos!B:V,3,0),\"\")","v":""},{"$f":"IFERROR(VLOOKUP(B252,BaseProdutos!B:V,17,0),\"\")","v":""},{"$f":"IFERROR(SUM(VLOOKUP(B252,BaseProdutos!B:V,13,0),VLOOKUP(B252,BaseProdutos!B:V,14,0)),\"\")","v":""},{"$f":"IFERROR(SUM(VLOOKUP(B252,BaseProdutos!B:V,15,0),VLOOKUP(B252,BaseProdutos!B:V,16,0))/100,\"\")","v":""},{"$f":"IFERROR(VLOOKUP(B252,BaseProdutos!B:V,4,0),\"\")","v":""},"",null,null,null,null,null,"","","","","",{"$f":"IFERROR(F252*PE!$F$20,\"\")","v":""},"",""]
[null,{"$f":"IF(BaseProdutos!B243=\"\",\"\",BaseProdutos!B243)","v":""},{"$f":"IFERROR(VLOOKUP(B253,BaseProdutos!B:V,21,0),\"\")","v":""},null,"","",{"$f":"IFERROR(VLOOKUP(B253,BaseProdutos!B:V,3,0),\"\")","v":""},{"$f":"IFERROR(VLOOKUP(B253,BaseProdutos!B:V,17,0),\"\")","v":""},{"$f":"IFERROR(SUM(VLOOKUP(B253,BaseProdutos!B:V,13,0),VLOOKUP(B253,BaseProdutos!B:V,14,0)),\"\")","v":""},{"$f":"IFERROR(SUM(VLOOKUP(B253,BaseProdutos!B:V,15,0),VLOOKUP(B253,BaseProdutos!B:V,16,0))/100,\"\")","v":""},{"$f":"IFERROR(VLOOKUP(B253,BaseProdutos!B:V,4,0),\"\")","v":""},"",null,null,null,null,null,"","","","","",{"$f":"IFERROR(F253*PE!$F$20,\"\")","v":""},"",""]
[null,{"$f":"IF(BaseProdutos!B244=\"\",\"\",BaseProdutos!B244)","v":""},{"$f":"IFERROR(VLOOKUP(B254,BaseProdutos!B:V,21,0),\"\")","v":""},null,"","",{"$f":"IFERROR(VLOOKUP(B254,BaseProdutos!B:V,3,0),\"\")","v":""},{"$f":"IFERROR(VLOOKUP(B254,BaseProdutos!B:V,17,0),\"\")","v":""},{"$f":"IFERROR(SUM(VLOOKUP(B254,BaseProdutos!B:V,13,0),VLOOKUP(B254,BaseProdutos!B:V,14,0)),\"\")","v":""},{"$f":"IFERROR(SUM(VLOOKUP(B254,BaseProdutos!B:V,15,0),VLOOKUP(B254,BaseProdutos!B:V,16,0))/100,\"\")","v":""},{"$f":"IFERROR(VLOOKUP(B254,BaseProdutos!B:V,4,0),\"\")","v":""},"",null,null,null,null,null,"","","","","",{"$f":"IFERROR(F254*PE!$F$20,\"\")","v":""},"",""]
[null,{"$f":"IF(BaseProdutos!B245=\"\",\"\",BaseProdutos!B245)","v":""},{"$f":"IFERROR(VLOOKUP(B255,BaseProdutos!B:V,21,0),\"\")","v":""},null,"","",{"$f":"IFERROR(VLOOKUP(B255,BaseProdutos!B:V,3,0),\"\")","v":""},{"$f":"IFERROR(VLOOKUP(B255,BaseProdutos!B:V,17,0),\"\")","v":""},{"$f":"IFERROR(SUM(VLOOKUP(B255,BaseProdutos!B:V,13,0),VLOOKUP(B255,BaseProdutos!B:V,14,0)),\"\")","v":""},{"$f":"IFERROR(SUM(VLOOKUP(B255,BaseProdutos!B:V,15,0),VLOOKUP(B255,BaseProdutos!B:V,16,0))/100,\"\")","v":""},{"$f":"IFERROR(VLOOKUP(B255,BaseProdutos!B:V,4,0),\"\")","v":""},"",null,null,null,null,null,"","","","","",{"$f":"IFERROR(F255*PE!$F$20,\"\")","v":""},"",""]
[null,{"$f":"IF(BaseProdutos!B246=\"\",\"\",BaseProdutos!B246)","v":""},{"$f":"IFERROR(VLOOKUP(B256,BaseProdutos!B:V,21,0),\"\")","v":""},null,"","",{"$f":"IFERROR(VLOOKUP(B256,BaseProdutos!B:V,3,0),\"\")","v":""},{"$f":"IFERROR(VLOOKUP(B256,BaseProdutos!B:V,17,0),\"\")","v":""},{"$f":"IFERROR(SUM(VLOOKUP(B256,BaseProdutos!B:V,13,0),VLOOKUP(B256,BaseProdutos!B:V,14,0)),\"\")","v":""},{"$f":"IFERROR(SUM(VLOOKUP(B256,BaseProdutos!B:V,15,0),VLOOKUP(B256,BaseProdutos!B:V,16,0))/100,\"\")","v":""},{"$f":"IFERROR(VLOOKUP(B256,BaseProdutos!B:V,4,0),\"\")","v":""},"",null,null,null,null,null,"","","","","",{"$f":"IFERROR(F256*PE!$F$20,\"\")","v":""},"",""]
[null,{"$f":"IF(BaseProdutos!B247=\"\",\"\",BaseProdutos!B247)","v":""},{"$f":"IFERROR(VLOOKUP(B257,BaseProdutos!B:V,21,0),\"\")","v":""},null,"","",{"$f":"IFERROR(VLOOKUP(B257,BaseProdutos!B:V,3,0),\"\")","v":""},{"$f":"IFERROR(VLOOKUP(B257,BaseProdutos!B:V,17,0),\"\")","v":""},{"$f":"IFERROR(SUM(VLOOKUP(B257,BaseProdutos!B:V,13,0),VLOOKUP(B257,BaseProdutos!B:V,14,0)),\"\")","v":""},{"$f":"IFERROR(SUM(VLOOKUP(B257,BaseProdutos!B:V,15,0),VLOOKUP(B257,BaseProdutos!B:V,16,0))/100,\"\")","v":""},{"$f":"IFERROR(VLOOKUP(B257,BaseProdutos!B:V,4,0),\"\")","v":""},"",null,null,null,null,null,"","","","","",{"$f":"IFERROR(F257*PE!$F$20,\"\")","v":""},"",""]
[null,{"$f":"IF(BaseProdutos!B248=\"\",\"\",BaseProdutos!B248)","v":""},{"$f":"IFERROR(VLOOKUP(B258,BaseProdutos!B:V,21,0),\"\")","v":""},null,"","",{"$f":"IFERROR(VLOOKUP(B258,BaseProdutos!B:V,3,0),\"\")","v":""},{"$f":"IFERROR(VLOOKUP(B258,BaseProdutos!B:V,17,0),\"\")","v":""},{"$f":"IFERROR(SUM(VLOOKUP(B258,BaseProdutos!B:V,13,0),VLOOKUP(B258,BaseProdutos!B:V,14,0)),\"\")","v":""},{"$f":"IFERROR(SUM(VLOOKUP(B258,BaseProdutos!B:V,15,0),VLOOKUP(B258,BaseProdutos!B:V,16,0))/100,\"\")","v":""},{"$f":"IFERROR(VLOOKUP(B258,BaseProdutos!B:V,4,0),\"\")","v":""},"",null,null,null,null,null,"","","","","",{"$f":"IFERROR(F258*PE!$F$20,\"\")","v":""},"",""]
[null,{"$f":"IF(BaseProdutos!B249=\"\",\"\",BaseProdutos!B249)","v":""},{"$f":"IFERROR(VLOOKUP(B259,BaseProdutos!B:V,21,0),\"\")","v":""},null,"","",{"$f":"IFERROR(VLOOKUP(B259,BaseProdutos!B:V,3,0),\"\")","v":""},{"$f":"IFERROR(VLOOKUP(B259,BaseProdutos!B:V,17,0),\"\")","v":""},{"$f":"IFERROR(SUM(VLOOKUP(B259,BaseProdutos!B:V,13,0),VLOOKUP(B259,BaseProdutos!B:V,14,0)),\"\")","v":""},{"$f":"IFERROR(SUM(VLOOKUP(B259,BaseProdutos!B:V,15,0),VLOOKUP(B259,BaseProdutos!B:V,16,0))/100,\"\")","v":""},{"$f":"IFERROR(VLOOKUP(B259,BaseProdutos!B:V,4,0),\"\")","v":""},"",null,null,null,null,null,"","","","","",{"$f":"IFERROR(F259*PE!$F$20,\"\")","v":""},"",""]
[null,{"$f":"IF(BaseProdutos!B250=\"\",\"\",BaseProdutos!B250)","v":""},{"$f":"IFERROR(VLOOKUP(B260,BaseProdutos!B:V,21,0),\"\")","v":""},null,"","",{"$f":"IFERROR(VLOOKUP(B260,BaseProdutos!B:V,3,0),\"\")","v":""},{"$f":"IFERROR(VLOOKUP(B260,BaseProdutos!B:V,17,0),\"\")","v":""},{"$f":"IFERROR(SUM(VLOOKUP(B260,BaseProdutos!B:V,13,0),VLOOKUP(B260,BaseProdutos!B:V,14,0)),\"\")","v":""},{"$f":"IFERROR(SUM(VLOOKUP(B260,BaseProdutos!B:V,15,0),VLOOKUP(B260,BaseProdutos!B:V,16,0))/100,\"\")","v":""},{"$f":"IFERROR(VLOOKUP(B260,BaseProdutos!B:V,4,0),\"\")","v":""},"",null,null,null,null,null,"","","","","",{"$f":"IFERROR(F260*PE!$F$20,\"\")","v":""},"",""]
[null,{"$f":"IF(BaseProdutos!B251=\"\",\"\",BaseProdutos!B251)","v":""},{"$f":"IFERROR(VLOOKUP(B261,BaseProdutos!B:V,21,0),\"\")","v":""},null,"","",{"$f":"IFERROR(VLOOKUP(B261,BaseProdutos!B:V,3,0),\"\")","v":""},{"$f":"IFERROR(VLOOKUP(B261,BaseProdutos!B:V,17,0),\"\")","v":""},{"$f":"IFERROR(SUM(VLOOKUP(B261,BaseProdutos!B:V,13,0),VLOOKUP(B261,BaseProdutos!B:V,14,0)),\"\")","v":""},{"$f":"IFERROR(SUM(VLOOKUP(B261,BaseProdutos!B:V,15,0),VLOOKUP(B261,BaseProdutos!B:V,16,0))/100,\"\")","v":""},{"$f":"IFERROR(VLOOKUP(B261,BaseProdutos!B:V,4,0),\"\")","v":""},"",null,null,null,null,null,"","","","","",{"$f":"IFERROR(F261*PE!$F$20,\"\")","v":""},"",""]
[null,{"$f":"IF(BaseProdutos!B252=\"\",\"\",BaseProdutos!B252)","v":""},{"$f":"IFERROR(VLOOKUP(B262,BaseProdutos!B:V,21,0),\"\")","v":""},null,"","",{"$f":"IFERROR(VLOOKUP(B262,BaseProdutos!B:V,3,0),\"\")","v":""},{"$f":"IFERROR(VLOOKUP(B262,BaseProdutos!B:V,17,0),\"\")","v":""},{"$f":"IFERROR(SUM(VLOOKUP(B262,BaseProdutos!B:V,13,0),VLOOKUP(B262,BaseProdutos!B:V,14,0)),\"\")","v":""},{"$f":"IFERROR(SUM(VLOOKUP(B262,BaseProdutos!B:V,15,0),VLOOKUP(B262,BaseProdutos!B:V,16,0))/100,\"\")","v":""},{"$f":"IFERROR(VLOOKUP(B262,BaseProdutos!B:V,4,0),\"\")","v":""},"",null,null,null,null,null,"","","","","",{"$f":"IFERROR(F262*PE!$F$20,\"\")","v":""},"",""]
[null,{"$f":"IF(BaseProdutos!B253=\"\",\"\",BaseProdutos!B253)","v":""},{"$f":"IFERROR(VLOOKUP(B263,BaseProdutos!B:V,21,0),\"\")","v":""},null,"","",{"$f":"IFERROR(VLOOKUP(B263,BaseProdutos!B:V,3,0),\"\")","v":""},{"$f":"IFERROR(VLOOKUP(B263,BaseProdutos!B:V,17,0),\"\")","v":""},{"$f":"IFERROR(SUM(VLOOKUP(B263,BaseProdutos!B:V,13,0),VLOOKUP(B263,BaseProdutos!B:V,14,0)),\"\")","v":""},{"$f":"IFERROR(SUM(VLOOKUP(B263,BaseProdutos!B:V,15,0),VLOOKUP(B263,BaseProdutos!B:V,16,0))/100,\"\")","v":""},{"$f":"IFERROR(VLOOKUP(B263,BaseProdutos!B:V,4,0),\"\")","v":""},"",null,null,null,null,null,"","","","","",{"$f":"IFERROR(F263*PE!$F$20,\"\")","v":""},"",""]
[null,{"$f":"IF(BaseProdutos!B254=\"\",\"\",BaseProdutos!B254)","v":""},{"$f":"IFERROR(VLOOKUP(B264,BaseProdutos!B:V,21,0),\"\")","v":""},null,"","",{"$f":"IFERROR(VLOOKUP(B264,BaseProdutos!B:V,3,0),\"\")","v":""},{"$f":"IFERROR(VLOOKUP(B264,BaseProdutos!B:V,17,0),\"\")","v":""},{"$f":"IFERROR(SUM(VLOOKUP(B264,BaseProdutos!B:V,13,0),VLOOKUP(B264,BaseProdutos!B:V,14,0)),\"\")","v":""},{"$f":"IFERROR(SUM(VLOOKUP(B264,BaseProdutos!B:V,15,0),VLOOKUP(B264,BaseProdutos!B:V,16,0))/100,\"\")","v":""},{"$f":"IFERROR(VLOOKUP(B264,BaseProdutos!B:V,4,0),\"\")","v":""},"",null,null,null,null,null,"","","","","",{"$f":"IFERROR(F264*PE!$F$20,\"\")","v":""},"",""]
[null,{"$f":"IF(BaseProdutos!B255=\"\",\"\",BaseProdutos!B255)","v":""},{"$f":"IFERROR(VLOOKUP(B265,BaseProdutos!B:V,21,0),\"\")","v":""},null,"","",{"$f":"IFERROR(VLOOKUP(B265,BaseProdutos!B:V,3,0),\"\")","v":""},{"$f":"IFERROR(VLOOKUP(B265,BaseProdutos!B:V,17,0),\"\")","v":""},{"$f":"IFERROR(SUM(VLOOKUP(B265,BaseProdutos!B:V,13,0),VLOOKUP(B265,BaseProdutos!B:V,14,0)),\"\")","v":""},{"$f":"IFERROR(SUM(VLOOKUP(B265,BaseProdutos!B:V,15,0),VLOOKUP(B265,BaseProdutos!B:V,16,0))/100,\"\")","v":""},{"$f":"IFERROR(VLOOKUP(B265,BaseProdutos!B:V,4,0),\"\")","v":""},"",null,null,null,null,null,"","","","","",{"$f":"IFERROR(F265*PE!$F$20,\"\")","v":""},"",""]
[null,{"$f":"IF(BaseProdutos!B256=\"\",\"\",BaseProdutos!B256)","v":""},{"$f":"IFERROR(VLOOKUP(B266,BaseProdutos!B:V,21,0),\"\")","v":""},null,"","",{"$f":"IFERROR(VLOOKUP(B266,BaseProdutos!B:V,3,0),\"\")","v":""},{"$f":"IFERROR(VLOOKUP(B266,BaseProdutos!B:V,17,0),\"\")","v":""},{"$f":"IFERROR(SUM(VLOOKUP(B266,BaseProdutos!B:V,13,0),VLOOKUP(B266,BaseProdutos!B:V,14,0)),\"\")","v":""},{"$f":"IFERROR(SUM(VLOOKUP(B266,BaseProdutos!B:V,15,0),VLOOKUP(B266,BaseProdutos!B:V,16,0))/100,\"\")","v":""},{"$f":"IFERROR(VLOOKUP(B266,BaseProdutos!B:V,4,0),\"\")","v":""},"",null,null,null,null,null,"","","","","",{"$f":"IFERROR(F266*PE!$F$20,\"\")","v":""},"",""]
[null,{"$f":"IF(BaseProdutos!B257=\"\",\"\",BaseProdutos!B257)","v":""},{"$f":"IFERROR(VLOOKUP(B267,BaseProdutos!B:V,21,0),\"\")","v":""},null,"","",{"$f":"IFERROR(VLOOKUP(B267,BaseProdutos!B:V,3,0),\"\")","v":""},{"$f":"IFERROR(VLOOKUP(B267,BaseProdutos!B:V,17,0),\"\")","v":""},{"$f":"IFERROR(SUM(VLOOKUP(B267,BaseProdutos!B:V,13,0),VLOOKUP(B267,BaseProdutos!B:V,14,0)),\"\")","v":""},{"$f":"IFERROR(SUM(VLOOKUP(B267,BaseProdutos!B:V,15,0),VLOOKUP(B267,BaseProdutos!B:V,16,0))/100,\"\")","v":""},{"$f":"IFERROR(VLOOKUP(B267,BaseProdutos!B:V,4,0),\"\")","v":""},"",null,null,null,null,null,"","","","","",{"$f":"IFERROR(F267*PE!$F$20,\"\")","v":""},"",""]
[null,{"$f":"IF(BaseProdutos!B258=\"\",\"\",BaseProdutos!B258)","v":""},{"$f":"IFERROR(VLOOKUP(B268,BaseProdutos!B:V,21,0),\"\")","v":""},null,"","",{"$f":"IFERROR(VLOOKUP(B268,BaseProdutos!B:V,3,0),\"\")","v":""},{"$f":"IFERROR(VLOOKUP(B268,BaseProdutos!B:V,17,0),\"\")","v":""},{"$f":"IFERROR(SUM(VLOOKUP(B268,BaseProdutos!B:V,13,0),VLOOKUP(B268,BaseProdutos!B:V,14,0)),\"\")","v":""},{"$f":"IFERROR(SUM(VLOOKUP(B268,BaseProdutos!B:V,15,0),VLOOKUP(B268,BaseProdutos!B:V,16,0))/100,\"\")","v":""},{"$f":"IFERROR(VLOOKUP(B268,BaseProdutos!B:V,4,0),\"\")","v":""},"",null,null,null,null,null,"","","","","",{"$f":"IFERROR(F268*PE!$F$20,\"\")","v":""},"",""]
[null,{"$f":"IF(BaseProdutos!B259=\"\",\"\",BaseProdutos!B259)","v":""},{"$f":"IFERROR(VLOOKUP(B269,BaseProdutos!B:V,21,0),\"\")","v":""},null,{"$f":"IFERROR(IF(B269=\"\",\"\",C269*D269),\"\")","v":""},{"$f":"IFERROR(E269/SUM($E$12:$E$511),\"\")","v":""},{"$f":"IFERROR(VLOOKUP(B269,BaseProdutos!B:V,3,0),\"\")","v":""},{"$f":"IFERROR(VLOOKUP(B269,BaseProdutos!B:V,17,0),\"\")","v":""},{"$f":"IFERROR(SUM(VLOOKUP(B269,BaseProdutos!B:V,13,0),VLOOKUP(B269,BaseProdutos!B:V,14,0)),\"\")","v":""},{"$f":"IFERROR(SUM(VLOOKUP(B269,BaseProdutos!B:V,15,0),VLOOKUP(B269,BaseProdutos!B:V,16,0))/100,\"\")","v":""},{"$f":"IFERROR(VLOOKUP(B269,BaseProdutos!B:V,4,0),\"\")","v":""},{"$f":"IFERROR(G269+C269*(H269+I269+J269)+K269,\"\")","v":""},null,null,null,null,null,{"$f":"IFERROR(H269*E269,\"\")","v":""},{"$f":"IFERROR(I269*E269,\"\")","v":""},{"$f":"IFERROR(C269-L269,\"\")","v":""},{"$f":"IFERROR(T269/C269,\"\")","v":""},{"$f":"IFERROR(W269*C269,\"\")","v":""},{"$f":"IFERROR(F269*PE!$F$20,\"\")","v":""},{"$f":"IFERROR(K269*D269,\"\")","v":""},{"$f":"IFERROR(G269*D269,\"\")","v":""}]
[null,{"$f":"IF(BaseProdutos!B260=\"\",\"\",BaseProdutos!B260)","v":""},{"$f":"IFERROR(VLOOKUP(B270,BaseProdutos!B:V,21,0),\"\")","v":""},null,"","",{"$f":"IFERROR(VLOOKUP(B270,BaseProdutos!B:V,3,0),\"\")","v":""},{"$f":"IFERROR(VLOOKUP(B270,BaseProdutos!B:V,17,0),\"\")","v":""},{"$f":"IFERROR(SUM(VLOOKUP(B270,BaseProdutos!B:V,13,0),VLOOKUP(B270,BaseProdutos!B:V,14,0)),\"\")","v":""},{"$f":"IFERROR(SUM(VLOOKUP(B270,BaseProdutos!B:V,15,0),VLOOKUP(B270,BaseProdutos!B:V,16,0))/100,\"\")","v":""},{"$f":"IFERROR(VLOOKUP(B270,BaseProdutos!B:V,4,0),\"\")","v":""},"",null,null,null,null,null,"","","","","",{"$f":"IFERROR(F270*PE!$F$20,\"\")","v":""},"",""]
[null,{"$f":"IF(BaseProdutos!B261=\"\",\"\",BaseProdutos!B261)","v":""},{"$f":"IFERROR(VLOOKUP(B271,BaseProdutos!B:V,21,0),\"\")","v":""},null,"","",{"$f":"IFERROR(VLOOKUP(B271,BaseProdutos!B:V,3,0),\"\")","v":""},{"$f":"IFERROR(VLOOKUP(B271,BaseProdutos!B:V,17,0),\"\")","v":""},{"$f":"IFERROR(SUM(VLOOKUP(B271,BaseProdutos!B:V,13,0),VLOOKUP(B271,BaseProdutos!B:V,14,0)),\"\")","v":""},{"$f":"IFERROR(SUM(VLOOKUP(B271,BaseProdutos!B:V,15,0),VLOOKUP(B271,BaseProdutos!B:V,16,0))/100,\"\")","v":""},{"$f":"IFERROR(VLOOKUP(B271,BaseProdutos!B:V,4,0),\"\")","v":""},"",null,null,null,null,null,"","","","","",{"$f":"IFERROR(F271*PE!$F$20,\"\")","v":""},"",""]
[null,{"$f":"IF(BaseProdutos!B262=\"\",\"\",BaseProdutos!B262)","v":""},{"$f":"IFERROR(VLOOKUP(B272,BaseProdutos!B:V,21,0),\"\")","v":""},null,"","",{"$f":"IFERROR(VLOOKUP(B272,BaseProdutos!B:V,3,0),\"\")","v":""},{"$f":"IFERROR(VLOOKUP(B272,BaseProdutos!B:V,17,0),\"\")","v":""},{"$f":"IFERROR(SUM(VLOOKUP(B272,BaseProdutos!B:V,13,0),VLOOKUP(B272,BaseProdutos!B:V,14,0)),\"\")","v":""},{"$f":"IFERROR(SUM(VLOOKUP(B272,BaseProdutos!B:V,15,0),VLOOKUP(B272,BaseProdutos!B:V,16,0))/100,\"\")","v":""},{"$f":"IFERROR(VLOOKUP(B272,BaseProdutos!B:V,4,0),\"\")","v":""},"",null,null,null,null,null,"","","","","",{"$f":"IFERROR(F272*PE!$F$20,\"\")","v":""},"",""]
[null,{"$f":"IF(BaseProdutos!B263=\"\",\"\",BaseProdutos!B263)","v":""},{"$f":"IFERROR(VLOOKUP(B273,BaseProdutos!B:V,21,0),\"\")","v":""},null,"","",{"$f":"IFERROR(VLOOKUP(B273,BaseProdutos!B:V,3,0),\"\")","v":""},{"$f":"IFERROR(VLOOKUP(B273,BaseProdutos!B:V,17,0),\"\")","v":""},{"$f":"IFERROR(SUM(VLOOKUP(B273,BaseProdutos!B:V,13,0),VLOOKUP(B273,BaseProdutos!B:V,14,0)),\"\")","v":""},{"$f":"IFERROR(SUM(VLOOKUP(B273,BaseProdutos!B:V,15,0),VLOOKUP(B273,BaseProdutos!B:V,16,0))/100,\"\")","v":""},{"$f":"IFERROR(VLOOKUP(B273,BaseProdutos!B:V,4,0),\"\")","v":""},"",null,null,null,null,null,"","","","","",{"$f":"IFERROR(F273*PE!$F$20,\"\")","v":""},"",""]
[null,{"$f":"IF(BaseProdutos!B264=\"\",\"\",BaseProdutos!B264)","v":""},{"$f":"IFERROR(VLOOKUP(B274,BaseProdutos!B:V,21,0),\"\")","v":""},null,"","",{"$f":"IFERROR(VLOOKUP(B274,BaseProdutos!B:V,3,0),\"\")","v":""},{"$f":"IFERROR(VLOOKUP(B274,BaseProdutos!B:V,17,0),\"\")","v":""},{"$f":"IFERROR(SUM(VLOOKUP(B274,BaseProdutos!B:V,13,0),VLOOKUP(B274,BaseProdutos!B:V,14,0)),\"\")","v":""},{"$f":"IFERROR(SUM(VLOOKUP(B274,BaseProdutos!B:V,15,0),VLOOKUP(B274,BaseProdutos!B:V,16,0))/100,\"\")","v":""},{"$f":"IFERROR(VLOOKUP(B274,BaseProdutos!B:V,4,0),\"\")","v":""},"",null,null,null,null,null,"","","","","",{"$f":"IFERROR(F274*PE!$F$20,\"\")","v":""},"",""]
[null,{"$f":"IF(BaseProdutos!B265=\"\",\"\",BaseProdutos!B265)","v":""},{"$f":"IFERROR(VLOOKUP(B275,BaseProdutos!B:V,21,0),\"\")","v":""},null,"","",{"$f":"IFERROR(VLOOKUP(B275,BaseProdutos!B:V,3,0),\"\")","v":""},{"$f":"IFERROR(VLOOKUP(B275,BaseProdutos!B:V,17,0),\"\")","v":""},{"$f":"IFERROR(SUM(VLOOKUP(B275,BaseProdutos!B:V,13,0),VLOOKUP(B275,BaseProdutos!B:V,14,0)),\"\")","v":""},{"$f":"IFERROR(SUM(VLOOKUP(B275,BaseProdutos!B:V,15,0),VLOOKUP(B275,BaseProdutos!B:V,16,0))/100,\"\")","v":""},{"$f":"IFERROR(VLOOKUP(B275,BaseProdutos!B:V,4,0),\"\")","v":""},"",null,null,null,null,null,"","","","","",{"$f":"IFERROR(F275*PE!$F$20,\"\")","v":""},"",""]
[null,{"$f":"IF(BaseProdutos!B266=\"\",\"\",BaseProdutos!B266)","v":""},{"$f":"IFERROR(VLOOKUP(B276,BaseProdutos!B:V,21,0),\"\")","v":""},null,"","",{"$f":"IFERROR(VLOOKUP(B276,BaseProdutos!B:V,3,0),\"\")","v":""},{"$f":"IFERROR(VLOOKUP(B276,BaseProdutos!B:V,17,0),\"\")","v":""},{"$f":"IFERROR(SUM(VLOOKUP(B276,BaseProdutos!B:V,13,0),VLOOKUP(B276,BaseProdutos!B:V,14,0)),\"\")","v":""},{"$f":"IFERROR(SUM(VLOOKUP(B276,BaseProdutos!B:V,15,0),VLOOKUP(B276,BaseProdutos!B:V,16,0))/100,\"\")","v":""},{"$f":"IFERROR(VLOOKUP(B276,BaseProdutos!B:V,4,0),\"\")","v":""},"",null,null,null,null,null,"","","","","",{"$f":"IFERROR(F276*PE!$F$20,\"\")","v":""},"",""]
[null,{"$f":"IF(BaseProdutos!B267=\"\",\"\",BaseProdutos!B267)","v":""},{"$f":"IFERROR(VLOOKUP(B277,BaseProdutos!B:V,21,0),\"\")","v":""},null,"","",{"$f":"IFERROR(VLOOKUP(B277,BaseProdutos!B:V,3,0),\"\")","v":""},{"$f":"IFERROR(VLOOKUP(B277,BaseProdutos!B:V,17,0),\"\")","v":""},{"$f":"IFERROR(SUM(VLOOKUP(B277,BaseProdutos!B:V,13,0),VLOOKUP(B277,BaseProdutos!B:V,14,0)),\"\")","v":""},{"$f":"IFERROR(SUM(VLOOKUP(B277,BaseProdutos!B:V,15,0),VLOOKUP(B277,BaseProdutos!B:V,16,0))/100,\"\")","v":""},{"$f":"IFERROR(VLOOKUP(B277,BaseProdutos!B:V,4,0),\"\")","v":""},"",null,null,null,null,null,"","","","","",{"$f":"IFERROR(F277*PE!$F$20,\"\")","v":""},"",""]
[null,{"$f":"IF(BaseProdutos!B268=\"\",\"\",BaseProdutos!B268)","v":""},{"$f":"IFERROR(VLOOKUP(B278,BaseProdutos!B:V,21,0),\"\")","v":""},null,"","",{"$f":"IFERROR(VLOOKUP(B278,BaseProdutos!B:V,3,0),\"\")","v":""},{"$f":"IFERROR(VLOOKUP(B278,BaseProdutos!B:V,17,0),\"\")","v":""},{"$f":"IFERROR(SUM(VLOOKUP(B278,BaseProdutos!B:V,13,0),VLOOKUP(B278,BaseProdutos!B:V,14,0)),\"\")","v":""},{"$f":"IFERROR(SUM(VLOOKUP(B278,BaseProdutos!B:V,15,0),VLOOKUP(B278,BaseProdutos!B:V,16,0))/100,\"\")","v":""},{"$f":"IFERROR(VLOOKUP(B278,BaseProdutos!B:V,4,0),\"\")","v":""},"",null,null,null,null,null,"","","","","",{"$f":"IFERROR(F278*PE!$F$20,\"\")","v":""},"",""]
[null,{"$f":"IF(BaseProdutos!B269=\"\",\"\",BaseProdutos!B269)","v":""},{"$f":"IFERROR(VLOOKUP(B279,BaseProdutos!B:V,21,0),\"\")","v":""},null,"","",{"$f":"IFERROR(VLOOKUP(B279,BaseProdutos!B:V,3,0),\"\")","v":""},{"$f":"IFERROR(VLOOKUP(B279,BaseProdutos!B:V,17,0),\"\")","v":""},{"$f":"IFERROR(SUM(VLOOKUP(B279,BaseProdutos!B:V,13,0),VLOOKUP(B279,BaseProdutos!B:V,14,0)),\"\")","v":""},{"$f":"IFERROR(SUM(VLOOKUP(B279,BaseProdutos!B:V,15,0),VLOOKUP(B279,BaseProdutos!B:V,16,0))/100,\"\")","v":""},{"$f":"IFERROR(VLOOKUP(B279,BaseProdutos!B:V,4,0),\"\")","v":""},"",null,null,null,null,null,"","","","","",{"$f":"IFERROR(F279*PE!$F$20,\"\")","v":""},"",""]
[null,{"$f":"IF(BaseProdutos!B270=\"\",\"\",BaseProdutos!B270)","v":""},{"$f":"IFERROR(VLOOKUP(B280,BaseProdutos!B:V,21,0),\"\")","v":""},null,"","",{"$f":"IFERROR(VLOOKUP(B280,BaseProdutos!B:V,3,0),\"\")","v":""},{"$f":"IFERROR(VLOOKUP(B280,BaseProdutos!B:V,17,0),\"\")","v":""},{"$f":"IFERROR(SUM(VLOOKUP(B280,BaseProdutos!B:V,13,0),VLOOKUP(B280,BaseProdutos!B:V,14,0)),\"\")","v":""},{"$f":"IFERROR(SUM(VLOOKUP(B280,BaseProdutos!B:V,15,0),VLOOKUP(B280,BaseProdutos!B:V,16,0))/100,\"\")","v":""},{"$f":"IFERROR(VLOOKUP(B280,BaseProdutos!B:V,4,0),\"\")","v":""},"",null,null,null,null,null,"","","","","",{"$f":"IFERROR(F280*PE!$F$20,\"\")","v":""},"",""]
[null,{"$f":"IF(BaseProdutos!B271=\"\",\"\",BaseProdutos!B271)","v":""},{"$f":"IFERROR(VLOOKUP(B281,BaseProdutos!B:V,21,0),\"\")","v":""},null,"","",{"$f":"IFERROR(VLOOKUP(B281,BaseProdutos!B:V,3,0),\"\")","v":""},{"$f":"IFERROR(VLOOKUP(B281,BaseProdutos!B:V,17,0),\"\")","v":""},{"$f":"IFERROR(SUM(VLOOKUP(B281,BaseProdutos!B:V,13,0),VLOOKUP(B281,BaseProdutos!B:V,14,0)),\"\")","v":""},{"$f":"IFERROR(SUM(VLOOKUP(B281,BaseProdutos!B:V,15,0),VLOOKUP(B281,BaseProdutos!B:V,16,0))/100,\"\")","v":""},{"$f":"IFERROR(VLOOKUP(B281,BaseProdutos!B:V,4,0),\"\")","v":""},"",null,null,null,null,null,"","","","","",{"$f":"IFERROR(F281*PE!$F$20,\"\")","v":""},"",""]
[null,{"$f":"IF(BaseProdutos!B272=\"\",\"\",BaseProdutos!B272)","v":""},{"$f":"IFERROR(VLOOKUP(B282,BaseProdutos!B:V,21,0),\"\")","v":""},null,"","",{"$f":"IFERROR(VLOOKUP(B282,BaseProdutos!B:V,3,0),\"\")","v":""},{"$f":"IFERROR(VLOOKUP(B282,BaseProdutos!B:V,17,0),\"\")","v":""},{"$f":"IFERROR(SUM(VLOOKUP(B282,BaseProdutos!B:V,13,0),VLOOKUP(B282,BaseProdutos!B:V,14,0)),\"\")","v":""},{"$f":"IFERROR(SUM(VLOOKUP(B282,BaseProdutos!B:V,15,0),VLOOKUP(B282,BaseProdutos!B:V,16,0))/100,\"\")","v":""},{"$f":"IFERROR(VLOOKUP(B282,BaseProdutos!B:V,4,0),\"\")","v":""},"",null,null,null,null,null,"","","","","",{"$f":"IFERROR(F282*PE!$F$20,\"\")","v":""},"",""]
[null,{"$f":"IF(BaseProdutos!B273=\"\",\"\",BaseProdutos!B273)","v":""},{"$f":"IFERROR(VLOOKUP(B283,BaseProdutos!B:V,21,0),\"\")","v":""},null,"","",{"$f":"IFERROR(VLOOKUP(B283,BaseProdutos!B:V,3,0),\"\")","v":""},{"$f":"IFERROR(VLOOKUP(B283,BaseProdutos!B:V,17,0),\"\")","v":""},{"$f":"IFERROR(SUM(VLOOKUP(B283,BaseProdutos!B:V,13,0),VLOOKUP(B283,BaseProdutos!B:V,14,0)),\"\")","v":""},{"$f":"IFERROR(SUM(VLOOKUP(B283,BaseProdutos!B:V,15,0),VLOOKUP(B283,BaseProdutos!B:V,16,0))/100,\"\")","v":""},{"$f":"IFERROR(VLOOKUP(B283,BaseProdutos!B:V,4,0),\"\")","v":""},"",null,null,null,null,null,"","","","","",{"$f":"IFERROR(F283*PE!$F$20,\"\")","v":""},"",""]
[null,{"$f":"IF(BaseProdutos!B274=\"\",\"\",BaseProdutos!B274)","v":""},{"$f":"IFERROR(VLOOKUP(B284,BaseProdutos!B:V,21,0),\"\")","v":""},null,"","",{"$f":"IFERROR(VLOOKUP(B284,BaseProdutos!B:V,3,0),\"\")","v":""},{"$f":"IFERROR(VLOOKUP(B284,BaseProdutos!B:V,17,0),\"\")","v":""},{"$f":"IFERROR(SUM(VLOOKUP(B284,BaseProdutos!B:V,13,0),VLOOKUP(B284,BaseProdutos!B:V,14,0)),\"\")","v":""},{"$f":"IFERROR(SUM(VLOOKUP(B284,BaseProdutos!B:V,15,0),VLOOKUP(B284,BaseProdutos!B:V,16,0))/100,\"\")","v":""},{"$f":"IFERROR(VLOOKUP(B284,BaseProdutos!B:V,4,0),\"\")","v":""},"",null,null,null,null,null,"","","","","",{"$f":"IFERROR(F284*PE!$F$20,\"\")","v":""},"",""]
[null,{"$f":"IF(BaseProdutos!B275=\"\",\"\",BaseProdutos!B275)","v":""},{"$f":"IFERROR(VLOOKUP(B285,BaseProdutos!B:V,21,0),\"\")","v":""},null,"","",{"$f":"IFERROR(VLOOKUP(B285,BaseProdutos!B:V,3,0),\"\")","v":""},{"$f":"IFERROR(VLOOKUP(B285,BaseProdutos!B:V,17,0),\"\")","v":""},{"$f":"IFERROR(SUM(VLOOKUP(B285,BaseProdutos!B:V,13,0),VLOOKUP(B285,BaseProdutos!B:V,14,0)),\"\")","v":""},{"$f":"IFERROR(SUM(VLOOKUP(B285,BaseProdutos!B:V,15,0),VLOOKUP(B285,BaseProdutos!B:V,16,0))/100,\"\")","v":""},{"$f":"IFERROR(VLOOKUP(B285,BaseProdutos!B:V,4,0),\"\")","v":""},"",null,null,null,null,null,"","","","","",{"$f":"IFERROR(F285*PE!$F$20,\"\")","v":""},"",""]
[null,{"$f":"IF(BaseProdutos!B276=\"\",\"\",BaseProdutos!B276)","v":""},{"$f":"IFERROR(VLOOKUP(B286,BaseProdutos!B:V,21,0),\"\")","v":""},null,"","",{"$f":"IFERROR(VLOOKUP(B286,BaseProdutos!B:V,3,0),\"\")","v":""},{"$f":"IFERROR(VLOOKUP(B286,BaseProdutos!B:V,17,0),\"\")","v":""},{"$f":"IFERROR(SUM(VLOOKUP(B286,BaseProdutos!B:V,13,0),VLOOKUP(B286,BaseProdutos!B:V,14,0)),\"\")","v":""},{"$f":"IFERROR(SUM(VLOOKUP(B286,BaseProdutos!B:V,15,0),VLOOKUP(B286,BaseProdutos!B:V,16,0))/100,\"\")","v":""},{"$f":"IFERROR(VLOOKUP(B286,BaseProdutos!B:V,4,0),\"\")","v":""},"",null,null,null,null,null,"","","","","",{"$f":"IFERROR(F286*PE!$F$20,\"\")","v":""},"",""]
[null,{"$f":"IF(BaseProdutos!B277=\"\",\"\",BaseProdutos!B277)","v":""},{"$f":"IFERROR(VLOOKUP(B287,BaseProdutos!B:V,21,0),\"\")","v":""},null,"","",{"$f":"IFERROR(VLOOKUP(B287,BaseProdutos!B:V,3,0),\"\")","v":""},{"$f":"IFERROR(VLOOKUP(B287,BaseProdutos!B:V,17,0),\"\")","v":""},{"$f":"IFERROR(SUM(VLOOKUP(B287,BaseProdutos!B:V,13,0),VLOOKUP(B287,BaseProdutos!B:V,14,0)),\"\")","v":""},{"$f":"IFERROR(SUM(VLOOKUP(B287,BaseProdutos!B:V,15,0),VLOOKUP(B287,BaseProdutos!B:V,16,0))/100,\"\")","v":""},{"$f":"IFERROR(VLOOKUP(B287,BaseProdutos!B:V,4,0),\"\")","v":""},"",null,null,null,null,null,"","","","","",{"$f":"IFERROR(F287*PE!$F$20,\"\")","v":""},"",""]
[null,{"$f":"IF(BaseProdutos!B278=\"\",\"\",BaseProdutos!B278)","v":""},{"$f":"IFERROR(VLOOKUP(B288,BaseProdutos!B:V,21,0),\"\")","v":""},null,"","",{"$f":"IFERROR(VLOOKUP(B288,BaseProdutos!B:V,3,0),\"\")","v":""},{"$f":"IFERROR(VLOOKUP(B288,BaseProdutos!B:V,17,0),\"\")","v":""},{"$f":"IFERROR(SUM(VLOOKUP(B288,BaseProdutos!B:V,13,0),VLOOKUP(B288,BaseProdutos!B:V,14,0)),\"\")","v":""},{"$f":"IFERROR(SUM(VLOOKUP(B288,BaseProdutos!B:V,15,0),VLOOKUP(B288,BaseProdutos!B:V,16,0))/100,\"\")","v":""},{"$f":"IFERROR(VLOOKUP(B288,BaseProdutos!B:V,4,0),\"\")","v":""},"",null,null,null,null,null,"","","","","",{"$f":"IFERROR(F288*PE!$F$20,\"\")","v":""},"",""]
[null,{"$f":"IF(BaseProdutos!B279=\"\",\"\",BaseProdutos!B279)","v":""},{"$f":"IFERROR(VLOOKUP(B289,BaseProdutos!B:V,21,0),\"\")","v":""},null,"","",{"$f":"IFERROR(VLOOKUP(B289,BaseProdutos!B:V,3,0),\"\")","v":""},{"$f":"IFERROR(VLOOKUP(B289,BaseProdutos!B:V,17,0),\"\")","v":""},{"$f":"IFERROR(SUM(VLOOKUP(B289,BaseProdutos!B:V,13,0),VLOOKUP(B289,BaseProdutos!B:V,14,0)),\"\")","v":""},{"$f":"IFERROR(SUM(VLOOKUP(B289,BaseProdutos!B:V,15,0),VLOOKUP(B289,BaseProdutos!B:V,16,0))/100,\"\")","v":""},{"$f":"IFERROR(VLOOKUP(B289,BaseProdutos!B:V,4,0),\"\")","v":""},"",null,null,null,null,null,"","","","","",{"$f":"IFERROR(F289*PE!$F$20,\"\")","v":""},"",""]
[null,{"$f":"IF(BaseProdutos!B280=\"\",\"\",BaseProdutos!B280)","v":""},{"$f":"IFERROR(VLOOKUP(B290,BaseProdutos!B:V,21,0),\"\")","v":""},null,"","",{"$f":"IFERROR(VLOOKUP(B290,BaseProdutos!B:V,3,0),\"\")","v":""},{"$f":"IFERROR(VLOOKUP(B290,BaseProdutos!B:V,17,0),\"\")","v":""},{"$f":"IFERROR(SUM(VLOOKUP(B290,BaseProdutos!B:V,13,0),VLOOKUP(B290,BaseProdutos!B:V,14,0)),\"\")","v":""},{"$f":"IFERROR(SUM(VLOOKUP(B290,BaseProdutos!B:V,15,0),VLOOKUP(B290,BaseProdutos!B:V,16,0))/100,\"\")","v":""},{"$f":"IFERROR(VLOOKUP(B290,BaseProdutos!B:V,4,0),\"\")","v":""},"",null,null,null,null,null,"","","","","",{"$f":"IFERROR(F290*PE!$F$20,\"\")","v":""},"",""]
[null,{"$f":"IF(BaseProdutos!B281=\"\",\"\",BaseProdutos!B281)","v":""},{"$f":"IFERROR(VLOOKUP(B291,BaseProdutos!B:V,21,0),\"\")","v":""},null,"","",{"$f":"IFERROR(VLOOKUP(B291,BaseProdutos!B:V,3,0),\"\")","v":""},{"$f":"IFERROR(VLOOKUP(B291,BaseProdutos!B:V,17,0),\"\")","v":""},{"$f":"IFERROR(SUM(VLOOKUP(B291,BaseProdutos!B:V,13,0),VLOOKUP(B291,BaseProdutos!B:V,14,0)),\"\")","v":""},{"$f":"IFERROR(SUM(VLOOKUP(B291,BaseProdutos!B:V,15,0),VLOOKUP(B291,BaseProdutos!B:V,16,0))/100,\"\")","v":""},{"$f":"IFERROR(VLOOKUP(B291,BaseProdutos!B:V,4,0),\"\")","v":""},"",null,null,null,null,null,"","","","","",{"$f":"IFERROR(F291*PE!$F$20,\"\")","v":""},"",""]
[null,{"$f":"IF(BaseProdutos!B282=\"\",\"\",BaseProdutos!B282)","v":""},{"$f":"IFERROR(VLOOKUP(B292,BaseProdutos!B:V,21,0),\"\")","v":""},null,"","",{"$f":"IFERROR(VLOOKUP(B292,BaseProdutos!B:V,3,0),\"\")","v":""},{"$f":"IFERROR(VLOOKUP(B292,BaseProdutos!B:V,17,0),\"\")","v":""},{"$f":"IFERROR(SUM(VLOOKUP(B292,BaseProdutos!B:V,13,0),VLOOKUP(B292,BaseProdutos!B:V,14,0)),\"\")","v":""},{"$f":"IFERROR(SUM(VLOOKUP(B292,BaseProdutos!B:V,15,0),VLOOKUP(B292,BaseProdutos!B:V,16,0))/100,\"\")","v":""},{"$f":"IFERROR(VLOOKUP(B292,BaseProdutos!B:V,4,0),\"\")","v":""},"",null,null,null,null,null,"","","","","",{"$f":"IFERROR(F292*PE!$F$20,\"\")","v":""},"",""]
[null,{"$f":"IF(BaseProdutos!B283=\"\",\"\",BaseProdutos!B283)","v":""},{"$f":"IFERROR(VLOOKUP(B293,BaseProdutos!B:V,21,0),\"\")","v":""},null,"","",{"$f":"IFERROR(VLOOKUP(B293,BaseProdutos!B:V,3,0),\"\")","v":""},{"$f":"IFERROR(VLOOKUP(B293,BaseProdutos!B:V,17,0),\"\")","v":""},{"$f":"IFERROR(SUM(VLOOKUP(B293,BaseProdutos!B:V,13,0),VLOOKUP(B293,BaseProdutos!B:V,14,0)),\"\")","v":""},{"$f":"IFERROR(SUM(VLOOKUP(B293,BaseProdutos!B:V,15,0),VLOOKUP(B293,BaseProdutos!B:V,16,0))/100,\"\")","v":""},{"$f":"IFERROR(VLOOKUP(B293,BaseProdutos!B:V,4,0),\"\")","v":""},"",null,null,null,null,null,"","","","","",{"$f":"IFERROR(F293*PE!$F$20,\"\")","v":""},"",""]
[null,{"$f":"IF(BaseProdutos!B284=\"\",\"\",BaseProdutos!B284)","v":""},{"$f":"IFERROR(VLOOKUP(B294,BaseProdutos!B:V,21,0),\"\")","v":""},null,"","",{"$f":"IFERROR(VLOOKUP(B294,BaseProdutos!B:V,3,0),\"\")","v":""},{"$f":"IFERROR(VLOOKUP(B294,BaseProdutos!B:V,17,0),\"\")","v":""},{"$f":"IFERROR(SUM(VLOOKUP(B294,BaseProdutos!B:V,13,0),VLOOKUP(B294,BaseProdutos!B:V,14,0)),\"\")","v":""},{"$f":"IFERROR(SUM(VLOOKUP(B294,BaseProdutos!B:V,15,0),VLOOKUP(B294,BaseProdutos!B:V,16,0))/100,\"\")","v":""},{"$f":"IFERROR(VLOOKUP(B294,BaseProdutos!B:V,4,0),\"\")","v":""},"",null,null,null,null,null,"","","","","",{"$f":"IFERROR(F294*PE!$F$20,\"\")","v":""},"",""]
[null,{"$f":"IF(BaseProdutos!B285=\"\",\"\",BaseProdutos!B285)","v":""},{"$f":"IFERROR(VLOOKUP(B295,BaseProdutos!B:V,21,0),\"\")","v":""},null,"","",{"$f":"IFERROR(VLOOKUP(B295,BaseProdutos!B:V,3,0),\"\")","v":""},{"$f":"IFERROR(VLOOKUP(B295,BaseProdutos!B:V,17,0),\"\")","v":""},{"$f":"IFERROR(SUM(VLOOKUP(B295,BaseProdutos!B:V,13,0),VLOOKUP(B295,BaseProdutos!B:V,14,0)),\"\")","v":""},{"$f":"IFERROR(SUM(VLOOKUP(B295,BaseProdutos!B:V,15,0),VLOOKUP(B295,BaseProdutos!B:V,16,0))/100,\"\")","v":""},{"$f":"IFERROR(VLOOKUP(B295,BaseProdutos!B:V,4,0),\"\")","v":""},"",null,null,null,null,null,"","","","","",{"$f":"IFERROR(F295*PE!$F$20,\"\")","v":""},"",""]
[null,{"$f":"IF(BaseProdutos!B286=\"\",\"\",BaseProdutos!B286)","v":""},{"$f":"IFERROR(VLOOKUP(B296,BaseProdutos!B:V,21,0),\"\")","v":""},null,"","",{"$f":"IFERROR(VLOOKUP(B296,BaseProdutos!B:V,3,0),\"\")","v":""},{"$f":"IFERROR(VLOOKUP(B296,BaseProdutos!B:V,17,0),\"\")","v":""},{"$f":"IFERROR(SUM(VLOOKUP(B296,BaseProdutos!B:V,13,0),VLOOKUP(B296,BaseProdutos!B:V,14,0)),\"\")","v":""},{"$f":"IFERROR(SUM(VLOOKUP(B296,BaseProdutos!B:V,15,0),VLOOKUP(B296,BaseProdutos!B:V,16,0))/100,\"\")","v":""},{"$f":"IFERROR(VLOOKUP(B296,BaseProdutos!B:V,4,0),\"\")","v":""},"",null,null,null,null,null,"","","","","",{"$f":"IFERROR(F296*PE!$F$20,\"\")","v":""},"",""]
[null,{"$f":"IF(BaseProdutos!B287=\"\",\"\",BaseProdutos!B287)","v":""},{"$f":"IFERROR(VLOOKUP(B297,BaseProdutos!B:V,21,0),\"\")","v":""},null,"","",{"$f":"IFERROR(VLOOKUP(B297,BaseProdutos!B:V,3,0),\"\")","v":""},{"$f":"IFERROR(VLOOKUP(B297,BaseProdutos!B:V,17,0),\"\")","v":""},{"$f":"IFERROR(SUM(VLOOKUP(B297,BaseProdutos!B:V,13,0),VLOOKUP(B297,BaseProdutos!B:V,14,0)),\"\")","v":""},{"$f":"IFERROR(SUM(VLOOKUP(B297,BaseProdutos!B:V,15,0),VLOOKUP(B297,BaseProdutos!B:V,16,0))/100,\"\")","v":""},{"$f":"IFERROR(VLOOKUP(B297,BaseProdutos!B:V,4,0),\"\")","v":""},"",null,null,null,null,null,"","","","","",{"$f":"IFERROR(F297*PE!$F$20,\"\")","v":""},"",""]
[null,{"$f":"IF(BaseProdutos!B288=\"\",\"\",BaseProdutos!B288)","v":""},{"$f":"IFERROR(VLOOKUP(B298,BaseProdutos!B:V,21,0),\"\")","v":""},null,"","",{"$f":"IFERROR(VLOOKUP(B298,BaseProdutos!B:V,3,0),\"\")","v":""},{"$f":"IFERROR(VLOOKUP(B298,BaseProdutos!B:V,17,0),\"\")","v":""},{"$f":"IFERROR(SUM(VLOOKUP(B298,BaseProdutos!B:V,13,0),VLOOKUP(B298,BaseProdutos!B:V,14,0)),\"\")","v":""},{"$f":"IFERROR(SUM(VLOOKUP(B298,BaseProdutos!B:V,15,0),VLOOKUP(B298,BaseProdutos!B:V,16,0))/100,\"\")","v":""},{"$f":"IFERROR(VLOOKUP(B298,BaseProdutos!B:V,4,0),\"\")","v":""},"",null,null,null,null,null,"","","","","",{"$f":"IFERROR(F298*PE!$F$20,\"\")","v":""},"",""]
[null,{"$f":"IF(BaseProdutos!B289=\"\",\"\",BaseProdutos!B289)","v":""},{"$f":"IFERROR(VLOOKUP(B299,BaseProdutos!B:V,21,0),\"\")","v":""},null,"","",{"$f":"IFERROR(VLOOKUP(B299,BaseProdutos!B:V,3,0),\"\")","v":""},{"$f":"IFERROR(VLOOKUP(B299,BaseProdutos!B:V,17,0),\"\")","v":""},{"$f":"IFERROR(SUM(VLOOKUP(B299,BaseProdutos!B:V,13,0),VLOOKUP(B299,BaseProdutos!B:V,14,0)),\"\")","v":""},{"$f":"IFERROR(SUM(VLOOKUP(B299,BaseProdutos!B:V,15,0),VLOOKUP(B299,BaseProdutos!B:V,16,0))/100,\"\")","v":""},{"$f":"IFERROR(VLOOKUP(B299,BaseProdutos!B:V,4,0),\"\")","v":""},"",null,null,null,null,null,"","","","","",{"$f":"IFERROR(F299*PE!$F$20,\"\")","v":""},"",""]
[null,{"$f":"IF(BaseProdutos!B290=\"\",\"\",BaseProdutos!B290)","v":""},{"$f":"IFERROR(VLOOKUP(B300,BaseProdutos!B:V,21,0),\"\")","v":""},null,"","",{"$f":"IFERROR(VLOOKUP(B300,BaseProdutos!B:V,3,0),\"\")","v":""},{"$f":"IFERROR(VLOOKUP(B300,BaseProdutos!B:V,17,0),\"\")","v":""},{"$f":"IFERROR(SUM(VLOOKUP(B300,BaseProdutos!B:V,13,0),VLOOKUP(B300,BaseProdutos!B:V,14,0)),\"\")","v":""},{"$f":"IFERROR(SUM(VLOOKUP(B300,BaseProdutos!B:V,15,0),VLOOKUP(B300,BaseProdutos!B:V,16,0))/100,\"\")","v":""},{"$f":"IFERROR(VLOOKUP(B300,BaseProdutos!B:V,4,0),\"\")","v":""},"",null,null,null,null,null,"","","","","",{"$f":"IFERROR(F300*PE!$F$20,\"\")","v":""},"",""]
[null,{"$f":"IF(BaseProdutos!B291=\"\",\"\",BaseProdutos!B291)","v":""},{"$f":"IFERROR(VLOOKUP(B301,BaseProdutos!B:V,21,0),\"\")","v":""},null,"","",{"$f":"IFERROR(VLOOKUP(B301,BaseProdutos!B:V,3,0),\"\")","v":""},{"$f":"IFERROR(VLOOKUP(B301,BaseProdutos!B:V,17,0),\"\")","v":""},{"$f":"IFERROR(SUM(VLOOKUP(B301,BaseProdutos!B:V,13,0),VLOOKUP(B301,BaseProdutos!B:V,14,0)),\"\")","v":""},{"$f":"IFERROR(SUM(VLOOKUP(B301,BaseProdutos!B:V,15,0),VLOOKUP(B301,BaseProdutos!B:V,16,0))/100,\"\")","v":""},{"$f":"IFERROR(VLOOKUP(B301,BaseProdutos!B:V,4,0),\"\")","v":""},"",null,null,null,null,null,"","","","","",{"$f":"IFERROR(F301*PE!$F$20,\"\")","v":""},"",""]
[null,{"$f":"IF(BaseProdutos!B292=\"\",\"\",BaseProdutos!B292)","v":""},{"$f":"IFERROR(VLOOKUP(B302,BaseProdutos!B:V,21,0),\"\")","v":""},null,"","",{"$f":"IFERROR(VLOOKUP(B302,BaseProdutos!B:V,3,0),\"\")","v":""},{"$f":"IFERROR(VLOOKUP(B302,BaseProdutos!B:V,17,0),\"\")","v":""},{"$f":"IFERROR(SUM(VLOOKUP(B302,BaseProdutos!B:V,13,0),VLOOKUP(B302,BaseProdutos!B:V,14,0)),\"\")","v":""},{"$f":"IFERROR(SUM(VLOOKUP(B302,BaseProdutos!B:V,15,0),VLOOKUP(B302,BaseProdutos!B:V,16,0))/100,\"\")","v":""},{"$f":"IFERROR(VLOOKUP(B302,BaseProdutos!B:V,4,0),\"\")","v":""},"",null,null,null,null,null,"","","","","",{"$f":"IFERROR(F302*PE!$F$20,\"\")","v":""},"",""]
[null,{"$f":"IF(BaseProdutos!B293=\"\",\"\",BaseProdutos!B293)","v":""},{"$f":"IFERROR(VLOOKUP(B303,BaseProdutos!B:V,21,0),\"\")","v":""},null,"","",{"$f":"IFERROR(VLOOKUP(B303,BaseProdutos!B:V,3,0),\"\")","v":""},{"$f":"IFERROR(VLOOKUP(B303,BaseProdutos!B:V,17,0),\"\")","v":""},{"$f":"IFERROR(SUM(VLOOKUP(B303,BaseProdutos!B:V,13,0),VLOOKUP(B303,BaseProdutos!B:V,14,0)),\"\")","v":""},{"$f":"IFERROR(SUM(VLOOKUP(B303,BaseProdutos!B:V,15,0),VLOOKUP(B303,BaseProdutos!B:V,16,0))/100,\"\")","v":""},{"$f":"IFERROR(VLOOKUP(B303,BaseProdutos!B:V,4,0),\"\")","v":""},"",null,null,null,null,null,"","","","","",{"$f":"IFERROR(F303*PE!$F$20,\"\")","v":""},"",""]
[null,{"$f":"IF(BaseProdutos!B294=\"\",\"\",BaseProdutos!B294)","v":""},{"$f":"IFERROR(VLOOKUP(B304,BaseProdutos!B:V,21,0),\"\")","v":""},null,"","",{"$f":"IFERROR(VLOOKUP(B304,BaseProdutos!B:V,3,0),\"\")","v":""},{"$f":"IFERROR(VLOOKUP(B304,BaseProdutos!B:V,17,0),\"\")","v":""},{"$f":"IFERROR(SUM(VLOOKUP(B304,BaseProdutos!B:V,13,0),VLOOKUP(B304,BaseProdutos!B:V,14,0)),\"\")","v":""},{"$f":"IFERROR(SUM(VLOOKUP(B304,BaseProdutos!B:V,15,0),VLOOKUP(B304,BaseProdutos!B:V,16,0))/100,\"\")","v":""},{"$f":"IFERROR(VLOOKUP(B304,BaseProdutos!B:V,4,0),\"\")","v":""},"",null,null,null,null,null,"","","","","",{"$f":"IFERROR(F304*PE!$F$20,\"\")","v":""},"",""]
[null,{"$f":"IF(BaseProdutos!B295=\"\",\"\",BaseProdutos!B295)","v":""},{"$f":"IFERROR(VLOOKUP(B305,BaseProdutos!B:V,21,0),\"\")","v":""},null,"","",{"$f":"IFERROR(VLOOKUP(B305,BaseProdutos!B:V,3,0),\"\")","v":""},{"$f":"IFERROR(VLOOKUP(B305,BaseProdutos!B:V,17,0),\"\")","v":""},{"$f":"IFERROR(SUM(VLOOKUP(B305,BaseProdutos!B:V,13,0),VLOOKUP(B305,BaseProdutos!B:V,14,0)),\"\")","v":""},{"$f":"IFERROR(SUM(VLOOKUP(B305,BaseProdutos!B:V,15,0),VLOOKUP(B305,BaseProdutos!B:V,16,0))/100,\"\")","v":""},{"$f":"IFERROR(VLOOKUP(B305,BaseProdutos!B:V,4,0),\"\")","v":""},"",null,null,null,null,null,"","","","","",{"$f":"IFERROR(F305*PE!$F$20,\"\")","v":""},"",""]
[null,{"$f":"IF(BaseProdutos!B296=\"\",\"\",BaseProdutos!B296)","v":""},{"$f":"IFERROR(VLOOKUP(B306,BaseProdutos!B:V,21,0),\"\")","v":""},null,"","",{"$f":"IFERROR(VLOOKUP(B306,BaseProdutos!B:V,3,0),\"\")","v":""},{"$f":"IFERROR(VLOOKUP(B306,BaseProdutos!B:V,17,0),\"\")","v":""},{"$f":"IFERROR(SUM(VLOOKUP(B306,BaseProdutos!B:V,13,0),VLOOKUP(B306,BaseProdutos!B:V,14,0)),\"\")","v":""},{"$f":"IFERROR(SUM(VLOOKUP(B306,BaseProdutos!B:V,15,0),VLOOKUP(B306,BaseProdutos!B:V,16,0))/100,\"\")","v":""},{"$f":"IFERROR(VLOOKUP(B306,BaseProdutos!B:V,4,0),\"\")","v":""},"",null,null,null,null,null,"","","","","",{"$f":"IFERROR(F306*PE!$F$20,\"\")","v":""},"",""]
[null,{"$f":"IF(BaseProdutos!B297=\"\",\"\",BaseProdutos!B297)","v":""},{"$f":"IFERROR(VLOOKUP(B307,BaseProdutos!B:V,21,0),\"\")","v":""},null,"","",{"$f":"IFERROR(VLOOKUP(B307,BaseProdutos!B:V,3,0),\"\")","v":""},{"$f":"IFERROR(VLOOKUP(B307,BaseProdutos!B:V,17,0),\"\")","v":""},{"$f":"IFERROR(SUM(VLOOKUP(B307,BaseProdutos!B:V,13,0),VLOOKUP(B307,BaseProdutos!B:V,14,0)),\"\")","v":""},{"$f":"IFERROR(SUM(VLOOKUP(B307,BaseProdutos!B:V,15,0),VLOOKUP(B307,BaseProdutos!B:V,16,0))/100,\"\")","v":""},{"$f":"IFERROR(VLOOKUP(B307,BaseProdutos!B:V,4,0),\"\")","v":""},"",null,null,null,null,null,"","","","","",{"$f":"IFERROR(F307*PE!$F$20,\"\")","v":""},"",""]
[null,{"$f":"IF(BaseProdutos!B298=\"\",\"\",BaseProdutos!B298)","v":""},{"$f":"IFERROR(VLOOKUP(B308,BaseProdutos!B:V,21,0),\"\")","v":""},null,"","",{"$f":"IFERROR(VLOOKUP(B308,BaseProdutos!B:V,3,0),\"\")","v":""},{"$f":"IFERROR(VLOOKUP(B308,BaseProdutos!B:V,17,0),\"\")","v":""},{"$f":"IFERROR(SUM(VLOOKUP(B308,BaseProdutos!B:V,13,0),VLOOKUP(B308,BaseProdutos!B:V,14,0)),\"\")","v":""},{"$f":"IFERROR(SUM(VLOOKUP(B308,BaseProdutos!B:V,15,0),VLOOKUP(B308,BaseProdutos!B:V,16,0))/100,\"\")","v":""},{"$f":"IFERROR(VLOOKUP(B308,BaseProdutos!B:V,4,0),\"\")","v":""},"",null,null,null,null,null,"","","","","",{"$f":"IFERROR(F308*PE!$F$20,\"\")","v":""},"",""]
[null,{"$f":"IF(BaseProdutos!B299=\"\",\"\",BaseProdutos!B299)","v":""},{"$f":"IFERROR(VLOOKUP(B309,BaseProdutos!B:V,21,0),\"\")","v":""},null,"","",{"$f":"IFERROR(VLOOKUP(B309,BaseProdutos!B:V,3,0),\"\")","v":""},{"$f":"IFERROR(VLOOKUP(B309,BaseProdutos!B:V,17,0),\"\")","v":""},{"$f":"IFERROR(SUM(VLOOKUP(B309,BaseProdutos!B:V,13,0),VLOOKUP(B309,BaseProdutos!B:V,14,0)),\"\")","v":""},{"$f":"IFERROR(SUM(VLOOKUP(B309,BaseProdutos!B:V,15,0),VLOOKUP(B309,BaseProdutos!B:V,16,0))/100,\"\")","v":""},{"$f":"IFERROR(VLOOKUP(B309,BaseProdutos!B:V,4,0),\"\")","v":""},"",null,null,null,null,null,"","","","","",{"$f":"IFERROR(F309*PE!$F$20,\"\")","v":""},"",""]
[null,{"$f":"IF(BaseProdutos!B300=\"\",\"\",BaseProdutos!B300)","v":""},{"$f":"IFERROR(VLOOKUP(B310,BaseProdutos!B:V,21,0),\"\")","v":""},null,"","",{"$f":"IFERROR(VLOOKUP(B310,BaseProdutos!B:V,3,0),\"\")","v":""},{"$f":"IFERROR(VLOOKUP(B310,BaseProdutos!B:V,17,0),\"\")","v":""},{"$f":"IFERROR(SUM(VLOOKUP(B310,BaseProdutos!B:V,13,0),VLOOKUP(B310,BaseProdutos!B:V,14,0)),\"\")","v":""},{"$f":"IFERROR(SUM(VLOOKUP(B310,BaseProdutos!B:V,15,0),VLOOKUP(B310,BaseProdutos!B:V,16,0))/100,\"\")","v":""},{"$f":"IFERROR(VLOOKUP(B310,BaseProdutos!B:V,4,0),\"\")","v":""},"",null,null,null,null,null,"","","","","",{"$f":"IFERROR(F310*PE!$F$20,\"\")","v":""},"",""]
[null,{"$f":"IF(BaseProdutos!B301=\"\",\"\",BaseProdutos!B301)","v":""},{"$f":"IFERROR(VLOOKUP(B311,BaseProdutos!B:V,21,0),\"\")","v":""},null,"","",{"$f":"IFERROR(VLOOKUP(B311,BaseProdutos!B:V,3,0),\"\")","v":""},{"$f":"IFERROR(VLOOKUP(B311,BaseProdutos!B:V,17,0),\"\")","v":""},{"$f":"IFERROR(SUM(VLOOKUP(B311,BaseProdutos!B:V,13,0),VLOOKUP(B311,BaseProdutos!B:V,14,0)),\"\")","v":""},{"$f":"IFERROR(SUM(VLOOKUP(B311,BaseProdutos!B:V,15,0),VLOOKUP(B311,BaseProdutos!B:V,16,0))/100,\"\")","v":""},{"$f":"IFERROR(VLOOKUP(B311,BaseProdutos!B:V,4,0),\"\")","v":""},"",null,null,null,null,null,"","","","","",{"$f":"IFERROR(F311*PE!$F$20,\"\")","v":""},"",""]
[null,{"$f":"IF(BaseProdutos!B302=\"\",\"\",BaseProdutos!B302)","v":""},{"$f":"IFERROR(VLOOKUP(B312,BaseProdutos!B:V,21,0),\"\")","v":""},null,"","",{"$f":"IFERROR(VLOOKUP(B312,BaseProdutos!B:V,3,0),\"\")","v":""},{"$f":"IFERROR(VLOOKUP(B312,BaseProdutos!B:V,17,0),\"\")","v":""},{"$f":"IFERROR(SUM(VLOOKUP(B312,BaseProdutos!B:V,13,0),VLOOKUP(B312,BaseProdutos!B:V,14,0)),\"\")","v":""},{"$f":"IFERROR(SUM(VLOOKUP(B312,BaseProdutos!B:V,15,0),VLOOKUP(B312,BaseProdutos!B:V,16,0))/100,\"\")","v":""},{"$f":"IFERROR(VLOOKUP(B312,BaseProdutos!B:V,4,0),\"\")","v":""},"",null,null,null,null,null,"","","","","",{"$f":"IFERROR(F312*PE!$F$20,\"\")","v":""},"",""]
[null,{"$f":"IF(BaseProdutos!B303=\"\",\"\",BaseProdutos!B303)","v":""},{"$f":"IFERROR(VLOOKUP(B313,BaseProdutos!B:V,21,0),\"\")","v":""},null,"","",{"$f":"IFERROR(VLOOKUP(B313,BaseProdutos!B:V,3,0),\"\")","v":""},{"$f":"IFERROR(VLOOKUP(B313,BaseProdutos!B:V,17,0),\"\")","v":""},{"$f":"IFERROR(SUM(VLOOKUP(B313,BaseProdutos!B:V,13,0),VLOOKUP(B313,BaseProdutos!B:V,14,0)),\"\")","v":""},{"$f":"IFERROR(SUM(VLOOKUP(B313,BaseProdutos!B:V,15,0),VLOOKUP(B313,BaseProdutos!B:V,16,0))/100,\"\")","v":""},{"$f":"IFERROR(VLOOKUP(B313,BaseProdutos!B:V,4,0),\"\")","v":""},"",null,null,null,null,null,"","","","","",{"$f":"IFERROR(F313*PE!$F$20,\"\")","v":""},"",""]
[null,{"$f":"IF(BaseProdutos!B304=\"\",\"\",BaseProdutos!B304)","v":""},{"$f":"IFERROR(VLOOKUP(B314,BaseProdutos!B:V,21,0),\"\")","v":""},null,"","",{"$f":"IFERROR(VLOOKUP(B314,BaseProdutos!B:V,3,0),\"\")","v":""},{"$f":"IFERROR(VLOOKUP(B314,BaseProdutos!B:V,17,0),\"\")","v":""},{"$f":"IFERROR(SUM(VLOOKUP(B314,BaseProdutos!B:V,13,0),VLOOKUP(B314,BaseProdutos!B:V,14,0)),\"\")","v":""},{"$f":"IFERROR(SUM(VLOOKUP(B314,BaseProdutos!B:V,15,0),VLOOKUP(B314,BaseProdutos!B:V,16,0))/100,\"\")","v":""},{"$f":"IFERROR(VLOOKUP(B314,BaseProdutos!B:V,4,0),\"\")","v":""},"",null,null,null,null,null,"","","","","",{"$f":"IFERROR(F314*PE!$F$20,\"\")","v":""},"",""]
[null,{"$f":"IF(BaseProdutos!B305=\"\",\"\",BaseProdutos!B305)","v":""},{"$f":"IFERROR(VLOOKUP(B315,BaseProdutos!B:V,21,0),\"\")","v":""},null,"","",{"$f":"IFERROR(VLOOKUP(B315,BaseProdutos!B:V,3,0),\"\")","v":""},{"$f":"IFERROR(VLOOKUP(B315,BaseProdutos!B:V,17,0),\"\")","v":""},{"$f":"IFERROR(SUM(VLOOKUP(B315,BaseProdutos!B:V,13,0),VLOOKUP(B315,BaseProdutos!B:V,14,0)),\"\")","v":""},{"$f":"IFERROR(SUM(VLOOKUP(B315,BaseProdutos!B:V,15,0),VLOOKUP(B315,BaseProdutos!B:V,16,0))/100,\"\")","v":""},{"$f":"IFERROR(VLOOKUP(B315,BaseProdutos!B:V,4,0),\"\")","v":""},"",null,null,null,null,null,"","","","","",{"$f":"IFERROR(F315*PE!$F$20,\"\")","v":""},"",""]
[null,{"$f":"IF(BaseProdutos!B306=\"\",\"\",BaseProdutos!B306)","v":""},{"$f":"IFERROR(VLOOKUP(B316,BaseProdutos!B:V,21,0),\"\")","v":""},null,"","",{"$f":"IFERROR(VLOOKUP(B316,BaseProdutos!B:V,3,0),\"\")","v":""},{"$f":"IFERROR(VLOOKUP(B316,BaseProdutos!B:V,17,0),\"\")","v":""},{"$f":"IFERROR(SUM(VLOOKUP(B316,BaseProdutos!B:V,13,0),VLOOKUP(B316,BaseProdutos!B:V,14,0)),\"\")","v":""},{"$f":"IFERROR(SUM(VLOOKUP(B316,BaseProdutos!B:V,15,0),VLOOKUP(B316,BaseProdutos!B:V,16,0))/100,\"\")","v":""},{"$f":"IFERROR(VLOOKUP(B316,BaseProdutos!B:V,4,0),\"\")","v":""},"",null,null,null,null,null,"","","","","",{"$f":"IFERROR(F316*PE!$F$20,\"\")","v":""},"",""]
[null,{"$f":"IF(BaseProdutos!B307=\"\",\"\",BaseProdutos!B307)","v":""},{"$f":"IFERROR(VLOOKUP(B317,BaseProdutos!B:V,21,0),\"\")","v":""},null,"","",{"$f":"IFERROR(VLOOKUP(B317,BaseProdutos!B:V,3,0),\"\")","v":""},{"$f":"IFERROR(VLOOKUP(B317,BaseProdutos!B:V,17,0),\"\")","v":""},{"$f":"IFERROR(SUM(VLOOKUP(B317,BaseProdutos!B:V,13,0),VLOOKUP(B317,BaseProdutos!B:V,14,0)),\"\")","v":""},{"$f":"IFERROR(SUM(VLOOKUP(B317,BaseProdutos!B:V,15,0),VLOOKUP(B317,BaseProdutos!B:V,16,0))/100,\"\")","v":""},{"$f":"IFERROR(VLOOKUP(B317,BaseProdutos!B:V,4,0),\"\")","v":""},"",null,null,null,null,null,"","","","","",{"$f":"IFERROR(F317*PE!$F$20,\"\")","v":""},"",""]
[null,{"$f":"IF(BaseProdutos!B308=\"\",\"\",BaseProdutos!B308)","v":""},{"$f":"IFERROR(VLOOKUP(B318,BaseProdutos!B:V,21,0),\"\")","v":""},null,"","",{"$f":"IFERROR(VLOOKUP(B318,BaseProdutos!B:V,3,0),\"\")","v":""},{"$f":"IFERROR(VLOOKUP(B318,BaseProdutos!B:V,17,0),\"\")","v":""},{"$f":"IFERROR(SUM(VLOOKUP(B318,BaseProdutos!B:V,13,0),VLOOKUP(B318,BaseProdutos!B:V,14,0)),\"\")","v":""},{"$f":"IFERROR(SUM(VLOOKUP(B318,BaseProdutos!B:V,15,0),VLOOKUP(B318,BaseProdutos!B:V,16,0))/100,\"\")","v":""},{"$f":"IFERROR(VLOOKUP(B318,BaseProdutos!B:V,4,0),\"\")","v":""},"",null,null,null,null,null,"","","","","",{"$f":"IFERROR(F318*PE!$F$20,\"\")","v":""},"",""]
[null,{"$f":"IF(BaseProdutos!B309=\"\",\"\",BaseProdutos!B309)","v":""},{"$f":"IFERROR(VLOOKUP(B319,BaseProdutos!B:V,21,0),\"\")","v":""},null,"","",{"$f":"IFERROR(VLOOKUP(B319,BaseProdutos!B:V,3,0),\"\")","v":""},{"$f":"IFERROR(VLOOKUP(B319,BaseProdutos!B:V,17,0),\"\")","v":""},{"$f":"IFERROR(SUM(VLOOKUP(B319,BaseProdutos!B:V,13,0),VLOOKUP(B319,BaseProdutos!B:V,14,0)),\"\")","v":""},{"$f":"IFERROR(SUM(VLOOKUP(B319,BaseProdutos!B:V,15,0),VLOOKUP(B319,BaseProdutos!B:V,16,0))/100,\"\")","v":""},{"$f":"IFERROR(VLOOKUP(B319,BaseProdutos!B:V,4,0),\"\")","v":""},"",null,null,null,null,null,"","","","","",{"$f":"IFERROR(F319*PE!$F$20,\"\")","v":""},"",""]
[null,{"$f":"IF(BaseProdutos!B310=\"\",\"\",BaseProdutos!B310)","v":""},{"$f":"IFERROR(VLOOKUP(B320,BaseProdutos!B:V,21,0),\"\")","v":""},null,"","",{"$f":"IFERROR(VLOOKUP(B320,BaseProdutos!B:V,3,0),\"\")","v":""},{"$f":"IFERROR(VLOOKUP(B320,BaseProdutos!B:V,17,0),\"\")","v":""},{"$f":"IFERROR(SUM(VLOOKUP(B320,BaseProdutos!B:V,13,0),VLOOKUP(B320,BaseProdutos!B:V,14,0)),\"\")","v":""},{"$f":"IFERROR(SUM(VLOOKUP(B320,BaseProdutos!B:V,15,0),VLOOKUP(B320,BaseProdutos!B:V,16,0))/100,\"\")","v":""},{"$f":"IFERROR(VLOOKUP(B320,BaseProdutos!B:V,4,0),\"\")","v":""},"",null,null,null,null,null,"","","","","",{"$f":"IFERROR(F320*PE!$F$20,\"\")","v":""},"",""]
[null,{"$f":"IF(BaseProdutos!B311=\"\",\"\",BaseProdutos!B311)","v":""},{"$f":"IFERROR(VLOOKUP(B321,BaseProdutos!B:V,21,0),\"\")","v":""},null,"","",{"$f":"IFERROR(VLOOKUP(B321,BaseProdutos!B:V,3,0),\"\")","v":""},{"$f":"IFERROR(VLOOKUP(B321,BaseProdutos!B:V,17,0),\"\")","v":""},{"$f":"IFERROR(SUM(VLOOKUP(B321,BaseProdutos!B:V,13,0),VLOOKUP(B321,BaseProdutos!B:V,14,0)),\"\")","v":""},{"$f":"IFERROR(SUM(VLOOKUP(B321,BaseProdutos!B:V,15,0),VLOOKUP(B321,BaseProdutos!B:V,16,0))/100,\"\")","v":""},{"$f":"IFERROR(VLOOKUP(B321,BaseProdutos!B:V,4,0),\"\")","v":""},"",null,null,null,null,null,"","","","","",{"$f":"IFERROR(F321*PE!$F$20,\"\")","v":""},"",""]
[null,{"$f":"IF(BaseProdutos!B312=\"\",\"\",BaseProdutos!B312)","v":""},{"$f":"IFERROR(VLOOKUP(B322,BaseProdutos!B:V,21,0),\"\")","v":""},null,"","",{"$f":"IFERROR(VLOOKUP(B322,BaseProdutos!B:V,3,0),\"\")","v":""},{"$f":"IFERROR(VLOOKUP(B322,BaseProdutos!B:V,17,0),\"\")","v":""},{"$f":"IFERROR(SUM(VLOOKUP(B322,BaseProdutos!B:V,13,0),VLOOKUP(B322,BaseProdutos!B:V,14,0)),\"\")","v":""},{"$f":"IFERROR(SUM(VLOOKUP(B322,BaseProdutos!B:V,15,0),VLOOKUP(B322,BaseProdutos!B:V,16,0))/100,\"\")","v":""},{"$f":"IFERROR(VLOOKUP(B322,BaseProdutos!B:V,4,0),\"\")","v":""},"",null,null,null,null,null,"","","","","",{"$f":"IFERROR(F322*PE!$F$20,\"\")","v":""},"",""]
[null,{"$f":"IF(BaseProdutos!B313=\"\",\"\",BaseProdutos!B313)","v":""},{"$f":"IFERROR(VLOOKUP(B323,BaseProdutos!B:V,21,0),\"\")","v":""},null,"","",{"$f":"IFERROR(VLOOKUP(B323,BaseProdutos!B:V,3,0),\"\")","v":""},{"$f":"IFERROR(VLOOKUP(B323,BaseProdutos!B:V,17,0),\"\")","v":""},{"$f":"IFERROR(SUM(VLOOKUP(B323,BaseProdutos!B:V,13,0),VLOOKUP(B323,BaseProdutos!B:V,14,0)),\"\")","v":""},{"$f":"IFERROR(SUM(VLOOKUP(B323,BaseProdutos!B:V,15,0),VLOOKUP(B323,BaseProdutos!B:V,16,0))/100,\"\")","v":""},{"$f":"IFERROR(VLOOKUP(B323,BaseProdutos!B:V,4,0),\"\")","v":""},"",null,null,null,null,null,"","","","","",{"$f":"IFERROR(F323*PE!$F$20,\"\")","v":""},"",""]
[null,{"$f":"IF(BaseProdutos!B314=\"\",\"\",BaseProdutos!B314)","v":""},{"$f":"IFERROR(VLOOKUP(B324,BaseProdutos!B:V,21,0),\"\")","v":""},null,"","",{"$f":"IFERROR(VLOOKUP(B324,BaseProdutos!B:V,3,0),\"\")","v":""},{"$f":"IFERROR(VLOOKUP(B324,BaseProdutos!B:V,17,0),\"\")","v":""},{"$f":"IFERROR(SUM(VLOOKUP(B324,BaseProdutos!B:V,13,0),VLOOKUP(B324,BaseProdutos!B:V,14,0)),\"\")","v":""},{"$f":"IFERROR(SUM(VLOOKUP(B324,BaseProdutos!B:V,15,0),VLOOKUP(B324,BaseProdutos!B:V,16,0))/100,\"\")","v":""},{"$f":"IFERROR(VLOOKUP(B324,BaseProdutos!B:V,4,0),\"\")","v":""},"",null,null,null,null,null,"","","","","",{"$f":"IFERROR(F324*PE!$F$20,\"\")","v":""},"",""]
[null,{"$f":"IF(BaseProdutos!B315=\"\",\"\",BaseProdutos!B315)","v":""},{"$f":"IFERROR(VLOOKUP(B325,BaseProdutos!B:V,21,0),\"\")","v":""},null,"","",{"$f":"IFERROR(VLOOKUP(B325,BaseProdutos!B:V,3,0),\"\")","v":""},{"$f":"IFERROR(VLOOKUP(B325,BaseProdutos!B:V,17,0),\"\")","v":""},{"$f":"IFERROR(SUM(VLOOKUP(B325,BaseProdutos!B:V,13,0),VLOOKUP(B325,BaseProdutos!B:V,14,0)),\"\")","v":""},{"$f":"IFERROR(SUM(VLOOKUP(B325,BaseProdutos!B:V,15,0),VLOOKUP(B325,BaseProdutos!B:V,16,0))/100,\"\")","v":""},{"$f":"IFERROR(VLOOKUP(B325,BaseProdutos!B:V,4,0),\"\")","v":""},"",null,null,null,null,null,"","","","","",{"$f":"IFERROR(F325*PE!$F$20,\"\")","v":""},"",""]
[null,{"$f":"IF(BaseProdutos!B316=\"\",\"\",BaseProdutos!B316)","v":""},{"$f":"IFERROR(VLOOKUP(B326,BaseProdutos!B:V,21,0),\"\")","v":""},null,"","",{"$f":"IFERROR(VLOOKUP(B326,BaseProdutos!B:V,3,0),\"\")","v":""},{"$f":"IFERROR(VLOOKUP(B326,BaseProdutos!B:V,17,0),\"\")","v":""},{"$f":"IFERROR(SUM(VLOOKUP(B326,BaseProdutos!B:V,13,0),VLOOKUP(B326,BaseProdutos!B:V,14,0)),\"\")","v":""},{"$f":"IFERROR(SUM(VLOOKUP(B326,BaseProdutos!B:V,15,0),VLOOKUP(B326,BaseProdutos!B:V,16,0))/100,\"\")","v":""},{"$f":"IFERROR(VLOOKUP(B326,BaseProdutos!B:V,4,0),\"\")","v":""},"",null,null,null,null,null,"","","","","",{"$f":"IFERROR(F326*PE!$F$20,\"\")","v":""},"",""]
[null,{"$f":"IF(BaseProdutos!B317=\"\",\"\",BaseProdutos!B317)","v":""},{"$f":"IFERROR(VLOOKUP(B327,BaseProdutos!B:V,21,0),\"\")","v":""},null,"","",{"$f":"IFERROR(VLOOKUP(B327,BaseProdutos!B:V,3,0),\"\")","v":""},{"$f":"IFERROR(VLOOKUP(B327,BaseProdutos!B:V,17,0),\"\")","v":""},{"$f":"IFERROR(SUM(VLOOKUP(B327,BaseProdutos!B:V,13,0),VLOOKUP(B327,BaseProdutos!B:V,14,0)),\"\")","v":""},{"$f":"IFERROR(SUM(VLOOKUP(B327,BaseProdutos!B:V,15,0),VLOOKUP(B327,BaseProdutos!B:V,16,0))/100,\"\")","v":""},{"$f":"IFERROR(VLOOKUP(B327,BaseProdutos!B:V,4,0),\"\")","v":""},"",null,null,null,null,null,"","","","","",{"$f":"IFERROR(F327*PE!$F$20,\"\")","v":""},"",""]
[null,{"$f":"IF(BaseProdutos!B318=\"\",\"\",BaseProdutos!B318)","v":""},{"$f":"IFERROR(VLOOKUP(B328,BaseProdutos!B:V,21,0),\"\")","v":""},null,"","",{"$f":"IFERROR(VLOOKUP(B328,BaseProdutos!B:V,3,0),\"\")","v":""},{"$f":"IFERROR(VLOOKUP(B328,BaseProdutos!B:V,17,0),\"\")","v":""},{"$f":"IFERROR(SUM(VLOOKUP(B328,BaseProdutos!B:V,13,0),VLOOKUP(B328,BaseProdutos!B:V,14,0)),\"\")","v":""},{"$f":"IFERROR(SUM(VLOOKUP(B328,BaseProdutos!B:V,15,0),VLOOKUP(B328,BaseProdutos!B:V,16,0))/100,\"\")","v":""},{"$f":"IFERROR(VLOOKUP(B328,BaseProdutos!B:V,4,0),\"\")","v":""},"",null,null,null,null,null,"","","","","",{"$f":"IFERROR(F328*PE!$F$20,\"\")","v":""},"",""]
[null,{"$f":"IF(BaseProdutos!B319=\"\",\"\",BaseProdutos!B319)","v":""},{"$f":"IFERROR(VLOOKUP(B329,BaseProdutos!B:V,21,0),\"\")","v":""},null,"","",{"$f":"IFERROR(VLOOKUP(B329,BaseProdutos!B:V,3,0),\"\")","v":""},{"$f":"IFERROR(VLOOKUP(B329,BaseProdutos!B:V,17,0),\"\")","v":""},{"$f":"IFERROR(SUM(VLOOKUP(B329,BaseProdutos!B:V,13,0),VLOOKUP(B329,BaseProdutos!B:V,14,0)),\"\")","v":""},{"$f":"IFERROR(SUM(VLOOKUP(B329,BaseProdutos!B:V,15,0),VLOOKUP(B329,BaseProdutos!B:V,16,0))/100,\"\")","v":""},{"$f":"IFERROR(VLOOKUP(B329,BaseProdutos!B:V,4,0),\"\")","v":""},"",null,null,null,null,null,"","","","","",{"$f":"IFERROR(F329*PE!$F$20,\"\")","v":""},"",""]
[null,{"$f":"IF(BaseProdutos!B320=\"\",\"\",BaseProdutos!B320)","v":""},{"$f":"IFERROR(VLOOKUP(B330,BaseProdutos!B:V,21,0),\"\")","v":""},null,"","",{"$f":"IFERROR(VLOOKUP(B330,BaseProdutos!B:V,3,0),\"\")","v":""},{"$f":"IFERROR(VLOOKUP(B330,BaseProdutos!B:V,17,0),\"\")","v":""},{"$f":"IFERROR(SUM(VLOOKUP(B330,BaseProdutos!B:V,13,0),VLOOKUP(B330,BaseProdutos!B:V,14,0)),\"\")","v":""},{"$f":"IFERROR(SUM(VLOOKUP(B330,BaseProdutos!B:V,15,0),VLOOKUP(B330,BaseProdutos!B:V,16,0))/100,\"\")","v":""},{"$f":"IFERROR(VLOOKUP(B330,BaseProdutos!B:V,4,0),\"\")","v":""},"",null,null,null,null,null,"","","","","",{"$f":"IFERROR(F330*PE!$F$20,\"\")","v":""},"",""]
[null,{"$f":"IF(BaseProdutos!B321=\"\",\"\",BaseProdutos!B321)","v":""},{"$f":"IFERROR(VLOOKUP(B331,BaseProdutos!B:V,21,0),\"\")","v":""},null,"","",{"$f":"IFERROR(VLOOKUP(B331,BaseProdutos!B:V,3,0),\"\")","v":""},{"$f":"IFERROR(VLOOKUP(B331,BaseProdutos!B:V,17,0),\"\")","v":""},{"$f":"IFERROR(SUM(VLOOKUP(B331,BaseProdutos!B:V,13,0),VLOOKUP(B331,BaseProdutos!B:V,14,0)),\"\")","v":""},{"$f":"IFERROR(SUM(VLOOKUP(B331,BaseProdutos!B:V,15,0),VLOOKUP(B331,BaseProdutos!B:V,16,0))/100,\"\")","v":""},{"$f":"IFERROR(VLOOKUP(B331,BaseProdutos!B:V,4,0),\"\")","v":""},"",null,null,null,null,null,"","","","","",{"$f":"IFERROR(F331*PE!$F$20,\"\")","v":""},"",""]
[null,{"$f":"IF(BaseProdutos!B322=\"\",\"\",BaseProdutos!B322)","v":""},{"$f":"IFERROR(VLOOKUP(B332,BaseProdutos!B:V,21,0),\"\")","v":""},null,"","",{"$f":"IFERROR(VLOOKUP(B332,BaseProdutos!B:V,3,0),\"\")","v":""},{"$f":"IFERROR(VLOOKUP(B332,BaseProdutos!B:V,17,0),\"\")","v":""},{"$f":"IFERROR(SUM(VLOOKUP(B332,BaseProdutos!B:V,13,0),VLOOKUP(B332,BaseProdutos!B:V,14,0)),\"\")","v":""},{"$f":"IFERROR(SUM(VLOOKUP(B332,BaseProdutos!B:V,15,0),VLOOKUP(B332,BaseProdutos!B:V,16,0))/100,\"\")","v":""},{"$f":"IFERROR(VLOOKUP(B332,BaseProdutos!B:V,4,0),\"\")","v":""},"",null,null,null,null,null,"","","","","",{"$f":"IFERROR(F332*PE!$F$20,\"\")","v":""},"",""]
[null,{"$f":"IF(BaseProdutos!B323=\"\",\"\",BaseProdutos!B323)","v":""},{"$f":"IFERROR(VLOOKUP(B333,BaseProdutos!B:V,21,0),\"\")","v":""},null,{"$f":"IFERROR(IF(B333=\"\",\"\",C333*D333),\"\")","v":""},{"$f":"IFERROR(E333/SUM($E$12:$E$511),\"\")","v":""},{"$f":"IFERROR(VLOOKUP(B333,BaseProdutos!B:V,3,0),\"\")","v":""},{"$f":"IFERROR(VLOOKUP(B333,BaseProdutos!B:V,17,0),\"\")","v":""},{"$f":"IFERROR(SUM(VLOOKUP(B333,BaseProdutos!B:V,13,0),VLOOKUP(B333,BaseProdutos!B:V,14,0)),\"\")","v":""},{"$f":"IFERROR(SUM(VLOOKUP(B333,BaseProdutos!B:V,15,0),VLOOKUP(B333,BaseProdutos!B:V,16,0))/100,\"\")","v":""},{"$f":"IFERROR(VLOOKUP(B333,BaseProdutos!B:V,4,0),\"\")","v":""},{"$f":"IFERROR(G333+C333*(H333+I333+J333)+K333,\"\")","v":""},null,null,null,null,null,{"$f":"IFERROR(H333*E333,\"\")","v":""},{"$f":"IFERROR(I333*E333,\"\")","v":""},{"$f":"IFERROR(C333-L333,\"\")","v":""},{"$f":"IFERROR(T333/C333,\"\")","v":""},{"$f":"IFERROR(W333*C333,\"\")","v":""},{"$f":"IFERROR(F333*PE!$F$20,\"\")","v":""},{"$f":"IFERROR(K333*D333,\"\")","v":""},{"$f":"IFERROR(G333*D333,\"\")","v":""}]
[null,{"$f":"IF(BaseProdutos!B324=\"\",\"\",BaseProdutos!B324)","v":""},{"$f":"IFERROR(VLOOKUP(B334,BaseProdutos!B:V,21,0),\"\")","v":""},null,"","",{"$f":"IFERROR(VLOOKUP(B334,BaseProdutos!B:V,3,0),\"\")","v":""},{"$f":"IFERROR(VLOOKUP(B334,BaseProdutos!B:V,17,0),\"\")","v":""},{"$f":"IFERROR(SUM(VLOOKUP(B334,BaseProdutos!B:V,13,0),VLOOKUP(B334,BaseProdutos!B:V,14,0)),\"\")","v":""},{"$f":"IFERROR(SUM(VLOOKUP(B334,BaseProdutos!B:V,15,0),VLOOKUP(B334,BaseProdutos!B:V,16,0))/100,\"\")","v":""},{"$f":"IFERROR(VLOOKUP(B334,BaseProdutos!B:V,4,0),\"\")","v":""},"",null,null,null,null,null,"","","","","",{"$f":"IFERROR(F334*PE!$F$20,\"\")","v":""},"",""]
[null,{"$f":"IF(BaseProdutos!B325=\"\",\"\",BaseProdutos!B325)","v":""},{"$f":"IFERROR(VLOOKUP(B335,BaseProdutos!B:V,21,0),\"\")","v":""},null,"","",{"$f":"IFERROR(VLOOKUP(B335,BaseProdutos!B:V,3,0),\"\")","v":""},{"$f":"IFERROR(VLOOKUP(B335,BaseProdutos!B:V,17,0),\"\")","v":""},{"$f":"IFERROR(SUM(VLOOKUP(B335,BaseProdutos!B:V,13,0),VLOOKUP(B335,BaseProdutos!B:V,14,0)),\"\")","v":""},{"$f":"IFERROR(SUM(VLOOKUP(B335,BaseProdutos!B:V,15,0),VLOOKUP(B335,BaseProdutos!B:V,16,0))/100,\"\")","v":""},{"$f":"IFERROR(VLOOKUP(B335,BaseProdutos!B:V,4,0),\"\")","v":""},"",null,null,null,null,null,"","","","","",{"$f":"IFERROR(F335*PE!$F$20,\"\")","v":""},"",""]
[null,{"$f":"IF(BaseProdutos!B326=\"\",\"\",BaseProdutos!B326)","v":""},{"$f":"IFERROR(VLOOKUP(B336,BaseProdutos!B:V,21,0),\"\")","v":""},null,"","",{"$f":"IFERROR(VLOOKUP(B336,BaseProdutos!B:V,3,0),\"\")","v":""},{"$f":"IFERROR(VLOOKUP(B336,BaseProdutos!B:V,17,0),\"\")","v":""},{"$f":"IFERROR(SUM(VLOOKUP(B336,BaseProdutos!B:V,13,0),VLOOKUP(B336,BaseProdutos!B:V,14,0)),\"\")","v":""},{"$f":"IFERROR(SUM(VLOOKUP(B336,BaseProdutos!B:V,15,0),VLOOKUP(B336,BaseProdutos!B:V,16,0))/100,\"\")","v":""},{"$f":"IFERROR(VLOOKUP(B336,BaseProdutos!B:V,4,0),\"\")","v":""},"",null,null,null,null,null,"","","","","",{"$f":"IFERROR(F336*PE!$F$20,\"\")","v":""},"",""]
[null,{"$f":"IF(BaseProdutos!B327=\"\",\"\",BaseProdutos!B327)","v":""},{"$f":"IFERROR(VLOOKUP(B337,BaseProdutos!B:V,21,0),\"\")","v":""},null,"","",{"$f":"IFERROR(VLOOKUP(B337,BaseProdutos!B:V,3,0),\"\")","v":""},{"$f":"IFERROR(VLOOKUP(B337,BaseProdutos!B:V,17,0),\"\")","v":""},{"$f":"IFERROR(SUM(VLOOKUP(B337,BaseProdutos!B:V,13,0),VLOOKUP(B337,BaseProdutos!B:V,14,0)),\"\")","v":""},{"$f":"IFERROR(SUM(VLOOKUP(B337,BaseProdutos!B:V,15,0),VLOOKUP(B337,BaseProdutos!B:V,16,0))/100,\"\")","v":""},{"$f":"IFERROR(VLOOKUP(B337,BaseProdutos!B:V,4,0),\"\")","v":""},"",null,null,null,null,null,"","","","","",{"$f":"IFERROR(F337*PE!$F$20,\"\")","v":""},"",""]
[null,{"$f":"IF(BaseProdutos!B328=\"\",\"\",BaseProdutos!B328)","v":""},{"$f":"IFERROR(VLOOKUP(B338,BaseProdutos!B:V,21,0),\"\")","v":""},null,"","",{"$f":"IFERROR(VLOOKUP(B338,BaseProdutos!B:V,3,0),\"\")","v":""},{"$f":"IFERROR(VLOOKUP(B338,BaseProdutos!B:V,17,0),\"\")","v":""},{"$f":"IFERROR(SUM(VLOOKUP(B338,BaseProdutos!B:V,13,0),VLOOKUP(B338,BaseProdutos!B:V,14,0)),\"\")","v":""},{"$f":"IFERROR(SUM(VLOOKUP(B338,BaseProdutos!B:V,15,0),VLOOKUP(B338,BaseProdutos!B:V,16,0))/100,\"\")","v":""},{"$f":"IFERROR(VLOOKUP(B338,BaseProdutos!B:V,4,0),\"\")","v":""},"",null,null,null,null,null,"","","","","",{"$f":"IFERROR(F338*PE!$F$20,\"\")","v":""},"",""]
[null,{"$f":"IF(BaseProdutos!B329=\"\",\"\",BaseProdutos!B329)","v":""},{"$f":"IFERROR(VLOOKUP(B339,BaseProdutos!B:V,21,0),\"\")","v":""},null,"","",{"$f":"IFERROR(VLOOKUP(B339,BaseProdutos!B:V,3,0),\"\")","v":""},{"$f":"IFERROR(VLOOKUP(B339,BaseProdutos!B:V,17,0),\"\")","v":""},{"$f":"IFERROR(SUM(VLOOKUP(B339,BaseProdutos!B:V,13,0),VLOOKUP(B339,BaseProdutos!B:V,14,0)),\"\")","v":""},{"$f":"IFERROR(SUM(VLOOKUP(B339,BaseProdutos!B:V,15,0),VLOOKUP(B339,BaseProdutos!B:V,16,0))/100,\"\")","v":""},{"$f":"IFERROR(VLOOKUP(B339,BaseProdutos!B:V,4,0),\"\")","v":""},"",null,null,null,null,null,"","","","","",{"$f":"IFERROR(F339*PE!$F$20,\"\")","v":""},"",""]
[null,{"$f":"IF(BaseProdutos!B330=\"\",\"\",BaseProdutos!B330)","v":""},{"$f":"IFERROR(VLOOKUP(B340,BaseProdutos!B:V,21,0),\"\")","v":""},null,"","",{"$f":"IFERROR(VLOOKUP(B340,BaseProdutos!B:V,3,0),\"\")","v":""},{"$f":"IFERROR(VLOOKUP(B340,BaseProdutos!B:V,17,0),\"\")","v":""},{"$f":"IFERROR(SUM(VLOOKUP(B340,BaseProdutos!B:V,13,0),VLOOKUP(B340,BaseProdutos!B:V,14,0)),\"\")","v":""},{"$f":"IFERROR(SUM(VLOOKUP(B340,BaseProdutos!B:V,15,0),VLOOKUP(B340,BaseProdutos!B:V,16,0))/100,\"\")","v":""},{"$f":"IFERROR(VLOOKUP(B340,BaseProdutos!B:V,4,0),\"\")","v":""},"",null,null,null,null,null,"","","","","",{"$f":"IFERROR(F340*PE!$F$20,\"\")","v":""},"",""]
[null,{"$f":"IF(BaseProdutos!B331=\"\",\"\",BaseProdutos!B331)","v":""},{"$f":"IFERROR(VLOOKUP(B341,BaseProdutos!B:V,21,0),\"\")","v":""},null,"","",{"$f":"IFERROR(VLOOKUP(B341,BaseProdutos!B:V,3,0),\"\")","v":""},{"$f":"IFERROR(VLOOKUP(B341,BaseProdutos!B:V,17,0),\"\")","v":""},{"$f":"IFERROR(SUM(VLOOKUP(B341,BaseProdutos!B:V,13,0),VLOOKUP(B341,BaseProdutos!B:V,14,0)),\"\")","v":""},{"$f":"IFERROR(SUM(VLOOKUP(B341,BaseProdutos!B:V,15,0),VLOOKUP(B341,BaseProdutos!B:V,16,0))/100,\"\")","v":""},{"$f":"IFERROR(VLOOKUP(B341,BaseProdutos!B:V,4,0),\"\")","v":""},"",null,null,null,null,null,"","","","","",{"$f":"IFERROR(F341*PE!$F$20,\"\")","v":""},"",""]
[null,{"$f":"IF(BaseProdutos!B332=\"\",\"\",BaseProdutos!B332)","v":""},{"$f":"IFERROR(VLOOKUP(B342,BaseProdutos!B:V,21,0),\"\")","v":""},null,"","",{"$f":"IFERROR(VLOOKUP(B342,BaseProdutos!B:V,3,0),\"\")","v":""},{"$f":"IFERROR(VLOOKUP(B342,BaseProdutos!B:V,17,0),\"\")","v":""},{"$f":"IFERROR(SUM(VLOOKUP(B342,BaseProdutos!B:V,13,0),VLOOKUP(B342,BaseProdutos!B:V,14,0)),\"\")","v":""},{"$f":"IFERROR(SUM(VLOOKUP(B342,BaseProdutos!B:V,15,0),VLOOKUP(B342,BaseProdutos!B:V,16,0))/100,\"\")","v":""},{"$f":"IFERROR(VLOOKUP(B342,BaseProdutos!B:V,4,0),\"\")","v":""},"",null,null,null,null,null,"","","","","",{"$f":"IFERROR(F342*PE!$F$20,\"\")","v":""},"",""]
[null,{"$f":"IF(BaseProdutos!B333=\"\",\"\",BaseProdutos!B333)","v":""},{"$f":"IFERROR(VLOOKUP(B343,BaseProdutos!B:V,21,0),\"\")","v":""},null,"","",{"$f":"IFERROR(VLOOKUP(B343,BaseProdutos!B:V,3,0),\"\")","v":""},{"$f":"IFERROR(VLOOKUP(B343,BaseProdutos!B:V,17,0),\"\")","v":""},{"$f":"IFERROR(SUM(VLOOKUP(B343,BaseProdutos!B:V,13,0),VLOOKUP(B343,BaseProdutos!B:V,14,0)),\"\")","v":""},{"$f":"IFERROR(SUM(VLOOKUP(B343,BaseProdutos!B:V,15,0),VLOOKUP(B343,BaseProdutos!B:V,16,0))/100,\"\")","v":""},{"$f":"IFERROR(VLOOKUP(B343,BaseProdutos!B:V,4,0),\"\")","v":""},"",null,null,null,null,null,"","","","","",{"$f":"IFERROR(F343*PE!$F$20,\"\")","v":""},"",""]
[null,{"$f":"IF(BaseProdutos!B334=\"\",\"\",BaseProdutos!B334)","v":""},{"$f":"IFERROR(VLOOKUP(B344,BaseProdutos!B:V,21,0),\"\")","v":""},null,"","",{"$f":"IFERROR(VLOOKUP(B344,BaseProdutos!B:V,3,0),\"\")","v":""},{"$f":"IFERROR(VLOOKUP(B344,BaseProdutos!B:V,17,0),\"\")","v":""},{"$f":"IFERROR(SUM(VLOOKUP(B344,BaseProdutos!B:V,13,0),VLOOKUP(B344,BaseProdutos!B:V,14,0)),\"\")","v":""},{"$f":"IFERROR(SUM(VLOOKUP(B344,BaseProdutos!B:V,15,0),VLOOKUP(B344,BaseProdutos!B:V,16,0))/100,\"\")","v":""},{"$f":"IFERROR(VLOOKUP(B344,BaseProdutos!B:V,4,0),\"\")","v":""},"",null,null,null,null,null,"","","","","",{"$f":"IFERROR(F344*PE!$F$20,\"\")","v":""},"",""]
[null,{"$f":"IF(BaseProdutos!B335=\"\",\"\",BaseProdutos!B335)","v":""},{"$f":"IFERROR(VLOOKUP(B345,BaseProdutos!B:V,21,0),\"\")","v":""},null,"","",{"$f":"IFERROR(VLOOKUP(B345,BaseProdutos!B:V,3,0),\"\")","v":""},{"$f":"IFERROR(VLOOKUP(B345,BaseProdutos!B:V,17,0),\"\")","v":""},{"$f":"IFERROR(SUM(VLOOKUP(B345,BaseProdutos!B:V,13,0),VLOOKUP(B345,BaseProdutos!B:V,14,0)),\"\")","v":""},{"$f":"IFERROR(SUM(VLOOKUP(B345,BaseProdutos!B:V,15,0),VLOOKUP(B345,BaseProdutos!B:V,16,0))/100,\"\")","v":""},{"$f":"IFERROR(VLOOKUP(B345,BaseProdutos!B:V,4,0),\"\")","v":""},"",null,null,null,null,null,"","","","","",{"$f":"IFERROR(F345*PE!$F$20,\"\")","v":""},"",""]
[null,{"$f":"IF(BaseProdutos!B336=\"\",\"\",BaseProdutos!B336)","v":""},{"$f":"IFERROR(VLOOKUP(B346,BaseProdutos!B:V,21,0),\"\")","v":""},null,"","",{"$f":"IFERROR(VLOOKUP(B346,BaseProdutos!B:V,3,0),\"\")","v":""},{"$f":"IFERROR(VLOOKUP(B346,BaseProdutos!B:V,17,0),\"\")","v":""},{"$f":"IFERROR(SUM(VLOOKUP(B346,BaseProdutos!B:V,13,0),VLOOKUP(B346,BaseProdutos!B:V,14,0)),\"\")","v":""},{"$f":"IFERROR(SUM(VLOOKUP(B346,BaseProdutos!B:V,15,0),VLOOKUP(B346,BaseProdutos!B:V,16,0))/100,\"\")","v":""},{"$f":"IFERROR(VLOOKUP(B346,BaseProdutos!B:V,4,0),\"\")","v":""},"",null,null,null,null,null,"","","","","",{"$f":"IFERROR(F346*PE!$F$20,\"\")","v":""},"",""]
[null,{"$f":"IF(BaseProdutos!B337=\"\",\"\",BaseProdutos!B337)","v":""},{"$f":"IFERROR(VLOOKUP(B347,BaseProdutos!B:V,21,0),\"\")","v":""},null,"","",{"$f":"IFERROR(VLOOKUP(B347,BaseProdutos!B:V,3,0),\"\")","v":""},{"$f":"IFERROR(VLOOKUP(B347,BaseProdutos!B:V,17,0),\"\")","v":""},{"$f":"IFERROR(SUM(VLOOKUP(B347,BaseProdutos!B:V,13,0),VLOOKUP(B347,BaseProdutos!B:V,14,0)),\"\")","v":""},{"$f":"IFERROR(SUM(VLOOKUP(B347,BaseProdutos!B:V,15,0),VLOOKUP(B347,BaseProdutos!B:V,16,0))/100,\"\")","v":""},{"$f":"IFERROR(VLOOKUP(B347,BaseProdutos!B:V,4,0),\"\")","v":""},"",null,null,null,null,null,"","","","","",{"$f":"IFERROR(F347*PE!$F$20,\"\")","v":""},"",""]
[null,{"$f":"IF(BaseProdutos!B338=\"\",\"\",BaseProdutos!B338)","v":""},{"$f":"IFERROR(VLOOKUP(B348,BaseProdutos!B:V,21,0),\"\")","v":""},null,"","",{"$f":"IFERROR(VLOOKUP(B348,BaseProdutos!B:V,3,0),\"\")","v":""},{"$f":"IFERROR(VLOOKUP(B348,BaseProdutos!B:V,17,0),\"\")","v":""},{"$f":"IFERROR(SUM(VLOOKUP(B348,BaseProdutos!B:V,13,0),VLOOKUP(B348,BaseProdutos!B:V,14,0)),\"\")","v":""},{"$f":"IFERROR(SUM(VLOOKUP(B348,BaseProdutos!B:V,15,0),VLOOKUP(B348,BaseProdutos!B:V,16,0))/100,\"\")","v":""},{"$f":"IFERROR(VLOOKUP(B348,BaseProdutos!B:V,4,0),\"\")","v":""},"",null,null,null,null,null,"","","","","",{"$f":"IFERROR(F348*PE!$F$20,\"\")","v":""},"",""]
[null,{"$f":"IF(BaseProdutos!B339=\"\",\"\",BaseProdutos!B339)","v":""},{"$f":"IFERROR(VLOOKUP(B349,BaseProdutos!B:V,21,0),\"\")","v":""},null,"","",{"$f":"IFERROR(VLOOKUP(B349,BaseProdutos!B:V,3,0),\"\")","v":""},{"$f":"IFERROR(VLOOKUP(B349,BaseProdutos!B:V,17,0),\"\")","v":""},{"$f":"IFERROR(SUM(VLOOKUP(B349,BaseProdutos!B:V,13,0),VLOOKUP(B349,BaseProdutos!B:V,14,0)),\"\")","v":""},{"$f":"IFERROR(SUM(VLOOKUP(B349,BaseProdutos!B:V,15,0),VLOOKUP(B349,BaseProdutos!B:V,16,0))/100,\"\")","v":""},{"$f":"IFERROR(VLOOKUP(B349,BaseProdutos!B:V,4,0),\"\")","v":""},"",null,null,null,null,null,"","","","","",{"$f":"IFERROR(F349*PE!$F$20,\"\")","v":""},"",""]
[null,{"$f":"IF(BaseProdutos!B340=\"\",\"\",BaseProdutos!B340)","v":""},{"$f":"IFERROR(VLOOKUP(B350,BaseProdutos!B:V,21,0),\"\")","v":""},null,"","",{"$f":"IFERROR(VLOOKUP(B350,BaseProdutos!B:V,3,0),\"\")","v":""},{"$f":"IFERROR(VLOOKUP(B350,BaseProdutos!B:V,17,0),\"\")","v":""},{"$f":"IFERROR(SUM(VLOOKUP(B350,BaseProdutos!B:V,13,0),VLOOKUP(B350,BaseProdutos!B:V,14,0)),\"\")","v":""},{"$f":"IFERROR(SUM(VLOOKUP(B350,BaseProdutos!B:V,15,0),VLOOKUP(B350,BaseProdutos!B:V,16,0))/100,\"\")","v":""},{"$f":"IFERROR(VLOOKUP(B350,BaseProdutos!B:V,4,0),\"\")","v":""},"",null,null,null,null,null,"","","","","",{"$f":"IFERROR(F350*PE!$F$20,\"\")","v":""},"",""]
[null,{"$f":"IF(BaseProdutos!B341=\"\",\"\",BaseProdutos!B341)","v":""},{"$f":"IFERROR(VLOOKUP(B351,BaseProdutos!B:V,21,0),\"\")","v":""},null,"","",{"$f":"IFERROR(VLOOKUP(B351,BaseProdutos!B:V,3,0),\"\")","v":""},{"$f":"IFERROR(VLOOKUP(B351,BaseProdutos!B:V,17,0),\"\")","v":""},{"$f":"IFERROR(SUM(VLOOKUP(B351,BaseProdutos!B:V,13,0),VLOOKUP(B351,BaseProdutos!B:V,14,0)),\"\")","v":""},{"$f":"IFERROR(SUM(VLOOKUP(B351,BaseProdutos!B:V,15,0),VLOOKUP(B351,BaseProdutos!B:V,16,0))/100,\"\")","v":""},{"$f":"IFERROR(VLOOKUP(B351,BaseProdutos!B:V,4,0),\"\")","v":""},"",null,null,null,null,null,"","","","","",{"$f":"IFERROR(F351*PE!$F$20,\"\")","v":""},"",""]
[null,{"$f":"IF(BaseProdutos!B342=\"\",\"\",BaseProdutos!B342)","v":""},{"$f":"IFERROR(VLOOKUP(B352,BaseProdutos!B:V,21,0),\"\")","v":""},null,"","",{"$f":"IFERROR(VLOOKUP(B352,BaseProdutos!B:V,3,0),\"\")","v":""},{"$f":"IFERROR(VLOOKUP(B352,BaseProdutos!B:V,17,0),\"\")","v":""},{"$f":"IFERROR(SUM(VLOOKUP(B352,BaseProdutos!B:V,13,0),VLOOKUP(B352,BaseProdutos!B:V,14,0)),\"\")","v":""},{"$f":"IFERROR(SUM(VLOOKUP(B352,BaseProdutos!B:V,15,0),VLOOKUP(B352,BaseProdutos!B:V,16,0))/100,\"\")","v":""},{"$f":"IFERROR(VLOOKUP(B352,BaseProdutos!B:V,4,0),\"\")","v":""},"",null,null,null,null,null,"","","","","",{"$f":"IFERROR(F352*PE!$F$20,\"\")","v":""},"",""]
[null,{"$f":"IF(BaseProdutos!B343=\"\",\"\",BaseProdutos!B343)","v":""},{"$f":"IFERROR(VLOOKUP(B353,BaseProdutos!B:V,21,0),\"\")","v":""},null,"","",{"$f":"IFERROR(VLOOKUP(B353,BaseProdutos!B:V,3,0),\"\")","v":""},{"$f":"IFERROR(VLOOKUP(B353,BaseProdutos!B:V,17,0),\"\")","v":""},{"$f":"IFERROR(SUM(VLOOKUP(B353,BaseProdutos!B:V,13,0),VLOOKUP(B353,BaseProdutos!B:V,14,0)),\"\")","v":""},{"$f":"IFERROR(SUM(VLOOKUP(B353,BaseProdutos!B:V,15,0),VLOOKUP(B353,BaseProdutos!B:V,16,0))/100,\"\")","v":""},{"$f":"IFERROR(VLOOKUP(B353,BaseProdutos!B:V,4,0),\"\")","v":""},"",null,null,null,null,null,"","","","","",{"$f":"IFERROR(F353*PE!$F$20,\"\")","v":""},"",""]
[null,{"$f":"IF(BaseProdutos!B344=\"\",\"\",BaseProdutos!B344)","v":""},{"$f":"IFERROR(VLOOKUP(B354,BaseProdutos!B:V,21,0),\"\")","v":""},null,"","",{"$f":"IFERROR(VLOOKUP(B354,BaseProdutos!B:V,3,0),\"\")","v":""},{"$f":"IFERROR(VLOOKUP(B354,BaseProdutos!B:V,17,0),\"\")","v":""},{"$f":"IFERROR(SUM(VLOOKUP(B354,BaseProdutos!B:V,13,0),VLOOKUP(B354,BaseProdutos!B:V,14,0)),\"\")","v":""},{"$f":"IFERROR(SUM(VLOOKUP(B354,BaseProdutos!B:V,15,0),VLOOKUP(B354,BaseProdutos!B:V,16,0))/100,\"\")","v":""},{"$f":"IFERROR(VLOOKUP(B354,BaseProdutos!B:V,4,0),\"\")","v":""},"",null,null,null,null,null,"","","","","",{"$f":"IFERROR(F354*PE!$F$20,\"\")","v":""},"",""]
[null,{"$f":"IF(BaseProdutos!B345=\"\",\"\",BaseProdutos!B345)","v":""},{"$f":"IFERROR(VLOOKUP(B355,BaseProdutos!B:V,21,0),\"\")","v":""},null,"","",{"$f":"IFERROR(VLOOKUP(B355,BaseProdutos!B:V,3,0),\"\")","v":""},{"$f":"IFERROR(VLOOKUP(B355,BaseProdutos!B:V,17,0),\"\")","v":""},{"$f":"IFERROR(SUM(VLOOKUP(B355,BaseProdutos!B:V,13,0),VLOOKUP(B355,BaseProdutos!B:V,14,0)),\"\")","v":""},{"$f":"IFERROR(SUM(VLOOKUP(B355,BaseProdutos!B:V,15,0),VLOOKUP(B355,BaseProdutos!B:V,16,0))/100,\"\")","v":""},{"$f":"IFERROR(VLOOKUP(B355,BaseProdutos!B:V,4,0),\"\")","v":""},"",null,null,null,null,null,"","","","","",{"$f":"IFERROR(F355*PE!$F$20,\"\")","v":""},"",""]
[null,{"$f":"IF(BaseProdutos!B346=\"\",\"\",BaseProdutos!B346)","v":""},{"$f":"IFERROR(VLOOKUP(B356,BaseProdutos!B:V,21,0),\"\")","v":""},null,"","",{"$f":"IFERROR(VLOOKUP(B356,BaseProdutos!B:V,3,0),\"\")","v":""},{"$f":"IFERROR(VLOOKUP(B356,BaseProdutos!B:V,17,0),\"\")","v":""},{"$f":"IFERROR(SUM(VLOOKUP(B356,BaseProdutos!B:V,13,0),VLOOKUP(B356,BaseProdutos!B:V,14,0)),\"\")","v":""},{"$f":"IFERROR(SUM(VLOOKUP(B356,BaseProdutos!B:V,15,0),VLOOKUP(B356,BaseProdutos!B:V,16,0))/100,\"\")","v":""},{"$f":"IFERROR(VLOOKUP(B356,BaseProdutos!B:V,4,0),\"\")","v":""},"",null,null,null,null,null,"","","","","",{"$f":"IFERROR(F356*PE!$F$20,\"\")","v":""},"",""]
[null,{"$f":"IF(BaseProdutos!B347=\"\",\"\",BaseProdutos!B347)","v":""},{"$f":"IFERROR(VLOOKUP(B357,BaseProdutos!B:V,21,0),\"\")","v":""},null,"","",{"$f":"IFERROR(VLOOKUP(B357,BaseProdutos!B:V,3,0),\"\")","v":""},{"$f":"IFERROR(VLOOKUP(B357,BaseProdutos!B:V,17,0),\"\")","v":""},{"$f":"IFERROR(SUM(VLOOKUP(B357,BaseProdutos!B:V,13,0),VLOOKUP(B357,BaseProdutos!B:V,14,0)),\"\")","v":""},{"$f":"IFERROR(SUM(VLOOKUP(B357,BaseProdutos!B:V,15,0),VLOOKUP(B357,BaseProdutos!B:V,16,0))/100,\"\")","v":""},{"$f":"IFERROR(VLOOKUP(B357,BaseProdutos!B:V,4,0),\"\")","v":""},"",null,null,null,null,null,"","","","","",{"$f":"IFERROR(F357*PE!$F$20,\"\")","v":""},"",""]
[null,{"$f":"IF(BaseProdutos!B348=\"\",\"\",BaseProdutos!B348)","v":""},{"$f":"IFERROR(VLOOKUP(B358,BaseProdutos!B:V,21,0),\"\")","v":""},null,"","",{"$f":"IFERROR(VLOOKUP(B358,BaseProdutos!B:V,3,0),\"\")","v":""},{"$f":"IFERROR(VLOOKUP(B358,BaseProdutos!B:V,17,0),\"\")","v":""},{"$f":"IFERROR(SUM(VLOOKUP(B358,BaseProdutos!B:V,13,0),VLOOKUP(B358,BaseProdutos!B:V,14,0)),\"\")","v":""},{"$f":"IFERROR(SUM(VLOOKUP(B358,BaseProdutos!B:V,15,0),VLOOKUP(B358,BaseProdutos!B:V,16,0))/100,\"\")","v":""},{"$f":"IFERROR(VLOOKUP(B358,BaseProdutos!B:V,4,0),\"\")","v":""},"",null,null,null,null,null,"","","","","",{"$f":"IFERROR(F358*PE!$F$20,\"\")","v":""},"",""]
[null,{"$f":"IF(BaseProdutos!B349=\"\",\"\",BaseProdutos!B349)","v":""},{"$f":"IFERROR(VLOOKUP(B359,BaseProdutos!B:V,21,0),\"\")","v":""},null,"","",{"$f":"IFERROR(VLOOKUP(B359,BaseProdutos!B:V,3,0),\"\")","v":""},{"$f":"IFERROR(VLOOKUP(B359,BaseProdutos!B:V,17,0),\"\")","v":""},{"$f":"IFERROR(SUM(VLOOKUP(B359,BaseProdutos!B:V,13,0),VLOOKUP(B359,BaseProdutos!B:V,14,0)),\"\")","v":""},{"$f":"IFERROR(SUM(VLOOKUP(B359,BaseProdutos!B:V,15,0),VLOOKUP(B359,BaseProdutos!B:V,16,0))/100,\"\")","v":""},{"$f":"IFERROR(VLOOKUP(B359,BaseProdutos!B:V,4,0),\"\")","v":""},"",null,null,null,null,null,"","","","","",{"$f":"IFERROR(F359*PE!$F$20,\"\")","v":""},"",""]
[null,{"$f":"IF(BaseProdutos!B350=\"\",\"\",BaseProdutos!B350)","v":""},{"$f":"IFERROR(VLOOKUP(B360,BaseProdutos!B:V,21,0),\"\")","v":""},null,"","",{"$f":"IFERROR(VLOOKUP(B360,BaseProdutos!B:V,3,0),\"\")","v":""},{"$f":"IFERROR(VLOOKUP(B360,BaseProdutos!B:V,17,0),\"\")","v":""},{"$f":"IFERROR(SUM(VLOOKUP(B360,BaseProdutos!B:V,13,0),VLOOKUP(B360,BaseProdutos!B:V,14,0)),\"\")","v":""},{"$f":"IFERROR(SUM(VLOOKUP(B360,BaseProdutos!B:V,15,0),VLOOKUP(B360,BaseProdutos!B:V,16,0))/100,\"\")","v":""},{"$f":"IFERROR(VLOOKUP(B360,BaseProdutos!B:V,4,0),\"\")","v":""},"",null,null,null,null,null,"","","","","",{"$f":"IFERROR(F360*PE!$F$20,\"\")","v":""},"",""]
[null,{"$f":"IF(BaseProdutos!B351=\"\",\"\",BaseProdutos!B351)","v":""},{"$f":"IFERROR(VLOOKUP(B361,BaseProdutos!B:V,21,0),\"\")","v":""},null,"","",{"$f":"IFERROR(VLOOKUP(B361,BaseProdutos!B:V,3,0),\"\")","v":""},{"$f":"IFERROR(VLOOKUP(B361,BaseProdutos!B:V,17,0),\"\")","v":""},{"$f":"IFERROR(SUM(VLOOKUP(B361,BaseProdutos!B:V,13,0),VLOOKUP(B361,BaseProdutos!B:V,14,0)),\"\")","v":""},{"$f":"IFERROR(SUM(VLOOKUP(B361,BaseProdutos!B:V,15,0),VLOOKUP(B361,BaseProdutos!B:V,16,0))/100,\"\")","v":""},{"$f":"IFERROR(VLOOKUP(B361,BaseProdutos!B:V,4,0),\"\")","v":""},"",null,null,null,null,null,"","","","","",{"$f":"IFERROR(F361*PE!$F$20,\"\")","v":""},"",""]
[null,{"$f":"IF(BaseProdutos!B352=\"\",\"\",BaseProdutos!B352)","v":""},{"$f":"IFERROR(VLOOKUP(B362,BaseProdutos!B:V,21,0),\"\")","v":""},null,"","",{"$f":"IFERROR(VLOOKUP(B362,BaseProdutos!B:V,3,0),\"\")","v":""},{"$f":"IFERROR(VLOOKUP(B362,BaseProdutos!B:V,17,0),\"\")","v":""},{"$f":"IFERROR(SUM(VLOOKUP(B362,BaseProdutos!B:V,13,0),VLOOKUP(B362,BaseProdutos!B:V,14,0)),\"\")","v":""},{"$f":"IFERROR(SUM(VLOOKUP(B362,BaseProdutos!B:V,15,0),VLOOKUP(B362,BaseProdutos!B:V,16,0))/100,\"\")","v":""},{"$f":"IFERROR(VLOOKUP(B362,BaseProdutos!B:V,4,0),\"\")","v":""},"",null,null,null,null,null,"","","","","",{"$f":"IFERROR(F362*PE!$F$20,\"\")","v":""},"",""]
[null,{"$f":"IF(BaseProdutos!B353=\"\",\"\",BaseProdutos!B353)","v":""},{"$f":"IFERROR(VLOOKUP(B363,BaseProdutos!B:V,21,0),\"\")","v":""},null,"","",{"$f":"IFERROR(VLOOKUP(B363,BaseProdutos!B:V,3,0),\"\")","v":""},{"$f":"IFERROR(VLOOKUP(B363,BaseProdutos!B:V,17,0),\"\")","v":""},{"$f":"IFERROR(SUM(VLOOKUP(B363,BaseProdutos!B:V,13,0),VLOOKUP(B363,BaseProdutos!B:V,14,0)),\"\")","v":""},{"$f":"IFERROR(SUM(VLOOKUP(B363,BaseProdutos!B:V,15,0),VLOOKUP(B363,BaseProdutos!B:V,16,0))/100,\"\")","v":""},{"$f":"IFERROR(VLOOKUP(B363,BaseProdutos!B:V,4,0),\"\")","v":""},"",null,null,null,null,null,"","","","","",{"$f":"IFERROR(F363*PE!$F$20,\"\")","v":""},"",""]
[null,{"$f":"IF(BaseProdutos!B354=\"\",\"\",BaseProdutos!B354)","v":""},{"$f":"IFERROR(VLOOKUP(B364,BaseProdutos!B:V,21,0),\"\")","v":""},null,"","",{"$f":"IFERROR(VLOOKUP(B364,BaseProdutos!B:V,3,0),\"\")","v":""},{"$f":"IFERROR(VLOOKUP(B364,BaseProdutos!B:V,17,0),\"\")","v":""},{"$f":"IFERROR(SUM(VLOOKUP(B364,BaseProdutos!B:V,13,0),VLOOKUP(B364,BaseProdutos!B:V,14,0)),\"\")","v":""},{"$f":"IFERROR(SUM(VLOOKUP(B364,BaseProdutos!B:V,15,0),VLOOKUP(B364,BaseProdutos!B:V,16,0))/100,\"\")","v":""},{"$f":"IFERROR(VLOOKUP(B364,BaseProdutos!B:V,4,0),\"\")","v":""},"",null,null,null,null,null,"","","","","",{"$f":"IFERROR(F364*PE!$F$20,\"\")","v":""},"",""]
[null,{"$f":"IF(BaseProdutos!B355=\"\",\"\",BaseProdutos!B355)","v":""},{"$f":"IFERROR(VLOOKUP(B365,BaseProdutos!B:V,21,0),\"\")","v":""},null,"","",{"$f":"IFERROR(VLOOKUP(B365,BaseProdutos!B:V,3,0),\"\")","v":""},{"$f":"IFERROR(VLOOKUP(B365,BaseProdutos!B:V,17,0),\"\")","v":""},{"$f":"IFERROR(SUM(VLOOKUP(B365,BaseProdutos!B:V,13,0),VLOOKUP(B365,BaseProdutos!B:V,14,0)),\"\")","v":""},{"$f":"IFERROR(SUM(VLOOKUP(B365,BaseProdutos!B:V,15,0),VLOOKUP(B365,BaseProdutos!B:V,16,0))/100,\"\")","v":""},{"$f":"IFERROR(VLOOKUP(B365,BaseProdutos!B:V,4,0),\"\")","v":""},"",null,null,null,null,null,"","","","","",{"$f":"IFERROR(F365*PE!$F$20,\"\")","v":""},"",""]
[null,{"$f":"IF(BaseProdutos!B356=\"\",\"\",BaseProdutos!B356)","v":""},{"$f":"IFERROR(VLOOKUP(B366,BaseProdutos!B:V,21,0),\"\")","v":""},null,"","",{"$f":"IFERROR(VLOOKUP(B366,BaseProdutos!B:V,3,0),\"\")","v":""},{"$f":"IFERROR(VLOOKUP(B366,BaseProdutos!B:V,17,0),\"\")","v":""},{"$f":"IFERROR(SUM(VLOOKUP(B366,BaseProdutos!B:V,13,0),VLOOKUP(B366,BaseProdutos!B:V,14,0)),\"\")","v":""},{"$f":"IFERROR(SUM(VLOOKUP(B366,BaseProdutos!B:V,15,0),VLOOKUP(B366,BaseProdutos!B:V,16,0))/100,\"\")","v":""},{"$f":"IFERROR(VLOOKUP(B366,BaseProdutos!B:V,4,0),\"\")","v":""},"",null,null,null,null,null,"","","","","",{"$f":"IFERROR(F366*PE!$F$20,\"\")","v":""},"",""]
[null,{"$f":"IF(BaseProdutos!B357=\"\",\"\",BaseProdutos!B357)","v":""},{"$f":"IFERROR(VLOOKUP(B367,BaseProdutos!B:V,21,0),\"\")","v":""},null,"","",{"$f":"IFERROR(VLOOKUP(B367,BaseProdutos!B:V,3,0),\"\")","v":""},{"$f":"IFERROR(VLOOKUP(B367,BaseProdutos!B:V,17,0),\"\")","v":""},{"$f":"IFERROR(SUM(VLOOKUP(B367,BaseProdutos!B:V,13,0),VLOOKUP(B367,BaseProdutos!B:V,14,0)),\"\")","v":""},{"$f":"IFERROR(SUM(VLOOKUP(B367,BaseProdutos!B:V,15,0),VLOOKUP(B367,BaseProdutos!B:V,16,0))/100,\"\")","v":""},{"$f":"IFERROR(VLOOKUP(B367,BaseProdutos!B:V,4,0),\"\")","v":""},"",null,null,null,null,null,"","","","","",{"$f":"IFERROR(F367*PE!$F$20,\"\")","v":""},"",""]
[null,{"$f":"IF(BaseProdutos!B358=\"\",\"\",BaseProdutos!B358)","v":""},{"$f":"IFERROR(VLOOKUP(B368,BaseProdutos!B:V,21,0),\"\")","v":""},null,"","",{"$f":"IFERROR(VLOOKUP(B368,BaseProdutos!B:V,3,0),\"\")","v":""},{"$f":"IFERROR(VLOOKUP(B368,BaseProdutos!B:V,17,0),\"\")","v":""},{"$f":"IFERROR(SUM(VLOOKUP(B368,BaseProdutos!B:V,13,0),VLOOKUP(B368,BaseProdutos!B:V,14,0)),\"\")","v":""},{"$f":"IFERROR(SUM(VLOOKUP(B368,BaseProdutos!B:V,15,0),VLOOKUP(B368,BaseProdutos!B:V,16,0))/100,\"\")","v":""},{"$f":"IFERROR(VLOOKUP(B368,BaseProdutos!B:V,4,0),\"\")","v":""},"",null,null,null,null,null,"","","","","",{"$f":"IFERROR(F368*PE!$F$20,\"\")","v":""},"",""]
[null,{"$f":"IF(BaseProdutos!B359=\"\",\"\",BaseProdutos!B359)","v":""},{"$f":"IFERROR(VLOOKUP(B369,BaseProdutos!B:V,21,0),\"\")","v":""},null,"","",{"$f":"IFERROR(VLOOKUP(B369,BaseProdutos!B:V,3,0),\"\")","v":""},{"$f":"IFERROR(VLOOKUP(B369,BaseProdutos!B:V,17,0),\"\")","v":""},{"$f":"IFERROR(SUM(VLOOKUP(B369,BaseProdutos!B:V,13,0),VLOOKUP(B369,BaseProdutos!B:V,14,0)),\"\")","v":""},{"$f":"IFERROR(SUM(VLOOKUP(B369,BaseProdutos!B:V,15,0),VLOOKUP(B369,BaseProdutos!B:V,16,0))/100,\"\")","v":""},{"$f":"IFERROR(VLOOKUP(B369,BaseProdutos!B:V,4,0),\"\")","v":""},"",null,null,null,null,null,"","","","","",{"$f":"IFERROR(F369*PE!$F$20,\"\")","v":""},"",""]
[null,{"$f":"IF(BaseProdutos!B360=\"\",\"\",BaseProdutos!B360)","v":""},{"$f":"IFERROR(VLOOKUP(B370,BaseProdutos!B:V,21,0),\"\")","v":""},null,"","",{"$f":"IFERROR(VLOOKUP(B370,BaseProdutos!B:V,3,0),\"\")","v":""},{"$f":"IFERROR(VLOOKUP(B370,BaseProdutos!B:V,17,0),\"\")","v":""},{"$f":"IFERROR(SUM(VLOOKUP(B370,BaseProdutos!B:V,13,0),VLOOKUP(B370,BaseProdutos!B:V,14,0)),\"\")","v":""},{"$f":"IFERROR(SUM(VLOOKUP(B370,BaseProdutos!B:V,15,0),VLOOKUP(B370,BaseProdutos!B:V,16,0))/100,\"\")","v":""},{"$f":"IFERROR(VLOOKUP(B370,BaseProdutos!B:V,4,0),\"\")","v":""},"",null,null,null,null,null,"","","","","",{"$f":"IFERROR(F370*PE!$F$20,\"\")","v":""},"",""]
[null,{"$f":"IF(BaseProdutos!B361=\"\",\"\",BaseProdutos!B361)","v":""},{"$f":"IFERROR(VLOOKUP(B371,BaseProdutos!B:V,21,0),\"\")","v":""},null,"","",{"$f":"IFERROR(VLOOKUP(B371,BaseProdutos!B:V,3,0),\"\")","v":""},{"$f":"IFERROR(VLOOKUP(B371,BaseProdutos!B:V,17,0),\"\")","v":""},{"$f":"IFERROR(SUM(VLOOKUP(B371,BaseProdutos!B:V,13,0),VLOOKUP(B371,BaseProdutos!B:V,14,0)),\"\")","v":""},{"$f":"IFERROR(SUM(VLOOKUP(B371,BaseProdutos!B:V,15,0),VLOOKUP(B371,BaseProdutos!B:V,16,0))/100,\"\")","v":""},{"$f":"IFERROR(VLOOKUP(B371,BaseProdutos!B:V,4,0),\"\")","v":""},"",null,null,null,null,null,"","","","","",{"$f":"IFERROR(F371*PE!$F$20,\"\")","v":""},"",""]
[null,{"$f":"IF(BaseProdutos!B362=\"\",\"\",BaseProdutos!B362)","v":""},{"$f":"IFERROR(VLOOKUP(B372,BaseProdutos!B:V,21,0),\"\")","v":""},null,"","",{"$f":"IFERROR(VLOOKUP(B372,BaseProdutos!B:V,3,0),\"\")","v":""},{"$f":"IFERROR(VLOOKUP(B372,BaseProdutos!B:V,17,0),\"\")","v":""},{"$f":"IFERROR(SUM(VLOOKUP(B372,BaseProdutos!B:V,13,0),VLOOKUP(B372,BaseProdutos!B:V,14,0)),\"\")","v":""},{"$f":"IFERROR(SUM(VLOOKUP(B372,BaseProdutos!B:V,15,0),VLOOKUP(B372,BaseProdutos!B:V,16,0))/100,\"\")","v":""},{"$f":"IFERROR(VLOOKUP(B372,BaseProdutos!B:V,4,0),\"\")","v":""},"",null,null,null,null,null,"","","","","",{"$f":"IFERROR(F372*PE!$F$20,\"\")","v":""},"",""]
[null,{"$f":"IF(BaseProdutos!B363=\"\",\"\",BaseProdutos!B363)","v":""},{"$f":"IFERROR(VLOOKUP(B373,BaseProdutos!B:V,21,0),\"\")","v":""},null,"","",{"$f":"IFERROR(VLOOKUP(B373,BaseProdutos!B:V,3,0),\"\")","v":""},{"$f":"IFERROR(VLOOKUP(B373,BaseProdutos!B:V,17,0),\"\")","v":""},{"$f":"IFERROR(SUM(VLOOKUP(B373,BaseProdutos!B:V,13,0),VLOOKUP(B373,BaseProdutos!B:V,14,0)),\"\")","v":""},{"$f":"IFERROR(SUM(VLOOKUP(B373,BaseProdutos!B:V,15,0),VLOOKUP(B373,BaseProdutos!B:V,16,0))/100,\"\")","v":""},{"$f":"IFERROR(VLOOKUP(B373,BaseProdutos!B:V,4,0),\"\")","v":""},"",null,null,null,null,null,"","","","","",{"$f":"IFERROR(F373*PE!$F$20,\"\")","v":""},"",""]
[null,{"$f":"IF(BaseProdutos!B364=\"\",\"\",BaseProdutos!B364)","v":""},{"$f":"IFERROR(VLOOKUP(B374,BaseProdutos!B:V,21,0),\"\")","v":""},null,"","",{"$f":"IFERROR(VLOOKUP(B374,BaseProdutos!B:V,3,0),\"\")","v":""},{"$f":"IFERROR(VLOOKUP(B374,BaseProdutos!B:V,17,0),\"\")","v":""},{"$f":"IFERROR(SUM(VLOOKUP(B374,BaseProdutos!B:V,13,0),VLOOKUP(B374,BaseProdutos!B:V,14,0)),\"\")","v":""},{"$f":"IFERROR(SUM(VLOOKUP(B374,BaseProdutos!B:V,15,0),VLOOKUP(B374,BaseProdutos!B:V,16,0))/100,\"\")","v":""},{"$f":"IFERROR(VLOOKUP(B374,BaseProdutos!B:V,4,0),\"\")","v":""},"",null,null,null,null,null,"","","","","",{"$f":"IFERROR(F374*PE!$F$20,\"\")","v":""},"",""]
[null,{"$f":"IF(BaseProdutos!B365=\"\",\"\",BaseProdutos!B365)","v":""},{"$f":"IFERROR(VLOOKUP(B375,BaseProdutos!B:V,21,0),\"\")","v":""},null,"","",{"$f":"IFERROR(VLOOKUP(B375,BaseProdutos!B:V,3,0),\"\")","v":""},{"$f":"IFERROR(VLOOKUP(B375,BaseProdutos!B:V,17,0),\"\")","v":""},{"$f":"IFERROR(SUM(VLOOKUP(B375,BaseProdutos!B:V,13,0),VLOOKUP(B375,BaseProdutos!B:V,14,0)),\"\")","v":""},{"$f":"IFERROR(SUM(VLOOKUP(B375,BaseProdutos!B:V,15,0),VLOOKUP(B375,BaseProdutos!B:V,16,0))/100,\"\")","v":""},{"$f":"IFERROR(VLOOKUP(B375,BaseProdutos!B:V,4,0),\"\")","v":""},"",null,null,null,null,null,"","","","","",{"$f":"IFERROR(F375*PE!$F$20,\"\")","v":""},"",""]
[null,{"$f":"IF(BaseProdutos!B366=\"\",\"\",BaseProdutos!B366)","v":""},{"$f":"IFERROR(VLOOKUP(B376,BaseProdutos!B:V,21,0),\"\")","v":""},null,"","",{"$f":"IFERROR(VLOOKUP(B376,BaseProdutos!B:V,3,0),\"\")","v":""},{"$f":"IFERROR(VLOOKUP(B376,BaseProdutos!B:V,17,0),\"\")","v":""},{"$f":"IFERROR(SUM(VLOOKUP(B376,BaseProdutos!B:V,13,0),VLOOKUP(B376,BaseProdutos!B:V,14,0)),\"\")","v":""},{"$f":"IFERROR(SUM(VLOOKUP(B376,BaseProdutos!B:V,15,0),VLOOKUP(B376,BaseProdutos!B:V,16,0))/100,\"\")","v":""},{"$f":"IFERROR(VLOOKUP(B376,BaseProdutos!B:V,4,0),\"\")","v":""},"",null,null,null,null,null,"","","","","",{"$f":"IFERROR(F376*PE!$F$20,\"\")","v":""},"",""]
[null,{"$f":"IF(BaseProdutos!B367=\"\",\"\",BaseProdutos!B367)","v":""},{"$f":"IFERROR(VLOOKUP(B377,BaseProdutos!B:V,21,0),\"\")","v":""},null,"","",{"$f":"IFERROR(VLOOKUP(B377,BaseProdutos!B:V,3,0),\"\")","v":""},{"$f":"IFERROR(VLOOKUP(B377,BaseProdutos!B:V,17,0),\"\")","v":""},{"$f":"IFERROR(SUM(VLOOKUP(B377,BaseProdutos!B:V,13,0),VLOOKUP(B377,BaseProdutos!B:V,14,0)),\"\")","v":""},{"$f":"IFERROR(SUM(VLOOKUP(B377,BaseProdutos!B:V,15,0),VLOOKUP(B377,BaseProdutos!B:V,16,0))/100,\"\")","v":""},{"$f":"IFERROR(VLOOKUP(B377,BaseProdutos!B:V,4,0),\"\")","v":""},"",null,null,null,null,null,"","","","","",{"$f":"IFERROR(F377*PE!$F$20,\"\")","v":""},"",""]
[null,{"$f":"IF(BaseProdutos!B368=\"\",\"\",BaseProdutos!B368)","v":""},{"$f":"IFERROR(VLOOKUP(B378,BaseProdutos!B:V,21,0),\"\")","v":""},null,"","",{"$f":"IFERROR(VLOOKUP(B378,BaseProdutos!B:V,3,0),\"\")","v":""},{"$f":"IFERROR(VLOOKUP(B378,BaseProdutos!B:V,17,0),\"\")","v":""},{"$f":"IFERROR(SUM(VLOOKUP(B378,BaseProdutos!B:V,13,0),VLOOKUP(B378,BaseProdutos!B:V,14,0)),\"\")","v":""},{"$f":"IFERROR(SUM(VLOOKUP(B378,BaseProdutos!B:V,15,0),VLOOKUP(B378,BaseProdutos!B:V,16,0))/100,\"\")","v":""},{"$f":"IFERROR(VLOOKUP(B378,BaseProdutos!B:V,4,0),\"\")","v":""},"",null,null,null,null,null,"","","","","",{"$f":"IFERROR(F378*PE!$F$20,\"\")","v":""},"",""]
[null,{"$f":"IF(BaseProdutos!B369=\"\",\"\",BaseProdutos!B369)","v":""},{"$f":"IFERROR(VLOOKUP(B379,BaseProdutos!B:V,21,0),\"\")","v":""},null,"","",{"$f":"IFERROR(VLOOKUP(B379,BaseProdutos!B:V,3,0),\"\")","v":""},{"$f":"IFERROR(VLOOKUP(B379,BaseProdutos!B:V,17,0),\"\")","v":""},{"$f":"IFERROR(SUM(VLOOKUP(B379,BaseProdutos!B:V,13,0),VLOOKUP(B379,BaseProdutos!B:V,14,0)),\"\")","v":""},{"$f":"IFERROR(SUM(VLOOKUP(B379,BaseProdutos!B:V,15,0),VLOOKUP(B379,BaseProdutos!B:V,16,0))/100,\"\")","v":""},{"$f":"IFERROR(VLOOKUP(B379,BaseProdutos!B:V,4,0),\"\")","v":""},"",null,null,null,null,null,"","","","","",{"$f":"IFERROR(F379*PE!$F$20,\"\")","v":""},"",""]
[null,{"$f":"IF(BaseProdutos!B370=\"\",\"\",BaseProdutos!B370)","v":""},{"$f":"IFERROR(VLOOKUP(B380,BaseProdutos!B:V,21,0),\"\")","v":""},null,"","",{"$f":"IFERROR(VLOOKUP(B380,BaseProdutos!B:V,3,0),\"\")","v":""},{"$f":"IFERROR(VLOOKUP(B380,BaseProdutos!B:V,17,0),\"\")","v":""},{"$f":"IFERROR(SUM(VLOOKUP(B380,BaseProdutos!B:V,13,0),VLOOKUP(B380,BaseProdutos!B:V,14,0)),\"\")","v":""},{"$f":"IFERROR(SUM(VLOOKUP(B380,BaseProdutos!B:V,15,0),VLOOKUP(B380,BaseProdutos!B:V,16,0))/100,\"\")","v":""},{"$f":"IFERROR(VLOOKUP(B380,BaseProdutos!B:V,4,0),\"\")","v":""},"",null,null,null,null,null,"","","","","",{"$f":"IFERROR(F380*PE!$F$20,\"\")","v":""},"",""]
[null,{"$f":"IF(BaseProdutos!B371=\"\",\"\",BaseProdutos!B371)","v":""},{"$f":"IFERROR(VLOOKUP(B381,BaseProdutos!B:V,21,0),\"\")","v":""},null,"","",{"$f":"IFERROR(VLOOKUP(B381,BaseProdutos!B:V,3,0),\"\")","v":""},{"$f":"IFERROR(VLOOKUP(B381,BaseProdutos!B:V,17,0),\"\")","v":""},{"$f":"IFERROR(SUM(VLOOKUP(B381,BaseProdutos!B:V,13,0),VLOOKUP(B381,BaseProdutos!B:V,14,0)),\"\")","v":""},{"$f":"IFERROR(SUM(VLOOKUP(B381,BaseProdutos!B:V,15,0),VLOOKUP(B381,BaseProdutos!B:V,16,0))/100,\"\")","v":""},{"$f":"IFERROR(VLOOKUP(B381,BaseProdutos!B:V,4,0),\"\")","v":""},"",null,null,null,null,null,"","","","","",{"$f":"IFERROR(F381*PE!$F$20,\"\")","v":""},"",""]
[null,{"$f":"IF(BaseProdutos!B372=\"\",\"\",BaseProdutos!B372)","v":""},{"$f":"IFERROR(VLOOKUP(B382,BaseProdutos!B:V,21,0),\"\")","v":""},null,"","",{"$f":"IFERROR(VLOOKUP(B382,BaseProdutos!B:V,3,0),\"\")","v":""},{"$f":"IFERROR(VLOOKUP(B382,BaseProdutos!B:V,17,0),\"\")","v":""},{"$f":"IFERROR(SUM(VLOOKUP(B382,BaseProdutos!B:V,13,0),VLOOKUP(B382,BaseProdutos!B:V,14,0)),\"\")","v":""},{"$f":"IFERROR(SUM(VLOOKUP(B382,BaseProdutos!B:V,15,0),VLOOKUP(B382,BaseProdutos!B:V,16,0))/100,\"\")","v":""},{"$f":"IFERROR(VLOOKUP(B382,BaseProdutos!B:V,4,0),\"\")","v":""},"",null,null,null,null,null,"","","","","",{"$f":"IFERROR(F382*PE!$F$20,\"\")","v":""},"",""]
[null,{"$f":"IF(BaseProdutos!B373=\"\",\"\",BaseProdutos!B373)","v":""},{"$f":"IFERROR(VLOOKUP(B383,BaseProdutos!B:V,21,0),\"\")","v":""},null,"","",{"$f":"IFERROR(VLOOKUP(B383,BaseProdutos!B:V,3,0),\"\")","v":""},{"$f":"IFERROR(VLOOKUP(B383,BaseProdutos!B:V,17,0),\"\")","v":""},{"$f":"IFERROR(SUM(VLOOKUP(B383,BaseProdutos!B:V,13,0),VLOOKUP(B383,BaseProdutos!B:V,14,0)),\"\")","v":""},{"$f":"IFERROR(SUM(VLOOKUP(B383,BaseProdutos!B:V,15,0),VLOOKUP(B383,BaseProdutos!B:V,16,0))/100,\"\")","v":""},{"$f":"IFERROR(VLOOKUP(B383,BaseProdutos!B:V,4,0),\"\")","v":""},"",null,null,null,null,null,"","","","","",{"$f":"IFERROR(F383*PE!$F$20,\"\")","v":""},"",""]
[null,{"$f":"IF(BaseProdutos!B374=\"\",\"\",BaseProdutos!B374)","v":""},{"$f":"IFERROR(VLOOKUP(B384,BaseProdutos!B:V,21,0),\"\")","v":""},null,"","",{"$f":"IFERROR(VLOOKUP(B384,BaseProdutos!B:V,3,0),\"\")","v":""},{"$f":"IFERROR(VLOOKUP(B384,BaseProdutos!B:V,17,0),\"\")","v":""},{"$f":"IFERROR(SUM(VLOOKUP(B384,BaseProdutos!B:V,13,0),VLOOKUP(B384,BaseProdutos!B:V,14,0)),\"\")","v":""},{"$f":"IFERROR(SUM(VLOOKUP(B384,BaseProdutos!B:V,15,0),VLOOKUP(B384,BaseProdutos!B:V,16,0))/100,\"\")","v":""},{"$f":"IFERROR(VLOOKUP(B384,BaseProdutos!B:V,4,0),\"\")","v":""},"",null,null,null,null,null,"","","","","",{"$f":"IFERROR(F384*PE!$F$20,\"\")","v":""},"",""]
[null,{"$f":"IF(BaseProdutos!B375=\"\",\"\",BaseProdutos!B375)","v":""},{"$f":"IFERROR(VLOOKUP(B385,BaseProdutos!B:V,21,0),\"\")","v":""},null,"","",{"$f":"IFERROR(VLOOKUP(B385,BaseProdutos!B:V,3,0),\"\")","v":""},{"$f":"IFERROR(VLOOKUP(B385,BaseProdutos!B:V,17,0),\"\")","v":""},{"$f":"IFERROR(SUM(VLOOKUP(B385,BaseProdutos!B:V,13,0),VLOOKUP(B385,BaseProdutos!B:V,14,0)),\"\")","v":""},{"$f":"IFERROR(SUM(VLOOKUP(B385,BaseProdutos!B:V,15,0),VLOOKUP(B385,BaseProdutos!B:V,16,0))/100,\"\")","v":""},{"$f":"IFERROR(VLOOKUP(B385,BaseProdutos!B:V,4,0),\"\")","v":""},"",null,null,null,null,null,"","","","","",{"$f":"IFERROR(F385*PE!$F$20,\"\")","v":""},"",""]
[null,{"$f":"IF(BaseProdutos!B376=\"\",\"\",BaseProdutos!B376)","v":""},{"$f":"IFERROR(VLOOKUP(B386,BaseProdutos!B:V,21,0),\"\")","v":""},null,"","",{"$f":"IFERROR(VLOOKUP(B386,BaseProdutos!B:V,3,0),\"\")","v":""},{"$f":"IFERROR(VLOOKUP(B386,BaseProdutos!B:V,17,0),\"\")","v":""},{"$f":"IFERROR(SUM(VLOOKUP(B386,BaseProdutos!B:V,13,0),VLOOKUP(B386,BaseProdutos!B:V,14,0)),\"\")","v":""},{"$f":"IFERROR(SUM(VLOOKUP(B386,BaseProdutos!B:V,15,0),VLOOKUP(B386,BaseProdutos!B:V,16,0))/100,\"\")","v":""},{"$f":"IFERROR(VLOOKUP(B386,BaseProdutos!B:V,4,0),\"\")","v":""},"",null,null,null,null,null,"","","","","",{"$f":"IFERROR(F386*PE!$F$20,\"\")","v":""},"",""]
[null,{"$f":"IF(BaseProdutos!B377=\"\",\"\",BaseProdutos!B377)","v":""},{"$f":"IFERROR(VLOOKUP(B387,BaseProdutos!B:V,21,0),\"\")","v":""},null,"","",{"$f":"IFERROR(VLOOKUP(B387,BaseProdutos!B:V,3,0),\"\")","v":""},{"$f":"IFERROR(VLOOKUP(B387,BaseProdutos!B:V,17,0),\"\")","v":""},{"$f":"IFERROR(SUM(VLOOKUP(B387,BaseProdutos!B:V,13,0),VLOOKUP(B387,BaseProdutos!B:V,14,0)),\"\")","v":""},{"$f":"IFERROR(SUM(VLOOKUP(B387,BaseProdutos!B:V,15,0),VLOOKUP(B387,BaseProdutos!B:V,16,0))/100,\"\")","v":""},{"$f":"IFERROR(VLOOKUP(B387,BaseProdutos!B:V,4,0),\"\")","v":""},"",null,null,null,null,null,"","","","","",{"$f":"IFERROR(F387*PE!$F$20,\"\")","v":""},"",""]
[null,{"$f":"IF(BaseProdutos!B378=\"\",\"\",BaseProdutos!B378)","v":""},{"$f":"IFERROR(VLOOKUP(B388,BaseProdutos!B:V,21,0),\"\")","v":""},null,"","",{"$f":"IFERROR(VLOOKUP(B388,BaseProdutos!B:V,3,0),\"\")","v":""},{"$f":"IFERROR(VLOOKUP(B388,BaseProdutos!B:V,17,0),\"\")","v":""},{"$f":"IFERROR(SUM(VLOOKUP(B388,BaseProdutos!B:V,13,0),VLOOKUP(B388,BaseProdutos!B:V,14,0)),\"\")","v":""},{"$f":"IFERROR(SUM(VLOOKUP(B388,BaseProdutos!B:V,15,0),VLOOKUP(B388,BaseProdutos!B:V,16,0))/100,\"\")","v":""},{"$f":"IFERROR(VLOOKUP(B388,BaseProdutos!B:V,4,0),\"\")","v":""},"",null,null,null,null,null,"","","","","",{"$f":"IFERROR(F388*PE!$F$20,\"\")","v":""},"",""]
[null,{"$f":"IF(BaseProdutos!B379=\"\",\"\",BaseProdutos!B379)","v":""},{"$f":"IFERROR(VLOOKUP(B389,BaseProdutos!B:V,21,0),\"\")","v":""},null,"","",{"$f":"IFERROR(VLOOKUP(B389,BaseProdutos!B:V,3,0),\"\")","v":""},{"$f":"IFERROR(VLOOKUP(B389,BaseProdutos!B:V,17,0),\"\")","v":""},{"$f":"IFERROR(SUM(VLOOKUP(B389,BaseProdutos!B:V,13,0),VLOOKUP(B389,BaseProdutos!B:V,14,0)),\"\")","v":""},{"$f":"IFERROR(SUM(VLOOKUP(B389,BaseProdutos!B:V,15,0),VLOOKUP(B389,BaseProdutos!B:V,16,0))/100,\"\")","v":""},{"$f":"IFERROR(VLOOKUP(B389,BaseProdutos!B:V,4,0),\"\")","v":""},"",null,null,null,null,null,"","","","","",{"$f":"IFERROR(F389*PE!$F$20,\"\")","v":""},"",""]
[null,{"$f":"IF(BaseProdutos!B380=\"\",\"\",BaseProdutos!B380)","v":""},{"$f":"IFERROR(VLOOKUP(B390,BaseProdutos!B:V,21,0),\"\")","v":""},null,"","",{"$f":"IFERROR(VLOOKUP(B390,BaseProdutos!B:V,3,0),\"\")","v":""},{"$f":"IFERROR(VLOOKUP(B390,BaseProdutos!B:V,17,0),\"\")","v":""},{"$f":"IFERROR(SUM(VLOOKUP(B390,BaseProdutos!B:V,13,0),VLOOKUP(B390,BaseProdutos!B:V,14,0)),\"\")","v":""},{"$f":"IFERROR(SUM(VLOOKUP(B390,BaseProdutos!B:V,15,0),VLOOKUP(B390,BaseProdutos!B:V,16,0))/100,\"\")","v":""},{"$f":"IFERROR(VLOOKUP(B390,BaseProdutos!B:V,4,0),\"\")","v":""},"",null,null,null,null,null,"","","","","",{"$f":"IFERROR(F390*PE!$F$20,\"\")","v":""},"",""]
[null,{"$f":"IF(BaseProdutos!B381=\"\",\"\",BaseProdutos!B381)","v":""},{"$f":"IFERROR(VLOOKUP(B391,BaseProdutos!B:V,21,0),\"\")","v":""},null,"","",{"$f":"IFERROR(VLOOKUP(B391,BaseProdutos!B:V,3,0),\"\")","v":""},{"$f":"IFERROR(VLOOKUP(B391,BaseProdutos!B:V,17,0),\"\")","v":""},{"$f":"IFERROR(SUM(VLOOKUP(B391,BaseProdutos!B:V,13,0),VLOOKUP(B391,BaseProdutos!B:V,14,0)),\"\")","v":""},{"$f":"IFERROR(SUM(VLOOKUP(B391,BaseProdutos!B:V,15,0),VLOOKUP(B391,BaseProdutos!B:V,16,0))/100,\"\")","v":""},{"$f":"IFERROR(VLOOKUP(B391,BaseProdutos!B:V,4,0),\"\")","v":""},"",null,null,null,null,null,"","","","","",{"$f":"IFERROR(F391*PE!$F$20,\"\")","v":""},"",""]
[null,{"$f":"IF(BaseProdutos!B382=\"\",\"\",BaseProdutos!B382)","v":""},{"$f":"IFERROR(VLOOKUP(B392,BaseProdutos!B:V,21,0),\"\")","v":""},null,"","",{"$f":"IFERROR(VLOOKUP(B392,BaseProdutos!B:V,3,0),\"\")","v":""},{"$f":"IFERROR(VLOOKUP(B392,BaseProdutos!B:V,17,0),\"\")","v":""},{"$f":"IFERROR(SUM(VLOOKUP(B392,BaseProdutos!B:V,13,0),VLOOKUP(B392,BaseProdutos!B:V,14,0)),\"\")","v":""},{"$f":"IFERROR(SUM(VLOOKUP(B392,BaseProdutos!B:V,15,0),VLOOKUP(B392,BaseProdutos!B:V,16,0))/100,\"\")","v":""},{"$f":"IFERROR(VLOOKUP(B392,BaseProdutos!B:V,4,0),\"\")","v":""},"",null,null,null,null,null,"","","","","",{"$f":"IFERROR(F392*PE!$F$20,\"\")","v":""},"",""]
[null,{"$f":"IF(BaseProdutos!B383=\"\",\"\",BaseProdutos!B383)","v":""},{"$f":"IFERROR(VLOOKUP(B393,BaseProdutos!B:V,21,0),\"\")","v":""},null,"","",{"$f":"IFERROR(VLOOKUP(B393,BaseProdutos!B:V,3,0),\"\")","v":""},{"$f":"IFERROR(VLOOKUP(B393,BaseProdutos!B:V,17,0),\"\")","v":""},{"$f":"IFERROR(SUM(VLOOKUP(B393,BaseProdutos!B:V,13,0),VLOOKUP(B393,BaseProdutos!B:V,14,0)),\"\")","v":""},{"$f":"IFERROR(SUM(VLOOKUP(B393,BaseProdutos!B:V,15,0),VLOOKUP(B393,BaseProdutos!B:V,16,0))/100,\"\")","v":""},{"$f":"IFERROR(VLOOKUP(B393,BaseProdutos!B:V,4,0),\"\")","v":""},"",null,null,null,null,null,"","","","","",{"$f":"IFERROR(F393*PE!$F$20,\"\")","v":""},"",""]
[null,{"$f":"IF(BaseProdutos!B384=\"\",\"\",BaseProdutos!B384)","v":""},{"$f":"IFERROR(VLOOKUP(B394,BaseProdutos!B:V,21,0),\"\")","v":""},null,"","",{"$f":"IFERROR(VLOOKUP(B394,BaseProdutos!B:V,3,0),\"\")","v":""},{"$f":"IFERROR(VLOOKUP(B394,BaseProdutos!B:V,17,0),\"\")","v":""},{"$f":"IFERROR(SUM(VLOOKUP(B394,BaseProdutos!B:V,13,0),VLOOKUP(B394,BaseProdutos!B:V,14,0)),\"\")","v":""},{"$f":"IFERROR(SUM(VLOOKUP(B394,BaseProdutos!B:V,15,0),VLOOKUP(B394,BaseProdutos!B:V,16,0))/100,\"\")","v":""},{"$f":"IFERROR(VLOOKUP(B394,BaseProdutos!B:V,4,0),\"\")","v":""},"",null,null,null,null,null,"","","","","",{"$f":"IFERROR(F394*PE!$F$20,\"\")","v":""},"",""]
[null,{"$f":"IF(BaseProdutos!B385=\"\",\"\",BaseProdutos!B385)","v":""},{"$f":"IFERROR(VLOOKUP(B395,BaseProdutos!B:V,21,0),\"\")","v":""},null,"","",{"$f":"IFERROR(VLOOKUP(B395,BaseProdutos!B:V,3,0),\"\")","v":""},{"$f":"IFERROR(VLOOKUP(B395,BaseProdutos!B:V,17,0),\"\")","v":""},{"$f":"IFERROR(SUM(VLOOKUP(B395,BaseProdutos!B:V,13,0),VLOOKUP(B395,BaseProdutos!B:V,14,0)),\"\")","v":""},{"$f":"IFERROR(SUM(VLOOKUP(B395,BaseProdutos!B:V,15,0),VLOOKUP(B395,BaseProdutos!B:V,16,0))/100,\"\")","v":""},{"$f":"IFERROR(VLOOKUP(B395,BaseProdutos!B:V,4,0),\"\")","v":""},"",null,null,null,null,null,"","","","","",{"$f":"IFERROR(F395*PE!$F$20,\"\")","v":""},"",""]
[null,{"$f":"IF(BaseProdutos!B386=\"\",\"\",BaseProdutos!B386)","v":""},{"$f":"IFERROR(VLOOKUP(B396,BaseProdutos!B:V,21,0),\"\")","v":""},null,"","",{"$f":"IFERROR(VLOOKUP(B396,BaseProdutos!B:V,3,0),\"\")","v":""},{"$f":"IFERROR(VLOOKUP(B396,BaseProdutos!B:V,17,0),\"\")","v":""},{"$f":"IFERROR(SUM(VLOOKUP(B396,BaseProdutos!B:V,13,0),VLOOKUP(B396,BaseProdutos!B:V,14,0)),\"\")","v":""},{"$f":"IFERROR(SUM(VLOOKUP(B396,BaseProdutos!B:V,15,0),VLOOKUP(B396,BaseProdutos!B:V,16,0))/100,\"\")","v":""},{"$f":"IFERROR(VLOOKUP(B396,BaseProdutos!B:V,4,0),\"\")","v":""},"",null,null,null,null,null,"","","","","",{"$f":"IFERROR(F396*PE!$F$20,\"\")","v":""},"",""]
[null,{"$f":"IF(BaseProdutos!B387=\"\",\"\",BaseProdutos!B387)","v":""},{"$f":"IFERROR(VLOOKUP(B397,BaseProdutos!B:V,21,0),\"\")","v":""},null,{"$f":"IFERROR(IF(B397=\"\",\"\",C397*D397),\"\")","v":""},{"$f":"IFERROR(E397/SUM($E$12:$E$511),\"\")","v":""},{"$f":"IFERROR(VLOOKUP(B397,BaseProdutos!B:V,3,0),\"\")","v":""},{"$f":"IFERROR(VLOOKUP(B397,BaseProdutos!B:V,17,0),\"\")","v":""},{"$f":"IFERROR(SUM(VLOOKUP(B397,BaseProdutos!B:V,13,0),VLOOKUP(B397,BaseProdutos!B:V,14,0)),\"\")","v":""},{"$f":"IFERROR(SUM(VLOOKUP(B397,BaseProdutos!B:V,15,0),VLOOKUP(B397,BaseProdutos!B:V,16,0))/100,\"\")","v":""},{"$f":"IFERROR(VLOOKUP(B397,BaseProdutos!B:V,4,0),\"\")","v":""},{"$f":"IFERROR(G397+C397*(H397+I397+J397)+K397,\"\")","v":""},null,null,null,null,null,{"$f":"IFERROR(H397*E397,\"\")","v":""},{"$f":"IFERROR(I397*E397,\"\")","v":""},{"$f":"IFERROR(C397-L397,\"\")","v":""},{"$f":"IFERROR(T397/C397,\"\")","v":""},{"$f":"IFERROR(W397*C397,\"\")","v":""},{"$f":"IFERROR(F397*PE!$F$20,\"\")","v":""},{"$f":"IFERROR(K397*D397,\"\")","v":""},{"$f":"IFERROR(G397*D397,\"\")","v":""}]
[null,{"$f":"IF(BaseProdutos!B388=\"\",\"\",BaseProdutos!B388)","v":""},{"$f":"IFERROR(VLOOKUP(B398,BaseProdutos!B:V,21,0),\"\")","v":""},null,"","",{"$f":"IFERROR(VLOOKUP(B398,BaseProdutos!B:V,3,0),\"\")","v":""},{"$f":"IFERROR(VLOOKUP(B398,BaseProdutos!B:V,17,0),\"\")","v":""},{"$f":"IFERROR(SUM(VLOOKUP(B398,BaseProdutos!B:V,13,0),VLOOKUP(B398,BaseProdutos!B:V,14,0)),\"\")","v":""},{"$f":"IFERROR(SUM(VLOOKUP(B398,BaseProdutos!B:V,15,0),VLOOKUP(B398,BaseProdutos!B:V,16,0))/100,\"\")","v":""},{"$f":"IFERROR(VLOOKUP(B398,BaseProdutos!B:V,4,0),\"\")","v":""},"",null,null,null,null,null,"","","","","",{"$f":"IFERROR(F398*PE!$F$20,\"\")","v":""},"",""]
[null,{"$f":"IF(BaseProdutos!B389=\"\",\"\",BaseProdutos!B389)","v":""},{"$f":"IFERROR(VLOOKUP(B399,BaseProdutos!B:V,21,0),\"\")","v":""},null,"","",{"$f":"IFERROR(VLOOKUP(B399,BaseProdutos!B:V,3,0),\"\")","v":""},{"$f":"IFERROR(VLOOKUP(B399,BaseProdutos!B:V,17,0),\"\")","v":""},{"$f":"IFERROR(SUM(VLOOKUP(B399,BaseProdutos!B:V,13,0),VLOOKUP(B399,BaseProdutos!B:V,14,0)),\"\")","v":""},{"$f":"IFERROR(SUM(VLOOKUP(B399,BaseProdutos!B:V,15,0),VLOOKUP(B399,BaseProdutos!B:V,16,0))/100,\"\")","v":""},{"$f":"IFERROR(VLOOKUP(B399,BaseProdutos!B:V,4,0),\"\")","v":""},"",null,null,null,null,null,"","","","","",{"$f":"IFERROR(F399*PE!$F$20,\"\")","v":""},"",""]
[null,{"$f":"IF(BaseProdutos!B390=\"\",\"\",BaseProdutos!B390)","v":""},{"$f":"IFERROR(VLOOKUP(B400,BaseProdutos!B:V,21,0),\"\")","v":""},null,"","",{"$f":"IFERROR(VLOOKUP(B400,BaseProdutos!B:V,3,0),\"\")","v":""},{"$f":"IFERROR(VLOOKUP(B400,BaseProdutos!B:V,17,0),\"\")","v":""},{"$f":"IFERROR(SUM(VLOOKUP(B400,BaseProdutos!B:V,13,0),VLOOKUP(B400,BaseProdutos!B:V,14,0)),\"\")","v":""},{"$f":"IFERROR(SUM(VLOOKUP(B400,BaseProdutos!B:V,15,0),VLOOKUP(B400,BaseProdutos!B:V,16,0))/100,\"\")","v":""},{"$f":"IFERROR(VLOOKUP(B400,BaseProdutos!B:V,4,0),\"\")","v":""},"",null,null,null,null,null,"","","","","",{"$f":"IFERROR(F400*PE!$F$20,\"\")","v":""},"",""]
[null,{"$f":"IF(BaseProdutos!B391=\"\",\"\",BaseProdutos!B391)","v":""},{"$f":"IFERROR(VLOOKUP(B401,BaseProdutos!B:V,21,0),\"\")","v":""},null,"","",{"$f":"IFERROR(VLOOKUP(B401,BaseProdutos!B:V,3,0),\"\")","v":""},{"$f":"IFERROR(VLOOKUP(B401,BaseProdutos!B:V,17,0),\"\")","v":""},{"$f":"IFERROR(SUM(VLOOKUP(B401,BaseProdutos!B:V,13,0),VLOOKUP(B401,BaseProdutos!B:V,14,0)),\"\")","v":""},{"$f":"IFERROR(SUM(VLOOKUP(B401,BaseProdutos!B:V,15,0),VLOOKUP(B401,BaseProdutos!B:V,16,0))/100,\"\")","v":""},{"$f":"IFERROR(VLOOKUP(B401,BaseProdutos!B:V,4,0),\"\")","v":""},"",null,null,null,null,null,"","","","","",{"$f":"IFERROR(F401*PE!$F$20,\"\")","v":""},"",""]
[null,{"$f":"IF(BaseProdutos!B392=\"\",\"\",BaseProdutos!B392)","v":""},{"$f":"IFERROR(VLOOKUP(B402,BaseProdutos!B:V,21,0),\"\")","v":""},null,"","",{"$f":"IFERROR(VLOOKUP(B402,BaseProdutos!B:V,3,0),\"\")","v":""},{"$f":"IFERROR(VLOOKUP(B402,BaseProdutos!B:V,17,0),\"\")","v":""},{"$f":"IFERROR(SUM(VLOOKUP(B402,BaseProdutos!B:V,13,0),VLOOKUP(B402,BaseProdutos!B:V,14,0)),\"\")","v":""},{"$f":"IFERROR(SUM(VLOOKUP(B402,BaseProdutos!B:V,15,0),VLOOKUP(B402,BaseProdutos!B:V,16,0))/100,\"\")","v":""},{"$f":"IFERROR(VLOOKUP(B402,BaseProdutos!B:V,4,0),\"\")","v":""},"",null,null,null,null,null,"","","","","",{"$f":"IFERROR(F402*PE!$F$20,\"\")","v":""},"",""]
[null,{"$f":"IF(BaseProdutos!B393=\"\",\"\",BaseProdutos!B393)","v":""},{"$f":"IFERROR(VLOOKUP(B403,BaseProdutos!B:V,21,0),\"\")","v":""},null,"","",{"$f":"IFERROR(VLOOKUP(B403,BaseProdutos!B:V,3,0),\"\")","v":""},{"$f":"IFERROR(VLOOKUP(B403,BaseProdutos!B:V,17,0),\"\")","v":""},{"$f":"IFERROR(SUM(VLOOKUP(B403,BaseProdutos!B:V,13,0),VLOOKUP(B403,BaseProdutos!B:V,14,0)),\"\")","v":""},{"$f":"IFERROR(SUM(VLOOKUP(B403,BaseProdutos!B:V,15,0),VLOOKUP(B403,BaseProdutos!B:V,16,0))/100,\"\")","v":""},{"$f":"IFERROR(VLOOKUP(B403,BaseProdutos!B:V,4,0),\"\")","v":""},"",null,null,null,null,null,"","","","","",{"$f":"IFERROR(F403*PE!$F$20,\"\")","v":""},"",""]
[null,{"$f":"IF(BaseProdutos!B394=\"\",\"\",BaseProdutos!B394)","v":""},{"$f":"IFERROR(VLOOKUP(B404,BaseProdutos!B:V,21,0),\"\")","v":""},null,"","",{"$f":"IFERROR(VLOOKUP(B404,BaseProdutos!B:V,3,0),\"\")","v":""},{"$f":"IFERROR(VLOOKUP(B404,BaseProdutos!B:V,17,0),\"\")","v":""},{"$f":"IFERROR(SUM(VLOOKUP(B404,BaseProdutos!B:V,13,0),VLOOKUP(B404,BaseProdutos!B:V,14,0)),\"\")","v":""},{"$f":"IFERROR(SUM(VLOOKUP(B404,BaseProdutos!B:V,15,0),VLOOKUP(B404,BaseProdutos!B:V,16,0))/100,\"\")","v":""},{"$f":"IFERROR(VLOOKUP(B404,BaseProdutos!B:V,4,0),\"\")","v":""},"",null,null,null,null,null,"","","","","",{"$f":"IFERROR(F404*PE!$F$20,\"\")","v":""},"",""]
[null,{"$f":"IF(BaseProdutos!B395=\"\",\"\",BaseProdutos!B395)","v":""},{"$f":"IFERROR(VLOOKUP(B405,BaseProdutos!B:V,21,0),\"\")","v":""},null,"","",{"$f":"IFERROR(VLOOKUP(B405,BaseProdutos!B:V,3,0),\"\")","v":""},{"$f":"IFERROR(VLOOKUP(B405,BaseProdutos!B:V,17,0),\"\")","v":""},{"$f":"IFERROR(SUM(VLOOKUP(B405,BaseProdutos!B:V,13,0),VLOOKUP(B405,BaseProdutos!B:V,14,0)),\"\")","v":""},{"$f":"IFERROR(SUM(VLOOKUP(B405,BaseProdutos!B:V,15,0),VLOOKUP(B405,BaseProdutos!B:V,16,0))/100,\"\")","v":""},{"$f":"IFERROR(VLOOKUP(B405,BaseProdutos!B:V,4,0),\"\")","v":""},"",null,null,null,null,null,"","","","","",{"$f":"IFERROR(F405*PE!$F$20,\"\")","v":""},"",""]
[null,{"$f":"IF(BaseProdutos!B396=\"\",\"\",BaseProdutos!B396)","v":""},{"$f":"IFERROR(VLOOKUP(B406,BaseProdutos!B:V,21,0),\"\")","v":""},null,"","",{"$f":"IFERROR(VLOOKUP(B406,BaseProdutos!B:V,3,0),\"\")","v":""},{"$f":"IFERROR(VLOOKUP(B406,BaseProdutos!B:V,17,0),\"\")","v":""},{"$f":"IFERROR(SUM(VLOOKUP(B406,BaseProdutos!B:V,13,0),VLOOKUP(B406,BaseProdutos!B:V,14,0)),\"\")","v":""},{"$f":"IFERROR(SUM(VLOOKUP(B406,BaseProdutos!B:V,15,0),VLOOKUP(B406,BaseProdutos!B:V,16,0))/100,\"\")","v":""},{"$f":"IFERROR(VLOOKUP(B406,BaseProdutos!B:V,4,0),\"\")","v":""},"",null,null,null,null,null,"","","","","",{"$f":"IFERROR(F406*PE!$F$20,\"\")","v":""},"",""]
[null,{"$f":"IF(BaseProdutos!B397=\"\",\"\",BaseProdutos!B397)","v":""},{"$f":"IFERROR(VLOOKUP(B407,BaseProdutos!B:V,21,0),\"\")","v":""},null,"","",{"$f":"IFERROR(VLOOKUP(B407,BaseProdutos!B:V,3,0),\"\")","v":""},{"$f":"IFERROR(VLOOKUP(B407,BaseProdutos!B:V,17,0),\"\")","v":""},{"$f":"IFERROR(SUM(VLOOKUP(B407,BaseProdutos!B:V,13,0),VLOOKUP(B407,BaseProdutos!B:V,14,0)),\"\")","v":""},{"$f":"IFERROR(SUM(VLOOKUP(B407,BaseProdutos!B:V,15,0),VLOOKUP(B407,BaseProdutos!B:V,16,0))/100,\"\")","v":""},{"$f":"IFERROR(VLOOKUP(B407,BaseProdutos!B:V,4,0),\"\")","v":""},"",null,null,null,null,null,"","","","","",{"$f":"IFERROR(F407*PE!$F$20,\"\")","v":""},"",""]
[null,{"$f":"IF(BaseProdutos!B398=\"\",\"\",BaseProdutos!B398)","v":""},{"$f":"IFERROR(VLOOKUP(B408,BaseProdutos!B:V,21,0),\"\")","v":""},null,"","",{"$f":"IFERROR(VLOOKUP(B408,BaseProdutos!B:V,3,0),\"\")","v":""},{"$f":"IFERROR(VLOOKUP(B408,BaseProdutos!B:V,17,0),\"\")","v":""},{"$f":"IFERROR(SUM(VLOOKUP(B408,BaseProdutos!B:V,13,0),VLOOKUP(B408,BaseProdutos!B:V,14,0)),\"\")","v":""},{"$f":"IFERROR(SUM(VLOOKUP(B408,BaseProdutos!B:V,15,0),VLOOKUP(B408,BaseProdutos!B:V,16,0))/100,\"\")","v":""},{"$f":"IFERROR(VLOOKUP(B408,BaseProdutos!B:V,4,0),\"\")","v":""},"",null,null,null,null,null,"","","","","",{"$f":"IFERROR(F408*PE!$F$20,\"\")","v":""},"",""]
[null,{"$f":"IF(BaseProdutos!B399=\"\",\"\",BaseProdutos!B399)","v":""},{"$f":"IFERROR(VLOOKUP(B409,BaseProdutos!B:V,21,0),\"\")","v":""},null,"","",{"$f":"IFERROR(VLOOKUP(B409,BaseProdutos!B:V,3,0),\"\")","v":""},{"$f":"IFERROR(VLOOKUP(B409,BaseProdutos!B:V,17,0),\"\")","v":""},{"$f":"IFERROR(SUM(VLOOKUP(B409,BaseProdutos!B:V,13,0),VLOOKUP(B409,BaseProdutos!B:V,14,0)),\"\")","v":""},{"$f":"IFERROR(SUM(VLOOKUP(B409,BaseProdutos!B:V,15,0),VLOOKUP(B409,BaseProdutos!B:V,16,0))/100,\"\")","v":""},{"$f":"IFERROR(VLOOKUP(B409,BaseProdutos!B:V,4,0),\"\")","v":""},"",null,null,null,null,null,"","","","","",{"$f":"IFERROR(F409*PE!$F$20,\"\")","v":""},"",""]
[null,{"$f":"IF(BaseProdutos!B400=\"\",\"\",BaseProdutos!B400)","v":""},{"$f":"IFERROR(VLOOKUP(B410,BaseProdutos!B:V,21,0),\"\")","v":""},null,"","",{"$f":"IFERROR(VLOOKUP(B410,BaseProdutos!B:V,3,0),\"\")","v":""},{"$f":"IFERROR(VLOOKUP(B410,BaseProdutos!B:V,17,0),\"\")","v":""},{"$f":"IFERROR(SUM(VLOOKUP(B410,BaseProdutos!B:V,13,0),VLOOKUP(B410,BaseProdutos!B:V,14,0)),\"\")","v":""},{"$f":"IFERROR(SUM(VLOOKUP(B410,BaseProdutos!B:V,15,0),VLOOKUP(B410,BaseProdutos!B:V,16,0))/100,\"\")","v":""},{"$f":"IFERROR(VLOOKUP(B410,BaseProdutos!B:V,4,0),\"\")","v":""},"",null,null,null,null,null,"","","","","",{"$f":"IFERROR(F410*PE!$F$20,\"\")","v":""},"",""]
[null,{"$f":"IF(BaseProdutos!B401=\"\",\"\",BaseProdutos!B401)","v":""},{"$f":"IFERROR(VLOOKUP(B411,BaseProdutos!B:V,21,0),\"\")","v":""},null,"","",{"$f":"IFERROR(VLOOKUP(B411,BaseProdutos!B:V,3,0),\"\")","v":""},{"$f":"IFERROR(VLOOKUP(B411,BaseProdutos!B:V,17,0),\"\")","v":""},{"$f":"IFERROR(SUM(VLOOKUP(B411,BaseProdutos!B:V,13,0),VLOOKUP(B411,BaseProdutos!B:V,14,0)),\"\")","v":""},{"$f":"IFERROR(SUM(VLOOKUP(B411,BaseProdutos!B:V,15,0),VLOOKUP(B411,BaseProdutos!B:V,16,0))/100,\"\")","v":""},{"$f":"IFERROR(VLOOKUP(B411,BaseProdutos!B:V,4,0),\"\")","v":""},"",null,null,null,null,null,"","","","","",{"$f":"IFERROR(F411*PE!$F$20,\"\")","v":""},"",""]
[null,{"$f":"IF(BaseProdutos!B402=\"\",\"\",BaseProdutos!B402)","v":""},{"$f":"IFERROR(VLOOKUP(B412,BaseProdutos!B:V,21,0),\"\")","v":""},null,"","",{"$f":"IFERROR(VLOOKUP(B412,BaseProdutos!B:V,3,0),\"\")","v":""},{"$f":"IFERROR(VLOOKUP(B412,BaseProdutos!B:V,17,0),\"\")","v":""},{"$f":"IFERROR(SUM(VLOOKUP(B412,BaseProdutos!B:V,13,0),VLOOKUP(B412,BaseProdutos!B:V,14,0)),\"\")","v":""},{"$f":"IFERROR(SUM(VLOOKUP(B412,BaseProdutos!B:V,15,0),VLOOKUP(B412,BaseProdutos!B:V,16,0))/100,\"\")","v":""},{"$f":"IFERROR(VLOOKUP(B412,BaseProdutos!B:V,4,0),\"\")","v":""},"",null,null,null,null,null,"","","","","",{"$f":"IFERROR(F412*PE!$F$20,\"\")","v":""},"",""]
[null,{"$f":"IF(BaseProdutos!B403=\"\",\"\",BaseProdutos!B403)","v":""},{"$f":"IFERROR(VLOOKUP(B413,BaseProdutos!B:V,21,0),\"\")","v":""},null,"","",{"$f":"IFERROR(VLOOKUP(B413,BaseProdutos!B:V,3,0),\"\")","v":""},{"$f":"IFERROR(VLOOKUP(B413,BaseProdutos!B:V,17,0),\"\")","v":""},{"$f":"IFERROR(SUM(VLOOKUP(B413,BaseProdutos!B:V,13,0),VLOOKUP(B413,BaseProdutos!B:V,14,0)),\"\")","v":""},{"$f":"IFERROR(SUM(VLOOKUP(B413,BaseProdutos!B:V,15,0),VLOOKUP(B413,BaseProdutos!B:V,16,0))/100,\"\")","v":""},{"$f":"IFERROR(VLOOKUP(B413,BaseProdutos!B:V,4,0),\"\")","v":""},"",null,null,null,null,null,"","","","","",{"$f":"IFERROR(F413*PE!$F$20,\"\")","v":""},"",""]
[null,{"$f":"IF(BaseProdutos!B404=\"\",\"\",BaseProdutos!B404)","v":""},{"$f":"IFERROR(VLOOKUP(B414,BaseProdutos!B:V,21,0),\"\")","v":""},null,"","",{"$f":"IFERROR(VLOOKUP(B414,BaseProdutos!B:V,3,0),\"\")","v":""},{"$f":"IFERROR(VLOOKUP(B414,BaseProdutos!B:V,17,0),\"\")","v":""},{"$f":"IFERROR(SUM(VLOOKUP(B414,BaseProdutos!B:V,13,0),VLOOKUP(B414,BaseProdutos!B:V,14,0)),\"\")","v":""},{"$f":"IFERROR(SUM(VLOOKUP(B414,BaseProdutos!B:V,15,0),VLOOKUP(B414,BaseProdutos!B:V,16,0))/100,\"\")","v":""},{"$f":"IFERROR(VLOOKUP(B414,BaseProdutos!B:V,4,0),\"\")","v":""},"",null,null,null,null,null,"","","","","",{"$f":"IFERROR(F414*PE!$F$20,\"\")","v":""},"",""]
[null,{"$f":"IF(BaseProdutos!B405=\"\",\"\",BaseProdutos!B405)","v":""},{"$f":"IFERROR(VLOOKUP(B415,BaseProdutos!B:V,21,0),\"\")","v":""},null,"","",{"$f":"IFERROR(VLOOKUP(B415,BaseProdutos!B:V,3,0),\"\")","v":""},{"$f":"IFERROR(VLOOKUP(B415,BaseProdutos!B:V,17,0),\"\")","v":""},{"$f":"IFERROR(SUM(VLOOKUP(B415,BaseProdutos!B:V,13,0),VLOOKUP(B415,BaseProdutos!B:V,14,0)),\"\")","v":""},{"$f":"IFERROR(SUM(VLOOKUP(B415,BaseProdutos!B:V,15,0),VLOOKUP(B415,BaseProdutos!B:V,16,0))/100,\"\")","v":""},{"$f":"IFERROR(VLOOKUP(B415,BaseProdutos!B:V,4,0),\"\")","v":""},"",null,null,null,null,null,"","","","","",{"$f":"IFERROR(F415*PE!$F$20,\"\")","v":""},"",""]
[null,{"$f":"IF(BaseProdutos!B406=\"\",\"\",BaseProdutos!B406)","v":""},{"$f":"IFERROR(VLOOKUP(B416,BaseProdutos!B:V,21,0),\"\")","v":""},null,"","",{"$f":"IFERROR(VLOOKUP(B416,BaseProdutos!B:V,3,0),\"\")","v":""},{"$f":"IFERROR(VLOOKUP(B416,BaseProdutos!B:V,17,0),\"\")","v":""},{"$f":"IFERROR(SUM(VLOOKUP(B416,BaseProdutos!B:V,13,0),VLOOKUP(B416,BaseProdutos!B:V,14,0)),\"\")","v":""},{"$f":"IFERROR(SUM(VLOOKUP(B416,BaseProdutos!B:V,15,0),VLOOKUP(B416,BaseProdutos!B:V,16,0))/100,\"\")","v":""},{"$f":"IFERROR(VLOOKUP(B416,BaseProdutos!B:V,4,0),\"\")","v":""},"",null,null,null,null,null,"","","","","",{"$f":"IFERROR(F416*PE!$F$20,\"\")","v":""},"",""]
[null,{"$f":"IF(BaseProdutos!B407=\"\",\"\",BaseProdutos!B407)","v":""},{"$f":"IFERROR(VLOOKUP(B417,BaseProdutos!B:V,21,0),\"\")","v":""},null,"","",{"$f":"IFERROR(VLOOKUP(B417,BaseProdutos!B:V,3,0),\"\")","v":""},{"$f":"IFERROR(VLOOKUP(B417,BaseProdutos!B:V,17,0),\"\")","v":""},{"$f":"IFERROR(SUM(VLOOKUP(B417,BaseProdutos!B:V,13,0),VLOOKUP(B417,BaseProdutos!B:V,14,0)),\"\")","v":""},{"$f":"IFERROR(SUM(VLOOKUP(B417,BaseProdutos!B:V,15,0),VLOOKUP(B417,BaseProdutos!B:V,16,0))/100,\"\")","v":""},{"$f":"IFERROR(VLOOKUP(B417,BaseProdutos!B:V,4,0),\"\")","v":""},"",null,null,null,null,null,"","","","","",{"$f":"IFERROR(F417*PE!$F$20,\"\")","v":""},"",""]
[null,{"$f":"IF(BaseProdutos!B408=\"\",\"\",BaseProdutos!B408)","v":""},{"$f":"IFERROR(VLOOKUP(B418,BaseProdutos!B:V,21,0),\"\")","v":""},null,"","",{"$f":"IFERROR(VLOOKUP(B418,BaseProdutos!B:V,3,0),\"\")","v":""},{"$f":"IFERROR(VLOOKUP(B418,BaseProdutos!B:V,17,0),\"\")","v":""},{"$f":"IFERROR(SUM(VLOOKUP(B418,BaseProdutos!B:V,13,0),VLOOKUP(B418,BaseProdutos!B:V,14,0)),\"\")","v":""},{"$f":"IFERROR(SUM(VLOOKUP(B418,BaseProdutos!B:V,15,0),VLOOKUP(B418,BaseProdutos!B:V,16,0))/100,\"\")","v":""},{"$f":"IFERROR(VLOOKUP(B418,BaseProdutos!B:V,4,0),\"\")","v":""},"",null,null,null,null,null,"","","","","",{"$f":"IFERROR(F418*PE!$F$20,\"\")","v":""},"",""]
[null,{"$f":"IF(BaseProdutos!B409=\"\",\"\",BaseProdutos!B409)","v":""},{"$f":"IFERROR(VLOOKUP(B419,BaseProdutos!B:V,21,0),\"\")","v":""},null,"","",{"$f":"IFERROR(VLOOKUP(B419,BaseProdutos!B:V,3,0),\"\")","v":""},{"$f":"IFERROR(VLOOKUP(B419,BaseProdutos!B:V,17,0),\"\")","v":""},{"$f":"IFERROR(SUM(VLOOKUP(B419,BaseProdutos!B:V,13,0),VLOOKUP(B419,BaseProdutos!B:V,14,0)),\"\")","v":""},{"$f":"IFERROR(SUM(VLOOKUP(B419,BaseProdutos!B:V,15,0),VLOOKUP(B419,BaseProdutos!B:V,16,0))/100,\"\")","v":""},{"$f":"IFERROR(VLOOKUP(B419,BaseProdutos!B:V,4,0),\"\")","v":""},"",null,null,null,null,null,"","","","","",{"$f":"IFERROR(F419*PE!$F$20,\"\")","v":""},"",""]
[null,{"$f":"IF(BaseProdutos!B410=\"\",\"\",BaseProdutos!B410)","v":""},{"$f":"IFERROR(VLOOKUP(B420,BaseProdutos!B:V,21,0),\"\")","v":""},null,"","",{"$f":"IFERROR(VLOOKUP(B420,BaseProdutos!B:V,3,0),\"\")","v":""},{"$f":"IFERROR(VLOOKUP(B420,BaseProdutos!B:V,17,0),\"\")","v":""},{"$f":"IFERROR(SUM(VLOOKUP(B420,BaseProdutos!B:V,13,0),VLOOKUP(B420,BaseProdutos!B:V,14,0)),\"\")","v":""},{"$f":"IFERROR(SUM(VLOOKUP(B420,BaseProdutos!B:V,15,0),VLOOKUP(B420,BaseProdutos!B:V,16,0))/100,\"\")","v":""},{"$f":"IFERROR(VLOOKUP(B420,BaseProdutos!B:V,4,0),\"\")","v":""},"",null,null,null,null,null,"","","","","",{"$f":"IFERROR(F420*PE!$F$20,\"\")","v":""},"",""]
[null,{"$f":"IF(BaseProdutos!B411=\"\",\"\",BaseProdutos!B411)","v":""},{"$f":"IFERROR(VLOOKUP(B421,BaseProdutos!B:V,21,0),\"\")","v":""},null,"","",{"$f":"IFERROR(VLOOKUP(B421,BaseProdutos!B:V,3,0),\"\")","v":""},{"$f":"IFERROR(VLOOKUP(B421,BaseProdutos!B:V,17,0),\"\")","v":""},{"$f":"IFERROR(SUM(VLOOKUP(B421,BaseProdutos!B:V,13,0),VLOOKUP(B421,BaseProdutos!B:V,14,0)),\"\")","v":""},{"$f":"IFERROR(SUM(VLOOKUP(B421,BaseProdutos!B:V,15,0),VLOOKUP(B421,BaseProdutos!B:V,16,0))/100,\"\")","v":""},{"$f":"IFERROR(VLOOKUP(B421,BaseProdutos!B:V,4,0),\"\")","v":""},"",null,null,null,null,null,"","","","","",{"$f":"IFERROR(F421*PE!$F$20,\"\")","v":""},"",""]
[null,{"$f":"IF(BaseProdutos!B412=\"\",\"\",BaseProdutos!B412)","v":""},{"$f":"IFERROR(VLOOKUP(B422,BaseProdutos!B:V,21,0),\"\")","v":""},null,"","",{"$f":"IFERROR(VLOOKUP(B422,BaseProdutos!B:V,3,0),\"\")","v":""},{"$f":"IFERROR(VLOOKUP(B422,BaseProdutos!B:V,17,0),\"\")","v":""},{"$f":"IFERROR(SUM(VLOOKUP(B422,BaseProdutos!B:V,13,0),VLOOKUP(B422,BaseProdutos!B:V,14,0)),\"\")","v":""},{"$f":"IFERROR(SUM(VLOOKUP(B422,BaseProdutos!B:V,15,0),VLOOKUP(B422,BaseProdutos!B:V,16,0))/100,\"\")","v":""},{"$f":"IFERROR(VLOOKUP(B422,BaseProdutos!B:V,4,0),\"\")","v":""},"",null,null,null,null,null,"","","","","",{"$f":"IFERROR(F422*PE!$F$20,\"\")","v":""},"",""]
[null,{"$f":"IF(BaseProdutos!B413=\"\",\"\",BaseProdutos!B413)","v":""},{"$f":"IFERROR(VLOOKUP(B423,BaseProdutos!B:V,21,0),\"\")","v":""},null,"","",{"$f":"IFERROR(VLOOKUP(B423,BaseProdutos!B:V,3,0),\"\")","v":""},{"$f":"IFERROR(VLOOKUP(B423,BaseProdutos!B:V,17,0),\"\")","v":""},{"$f":"IFERROR(SUM(VLOOKUP(B423,BaseProdutos!B:V,13,0),VLOOKUP(B423,BaseProdutos!B:V,14,0)),\"\")","v":""},{"$f":"IFERROR(SUM(VLOOKUP(B423,BaseProdutos!B:V,15,0),VLOOKUP(B423,BaseProdutos!B:V,16,0))/100,\"\")","v":""},{"$f":"IFERROR(VLOOKUP(B423,BaseProdutos!B:V,4,0),\"\")","v":""},"",null,null,null,null,null,"","","","","",{"$f":"IFERROR(F423*PE!$F$20,\"\")","v":""},"",""]
[null,{"$f":"IF(BaseProdutos!B414=\"\",\"\",BaseProdutos!B414)","v":""},{"$f":"IFERROR(VLOOKUP(B424,BaseProdutos!B:V,21,0),\"\")","v":""},null,"","",{"$f":"IFERROR(VLOOKUP(B424,BaseProdutos!B:V,3,0),\"\")","v":""},{"$f":"IFERROR(VLOOKUP(B424,BaseProdutos!B:V,17,0),\"\")","v":""},{"$f":"IFERROR(SUM(VLOOKUP(B424,BaseProdutos!B:V,13,0),VLOOKUP(B424,BaseProdutos!B:V,14,0)),\"\")","v":""},{"$f":"IFERROR(SUM(VLOOKUP(B424,BaseProdutos!B:V,15,0),VLOOKUP(B424,BaseProdutos!B:V,16,0))/100,\"\")","v":""},{"$f":"IFERROR(VLOOKUP(B424,BaseProdutos!B:V,4,0),\"\")","v":""},"",null,null,null,null,null,"","","","","",{"$f":"IFERROR(F424*PE!$F$20,\"\")","v":""},"",""]
[null,{"$f":"IF(BaseProdutos!B415=\"\",\"\",BaseProdutos!B415)","v":""},{"$f":"IFERROR(VLOOKUP(B425,BaseProdutos!B:V,21,0),\"\")","v":""},null,"","",{"$f":"IFERROR(VLOOKUP(B425,BaseProdutos!B:V,3,0),\"\")","v":""},{"$f":"IFERROR(VLOOKUP(B425,BaseProdutos!B:V,17,0),\"\")","v":""},{"$f":"IFERROR(SUM(VLOOKUP(B425,BaseProdutos!B:V,13,0),VLOOKUP(B425,BaseProdutos!B:V,14,0)),\"\")","v":""},{"$f":"IFERROR(SUM(VLOOKUP(B425,BaseProdutos!B:V,15,0),VLOOKUP(B425,BaseProdutos!B:V,16,0))/100,\"\")","v":""},{"$f":"IFERROR(VLOOKUP(B425,BaseProdutos!B:V,4,0),\"\")","v":""},"",null,null,null,null,null,"","","","","",{"$f":"IFERROR(F425*PE!$F$20,\"\")","v":""},"",""]
[null,{"$f":"IF(BaseProdutos!B416=\"\",\"\",BaseProdutos!B416)","v":""},{"$f":"IFERROR(VLOOKUP(B426,BaseProdutos!B:V,21,0),\"\")","v":""},null,"","",{"$f":"IFERROR(VLOOKUP(B426,BaseProdutos!B:V,3,0),\"\")","v":""},{"$f":"IFERROR(VLOOKUP(B426,BaseProdutos!B:V,17,0),\"\")","v":""},{"$f":"IFERROR(SUM(VLOOKUP(B426,BaseProdutos!B:V,13,0),VLOOKUP(B426,BaseProdutos!B:V,14,0)),\"\")","v":""},{"$f":"IFERROR(SUM(VLOOKUP(B426,BaseProdutos!B:V,15,0),VLOOKUP(B426,BaseProdutos!B:V,16,0))/100,\"\")","v":""},{"$f":"IFERROR(VLOOKUP(B426,BaseProdutos!B:V,4,0),\"\")","v":""},"",null,null,null,null,null,"","","","","",{"$f":"IFERROR(F426*PE!$F$20,\"\")","v":""},"",""]
[null,{"$f":"IF(BaseProdutos!B417=\"\",\"\",BaseProdutos!B417)","v":""},{"$f":"IFERROR(VLOOKUP(B427,BaseProdutos!B:V,21,0),\"\")","v":""},null,"","",{"$f":"IFERROR(VLOOKUP(B427,BaseProdutos!B:V,3,0),\"\")","v":""},{"$f":"IFERROR(VLOOKUP(B427,BaseProdutos!B:V,17,0),\"\")","v":""},{"$f":"IFERROR(SUM(VLOOKUP(B427,BaseProdutos!B:V,13,0),VLOOKUP(B427,BaseProdutos!B:V,14,0)),\"\")","v":""},{"$f":"IFERROR(SUM(VLOOKUP(B427,BaseProdutos!B:V,15,0),VLOOKUP(B427,BaseProdutos!B:V,16,0))/100,\"\")","v":""},{"$f":"IFERROR(VLOOKUP(B427,BaseProdutos!B:V,4,0),\"\")","v":""},"",null,null,null,null,null,"","","","","",{"$f":"IFERROR(F427*PE!$F$20,\"\")","v":""},"",""]
[null,{"$f":"IF(BaseProdutos!B418=\"\",\"\",BaseProdutos!B418)","v":""},{"$f":"IFERROR(VLOOKUP(B428,BaseProdutos!B:V,21,0),\"\")","v":""},null,"","",{"$f":"IFERROR(VLOOKUP(B428,BaseProdutos!B:V,3,0),\"\")","v":""},{"$f":"IFERROR(VLOOKUP(B428,BaseProdutos!B:V,17,0),\"\")","v":""},{"$f":"IFERROR(SUM(VLOOKUP(B428,BaseProdutos!B:V,13,0),VLOOKUP(B428,BaseProdutos!B:V,14,0)),\"\")","v":""},{"$f":"IFERROR(SUM(VLOOKUP(B428,BaseProdutos!B:V,15,0),VLOOKUP(B428,BaseProdutos!B:V,16,0))/100,\"\")","v":""},{"$f":"IFERROR(VLOOKUP(B428,BaseProdutos!B:V,4,0),\"\")","v":""},"",null,null,null,null,null,"","","","","",{"$f":"IFERROR(F428*PE!$F$20,\"\")","v":""},"",""]
[null,{"$f":"IF(BaseProdutos!B419=\"\",\"\",BaseProdutos!B419)","v":""},{"$f":"IFERROR(VLOOKUP(B429,BaseProdutos!B:V,21,0),\"\")","v":""},null,"","",{"$f":"IFERROR(VLOOKUP(B429,BaseProdutos!B:V,3,0),\"\")","v":""},{"$f":"IFERROR(VLOOKUP(B429,BaseProdutos!B:V,17,0),\"\")","v":""},{"$f":"IFERROR(SUM(VLOOKUP(B429,BaseProdutos!B:V,13,0),VLOOKUP(B429,BaseProdutos!B:V,14,0)),\"\")","v":""},{"$f":"IFERROR(SUM(VLOOKUP(B429,BaseProdutos!B:V,15,0),VLOOKUP(B429,BaseProdutos!B:V,16,0))/100,\"\")","v":""},{"$f":"IFERROR(VLOOKUP(B429,BaseProdutos!B:V,4,0),\"\")","v":""},"",null,null,null,null,null,"","","","","",{"$f":"IFERROR(F429*PE!$F$20,\"\")","v":""},"",""]
[null,{"$f":"IF(BaseProdutos!B420=\"\",\"\",BaseProdutos!B420)","v":""},{"$f":"IFERROR(VLOOKUP(B430,BaseProdutos!B:V,21,0),\"\")","v":""},null,"","",{"$f":"IFERROR(VLOOKUP(B430,BaseProdutos!B:V,3,0),\"\")","v":""},{"$f":"IFERROR(VLOOKUP(B430,BaseProdutos!B:V,17,0),\"\")","v":""},{"$f":"IFERROR(SUM(VLOOKUP(B430,BaseProdutos!B:V,13,0),VLOOKUP(B430,BaseProdutos!B:V,14,0)),\"\")","v":""},{"$f":"IFERROR(SUM(VLOOKUP(B430,BaseProdutos!B:V,15,0),VLOOKUP(B430,BaseProdutos!B:V,16,0))/100,\"\")","v":""},{"$f":"IFERROR(VLOOKUP(B430,BaseProdutos!B:V,4,0),\"\")","v":""},"",null,null,null,null,null,"","","","","",{"$f":"IFERROR(F430*PE!$F$20,\"\")","v":""},"",""]
[null,{"$f":"IF(BaseProdutos!B421=\"\",\"\",BaseProdutos!B421)","v":""},{"$f":"IFERROR(VLOOKUP(B431,BaseProdutos!B:V,21,0),\"\")","v":""},null,"","",{"$f":"IFERROR(VLOOKUP(B431,BaseProdutos!B:V,3,0),\"\")","v":""},{"$f":"IFERROR(VLOOKUP(B431,BaseProdutos!B:V,17,0),\"\")","v":""},{"$f":"IFERROR(SUM(VLOOKUP(B431,BaseProdutos!B:V,13,0),VLOOKUP(B431,BaseProdutos!B:V,14,0)),\"\")","v":""},{"$f":"IFERROR(SUM(VLOOKUP(B431,BaseProdutos!B:V,15,0),VLOOKUP(B431,BaseProdutos!B:V,16,0))/100,\"\")","v":""},{"$f":"IFERROR(VLOOKUP(B431,BaseProdutos!B:V,4,0),\"\")","v":""},"",null,null,null,null,null,"","","","","",{"$f":"IFERROR(F431*PE!$F$20,\"\")","v":""},"",""]
[null,{"$f":"IF(BaseProdutos!B422=\"\",\"\",BaseProdutos!B422)","v":""},{"$f":"IFERROR(VLOOKUP(B432,BaseProdutos!B:V,21,0),\"\")","v":""},null,"","",{"$f":"IFERROR(VLOOKUP(B432,BaseProdutos!B:V,3,0),\"\")","v":""},{"$f":"IFERROR(VLOOKUP(B432,BaseProdutos!B:V,17,0),\"\")","v":""},{"$f":"IFERROR(SUM(VLOOKUP(B432,BaseProdutos!B:V,13,0),VLOOKUP(B432,BaseProdutos!B:V,14,0)),\"\")","v":""},{"$f":"IFERROR(SUM(VLOOKUP(B432,BaseProdutos!B:V,15,0),VLOOKUP(B432,BaseProdutos!B:V,16,0))/100,\"\")","v":""},{"$f":"IFERROR(VLOOKUP(B432,BaseProdutos!B:V,4,0),\"\")","v":""},"",null,null,null,null,null,"","","","","",{"$f":"IFERROR(F432*PE!$F$20,\"\")","v":""},"",""]
[null,{"$f":"IF(BaseProdutos!B423=\"\",\"\",BaseProdutos!B423)","v":""},{"$f":"IFERROR(VLOOKUP(B433,BaseProdutos!B:V,21,0),\"\")","v":""},null,"","",{"$f":"IFERROR(VLOOKUP(B433,BaseProdutos!B:V,3,0),\"\")","v":""},{"$f":"IFERROR(VLOOKUP(B433,BaseProdutos!B:V,17,0),\"\")","v":""},{"$f":"IFERROR(SUM(VLOOKUP(B433,BaseProdutos!B:V,13,0),VLOOKUP(B433,BaseProdutos!B:V,14,0)),\"\")","v":""},{"$f":"IFERROR(SUM(VLOOKUP(B433,BaseProdutos!B:V,15,0),VLOOKUP(B433,BaseProdutos!B:V,16,0))/100,\"\")","v":""},{"$f":"IFERROR(VLOOKUP(B433,BaseProdutos!B:V,4,0),\"\")","v":""},"",null,null,null,null,null,"","","","","",{"$f":"IFERROR(F433*PE!$F$20,\"\")","v":""},"",""]
[null,{"$f":"IF(BaseProdutos!B424=\"\",\"\",BaseProdutos!B424)","v":""},{"$f":"IFERROR(VLOOKUP(B434,BaseProdutos!B:V,21,0),\"\")","v":""},null,"","",{"$f":"IFERROR(VLOOKUP(B434,BaseProdutos!B:V,3,0),\"\")","v":""},{"$f":"IFERROR(VLOOKUP(B434,BaseProdutos!B:V,17,0),\"\")","v":""},{"$f":"IFERROR(SUM(VLOOKUP(B434,BaseProdutos!B:V,13,0),VLOOKUP(B434,BaseProdutos!B:V,14,0)),\"\")","v":""},{"$f":"IFERROR(SUM(VLOOKUP(B434,BaseProdutos!B:V,15,0),VLOOKUP(B434,BaseProdutos!B:V,16,0))/100,\"\")","v":""},{"$f":"IFERROR(VLOOKUP(B434,BaseProdutos!B:V,4,0),\"\")","v":""},"",null,null,null,null,null,"","","","","",{"$f":"IFERROR(F434*PE!$F$20,\"\")","v":""},"",""]
[null,{"$f":"IF(BaseProdutos!B425=\"\",\"\",BaseProdutos!B425)","v":""},{"$f":"IFERROR(VLOOKUP(B435,BaseProdutos!B:V,21,0),\"\")","v":""},null,"","",{"$f":"IFERROR(VLOOKUP(B435,BaseProdutos!B:V,3,0),\"\")","v":""},{"$f":"IFERROR(VLOOKUP(B435,BaseProdutos!B:V,17,0),\"\")","v":""},{"$f":"IFERROR(SUM(VLOOKUP(B435,BaseProdutos!B:V,13,0),VLOOKUP(B435,BaseProdutos!B:V,14,0)),\"\")","v":""},{"$f":"IFERROR(SUM(VLOOKUP(B435,BaseProdutos!B:V,15,0),VLOOKUP(B435,BaseProdutos!B:V,16,0))/100,\"\")","v":""},{"$f":"IFERROR(VLOOKUP(B435,BaseProdutos!B:V,4,0),\"\")","v":""},"",null,null,null,null,null,"","","","","",{"$f":"IFERROR(F435*PE!$F$20,\"\")","v":""},"",""]
[null,{"$f":"IF(BaseProdutos!B426=\"\",\"\",BaseProdutos!B426)","v":""},{"$f":"IFERROR(VLOOKUP(B436,BaseProdutos!B:V,21,0),\"\")","v":""},null,"","",{"$f":"IFERROR(VLOOKUP(B436,BaseProdutos!B:V,3,0),\"\")","v":""},{"$f":"IFERROR(VLOOKUP(B436,BaseProdutos!B:V,17,0),\"\")","v":""},{"$f":"IFERROR(SUM(VLOOKUP(B436,BaseProdutos!B:V,13,0),VLOOKUP(B436,BaseProdutos!B:V,14,0)),\"\")","v":""},{"$f":"IFERROR(SUM(VLOOKUP(B436,BaseProdutos!B:V,15,0),VLOOKUP(B436,BaseProdutos!B:V,16,0))/100,\"\")","v":""},{"$f":"IFERROR(VLOOKUP(B436,BaseProdutos!B:V,4,0),\"\")","v":""},"",null,null,null,null,null,"","","","","",{"$f":"IFERROR(F436*PE!$F$20,\"\")","v":""},"",""]
[null,{"$f":"IF(BaseProdutos!B427=\"\",\"\",BaseProdutos!B427)","v":""},{"$f":"IFERROR(VLOOKUP(B437,BaseProdutos!B:V,21,0),\"\")","v":""},null,"","",{"$f":"IFERROR(VLOOKUP(B437,BaseProdutos!B:V,3,0),\"\")","v":""},{"$f":"IFERROR(VLOOKUP(B437,BaseProdutos!B:V,17,0),\"\")","v":""},{"$f":"IFERROR(SUM(VLOOKUP(B437,BaseProdutos!B:V,13,0),VLOOKUP(B437,BaseProdutos!B:V,14,0)),\"\")","v":""},{"$f":"IFERROR(SUM(VLOOKUP(B437,BaseProdutos!B:V,15,0),VLOOKUP(B437,BaseProdutos!B:V,16,0))/100,\"\")","v":""},{"$f":"IFERROR(VLOOKUP(B437,BaseProdutos!B:V,4,0),\"\")","v":""},"",null,null,null,null,null,"","","","","",{"$f":"IFERROR(F437*PE!$F$20,\"\")","v":""},"",""]
[null,{"$f":"IF(BaseProdutos!B428=\"\",\"\",BaseProdutos!B428)","v":""},{"$f":"IFERROR(VLOOKUP(B438,BaseProdutos!B:V,21,0),\"\")","v":""},null,"","",{"$f":"IFERROR(VLOOKUP(B438,BaseProdutos!B:V,3,0),\"\")","v":""},{"$f":"IFERROR(VLOOKUP(B438,BaseProdutos!B:V,17,0),\"\")","v":""},{"$f":"IFERROR(SUM(VLOOKUP(B438,BaseProdutos!B:V,13,0),VLOOKUP(B438,BaseProdutos!B:V,14,0)),\"\")","v":""},{"$f":"IFERROR(SUM(VLOOKUP(B438,BaseProdutos!B:V,15,0),VLOOKUP(B438,BaseProdutos!B:V,16,0))/100,\"\")","v":""},{"$f":"IFERROR(VLOOKUP(B438,BaseProdutos!B:V,4,0),\"\")","v":""},"",null,null,null,null,null,"","","","","",{"$f":"IFERROR(F438*PE!$F$20,\"\")","v":""},"",""]
[null,{"$f":"IF(BaseProdutos!B429=\"\",\"\",BaseProdutos!B429)","v":""},{"$f":"IFERROR(VLOOKUP(B439,BaseProdutos!B:V,21,0),\"\")","v":""},null,"","",{"$f":"IFERROR(VLOOKUP(B439,BaseProdutos!B:V,3,0),\"\")","v":""},{"$f":"IFERROR(VLOOKUP(B439,BaseProdutos!B:V,17,0),\"\")","v":""},{"$f":"IFERROR(SUM(VLOOKUP(B439,BaseProdutos!B:V,13,0),VLOOKUP(B439,BaseProdutos!B:V,14,0)),\"\")","v":""},{"$f":"IFERROR(SUM(VLOOKUP(B439,BaseProdutos!B:V,15,0),VLOOKUP(B439,BaseProdutos!B:V,16,0))/100,\"\")","v":""},{"$f":"IFERROR(VLOOKUP(B439,BaseProdutos!B:V,4,0),\"\")","v":""},"",null,null,null,null,null,"","","","","",{"$f":"IFERROR(F439*PE!$F$20,\"\")","v":""},"",""]
[null,{"$f":"IF(BaseProdutos!B430=\"\",\"\",BaseProdutos!B430)","v":""},{"$f":"IFERROR(VLOOKUP(B440,BaseProdutos!B:V,21,0),\"\")","v":""},null,"","",{"$f":"IFERROR(VLOOKUP(B440,BaseProdutos!B:V,3,0),\"\")","v":""},{"$f":"IFERROR(VLOOKUP(B440,BaseProdutos!B:V,17,0),\"\")","v":""},{"$f":"IFERROR(SUM(VLOOKUP(B440,BaseProdutos!B:V,13,0),VLOOKUP(B440,BaseProdutos!B:V,14,0)),\"\")","v":""},{"$f":"IFERROR(SUM(VLOOKUP(B440,BaseProdutos!B:V,15,0),VLOOKUP(B440,BaseProdutos!B:V,16,0))/100,\"\")","v":""},{"$f":"IFERROR(VLOOKUP(B440,BaseProdutos!B:V,4,0),\"\")","v":""},"",null,null,null,null,null,"","","","","",{"$f":"IFERROR(F440*PE!$F$20,\"\")","v":""},"",""]
[null,{"$f":"IF(BaseProdutos!B431=\"\",\"\",BaseProdutos!B431)","v":""},{"$f":"IFERROR(VLOOKUP(B441,BaseProdutos!B:V,21,0),\"\")","v":""},null,"","",{"$f":"IFERROR(VLOOKUP(B441,BaseProdutos!B:V,3,0),\"\")","v":""},{"$f":"IFERROR(VLOOKUP(B441,BaseProdutos!B:V,17,0),\"\")","v":""},{"$f":"IFERROR(SUM(VLOOKUP(B441,BaseProdutos!B:V,13,0),VLOOKUP(B441,BaseProdutos!B:V,14,0)),\"\")","v":""},{"$f":"IFERROR(SUM(VLOOKUP(B441,BaseProdutos!B:V,15,0),VLOOKUP(B441,BaseProdutos!B:V,16,0))/100,\"\")","v":""},{"$f":"IFERROR(VLOOKUP(B441,BaseProdutos!B:V,4,0),\"\")","v":""},"",null,null,null,null,null,"","","","","",{"$f":"IFERROR(F441*PE!$F$20,\"\")","v":""},"",""]
[null,{"$f":"IF(BaseProdutos!B432=\"\",\"\",BaseProdutos!B432)","v":""},{"$f":"IFERROR(VLOOKUP(B442,BaseProdutos!B:V,21,0),\"\")","v":""},null,"","",{"$f":"IFERROR(VLOOKUP(B442,BaseProdutos!B:V,3,0),\"\")","v":""},{"$f":"IFERROR(VLOOKUP(B442,BaseProdutos!B:V,17,0),\"\")","v":""},{"$f":"IFERROR(SUM(VLOOKUP(B442,BaseProdutos!B:V,13,0),VLOOKUP(B442,BaseProdutos!B:V,14,0)),\"\")","v":""},{"$f":"IFERROR(SUM(VLOOKUP(B442,BaseProdutos!B:V,15,0),VLOOKUP(B442,BaseProdutos!B:V,16,0))/100,\"\")","v":""},{"$f":"IFERROR(VLOOKUP(B442,BaseProdutos!B:V,4,0),\"\")","v":""},"",null,null,null,null,null,"","","","","",{"$f":"IFERROR(F442*PE!$F$20,\"\")","v":""},"",""]
[null,{"$f":"IF(BaseProdutos!B433=\"\",\"\",BaseProdutos!B433)","v":""},{"$f":"IFERROR(VLOOKUP(B443,BaseProdutos!B:V,21,0),\"\")","v":""},null,"","",{"$f":"IFERROR(VLOOKUP(B443,BaseProdutos!B:V,3,0),\"\")","v":""},{"$f":"IFERROR(VLOOKUP(B443,BaseProdutos!B:V,17,0),\"\")","v":""},{"$f":"IFERROR(SUM(VLOOKUP(B443,BaseProdutos!B:V,13,0),VLOOKUP(B443,BaseProdutos!B:V,14,0)),\"\")","v":""},{"$f":"IFERROR(SUM(VLOOKUP(B443,BaseProdutos!B:V,15,0),VLOOKUP(B443,BaseProdutos!B:V,16,0))/100,\"\")","v":""},{"$f":"IFERROR(VLOOKUP(B443,BaseProdutos!B:V,4,0),\"\")","v":""},"",null,null,null,null,null,"","","","","",{"$f":"IFERROR(F443*PE!$F$20,\"\")","v":""},"",""]
[null,{"$f":"IF(BaseProdutos!B434=\"\",\"\",BaseProdutos!B434)","v":""},{"$f":"IFERROR(VLOOKUP(B444,BaseProdutos!B:V,21,0),\"\")","v":""},null,"","",{"$f":"IFERROR(VLOOKUP(B444,BaseProdutos!B:V,3,0),\"\")","v":""},{"$f":"IFERROR(VLOOKUP(B444,BaseProdutos!B:V,17,0),\"\")","v":""},{"$f":"IFERROR(SUM(VLOOKUP(B444,BaseProdutos!B:V,13,0),VLOOKUP(B444,BaseProdutos!B:V,14,0)),\"\")","v":""},{"$f":"IFERROR(SUM(VLOOKUP(B444,BaseProdutos!B:V,15,0),VLOOKUP(B444,BaseProdutos!B:V,16,0))/100,\"\")","v":""},{"$f":"IFERROR(VLOOKUP(B444,BaseProdutos!B:V,4,0),\"\")","v":""},"",null,null,null,null,null,"","","","","",{"$f":"IFERROR(F444*PE!$F$20,\"\")","v":""},"",""]
[null,{"$f":"IF(BaseProdutos!B435=\"\",\"\",BaseProdutos!B435)","v":""},{"$f":"IFERROR(VLOOKUP(B445,BaseProdutos!B:V,21,0),\"\")","v":""},null,"","",{"$f":"IFERROR(VLOOKUP(B445,BaseProdutos!B:V,3,0),\"\")","v":""},{"$f":"IFERROR(VLOOKUP(B445,BaseProdutos!B:V,17,0),\"\")","v":""},{"$f":"IFERROR(SUM(VLOOKUP(B445,BaseProdutos!B:V,13,0),VLOOKUP(B445,BaseProdutos!B:V,14,0)),\"\")","v":""},{"$f":"IFERROR(SUM(VLOOKUP(B445,BaseProdutos!B:V,15,0),VLOOKUP(B445,BaseProdutos!B:V,16,0))/100,\"\")","v":""},{"$f":"IFERROR(VLOOKUP(B445,BaseProdutos!B:V,4,0),\"\")","v":""},"",null,null,null,null,null,"","","","","",{"$f":"IFERROR(F445*PE!$F$20,\"\")","v":""},"",""]
[null,{"$f":"IF(BaseProdutos!B436=\"\",\"\",BaseProdutos!B436)","v":""},{"$f":"IFERROR(VLOOKUP(B446,BaseProdutos!B:V,21,0),\"\")","v":""},null,"","",{"$f":"IFERROR(VLOOKUP(B446,BaseProdutos!B:V,3,0),\"\")","v":""},{"$f":"IFERROR(VLOOKUP(B446,BaseProdutos!B:V,17,0),\"\")","v":""},{"$f":"IFERROR(SUM(VLOOKUP(B446,BaseProdutos!B:V,13,0),VLOOKUP(B446,BaseProdutos!B:V,14,0)),\"\")","v":""},{"$f":"IFERROR(SUM(VLOOKUP(B446,BaseProdutos!B:V,15,0),VLOOKUP(B446,BaseProdutos!B:V,16,0))/100,\"\")","v":""},{"$f":"IFERROR(VLOOKUP(B446,BaseProdutos!B:V,4,0),\"\")","v":""},"",null,null,null,null,null,"","","","","",{"$f":"IFERROR(F446*PE!$F$20,\"\")","v":""},"",""]
[null,{"$f":"IF(BaseProdutos!B437=\"\",\"\",BaseProdutos!B437)","v":""},{"$f":"IFERROR(VLOOKUP(B447,BaseProdutos!B:V,21,0),\"\")","v":""},null,"","",{"$f":"IFERROR(VLOOKUP(B447,BaseProdutos!B:V,3,0),\"\")","v":""},{"$f":"IFERROR(VLOOKUP(B447,BaseProdutos!B:V,17,0),\"\")","v":""},{"$f":"IFERROR(SUM(VLOOKUP(B447,BaseProdutos!B:V,13,0),VLOOKUP(B447,BaseProdutos!B:V,14,0)),\"\")","v":""},{"$f":"IFERROR(SUM(VLOOKUP(B447,BaseProdutos!B:V,15,0),VLOOKUP(B447,BaseProdutos!B:V,16,0))/100,\"\")","v":""},{"$f":"IFERROR(VLOOKUP(B447,BaseProdutos!B:V,4,0),\"\")","v":""},"",null,null,null,null,null,"","","","","",{"$f":"IFERROR(F447*PE!$F$20,\"\")","v":""},"",""]
[null,{"$f":"IF(BaseProdutos!B438=\"\",\"\",BaseProdutos!B438)","v":""},{"$f":"IFERROR(VLOOKUP(B448,BaseProdutos!B:V,21,0),\"\")","v":""},null,"","",{"$f":"IFERROR(VLOOKUP(B448,BaseProdutos!B:V,3,0),\"\")","v":""},{"$f":"IFERROR(VLOOKUP(B448,BaseProdutos!B:V,17,0),\"\")","v":""},{"$f":"IFERROR(SUM(VLOOKUP(B448,BaseProdutos!B:V,13,0),VLOOKUP(B448,BaseProdutos!B:V,14,0)),\"\")","v":""},{"$f":"IFERROR(SUM(VLOOKUP(B448,BaseProdutos!B:V,15,0),VLOOKUP(B448,BaseProdutos!B:V,16,0))/100,\"\")","v":""},{"$f":"IFERROR(VLOOKUP(B448,BaseProdutos!B:V,4,0),\"\")","v":""},"",null,null,null,null,null,"","","","","",{"$f":"IFERROR(F448*PE!$F$20,\"\")","v":""},"",""]
[null,{"$f":"IF(BaseProdutos!B439=\"\",\"\",BaseProdutos!B439)","v":""},{"$f":"IFERROR(VLOOKUP(B449,BaseProdutos!B:V,21,0),\"\")","v":""},null,"","",{"$f":"IFERROR(VLOOKUP(B449,BaseProdutos!B:V,3,0),\"\")","v":""},{"$f":"IFERROR(VLOOKUP(B449,BaseProdutos!B:V,17,0),\"\")","v":""},{"$f":"IFERROR(SUM(VLOOKUP(B449,BaseProdutos!B:V,13,0),VLOOKUP(B449,BaseProdutos!B:V,14,0)),\"\")","v":""},{"$f":"IFERROR(SUM(VLOOKUP(B449,BaseProdutos!B:V,15,0),VLOOKUP(B449,BaseProdutos!B:V,16,0))/100,\"\")","v":""},{"$f":"IFERROR(VLOOKUP(B449,BaseProdutos!B:V,4,0),\"\")","v":""},"",null,null,null,null,null,"","","","","",{"$f":"IFERROR(F449*PE!$F$20,\"\")","v":""},"",""]
[null,{"$f":"IF(BaseProdutos!B440=\"\",\"\",BaseProdutos!B440)","v":""},{"$f":"IFERROR(VLOOKUP(B450,BaseProdutos!B:V,21,0),\"\")","v":""},null,"","",{"$f":"IFERROR(VLOOKUP(B450,BaseProdutos!B:V,3,0),\"\")","v":""},{"$f":"IFERROR(VLOOKUP(B450,BaseProdutos!B:V,17,0),\"\")","v":""},{"$f":"IFERROR(SUM(VLOOKUP(B450,BaseProdutos!B:V,13,0),VLOOKUP(B450,BaseProdutos!B:V,14,0)),\"\")","v":""},{"$f":"IFERROR(SUM(VLOOKUP(B450,BaseProdutos!B:V,15,0),VLOOKUP(B450,BaseProdutos!B:V,16,0))/100,\"\")","v":""},{"$f":"IFERROR(VLOOKUP(B450,BaseProdutos!B:V,4,0),\"\")","v":""},"",null,null,null,null,null,"","","","","",{"$f":"IFERROR(F450*PE!$F$20,\"\")","v":""},"",""]
[null,{"$f":"IF(BaseProdutos!B441=\"\",\"\",BaseProdutos!B441)","v":""},{"$f":"IFERROR(VLOOKUP(B451,BaseProdutos!B:V,21,0),\"\")","v":""},null,"","",{"$f":"IFERROR(VLOOKUP(B451,BaseProdutos!B:V,3,0),\"\")","v":""},{"$f":"IFERROR(VLOOKUP(B451,BaseProdutos!B:V,17,0),\"\")","v":""},{"$f":"IFERROR(SUM(VLOOKUP(B451,BaseProdutos!B:V,13,0),VLOOKUP(B451,BaseProdutos!B:V,14,0)),\"\")","v":""},{"$f":"IFERROR(SUM(VLOOKUP(B451,BaseProdutos!B:V,15,0),VLOOKUP(B451,BaseProdutos!B:V,16,0))/100,\"\")","v":""},{"$f":"IFERROR(VLOOKUP(B451,BaseProdutos!B:V,4,0),\"\")","v":""},"",null,null,null,null,null,"","","","","",{"$f":"IFERROR(F451*PE!$F$20,\"\")","v":""},"",""]
[null,{"$f":"IF(BaseProdutos!B442=\"\",\"\",BaseProdutos!B442)","v":""},{"$f":"IFERROR(VLOOKUP(B452,BaseProdutos!B:V,21,0),\"\")","v":""},null,"","",{"$f":"IFERROR(VLOOKUP(B452,BaseProdutos!B:V,3,0),\"\")","v":""},{"$f":"IFERROR(VLOOKUP(B452,BaseProdutos!B:V,17,0),\"\")","v":""},{"$f":"IFERROR(SUM(VLOOKUP(B452,BaseProdutos!B:V,13,0),VLOOKUP(B452,BaseProdutos!B:V,14,0)),\"\")","v":""},{"$f":"IFERROR(SUM(VLOOKUP(B452,BaseProdutos!B:V,15,0),VLOOKUP(B452,BaseProdutos!B:V,16,0))/100,\"\")","v":""},{"$f":"IFERROR(VLOOKUP(B452,BaseProdutos!B:V,4,0),\"\")","v":""},"",null,null,null,null,null,"","","","","",{"$f":"IFERROR(F452*PE!$F$20,\"\")","v":""},"",""]
[null,{"$f":"IF(BaseProdutos!B443=\"\",\"\",BaseProdutos!B443)","v":""},{"$f":"IFERROR(VLOOKUP(B453,BaseProdutos!B:V,21,0),\"\")","v":""},null,"","",{"$f":"IFERROR(VLOOKUP(B453,BaseProdutos!B:V,3,0),\"\")","v":""},{"$f":"IFERROR(VLOOKUP(B453,BaseProdutos!B:V,17,0),\"\")","v":""},{"$f":"IFERROR(SUM(VLOOKUP(B453,BaseProdutos!B:V,13,0),VLOOKUP(B453,BaseProdutos!B:V,14,0)),\"\")","v":""},{"$f":"IFERROR(SUM(VLOOKUP(B453,BaseProdutos!B:V,15,0),VLOOKUP(B453,BaseProdutos!B:V,16,0))/100,\"\")","v":""},{"$f":"IFERROR(VLOOKUP(B453,BaseProdutos!B:V,4,0),\"\")","v":""},"",null,null,null,null,null,"","","","","",{"$f":"IFERROR(F453*PE!$F$20,\"\")","v":""},"",""]
[null,{"$f":"IF(BaseProdutos!B444=\"\",\"\",BaseProdutos!B444)","v":""},{"$f":"IFERROR(VLOOKUP(B454,BaseProdutos!B:V,21,0),\"\")","v":""},null,"","",{"$f":"IFERROR(VLOOKUP(B454,BaseProdutos!B:V,3,0),\"\")","v":""},{"$f":"IFERROR(VLOOKUP(B454,BaseProdutos!B:V,17,0),\"\")","v":""},{"$f":"IFERROR(SUM(VLOOKUP(B454,BaseProdutos!B:V,13,0),VLOOKUP(B454,BaseProdutos!B:V,14,0)),\"\")","v":""},{"$f":"IFERROR(SUM(VLOOKUP(B454,BaseProdutos!B:V,15,0),VLOOKUP(B454,BaseProdutos!B:V,16,0))/100,\"\")","v":""},{"$f":"IFERROR(VLOOKUP(B454,BaseProdutos!B:V,4,0),\"\")","v":""},"",null,null,null,null,null,"","","","","",{"$f":"IFERROR(F454*PE!$F$20,\"\")","v":""},"",""]
[null,{"$f":"IF(BaseProdutos!B445=\"\",\"\",BaseProdutos!B445)","v":""},{"$f":"IFERROR(VLOOKUP(B455,BaseProdutos!B:V,21,0),\"\")","v":""},null,"","",{"$f":"IFERROR(VLOOKUP(B455,BaseProdutos!B:V,3,0),\"\")","v":""},{"$f":"IFERROR(VLOOKUP(B455,BaseProdutos!B:V,17,0),\"\")","v":""},{"$f":"IFERROR(SUM(VLOOKUP(B455,BaseProdutos!B:V,13,0),VLOOKUP(B455,BaseProdutos!B:V,14,0)),\"\")","v":""},{"$f":"IFERROR(SUM(VLOOKUP(B455,BaseProdutos!B:V,15,0),VLOOKUP(B455,BaseProdutos!B:V,16,0))/100,\"\")","v":""},{"$f":"IFERROR(VLOOKUP(B455,BaseProdutos!B:V,4,0),\"\")","v":""},"",null,null,null,null,null,"","","","","",{"$f":"IFERROR(F455*PE!$F$20,\"\")","v":""},"",""]
[null,{"$f":"IF(BaseProdutos!B446=\"\",\"\",BaseProdutos!B446)","v":""},{"$f":"IFERROR(VLOOKUP(B456,BaseProdutos!B:V,21,0),\"\")","v":""},null,"","",{"$f":"IFERROR(VLOOKUP(B456,BaseProdutos!B:V,3,0),\"\")","v":""},{"$f":"IFERROR(VLOOKUP(B456,BaseProdutos!B:V,17,0),\"\")","v":""},{"$f":"IFERROR(SUM(VLOOKUP(B456,BaseProdutos!B:V,13,0),VLOOKUP(B456,BaseProdutos!B:V,14,0)),\"\")","v":""},{"$f":"IFERROR(SUM(VLOOKUP(B456,BaseProdutos!B:V,15,0),VLOOKUP(B456,BaseProdutos!B:V,16,0))/100,\"\")","v":""},{"$f":"IFERROR(VLOOKUP(B456,BaseProdutos!B:V,4,0),\"\")","v":""},"",null,null,null,null,null,"","","","","",{"$f":"IFERROR(F456*PE!$F$20,\"\")","v":""},"",""]
[null,{"$f":"IF(BaseProdutos!B447=\"\",\"\",BaseProdutos!B447)","v":""},{"$f":"IFERROR(VLOOKUP(B457,BaseProdutos!B:V,21,0),\"\")","v":""},null,"","",{"$f":"IFERROR(VLOOKUP(B457,BaseProdutos!B:V,3,0),\"\")","v":""},{"$f":"IFERROR(VLOOKUP(B457,BaseProdutos!B:V,17,0),\"\")","v":""},{"$f":"IFERROR(SUM(VLOOKUP(B457,BaseProdutos!B:V,13,0),VLOOKUP(B457,BaseProdutos!B:V,14,0)),\"\")","v":""},{"$f":"IFERROR(SUM(VLOOKUP(B457,BaseProdutos!B:V,15,0),VLOOKUP(B457,BaseProdutos!B:V,16,0))/100,\"\")","v":""},{"$f":"IFERROR(VLOOKUP(B457,BaseProdutos!B:V,4,0),\"\")","v":""},"",null,null,null,null,null,"","","","","",{"$f":"IFERROR(F457*PE!$F$20,\"\")","v":""},"",""]
[null,{"$f":"IF(BaseProdutos!B448=\"\",\"\",BaseProdutos!B448)","v":""},{"$f":"IFERROR(VLOOKUP(B458,BaseProdutos!B:V,21,0),\"\")","v":""},null,"","",{"$f":"IFERROR(VLOOKUP(B458,BaseProdutos!B:V,3,0),\"\")","v":""},{"$f":"IFERROR(VLOOKUP(B458,BaseProdutos!B:V,17,0),\"\")","v":""},{"$f":"IFERROR(SUM(VLOOKUP(B458,BaseProdutos!B:V,13,0),VLOOKUP(B458,BaseProdutos!B:V,14,0)),\"\")","v":""},{"$f":"IFERROR(SUM(VLOOKUP(B458,BaseProdutos!B:V,15,0),VLOOKUP(B458,BaseProdutos!B:V,16,0))/100,\"\")","v":""},{"$f":"IFERROR(VLOOKUP(B458,BaseProdutos!B:V,4,0),\"\")","v":""},"",null,null,null,null,null,"","","","","",{"$f":"IFERROR(F458*PE!$F$20,\"\")","v":""},"",""]
[null,{"$f":"IF(BaseProdutos!B449=\"\",\"\",BaseProdutos!B449)","v":""},{"$f":"IFERROR(VLOOKUP(B459,BaseProdutos!B:V,21,0),\"\")","v":""},null,"","",{"$f":"IFERROR(VLOOKUP(B459,BaseProdutos!B:V,3,0),\"\")","v":""},{"$f":"IFERROR(VLOOKUP(B459,BaseProdutos!B:V,17,0),\"\")","v":""},{"$f":"IFERROR(SUM(VLOOKUP(B459,BaseProdutos!B:V,13,0),VLOOKUP(B459,BaseProdutos!B:V,14,0)),\"\")","v":""},{"$f":"IFERROR(SUM(VLOOKUP(B459,BaseProdutos!B:V,15,0),VLOOKUP(B459,BaseProdutos!B:V,16,0))/100,\"\")","v":""},{"$f":"IFERROR(VLOOKUP(B459,BaseProdutos!B:V,4,0),\"\")","v":""},"",null,null,null,null,null,"","","","","",{"$f":"IFERROR(F459*PE!$F$20,\"\")","v":""},"",""]
[null,{"$f":"IF(BaseProdutos!B450=\"\",\"\",BaseProdutos!B450)","v":""},{"$f":"IFERROR(VLOOKUP(B460,BaseProdutos!B:V,21,0),\"\")","v":""},null,"","",{"$f":"IFERROR(VLOOKUP(B460,BaseProdutos!B:V,3,0),\"\")","v":""},{"$f":"IFERROR(VLOOKUP(B460,BaseProdutos!B:V,17,0),\"\")","v":""},{"$f":"IFERROR(SUM(VLOOKUP(B460,BaseProdutos!B:V,13,0),VLOOKUP(B460,BaseProdutos!B:V,14,0)),\"\")","v":""},{"$f":"IFERROR(SUM(VLOOKUP(B460,BaseProdutos!B:V,15,0),VLOOKUP(B460,BaseProdutos!B:V,16,0))/100,\"\")","v":""},{"$f":"IFERROR(VLOOKUP(B460,BaseProdutos!B:V,4,0),\"\")","v":""},"",null,null,null,null,null,"","","","","",{"$f":"IFERROR(F460*PE!$F$20,\"\")","v":""},"",""]
[null,{"$f":"IF(BaseProdutos!B451=\"\",\"\",BaseProdutos!B451)","v":""},{"$f":"IFERROR(VLOOKUP(B461,BaseProdutos!B:V,21,0),\"\")","v":""},null,{"$f":"IFERROR(IF(B461=\"\",\"\",C461*D461),\"\")","v":""},{"$f":"IFERROR(E461/SUM($E$12:$E$511),\"\")","v":""},{"$f":"IFERROR(VLOOKUP(B461,BaseProdutos!B:V,3,0),\"\")","v":""},{"$f":"IFERROR(VLOOKUP(B461,BaseProdutos!B:V,17,0),\"\")","v":""},{"$f":"IFERROR(SUM(VLOOKUP(B461,BaseProdutos!B:V,13,0),VLOOKUP(B461,BaseProdutos!B:V,14,0)),\"\")","v":""},{"$f":"IFERROR(SUM(VLOOKUP(B461,BaseProdutos!B:V,15,0),VLOOKUP(B461,BaseProdutos!B:V,16,0))/100,\"\")","v":""},{"$f":"IFERROR(VLOOKUP(B461,BaseProdutos!B:V,4,0),\"\")","v":""},{"$f":"IFERROR(G461+C461*(H461+I461+J461)+K461,\"\")","v":""},null,null,null,null,null,{"$f":"IFERROR(H461*E461,\"\")","v":""},{"$f":"IFERROR(I461*E461,\"\")","v":""},{"$f":"IFERROR(C461-L461,\"\")","v":""},{"$f":"IFERROR(T461/C461,\"\")","v":""},{"$f":"IFERROR(W461*C461,\"\")","v":""},{"$f":"IFERROR(F461*PE!$F$20,\"\")","v":""},{"$f":"IFERROR(K461*D461,\"\")","v":""},{"$f":"IFERROR(G461*D461,\"\")","v":""}]
[null,{"$f":"IF(BaseProdutos!B452=\"\",\"\",BaseProdutos!B452)","v":""},{"$f":"IFERROR(VLOOKUP(B462,BaseProdutos!B:V,21,0),\"\")","v":""},null,"","",{"$f":"IFERROR(VLOOKUP(B462,BaseProdutos!B:V,3,0),\"\")","v":""},{"$f":"IFERROR(VLOOKUP(B462,BaseProdutos!B:V,17,0),\"\")","v":""},{"$f":"IFERROR(SUM(VLOOKUP(B462,BaseProdutos!B:V,13,0),VLOOKUP(B462,BaseProdutos!B:V,14,0)),\"\")","v":""},{"$f":"IFERROR(SUM(VLOOKUP(B462,BaseProdutos!B:V,15,0),VLOOKUP(B462,BaseProdutos!B:V,16,0))/100,\"\")","v":""},{"$f":"IFERROR(VLOOKUP(B462,BaseProdutos!B:V,4,0),\"\")","v":""},"",null,null,null,null,null,"","","","","",{"$f":"IFERROR(F462*PE!$F$20,\"\")","v":""},"",""]
[null,{"$f":"IF(BaseProdutos!B453=\"\",\"\",BaseProdutos!B453)","v":""},{"$f":"IFERROR(VLOOKUP(B463,BaseProdutos!B:V,21,0),\"\")","v":""},null,"","",{"$f":"IFERROR(VLOOKUP(B463,BaseProdutos!B:V,3,0),\"\")","v":""},{"$f":"IFERROR(VLOOKUP(B463,BaseProdutos!B:V,17,0),\"\")","v":""},{"$f":"IFERROR(SUM(VLOOKUP(B463,BaseProdutos!B:V,13,0),VLOOKUP(B463,BaseProdutos!B:V,14,0)),\"\")","v":""},{"$f":"IFERROR(SUM(VLOOKUP(B463,BaseProdutos!B:V,15,0),VLOOKUP(B463,BaseProdutos!B:V,16,0))/100,\"\")","v":""},{"$f":"IFERROR(VLOOKUP(B463,BaseProdutos!B:V,4,0),\"\")","v":""},"",null,null,null,null,null,"","","","","",{"$f":"IFERROR(F463*PE!$F$20,\"\")","v":""},"",""]
[null,{"$f":"IF(BaseProdutos!B454=\"\",\"\",BaseProdutos!B454)","v":""},{"$f":"IFERROR(VLOOKUP(B464,BaseProdutos!B:V,21,0),\"\")","v":""},null,"","",{"$f":"IFERROR(VLOOKUP(B464,BaseProdutos!B:V,3,0),\"\")","v":""},{"$f":"IFERROR(VLOOKUP(B464,BaseProdutos!B:V,17,0),\"\")","v":""},{"$f":"IFERROR(SUM(VLOOKUP(B464,BaseProdutos!B:V,13,0),VLOOKUP(B464,BaseProdutos!B:V,14,0)),\"\")","v":""},{"$f":"IFERROR(SUM(VLOOKUP(B464,BaseProdutos!B:V,15,0),VLOOKUP(B464,BaseProdutos!B:V,16,0))/100,\"\")","v":""},{"$f":"IFERROR(VLOOKUP(B464,BaseProdutos!B:V,4,0),\"\")","v":""},"",null,null,null,null,null,"","","","","",{"$f":"IFERROR(F464*PE!$F$20,\"\")","v":""},"",""]
[null,{"$f":"IF(BaseProdutos!B455=\"\",\"\",BaseProdutos!B455)","v":""},{"$f":"IFERROR(VLOOKUP(B465,BaseProdutos!B:V,21,0),\"\")","v":""},null,"","",{"$f":"IFERROR(VLOOKUP(B465,BaseProdutos!B:V,3,0),\"\")","v":""},{"$f":"IFERROR(VLOOKUP(B465,BaseProdutos!B:V,17,0),\"\")","v":""},{"$f":"IFERROR(SUM(VLOOKUP(B465,BaseProdutos!B:V,13,0),VLOOKUP(B465,BaseProdutos!B:V,14,0)),\"\")","v":""},{"$f":"IFERROR(SUM(VLOOKUP(B465,BaseProdutos!B:V,15,0),VLOOKUP(B465,BaseProdutos!B:V,16,0))/100,\"\")","v":""},{"$f":"IFERROR(VLOOKUP(B465,BaseProdutos!B:V,4,0),\"\")","v":""},"",null,null,null,null,null,"","","","","",{"$f":"IFERROR(F465*PE!$F$20,\"\")","v":""},"",""]
[null,{"$f":"IF(BaseProdutos!B456=\"\",\"\",BaseProdutos!B456)","v":""},{"$f":"IFERROR(VLOOKUP(B466,BaseProdutos!B:V,21,0),\"\")","v":""},null,"","",{"$f":"IFERROR(VLOOKUP(B466,BaseProdutos!B:V,3,0),\"\")","v":""},{"$f":"IFERROR(VLOOKUP(B466,BaseProdutos!B:V,17,0),\"\")","v":""},{"$f":"IFERROR(SUM(VLOOKUP(B466,BaseProdutos!B:V,13,0),VLOOKUP(B466,BaseProdutos!B:V,14,0)),\"\")","v":""},{"$f":"IFERROR(SUM(VLOOKUP(B466,BaseProdutos!B:V,15,0),VLOOKUP(B466,BaseProdutos!B:V,16,0))/100,\"\")","v":""},{"$f":"IFERROR(VLOOKUP(B466,BaseProdutos!B:V,4,0),\"\")","v":""},"",null,null,null,null,null,"","","","","",{"$f":"IFERROR(F466*PE!$F$20,\"\")","v":""},"",""]
[null,{"$f":"IF(BaseProdutos!B457=\"\",\"\",BaseProdutos!B457)","v":""},{"$f":"IFERROR(VLOOKUP(B467,BaseProdutos!B:V,21,0),\"\")","v":""},null,"","",{"$f":"IFERROR(VLOOKUP(B467,BaseProdutos!B:V,3,0),\"\")","v":""},{"$f":"IFERROR(VLOOKUP(B467,BaseProdutos!B:V,17,0),\"\")","v":""},{"$f":"IFERROR(SUM(VLOOKUP(B467,BaseProdutos!B:V,13,0),VLOOKUP(B467,BaseProdutos!B:V,14,0)),\"\")","v":""},{"$f":"IFERROR(SUM(VLOOKUP(B467,BaseProdutos!B:V,15,0),VLOOKUP(B467,BaseProdutos!B:V,16,0))/100,\"\")","v":""},{"$f":"IFERROR(VLOOKUP(B467,BaseProdutos!B:V,4,0),\"\")","v":""},"",null,null,null,null,null,"","","","","",{"$f":"IFERROR(F467*PE!$F$20,\"\")","v":""},"",""]
[null,{"$f":"IF(BaseProdutos!B458=\"\",\"\",BaseProdutos!B458)","v":""},{"$f":"IFERROR(VLOOKUP(B468,BaseProdutos!B:V,21,0),\"\")","v":""},null,"","",{"$f":"IFERROR(VLOOKUP(B468,BaseProdutos!B:V,3,0),\"\")","v":""},{"$f":"IFERROR(VLOOKUP(B468,BaseProdutos!B:V,17,0),\"\")","v":""},{"$f":"IFERROR(SUM(VLOOKUP(B468,BaseProdutos!B:V,13,0),VLOOKUP(B468,BaseProdutos!B:V,14,0)),\"\")","v":""},{"$f":"IFERROR(SUM(VLOOKUP(B468,BaseProdutos!B:V,15,0),VLOOKUP(B468,BaseProdutos!B:V,16,0))/100,\"\")","v":""},{"$f":"IFERROR(VLOOKUP(B468,BaseProdutos!B:V,4,0),\"\")","v":""},"",null,null,null,null,null,"","","","","",{"$f":"IFERROR(F468*PE!$F$20,\"\")","v":""},"",""]
[null,{"$f":"IF(BaseProdutos!B459=\"\",\"\",BaseProdutos!B459)","v":""},{"$f":"IFERROR(VLOOKUP(B469,BaseProdutos!B:V,21,0),\"\")","v":""},null,"","",{"$f":"IFERROR(VLOOKUP(B469,BaseProdutos!B:V,3,0),\"\")","v":""},{"$f":"IFERROR(VLOOKUP(B469,BaseProdutos!B:V,17,0),\"\")","v":""},{"$f":"IFERROR(SUM(VLOOKUP(B469,BaseProdutos!B:V,13,0),VLOOKUP(B469,BaseProdutos!B:V,14,0)),\"\")","v":""},{"$f":"IFERROR(SUM(VLOOKUP(B469,BaseProdutos!B:V,15,0),VLOOKUP(B469,BaseProdutos!B:V,16,0))/100,\"\")","v":""},{"$f":"IFERROR(VLOOKUP(B469,BaseProdutos!B:V,4,0),\"\")","v":""},"",null,null,null,null,null,"","","","","",{"$f":"IFERROR(F469*PE!$F$20,\"\")","v":""},"",""]
[null,{"$f":"IF(BaseProdutos!B460=\"\",\"\",BaseProdutos!B460)","v":""},{"$f":"IFERROR(VLOOKUP(B470,BaseProdutos!B:V,21,0),\"\")","v":""},null,"","",{"$f":"IFERROR(VLOOKUP(B470,BaseProdutos!B:V,3,0),\"\")","v":""},{"$f":"IFERROR(VLOOKUP(B470,BaseProdutos!B:V,17,0),\"\")","v":""},{"$f":"IFERROR(SUM(VLOOKUP(B470,BaseProdutos!B:V,13,0),VLOOKUP(B470,BaseProdutos!B:V,14,0)),\"\")","v":""},{"$f":"IFERROR(SUM(VLOOKUP(B470,BaseProdutos!B:V,15,0),VLOOKUP(B470,BaseProdutos!B:V,16,0))/100,\"\")","v":""},{"$f":"IFERROR(VLOOKUP(B470,BaseProdutos!B:V,4,0),\"\")","v":""},"",null,null,null,null,null,"","","","","",{"$f":"IFERROR(F470*PE!$F$20,\"\")","v":""},"",""]
[null,{"$f":"IF(BaseProdutos!B461=\"\",\"\",BaseProdutos!B461)","v":""},{"$f":"IFERROR(VLOOKUP(B471,BaseProdutos!B:V,21,0),\"\")","v":""},null,"","",{"$f":"IFERROR(VLOOKUP(B471,BaseProdutos!B:V,3,0),\"\")","v":""},{"$f":"IFERROR(VLOOKUP(B471,BaseProdutos!B:V,17,0),\"\")","v":""},{"$f":"IFERROR(SUM(VLOOKUP(B471,BaseProdutos!B:V,13,0),VLOOKUP(B471,BaseProdutos!B:V,14,0)),\"\")","v":""},{"$f":"IFERROR(SUM(VLOOKUP(B471,BaseProdutos!B:V,15,0),VLOOKUP(B471,BaseProdutos!B:V,16,0))/100,\"\")","v":""},{"$f":"IFERROR(VLOOKUP(B471,BaseProdutos!B:V,4,0),\"\")","v":""},"",null,null,null,null,null,"","","","","",{"$f":"IFERROR(F471*PE!$F$20,\"\")","v":""},"",""]
[null,{"$f":"IF(BaseProdutos!B462=\"\",\"\",BaseProdutos!B462)","v":""},{"$f":"IFERROR(VLOOKUP(B472,BaseProdutos!B:V,21,0),\"\")","v":""},null,"","",{"$f":"IFERROR(VLOOKUP(B472,BaseProdutos!B:V,3,0),\"\")","v":""},{"$f":"IFERROR(VLOOKUP(B472,BaseProdutos!B:V,17,0),\"\")","v":""},{"$f":"IFERROR(SUM(VLOOKUP(B472,BaseProdutos!B:V,13,0),VLOOKUP(B472,BaseProdutos!B:V,14,0)),\"\")","v":""},{"$f":"IFERROR(SUM(VLOOKUP(B472,BaseProdutos!B:V,15,0),VLOOKUP(B472,BaseProdutos!B:V,16,0))/100,\"\")","v":""},{"$f":"IFERROR(VLOOKUP(B472,BaseProdutos!B:V,4,0),\"\")","v":""},"",null,null,null,null,null,"","","","","",{"$f":"IFERROR(F472*PE!$F$20,\"\")","v":""},"",""]
[null,{"$f":"IF(BaseProdutos!B463=\"\",\"\",BaseProdutos!B463)","v":""},{"$f":"IFERROR(VLOOKUP(B473,BaseProdutos!B:V,21,0),\"\")","v":""},null,"","",{"$f":"IFERROR(VLOOKUP(B473,BaseProdutos!B:V,3,0),\"\")","v":""},{"$f":"IFERROR(VLOOKUP(B473,BaseProdutos!B:V,17,0),\"\")","v":""},{"$f":"IFERROR(SUM(VLOOKUP(B473,BaseProdutos!B:V,13,0),VLOOKUP(B473,BaseProdutos!B:V,14,0)),\"\")","v":""},{"$f":"IFERROR(SUM(VLOOKUP(B473,BaseProdutos!B:V,15,0),VLOOKUP(B473,BaseProdutos!B:V,16,0))/100,\"\")","v":""},{"$f":"IFERROR(VLOOKUP(B473,BaseProdutos!B:V,4,0),\"\")","v":""},"",null,null,null,null,null,"","","","","",{"$f":"IFERROR(F473*PE!$F$20,\"\")","v":""},"",""]
[null,{"$f":"IF(BaseProdutos!B464=\"\",\"\",BaseProdutos!B464)","v":""},{"$f":"IFERROR(VLOOKUP(B474,BaseProdutos!B:V,21,0),\"\")","v":""},null,"","",{"$f":"IFERROR(VLOOKUP(B474,BaseProdutos!B:V,3,0),\"\")","v":""},{"$f":"IFERROR(VLOOKUP(B474,BaseProdutos!B:V,17,0),\"\")","v":""},{"$f":"IFERROR(SUM(VLOOKUP(B474,BaseProdutos!B:V,13,0),VLOOKUP(B474,BaseProdutos!B:V,14,0)),\"\")","v":""},{"$f":"IFERROR(SUM(VLOOKUP(B474,BaseProdutos!B:V,15,0),VLOOKUP(B474,BaseProdutos!B:V,16,0))/100,\"\")","v":""},{"$f":"IFERROR(VLOOKUP(B474,BaseProdutos!B:V,4,0),\"\")","v":""},"",null,null,null,null,null,"","","","","",{"$f":"IFERROR(F474*PE!$F$20,\"\")","v":""},"",""]
[null,{"$f":"IF(BaseProdutos!B465=\"\",\"\",BaseProdutos!B465)","v":""},{"$f":"IFERROR(VLOOKUP(B475,BaseProdutos!B:V,21,0),\"\")","v":""},null,"","",{"$f":"IFERROR(VLOOKUP(B475,BaseProdutos!B:V,3,0),\"\")","v":""},{"$f":"IFERROR(VLOOKUP(B475,BaseProdutos!B:V,17,0),\"\")","v":""},{"$f":"IFERROR(SUM(VLOOKUP(B475,BaseProdutos!B:V,13,0),VLOOKUP(B475,BaseProdutos!B:V,14,0)),\"\")","v":""},{"$f":"IFERROR(SUM(VLOOKUP(B475,BaseProdutos!B:V,15,0),VLOOKUP(B475,BaseProdutos!B:V,16,0))/100,\"\")","v":""},{"$f":"IFERROR(VLOOKUP(B475,BaseProdutos!B:V,4,0),\"\")","v":""},"",null,null,null,null,null,"","","","","",{"$f":"IFERROR(F475*PE!$F$20,\"\")","v":""},"",""]
[null,{"$f":"IF(BaseProdutos!B466=\"\",\"\",BaseProdutos!B466)","v":""},{"$f":"IFERROR(VLOOKUP(B476,BaseProdutos!B:V,21,0),\"\")","v":""},null,"","",{"$f":"IFERROR(VLOOKUP(B476,BaseProdutos!B:V,3,0),\"\")","v":""},{"$f":"IFERROR(VLOOKUP(B476,BaseProdutos!B:V,17,0),\"\")","v":""},{"$f":"IFERROR(SUM(VLOOKUP(B476,BaseProdutos!B:V,13,0),VLOOKUP(B476,BaseProdutos!B:V,14,0)),\"\")","v":""},{"$f":"IFERROR(SUM(VLOOKUP(B476,BaseProdutos!B:V,15,0),VLOOKUP(B476,BaseProdutos!B:V,16,0))/100,\"\")","v":""},{"$f":"IFERROR(VLOOKUP(B476,BaseProdutos!B:V,4,0),\"\")","v":""},"",null,null,null,null,null,"","","","","",{"$f":"IFERROR(F476*PE!$F$20,\"\")","v":""},"",""]
[null,{"$f":"IF(BaseProdutos!B467=\"\",\"\",BaseProdutos!B467)","v":""},{"$f":"IFERROR(VLOOKUP(B477,BaseProdutos!B:V,21,0),\"\")","v":""},null,"","",{"$f":"IFERROR(VLOOKUP(B477,BaseProdutos!B:V,3,0),\"\")","v":""},{"$f":"IFERROR(VLOOKUP(B477,BaseProdutos!B:V,17,0),\"\")","v":""},{"$f":"IFERROR(SUM(VLOOKUP(B477,BaseProdutos!B:V,13,0),VLOOKUP(B477,BaseProdutos!B:V,14,0)),\"\")","v":""},{"$f":"IFERROR(SUM(VLOOKUP(B477,BaseProdutos!B:V,15,0),VLOOKUP(B477,BaseProdutos!B:V,16,0))/100,\"\")","v":""},{"$f":"IFERROR(VLOOKUP(B477,BaseProdutos!B:V,4,0),\"\")","v":""},"",null,null,null,null,null,"","","","","",{"$f":"IFERROR(F477*PE!$F$20,\"\")","v":""},"",""]
[null,{"$f":"IF(BaseProdutos!B468=\"\",\"\",BaseProdutos!B468)","v":""},{"$f":"IFERROR(VLOOKUP(B478,BaseProdutos!B:V,21,0),\"\")","v":""},null,"","",{"$f":"IFERROR(VLOOKUP(B478,BaseProdutos!B:V,3,0),\"\")","v":""},{"$f":"IFERROR(VLOOKUP(B478,BaseProdutos!B:V,17,0),\"\")","v":""},{"$f":"IFERROR(SUM(VLOOKUP(B478,BaseProdutos!B:V,13,0),VLOOKUP(B478,BaseProdutos!B:V,14,0)),\"\")","v":""},{"$f":"IFERROR(SUM(VLOOKUP(B478,BaseProdutos!B:V,15,0),VLOOKUP(B478,BaseProdutos!B:V,16,0))/100,\"\")","v":""},{"$f":"IFERROR(VLOOKUP(B478,BaseProdutos!B:V,4,0),\"\")","v":""},"",null,null,null,null,null,"","","","","",{"$f":"IFERROR(F478*PE!$F$20,\"\")","v":""},"",""]
[null,{"$f":"IF(BaseProdutos!B469=\"\",\"\",BaseProdutos!B469)","v":""},{"$f":"IFERROR(VLOOKUP(B479,BaseProdutos!B:V,21,0),\"\")","v":""},null,"","",{"$f":"IFERROR(VLOOKUP(B479,BaseProdutos!B:V,3,0),\"\")","v":""},{"$f":"IFERROR(VLOOKUP(B479,BaseProdutos!B:V,17,0),\"\")","v":""},{"$f":"IFERROR(SUM(VLOOKUP(B479,BaseProdutos!B:V,13,0),VLOOKUP(B479,BaseProdutos!B:V,14,0)),\"\")","v":""},{"$f":"IFERROR(SUM(VLOOKUP(B479,BaseProdutos!B:V,15,0),VLOOKUP(B479,BaseProdutos!B:V,16,0))/100,\"\")","v":""},{"$f":"IFERROR(VLOOKUP(B479,BaseProdutos!B:V,4,0),\"\")","v":""},"",null,null,null,null,null,"","","","","",{"$f":"IFERROR(F479*PE!$F$20,\"\")","v":""},"",""]
[null,{"$f":"IF(BaseProdutos!B470=\"\",\"\",BaseProdutos!B470)","v":""},{"$f":"IFERROR(VLOOKUP(B480,BaseProdutos!B:V,21,0),\"\")","v":""},null,"","",{"$f":"IFERROR(VLOOKUP(B480,BaseProdutos!B:V,3,0),\"\")","v":""},{"$f":"IFERROR(VLOOKUP(B480,BaseProdutos!B:V,17,0),\"\")","v":""},{"$f":"IFERROR(SUM(VLOOKUP(B480,BaseProdutos!B:V,13,0),VLOOKUP(B480,BaseProdutos!B:V,14,0)),\"\")","v":""},{"$f":"IFERROR(SUM(VLOOKUP(B480,BaseProdutos!B:V,15,0),VLOOKUP(B480,BaseProdutos!B:V,16,0))/100,\"\")","v":""},{"$f":"IFERROR(VLOOKUP(B480,BaseProdutos!B:V,4,0),\"\")","v":""},"",null,null,null,null,null,"","","","","",{"$f":"IFERROR(F480*PE!$F$20,\"\")","v":""},"",""]
[null,{"$f":"IF(BaseProdutos!B471=\"\",\"\",BaseProdutos!B471)","v":""},{"$f":"IFERROR(VLOOKUP(B481,BaseProdutos!B:V,21,0),\"\")","v":""},null,"","",{"$f":"IFERROR(VLOOKUP(B481,BaseProdutos!B:V,3,0),\"\")","v":""},{"$f":"IFERROR(VLOOKUP(B481,BaseProdutos!B:V,17,0),\"\")","v":""},{"$f":"IFERROR(SUM(VLOOKUP(B481,BaseProdutos!B:V,13,0),VLOOKUP(B481,BaseProdutos!B:V,14,0)),\"\")","v":""},{"$f":"IFERROR(SUM(VLOOKUP(B481,BaseProdutos!B:V,15,0),VLOOKUP(B481,BaseProdutos!B:V,16,0))/100,\"\")","v":""},{"$f":"IFERROR(VLOOKUP(B481,BaseProdutos!B:V,4,0),\"\")","v":""},"",null,null,null,null,null,"","","","","",{"$f":"IFERROR(F481*PE!$F$20,\"\")","v":""},"",""]
[null,{"$f":"IF(BaseProdutos!B472=\"\",\"\",BaseProdutos!B472)","v":""},{"$f":"IFERROR(VLOOKUP(B482,BaseProdutos!B:V,21,0),\"\")","v":""},null,"","",{"$f":"IFERROR(VLOOKUP(B482,BaseProdutos!B:V,3,0),\"\")","v":""},{"$f":"IFERROR(VLOOKUP(B482,BaseProdutos!B:V,17,0),\"\")","v":""},{"$f":"IFERROR(SUM(VLOOKUP(B482,BaseProdutos!B:V,13,0),VLOOKUP(B482,BaseProdutos!B:V,14,0)),\"\")","v":""},{"$f":"IFERROR(SUM(VLOOKUP(B482,BaseProdutos!B:V,15,0),VLOOKUP(B482,BaseProdutos!B:V,16,0))/100,\"\")","v":""},{"$f":"IFERROR(VLOOKUP(B482,BaseProdutos!B:V,4,0),\"\")","v":""},"",null,null,null,null,null,"","","","","",{"$f":"IFERROR(F482*PE!$F$20,\"\")","v":""},"",""]
[null,{"$f":"IF(BaseProdutos!B473=\"\",\"\",BaseProdutos!B473)","v":""},{"$f":"IFERROR(VLOOKUP(B483,BaseProdutos!B:V,21,0),\"\")","v":""},null,"","",{"$f":"IFERROR(VLOOKUP(B483,BaseProdutos!B:V,3,0),\"\")","v":""},{"$f":"IFERROR(VLOOKUP(B483,BaseProdutos!B:V,17,0),\"\")","v":""},{"$f":"IFERROR(SUM(VLOOKUP(B483,BaseProdutos!B:V,13,0),VLOOKUP(B483,BaseProdutos!B:V,14,0)),\"\")","v":""},{"$f":"IFERROR(SUM(VLOOKUP(B483,BaseProdutos!B:V,15,0),VLOOKUP(B483,BaseProdutos!B:V,16,0))/100,\"\")","v":""},{"$f":"IFERROR(VLOOKUP(B483,BaseProdutos!B:V,4,0),\"\")","v":""},"",null,null,null,null,null,"","","","","",{"$f":"IFERROR(F483*PE!$F$20,\"\")","v":""},"",""]
[null,{"$f":"IF(BaseProdutos!B474=\"\",\"\",BaseProdutos!B474)","v":""},{"$f":"IFERROR(VLOOKUP(B484,BaseProdutos!B:V,21,0),\"\")","v":""},null,"","",{"$f":"IFERROR(VLOOKUP(B484,BaseProdutos!B:V,3,0),\"\")","v":""},{"$f":"IFERROR(VLOOKUP(B484,BaseProdutos!B:V,17,0),\"\")","v":""},{"$f":"IFERROR(SUM(VLOOKUP(B484,BaseProdutos!B:V,13,0),VLOOKUP(B484,BaseProdutos!B:V,14,0)),\"\")","v":""},{"$f":"IFERROR(SUM(VLOOKUP(B484,BaseProdutos!B:V,15,0),VLOOKUP(B484,BaseProdutos!B:V,16,0))/100,\"\")","v":""},{"$f":"IFERROR(VLOOKUP(B484,BaseProdutos!B:V,4,0),\"\")","v":""},"",null,null,null,null,null,"","","","","",{"$f":"IFERROR(F484*PE!$F$20,\"\")","v":""},"",""]
[null,{"$f":"IF(BaseProdutos!B475=\"\",\"\",BaseProdutos!B475)","v":""},{"$f":"IFERROR(VLOOKUP(B485,BaseProdutos!B:V,21,0),\"\")","v":""},null,"","",{"$f":"IFERROR(VLOOKUP(B485,BaseProdutos!B:V,3,0),\"\")","v":""},{"$f":"IFERROR(VLOOKUP(B485,BaseProdutos!B:V,17,0),\"\")","v":""},{"$f":"IFERROR(SUM(VLOOKUP(B485,BaseProdutos!B:V,13,0),VLOOKUP(B485,BaseProdutos!B:V,14,0)),\"\")","v":""},{"$f":"IFERROR(SUM(VLOOKUP(B485,BaseProdutos!B:V,15,0),VLOOKUP(B485,BaseProdutos!B:V,16,0))/100,\"\")","v":""},{"$f":"IFERROR(VLOOKUP(B485,BaseProdutos!B:V,4,0),\"\")","v":""},"",null,null,null,null,null,"","","","","",{"$f":"IFERROR(F485*PE!$F$20,\"\")","v":""},"",""]
[null,{"$f":"IF(BaseProdutos!B476=\"\",\"\",BaseProdutos!B476)","v":""},{"$f":"IFERROR(VLOOKUP(B486,BaseProdutos!B:V,21,0),\"\")","v":""},null,"","",{"$f":"IFERROR(VLOOKUP(B486,BaseProdutos!B:V,3,0),\"\")","v":""},{"$f":"IFERROR(VLOOKUP(B486,BaseProdutos!B:V,17,0),\"\")","v":""},{"$f":"IFERROR(SUM(VLOOKUP(B486,BaseProdutos!B:V,13,0),VLOOKUP(B486,BaseProdutos!B:V,14,0)),\"\")","v":""},{"$f":"IFERROR(SUM(VLOOKUP(B486,BaseProdutos!B:V,15,0),VLOOKUP(B486,BaseProdutos!B:V,16,0))/100,\"\")","v":""},{"$f":"IFERROR(VLOOKUP(B486,BaseProdutos!B:V,4,0),\"\")","v":""},"",null,null,null,null,null,"","","","","",{"$f":"IFERROR(F486*PE!$F$20,\"\")","v":""},"",""]
[null,{"$f":"IF(BaseProdutos!B477=\"\",\"\",BaseProdutos!B477)","v":""},{"$f":"IFERROR(VLOOKUP(B487,BaseProdutos!B:V,21,0),\"\")","v":""},null,"","",{"$f":"IFERROR(VLOOKUP(B487,BaseProdutos!B:V,3,0),\"\")","v":""},{"$f":"IFERROR(VLOOKUP(B487,BaseProdutos!B:V,17,0),\"\")","v":""},{"$f":"IFERROR(SUM(VLOOKUP(B487,BaseProdutos!B:V,13,0),VLOOKUP(B487,BaseProdutos!B:V,14,0)),\"\")","v":""},{"$f":"IFERROR(SUM(VLOOKUP(B487,BaseProdutos!B:V,15,0),VLOOKUP(B487,BaseProdutos!B:V,16,0))/100,\"\")","v":""},{"$f":"IFERROR(VLOOKUP(B487,BaseProdutos!B:V,4,0),\"\")","v":""},"",null,null,null,null,null,"","","","","",{"$f":"IFERROR(F487*PE!$F$20,\"\")","v":""},"",""]
[null,{"$f":"IF(BaseProdutos!B478=\"\",\"\",BaseProdutos!B478)","v":""},{"$f":"IFERROR(VLOOKUP(B488,BaseProdutos!B:V,21,0),\"\")","v":""},null,"","",{"$f":"IFERROR(VLOOKUP(B488,BaseProdutos!B:V,3,0),\"\")","v":""},{"$f":"IFERROR(VLOOKUP(B488,BaseProdutos!B:V,17,0),\"\")","v":""},{"$f":"IFERROR(SUM(VLOOKUP(B488,BaseProdutos!B:V,13,0),VLOOKUP(B488,BaseProdutos!B:V,14,0)),\"\")","v":""},{"$f":"IFERROR(SUM(VLOOKUP(B488,BaseProdutos!B:V,15,0),VLOOKUP(B488,BaseProdutos!B:V,16,0))/100,\"\")","v":""},{"$f":"IFERROR(VLOOKUP(B488,BaseProdutos!B:V,4,0),\"\")","v":""},"",null,null,null,null,null,"","","","","",{"$f":"IFERROR(F488*PE!$F$20,\"\")","v":""},"",""]
[null,{"$f":"IF(BaseProdutos!B479=\"\",\"\",BaseProdutos!B479)","v":""},{"$f":"IFERROR(VLOOKUP(B489,BaseProdutos!B:V,21,0),\"\")","v":""},null,"","",{"$f":"IFERROR(VLOOKUP(B489,BaseProdutos!B:V,3,0),\"\")","v":""},{"$f":"IFERROR(VLOOKUP(B489,BaseProdutos!B:V,17,0),\"\")","v":""},{"$f":"IFERROR(SUM(VLOOKUP(B489,BaseProdutos!B:V,13,0),VLOOKUP(B489,BaseProdutos!B:V,14,0)),\"\")","v":""},{"$f":"IFERROR(SUM(VLOOKUP(B489,BaseProdutos!B:V,15,0),VLOOKUP(B489,BaseProdutos!B:V,16,0))/100,\"\")","v":""},{"$f":"IFERROR(VLOOKUP(B489,BaseProdutos!B:V,4,0),\"\")","v":""},"",null,null,null,null,null,"","","","","",{"$f":"IFERROR(F489*PE!$F$20,\"\")","v":""},"",""]
[null,{"$f":"IF(BaseProdutos!B480=\"\",\"\",BaseProdutos!B480)","v":""},{"$f":"IFERROR(VLOOKUP(B490,BaseProdutos!B:V,21,0),\"\")","v":""},null,"","",{"$f":"IFERROR(VLOOKUP(B490,BaseProdutos!B:V,3,0),\"\")","v":""},{"$f":"IFERROR(VLOOKUP(B490,BaseProdutos!B:V,17,0),\"\")","v":""},{"$f":"IFERROR(SUM(VLOOKUP(B490,BaseProdutos!B:V,13,0),VLOOKUP(B490,BaseProdutos!B:V,14,0)),\"\")","v":""},{"$f":"IFERROR(SUM(VLOOKUP(B490,BaseProdutos!B:V,15,0),VLOOKUP(B490,BaseProdutos!B:V,16,0))/100,\"\")","v":""},{"$f":"IFERROR(VLOOKUP(B490,BaseProdutos!B:V,4,0),\"\")","v":""},"",null,null,null,null,null,"","","","","",{"$f":"IFERROR(F490*PE!$F$20,\"\")","v":""},"",""]
[null,{"$f":"IF(BaseProdutos!B481=\"\",\"\",BaseProdutos!B481)","v":""},{"$f":"IFERROR(VLOOKUP(B491,BaseProdutos!B:V,21,0),\"\")","v":""},null,"","",{"$f":"IFERROR(VLOOKUP(B491,BaseProdutos!B:V,3,0),\"\")","v":""},{"$f":"IFERROR(VLOOKUP(B491,BaseProdutos!B:V,17,0),\"\")","v":""},{"$f":"IFERROR(SUM(VLOOKUP(B491,BaseProdutos!B:V,13,0),VLOOKUP(B491,BaseProdutos!B:V,14,0)),\"\")","v":""},{"$f":"IFERROR(SUM(VLOOKUP(B491,BaseProdutos!B:V,15,0),VLOOKUP(B491,BaseProdutos!B:V,16,0))/100,\"\")","v":""},{"$f":"IFERROR(VLOOKUP(B491,BaseProdutos!B:V,4,0),\"\")","v":""},"",null,null,null,null,null,"","","","","",{"$f":"IFERROR(F491*PE!$F$20,\"\")","v":""},"",""]
[null,{"$f":"IF(BaseProdutos!B482=\"\",\"\",BaseProdutos!B482)","v":""},{"$f":"IFERROR(VLOOKUP(B492,BaseProdutos!B:V,21,0),\"\")","v":""},null,"","",{"$f":"IFERROR(VLOOKUP(B492,BaseProdutos!B:V,3,0),\"\")","v":""},{"$f":"IFERROR(VLOOKUP(B492,BaseProdutos!B:V,17,0),\"\")","v":""},{"$f":"IFERROR(SUM(VLOOKUP(B492,BaseProdutos!B:V,13,0),VLOOKUP(B492,BaseProdutos!B:V,14,0)),\"\")","v":""},{"$f":"IFERROR(SUM(VLOOKUP(B492,BaseProdutos!B:V,15,0),VLOOKUP(B492,BaseProdutos!B:V,16,0))/100,\"\")","v":""},{"$f":"IFERROR(VLOOKUP(B492,BaseProdutos!B:V,4,0),\"\")","v":""},"",null,null,null,null,null,"","","","","",{"$f":"IFERROR(F492*PE!$F$20,\"\")","v":""},"",""]
[null,{"$f":"IF(BaseProdutos!B483=\"\",\"\",BaseProdutos!B483)","v":""},{"$f":"IFERROR(VLOOKUP(B493,BaseProdutos!B:V,21,0),\"\")","v":""},null,"","",{"$f":"IFERROR(VLOOKUP(B493,BaseProdutos!B:V,3,0),\"\")","v":""},{"$f":"IFERROR(VLOOKUP(B493,BaseProdutos!B:V,17,0),\"\")","v":""},{"$f":"IFERROR(SUM(VLOOKUP(B493,BaseProdutos!B:V,13,0),VLOOKUP(B493,BaseProdutos!B:V,14,0)),\"\")","v":""},{"$f":"IFERROR(SUM(VLOOKUP(B493,BaseProdutos!B:V,15,0),VLOOKUP(B493,BaseProdutos!B:V,16,0))/100,\"\")","v":""},{"$f":"IFERROR(VLOOKUP(B493,BaseProdutos!B:V,4,0),\"\")","v":""},"",null,null,null,null,null,"","","","","",{"$f":"IFERROR(F493*PE!$F$20,\"\")","v":""},"",""]
[null,{"$f":"IF(BaseProdutos!B484=\"\",\"\",BaseProdutos!B484)","v":""},{"$f":"IFERROR(VLOOKUP(B494,BaseProdutos!B:V,21,0),\"\")","v":""},null,"","",{"$f":"IFERROR(VLOOKUP(B494,BaseProdutos!B:V,3,0),\"\")","v":""},{"$f":"IFERROR(VLOOKUP(B494,BaseProdutos!B:V,17,0),\"\")","v":""},{"$f":"IFERROR(SUM(VLOOKUP(B494,BaseProdutos!B:V,13,0),VLOOKUP(B494,BaseProdutos!B:V,14,0)),\"\")","v":""},{"$f":"IFERROR(SUM(VLOOKUP(B494,BaseProdutos!B:V,15,0),VLOOKUP(B494,BaseProdutos!B:V,16,0))/100,\"\")","v":""},{"$f":"IFERROR(VLOOKUP(B494,BaseProdutos!B:V,4,0),\"\")","v":""},"",null,null,null,null,null,"","","","","",{"$f":"IFERROR(F494*PE!$F$20,\"\")","v":""},"",""]
[null,{"$f":"IF(BaseProdutos!B485=\"\",\"\",BaseProdutos!B485)","v":""},{"$f":"IFERROR(VLOOKUP(B495,BaseProdutos!B:V,21,0),\"\")","v":""},null,"","",{"$f":"IFERROR(VLOOKUP(B495,BaseProdutos!B:V,3,0),\"\")","v":""},{"$f":"IFERROR(VLOOKUP(B495,BaseProdutos!B:V,17,0),\"\")","v":""},{"$f":"IFERROR(SUM(VLOOKUP(B495,BaseProdutos!B:V,13,0),VLOOKUP(B495,BaseProdutos!B:V,14,0)),\"\")","v":""},{"$f":"IFERROR(SUM(VLOOKUP(B495,BaseProdutos!B:V,15,0),VLOOKUP(B495,BaseProdutos!B:V,16,0))/100,\"\")","v":""},{"$f":"IFERROR(VLOOKUP(B495,BaseProdutos!B:V,4,0),\"\")","v":""},"",null,null,null,null,null,"","","","","",{"$f":"IFERROR(F495*PE!$F$20,\"\")","v":""},"",""]
[null,{"$f":"IF(BaseProdutos!B486=\"\",\"\",BaseProdutos!B486)","v":""},{"$f":"IFERROR(VLOOKUP(B496,BaseProdutos!B:V,21,0),\"\")","v":""},null,"","",{"$f":"IFERROR(VLOOKUP(B496,BaseProdutos!B:V,3,0),\"\")","v":""},{"$f":"IFERROR(VLOOKUP(B496,BaseProdutos!B:V,17,0),\"\")","v":""},{"$f":"IFERROR(SUM(VLOOKUP(B496,BaseProdutos!B:V,13,0),VLOOKUP(B496,BaseProdutos!B:V,14,0)),\"\")","v":""},{"$f":"IFERROR(SUM(VLOOKUP(B496,BaseProdutos!B:V,15,0),VLOOKUP(B496,BaseProdutos!B:V,16,0))/100,\"\")","v":""},{"$f":"IFERROR(VLOOKUP(B496,BaseProdutos!B:V,4,0),\"\")","v":""},"",null,null,null,null,null,"","","","","",{"$f":"IFERROR(F496*PE!$F$20,\"\")","v":""},"",""]
[null,{"$f":"IF(BaseProdutos!B487=\"\",\"\",BaseProdutos!B487)","v":""},{"$f":"IFERROR(VLOOKUP(B497,BaseProdutos!B:V,21,0),\"\")","v":""},null,"","",{"$f":"IFERROR(VLOOKUP(B497,BaseProdutos!B:V,3,0),\"\")","v":""},{"$f":"IFERROR(VLOOKUP(B497,BaseProdutos!B:V,17,0),\"\")","v":""},{"$f":"IFERROR(SUM(VLOOKUP(B497,BaseProdutos!B:V,13,0),VLOOKUP(B497,BaseProdutos!B:V,14,0)),\"\")","v":""},{"$f":"IFERROR(SUM(VLOOKUP(B497,BaseProdutos!B:V,15,0),VLOOKUP(B497,BaseProdutos!B:V,16,0))/100,\"\")","v":""},{"$f":"IFERROR(VLOOKUP(B497,BaseProdutos!B:V,4,0),\"\")","v":""},"",null,null,null,null,null,"","","","","",{"$f":"IFERROR(F497*PE!$F$20,\"\")","v":""},"",""]
[null,{"$f":"IF(BaseProdutos!B488=\"\",\"\",BaseProdutos!B488)","v":""},{"$f":"IFERROR(VLOOKUP(B498,BaseProdutos!B:V,21,0),\"\")","v":""},null,"","",{"$f":"IFERROR(VLOOKUP(B498,BaseProdutos!B:V,3,0),\"\")","v":""},{"$f":"IFERROR(VLOOKUP(B498,BaseProdutos!B:V,17,0),\"\")","v":""},{"$f":"IFERROR(SUM(VLOOKUP(B498,BaseProdutos!B:V,13,0),VLOOKUP(B498,BaseProdutos!B:V,14,0)),\"\")","v":""},{"$f":"IFERROR(SUM(VLOOKUP(B498,BaseProdutos!B:V,15,0),VLOOKUP(B498,BaseProdutos!B:V,16,0))/100,\"\")","v":""},{"$f":"IFERROR(VLOOKUP(B498,BaseProdutos!B:V,4,0),\"\")","v":""},"",null,null,null,null,null,"","","","","",{"$f":"IFERROR(F498*PE!$F$20,\"\")","v":""},"",""]
[null,{"$f":"IF(BaseProdutos!B489=\"\",\"\",BaseProdutos!B489)","v":""},{"$f":"IFERROR(VLOOKUP(B499,BaseProdutos!B:V,21,0),\"\")","v":""},null,"","",{"$f":"IFERROR(VLOOKUP(B499,BaseProdutos!B:V,3,0),\"\")","v":""},{"$f":"IFERROR(VLOOKUP(B499,BaseProdutos!B:V,17,0),\"\")","v":""},{"$f":"IFERROR(SUM(VLOOKUP(B499,BaseProdutos!B:V,13,0),VLOOKUP(B499,BaseProdutos!B:V,14,0)),\"\")","v":""},{"$f":"IFERROR(SUM(VLOOKUP(B499,BaseProdutos!B:V,15,0),VLOOKUP(B499,BaseProdutos!B:V,16,0))/100,\"\")","v":""},{"$f":"IFERROR(VLOOKUP(B499,BaseProdutos!B:V,4,0),\"\")","v":""},"",null,null,null,null,null,"","","","","",{"$f":"IFERROR(F499*PE!$F$20,\"\")","v":""},"",""]
[null,{"$f":"IF(BaseProdutos!B490=\"\",\"\",BaseProdutos!B490)","v":""},{"$f":"IFERROR(VLOOKUP(B500,BaseProdutos!B:V,21,0),\"\")","v":""},null,"","",{"$f":"IFERROR(VLOOKUP(B500,BaseProdutos!B:V,3,0),\"\")","v":""},{"$f":"IFERROR(VLOOKUP(B500,BaseProdutos!B:V,17,0),\"\")","v":""},{"$f":"IFERROR(SUM(VLOOKUP(B500,BaseProdutos!B:V,13,0),VLOOKUP(B500,BaseProdutos!B:V,14,0)),\"\")","v":""},{"$f":"IFERROR(SUM(VLOOKUP(B500,BaseProdutos!B:V,15,0),VLOOKUP(B500,BaseProdutos!B:V,16,0))/100,\"\")","v":""},{"$f":"IFERROR(VLOOKUP(B500,BaseProdutos!B:V,4,0),\"\")","v":""},"",null,null,null,null,null,"","","","","",{"$f":"IFERROR(F500*PE!$F$20,\"\")","v":""},"",""]
[null,{"$f":"IF(BaseProdutos!B491=\"\",\"\",BaseProdutos!B491)","v":""},{"$f":"IFERROR(VLOOKUP(B501,BaseProdutos!B:V,21,0),\"\")","v":""},null,"","",{"$f":"IFERROR(VLOOKUP(B501,BaseProdutos!B:V,3,0),\"\")","v":""},{"$f":"IFERROR(VLOOKUP(B501,BaseProdutos!B:V,17,0),\"\")","v":""},{"$f":"IFERROR(SUM(VLOOKUP(B501,BaseProdutos!B:V,13,0),VLOOKUP(B501,BaseProdutos!B:V,14,0)),\"\")","v":""},{"$f":"IFERROR(SUM(VLOOKUP(B501,BaseProdutos!B:V,15,0),VLOOKUP(B501,BaseProdutos!B:V,16,0))/100,\"\")","v":""},{"$f":"IFERROR(VLOOKUP(B501,BaseProdutos!B:V,4,0),\"\")","v":""},"",null,null,null,null,null,"","","","","",{"$f":"IFERROR(F501*PE!$F$20,\"\")","v":""},"",""]
[null,{"$f":"IF(BaseProdutos!B492=\"\",\"\",BaseProdutos!B492)","v":""},{"$f":"IFERROR(VLOOKUP(B502,BaseProdutos!B:V,21,0),\"\")","v":""},null,"","",{"$f":"IFERROR(VLOOKUP(B502,BaseProdutos!B:V,3,0),\"\")","v":""},{"$f":"IFERROR(VLOOKUP(B502,BaseProdutos!B:V,17,0),\"\")","v":""},{"$f":"IFERROR(SUM(VLOOKUP(B502,BaseProdutos!B:V,13,0),VLOOKUP(B502,BaseProdutos!B:V,14,0)),\"\")","v":""},{"$f":"IFERROR(SUM(VLOOKUP(B502,BaseProdutos!B:V,15,0),VLOOKUP(B502,BaseProdutos!B:V,16,0))/100,\"\")","v":""},{"$f":"IFERROR(VLOOKUP(B502,BaseProdutos!B:V,4,0),\"\")","v":""},"",null,null,null,null,null,"","","","","",{"$f":"IFERROR(F502*PE!$F$20,\"\")","v":""},"",""]
[null,{"$f":"IF(BaseProdutos!B493=\"\",\"\",BaseProdutos!B493)","v":""},{"$f":"IFERROR(VLOOKUP(B503,BaseProdutos!B:V,21,0),\"\")","v":""},null,"","",{"$f":"IFERROR(VLOOKUP(B503,BaseProdutos!B:V,3,0),\"\")","v":""},{"$f":"IFERROR(VLOOKUP(B503,BaseProdutos!B:V,17,0),\"\")","v":""},{"$f":"IFERROR(SUM(VLOOKUP(B503,BaseProdutos!B:V,13,0),VLOOKUP(B503,BaseProdutos!B:V,14,0)),\"\")","v":""},{"$f":"IFERROR(SUM(VLOOKUP(B503,BaseProdutos!B:V,15,0),VLOOKUP(B503,BaseProdutos!B:V,16,0))/100,\"\")","v":""},{"$f":"IFERROR(VLOOKUP(B503,BaseProdutos!B:V,4,0),\"\")","v":""},"",null,null,null,null,null,"","","","","",{"$f":"IFERROR(F503*PE!$F$20,\"\")","v":""},"",""]
[null,{"$f":"IF(BaseProdutos!B494=\"\",\"\",BaseProdutos!B494)","v":""},{"$f":"IFERROR(VLOOKUP(B504,BaseProdutos!B:V,21,0),\"\")","v":""},null,"","",{"$f":"IFERROR(VLOOKUP(B504,BaseProdutos!B:V,3,0),\"\")","v":""},{"$f":"IFERROR(VLOOKUP(B504,BaseProdutos!B:V,17,0),\"\")","v":""},{"$f":"IFERROR(SUM(VLOOKUP(B504,BaseProdutos!B:V,13,0),VLOOKUP(B504,BaseProdutos!B:V,14,0)),\"\")","v":""},{"$f":"IFERROR(SUM(VLOOKUP(B504,BaseProdutos!B:V,15,0),VLOOKUP(B504,BaseProdutos!B:V,16,0))/100,\"\")","v":""},{"$f":"IFERROR(VLOOKUP(B504,BaseProdutos!B:V,4,0),\"\")","v":""},"",null,null,null,null,null,"","","","","",{"$f":"IFERROR(F504*PE!$F$20,\"\")","v":""},"",""]
[null,{"$f":"IF(BaseProdutos!B495=\"\",\"\",BaseProdutos!B495)","v":""},{"$f":"IFERROR(VLOOKUP(B505,BaseProdutos!B:V,21,0),\"\")","v":""},null,"","",{"$f":"IFERROR(VLOOKUP(B505,BaseProdutos!B:V,3,0),\"\")","v":""},{"$f":"IFERROR(VLOOKUP(B505,BaseProdutos!B:V,17,0),\"\")","v":""},{"$f":"IFERROR(SUM(VLOOKUP(B505,BaseProdutos!B:V,13,0),VLOOKUP(B505,BaseProdutos!B:V,14,0)),\"\")","v":""},{"$f":"IFERROR(SUM(VLOOKUP(B505,BaseProdutos!B:V,15,0),VLOOKUP(B505,BaseProdutos!B:V,16,0))/100,\"\")","v":""},{"$f":"IFERROR(VLOOKUP(B505,BaseProdutos!B:V,4,0),\"\")","v":""},"",null,null,null,null,null,"","","","","",{"$f":"IFERROR(F505*PE!$F$20,\"\")","v":""},"",""]
[null,{"$f":"IF(BaseProdutos!B496=\"\",\"\",BaseProdutos!B496)","v":""},{"$f":"IFERROR(VLOOKUP(B506,BaseProdutos!B:V,21,0),\"\")","v":""},null,"","",{"$f":"IFERROR(VLOOKUP(B506,BaseProdutos!B:V,3,0),\"\")","v":""},{"$f":"IFERROR(VLOOKUP(B506,BaseProdutos!B:V,17,0),\"\")","v":""},{"$f":"IFERROR(SUM(VLOOKUP(B506,BaseProdutos!B:V,13,0),VLOOKUP(B506,BaseProdutos!B:V,14,0)),\"\")","v":""},{"$f":"IFERROR(SUM(VLOOKUP(B506,BaseProdutos!B:V,15,0),VLOOKUP(B506,BaseProdutos!B:V,16,0))/100,\"\")","v":""},{"$f":"IFERROR(VLOOKUP(B506,BaseProdutos!B:V,4,0),\"\")","v":""},"",null,null,null,null,null,"","","","","",{"$f":"IFERROR(F506*PE!$F$20,\"\")","v":""},"",""]
[null,{"$f":"IF(BaseProdutos!B497=\"\",\"\",BaseProdutos!B497)","v":""},{"$f":"IFERROR(VLOOKUP(B507,BaseProdutos!B:V,21,0),\"\")","v":""},null,"","",{"$f":"IFERROR(VLOOKUP(B507,BaseProdutos!B:V,3,0),\"\")","v":""},{"$f":"IFERROR(VLOOKUP(B507,BaseProdutos!B:V,17,0),\"\")","v":""},{"$f":"IFERROR(SUM(VLOOKUP(B507,BaseProdutos!B:V,13,0),VLOOKUP(B507,BaseProdutos!B:V,14,0)),\"\")","v":""},{"$f":"IFERROR(SUM(VLOOKUP(B507,BaseProdutos!B:V,15,0),VLOOKUP(B507,BaseProdutos!B:V,16,0))/100,\"\")","v":""},{"$f":"IFERROR(VLOOKUP(B507,BaseProdutos!B:V,4,0),\"\")","v":""},"",null,null,null,null,null,"","","","","",{"$f":"IFERROR(F507*PE!$F$20,\"\")","v":""},"",""]
[null,{"$f":"IF(BaseProdutos!B498=\"\",\"\",BaseProdutos!B498)","v":""},{"$f":"IFERROR(VLOOKUP(B508,BaseProdutos!B:V,21,0),\"\")","v":""},null,"","",{"$f":"IFERROR(VLOOKUP(B508,BaseProdutos!B:V,3,0),\"\")","v":""},{"$f":"IFERROR(VLOOKUP(B508,BaseProdutos!B:V,17,0),\"\")","v":""},{"$f":"IFERROR(SUM(VLOOKUP(B508,BaseProdutos!B:V,13,0),VLOOKUP(B508,BaseProdutos!B:V,14,0)),\"\")","v":""},{"$f":"IFERROR(SUM(VLOOKUP(B508,BaseProdutos!B:V,15,0),VLOOKUP(B508,BaseProdutos!B:V,16,0))/100,\"\")","v":""},{"$f":"IFERROR(VLOOKUP(B508,BaseProdutos!B:V,4,0),\"\")","v":""},"",null,null,null,null,null,"","","","","",{"$f":"IFERROR(F508*PE!$F$20,\"\")","v":""},"",""]
[null,{"$f":"IF(BaseProdutos!B499=\"\",\"\",BaseProdutos!B499)","v":""},{"$f":"IFERROR(VLOOKUP(B509,BaseProdutos!B:V,21,0),\"\")","v":""},null,"","",{"$f":"IFERROR(VLOOKUP(B509,BaseProdutos!B:V,3,0),\"\")","v":""},{"$f":"IFERROR(VLOOKUP(B509,BaseProdutos!B:V,17,0),\"\")","v":""},{"$f":"IFERROR(SUM(VLOOKUP(B509,BaseProdutos!B:V,13,0),VLOOKUP(B509,BaseProdutos!B:V,14,0)),\"\")","v":""},{"$f":"IFERROR(SUM(VLOOKUP(B509,BaseProdutos!B:V,15,0),VLOOKUP(B509,BaseProdutos!B:V,16,0))/100,\"\")","v":""},{"$f":"IFERROR(VLOOKUP(B509,BaseProdutos!B:V,4,0),\"\")","v":""},"",null,null,null,null,null,"","","","","",{"$f":"IFERROR(F509*PE!$F$20,\"\")","v":""},"",""]
[null,{"$f":"IF(BaseProdutos!B500=\"\",\"\",BaseProdutos!B500)","v":""},{"$f":"IFERROR(VLOOKUP(B510,BaseProdutos!B:V,21,0),\"\")","v":""},null,"","",{"$f":"IFERROR(VLOOKUP(B510,BaseProdutos!B:V,3,0),\"\")","v":""},{"$f":"IFERROR(VLOOKUP(B510,BaseProdutos!B:V,17,0),\"\")","v":""},{"$f":"IFERROR(SUM(VLOOKUP(B510,BaseProdutos!B:V,13,0),VLOOKUP(B510,BaseProdutos!B:V,14,0)),\"\")","v":""},{"$f":"IFERROR(SUM(VLOOKUP(B510,BaseProdutos!B:V,15,0),VLOOKUP(B510,BaseProdutos!B:V,16,0))/100,\"\")","v":""},{"$f":"IFERROR(VLOOKUP(B510,BaseProdutos!B:V,4,0),\"\")","v":""},"",null,null,null,null,null,"","","","","",{"$f":"IFERROR(F510*PE!$F$20,\"\")","v":""},"",""]
[null,{"$f":"IF(BaseProdutos!B501=\"\",\"\",BaseProdutos!B501)","v":""},{"$f":"IFERROR(VLOOKUP(B511,BaseProdutos!B:V,21,0),\"\")","v":""},null,"","",{"$f":"IFERROR(VLOOKUP(B511,BaseProdutos!B:V,3,0),\"\")","v":""},{"$f":"IFERROR(VLOOKUP(B511,BaseProdutos!B:V,17,0),\"\")","v":""},{"$f":"IFERROR(SUM(VLOOKUP(B511,BaseProdutos!B:V,13,0),VLOOKUP(B511,BaseProdutos!B:V,14,0)),\"\")","v":""},{"$f":"IFERROR(SUM(VLOOKUP(B511,BaseProdutos!B:V,15,0),VLOOKUP(B511,BaseProdutos!B:V,16,0))/100,\"\")","v":""},{"$f":"IFERROR(VLOOKUP(B511,BaseProdutos!B:V,4,0),\"\")","v":""},"",null,null,null,null,null,"","","","","",{"$f":"IFERROR(F511*PE!$F$20,\"\")","v":""},"",""]

{"sheet":"PE","index":5,"n_rows":21,"n_cols":9,"rows_kept":21,"cut":false,"hidden":false,"merged":[[11,8,12,8],[13,7,14,7],[13,8,14,8],[14,1,16,1],[14,2,16,2],[11,1,13,1],[11,2,13,2],[11,4,14,4],[11,5,14,5],[11,7,12,7],[19,7,20,7],[19,8,20,8],[20,1,22,1],[20,2,22,2],[15,4,18,4],[15,5,18,5],[15,7,16,7],[15,8,16,8],[17,1,19,1],[17,2,19,2],[17,7,18,7],[17,8,18,8],[19,4,22,4],[19,5,22,5]]}
[]
[]
[]
[]
[]
[]
[]
[]
[]
[]
[null,"Descrição","Valor (R$)",null,"Descrição","Valor (R$)",null,"Selecione o seu serviço:","Serviço 2"]
[null,"Preço médio dos seus serviços",{"$f":"IFERROR(AVERAGEIF(Cad!C12:C511,\">0\"),\"\")","v":1171.4285714285716},null,"Qual o valor total dos seus custos fixos?",{"$f":"SUM(Cad!O12:O51)","v":16030},null,{"$f":"\"Receita do(a) \"&I11&\" no Ponto de Equilíbrio\"","v":"Receita do(a) Serviço 2 no Ponto de Equilíbrio"},{"$f":"IFERROR(VLOOKUP(I11,Cad!$B$12:$Y$511,21,0),\"\")","v":37079.622344610543}]
[]
[null,null,null,null,null,null,null,"Unidades",{"$f":"IFERROR(VLOOKUP(I11,Cad!$B$12:$Y$511,22,0),\"\")","v":30.899685287175451}]
[null,"Margem de contribuição média dos seus serviços",{"$f":"IFERROR(AVERAGEIF(Cad!T12:T511,\">0\"),\"\")","v":351.42857142857144}]
[null,null,null,null,"Qual deve ser o faturamento para não ter prejuízo?",{"$f":"IFERROR(F12/(C15/C12),\"\")","v":53433.333333333336},null,"Total de despesas diretas",{"$f":"IFERROR(VLOOKUP(I11,Cad!$B$12:$Y$511,11,0)*I14,\"\")","v":25955.73564122738}]
[]
[null,"Custos diretos totais",{"$f":"SUM(Cad!L12:L511)","v":1640},null,null,null,null,"MC unitária",{"$f":"IFERROR(VLOOKUP(I11,Cad!$B$12:$Y$511,19,0),\"\")","v":360}]
[]
[null,null,null,null,"Quantos serviços você precisa vender para não ter prejuízo?",{"$f":"IFERROR(F16/C12,\"\")","v":45.613821138211378},null,"MC ponderada",{"$f":"IFERROR(VLOOKUP(I11,Cad!$B$12:$Y$511,5,0)*I18,\"\")","v":243.87096774193552}]
[null,"Custos diretos médio por serviço",{"$f":"IFERROR(AVERAGEIF(Cad!L12:L511,\">0\"),\"\")","v":820}]

{"sheet":"AC","index":6,"n_rows":60,"n_cols":9,"rows_kept":60,"cut":false,"hidden":false,"merged":[]}
[]
[]
[]
[]
[]
[]
[]
[]
[]
[null,"Empresa","Diferencial","Serviço","Preço Concorrente","Seu Preço","Diferença","Orientação"]
[null,"Empresa XYZ","Preço","Serviço 1",1500,{"$f":"IFERROR(IF(D11=\"\",\"\",VLOOKUP(D11,Cad!$B$12:$C$511,2,0)),\"\")","v":1142.8571428571429},{"$f":"IF(F11=\"\",\"\",F11-E11)","v":-357.14285714285711},{"$f":"IFERROR(IF(G11<0,\"Seu preço está  \"&-I11*100&\" % mais barato. Vale aumentar?\",IF(G11>0,\"Seu preço está \"&I11*100&\"% mais caro. Diminuir preço?\",\"Seu preço está igual ao de mercado. Manter o preço?\")),\"\")","v":"Seu preço está  24 % mais barato. Vale aumentar?"},{"$f":"IFERROR(ROUND(F11/E11-1,2),\"\")","v":-0.24}]
[null,"Empresa XYZ","Qualidade","Serviço 2",1200,{"$f":"IFERROR(IF(D12=\"\",\"\",VLOOKUP(D12,Cad!$B$12:$C$511,2,0)),\"\")","v":1200},{"$f":"IF(F12=\"\",\"\",F12-E12)","v":0},{"$f":"IFERROR(IF(G12<0,\"Seu preço está  \"&-I12*100&\" % mais barato. Vale aumentar?\",IF(G12>0,\"Seu preço está \"&I12*100&\"% mais caro. Diminuir preço?\",\"Seu preço está igual ao de mercado. Manter o preço?\")),\"\")","v":"Seu preço está igual ao de mercado. Manter o preço?"},{"$f":"IFERROR(ROUND(F12/E12-1,2),\"\")","v":0}]
[null,"Empresa JW","Localização Geográfica","Serviço 1",1000,{"$f":"IFERROR(IF(D13=\"\",\"\",VLOOKUP(D13,Cad!$B$12:$C$511,2,0)),\"\")","v":1142.8571428571429},142.85714285714289,"Seu preço está 14% mais caro. Diminuir preço?",0.14000000000000001]
[null,"Empresa JW","Preço","Serviço 2",1100,{"$f":"IFERROR(IF(D14=\"\",\"\",VLOOKUP(D14,Cad!$B$12:$C$511,2,0)),\"\")","v":1200},100,"Seu preço está 9% mais caro. Diminuir preço?",0.09]
[null,"Empresa YB","Localização Geográfica","Serviço 1",1650,{"$f":"IFERROR(IF(D15=\"\",\"\",VLOOKUP(D15,Cad!$B$12:$C$511,2,0)),\"\")","v":1142.8571428571429},-507.14285714285711,"Seu preço está  31 % mais barato. Vale aumentar?",-0.31]
[null,null,null,null,null,{"$f":"IFERROR(IF(D16=\"\",\"\",VLOOKUP(D16,Cad!$B$12:$C$511,2,0)),\"\")","v":""},"","",""]
[null,null,null,null,null,{"$f":"IFERROR(IF(D17=\"\",\"\",VLOOKUP(D17,Cad!$B$12:$C$511,2,0)),\"\")","v":""},"","",{"$f":"IFERROR(ROUND(F17/E17-1,2),\"\")","v":""}]
[null,null,null,null,null,{"$f":"IFERROR(IF(D18=\"\",\"\",VLOOKUP(D18,Cad!$B$12:$C$511,2,0)),\"\")","v":""},"","",{"$f":"IFERROR(ROUND(F18/E18-1,2),\"\")","v":""}]
[null,null,null,null,null,{"$f":"IFERROR(IF(D19=\"\",\"\",VLOOKUP(D19,Cad!$B$12:$C$511,2,0)),\"\")","v":""},"","",""]
[null,null,null,null,null,{"$f":"IFERROR(IF(D20=\"\",\"\",VLOOKUP(D20,Cad!$B$12:$C$511,2,0)),\"\")","v":""},"","",""]
[null,null,null,null,null,{"$f":"IFERROR(IF(D21=\"\",\"\",VLOOKUP(D21,Cad!$B$12:$C$511,2,0)),\"\")","v":""},"","",""]
[null,null,null,null,null,{"$f":"IFERROR(IF(D22=\"\",\"\",VLOOKUP(D22,Cad!$B$12:$C$511,2,0)),\"\")","v":""},"","",""]
[null,null,null,null,null,{"$f":"IFERROR(IF(D23=\"\",\"\",VLOOKUP(D23,Cad!$B$12:$C$511,2,0)),\"\")","v":""},"","",""]
[null,null,null,null,null,{"$f":"IFERROR(IF(D24=\"\",\"\",VLOOKUP(D24,Cad!$B$12:$C$511,2,0)),\"\")","v":""},"","",""]
[null,null,null,null,null,{"$f":"IFERROR(IF(D25=\"\",\"\",VLOOKUP(D25,Cad!$B$12:$C$511,2,0)),\"\")","v":""},"","",""]
[null,null,null,null,null,{"$f":"IFERROR(IF(D26=\"\",\"\",VLOOKUP(D26,Cad!$B$12:$C$511,2,0)),\"\")","v":""},"","",""]
[null,null,null,null,null,{"$f":"IFERROR(IF(D27=\"\",\"\",VLOOKUP(D27,Cad!$B$12:$C$511,2,0)),\"\")","v":""},"","",""]
[null,null,null,null,null,{"$f":"IFERROR(IF(D28=\"\",\"\",VLOOKUP(D28,Cad!$B$12:$C$511,2,0)),\"\")","v":""},"","",""]
[null,null,null,null,null,{"$f":"IFERROR(IF(D29=\"\",\"\",VLOOKUP(D29,Cad!$B$12:$C$511,2,0)),\"\")","v":""},"","",""]
[null,null,null,null,null,{"$f":"IFERROR(IF(D30=\"\",\"\",VLOOKUP(D30,Cad!$B$12:$C$511,2,0)),\"\")","v":""},"","",""]
[null,null,null,null,null,{"$f":"IFERROR(IF(D31=\"\",\"\",VLOOKUP(D31,Cad!$B$12:$C$511,2,0)),\"\")","v":""},"","",""]
[null,null,null,null,null,{"$f":"IFERROR(IF(D32=\"\",\"\",VLOOKUP(D32,Cad!$B$12:$C$511,2,0)),\"\")","v":""},"","",""]
[null,null,null,null,null,{"$f":"IFERROR(IF(D33=\"\",\"\",VLOOKUP(D33,Cad!$B$12:$C$511,2,0)),\"\")","v":""},"","",""]
[null,null,null,null,null,{"$f":"IFERROR(IF(D34=\"\",\"\",VLOOKUP(D34,Cad!$B$12:$C$511,2,0)),\"\")","v":""},"","",""]
[null,null,null,null,null,{"$f":"IFERROR(IF(D35=\"\",\"\",VLOOKUP(D35,Cad!$B$12:$C$511,2,0)),\"\")","v":""},"","",""]
[null,null,null,null,null,{"$f":"IFERROR(IF(D36=\"\",\"\",VLOOKUP(D36,Cad!$B$12:$C$511,2,0)),\"\")","v":""},"","",""]
[null,null,null,null,null,{"$f":"IFERROR(IF(D37=\"\",\"\",VLOOKUP(D37,Cad!$B$12:$C$511,2,0)),\"\")","v":""},"","",""]
[null,null,null,null,null,{"$f":"IFERROR(IF(D38=\"\",\"\",VLOOKUP(D38,Cad!$B$12:$C$511,2,0)),\"\")","v":""},"","",""]
[null,null,null,null,null,{"$f":"IFERROR(IF(D39=\"\",\"\",VLOOKUP(D39,Cad!$B$12:$C$511,2,0)),\"\")","v":""},"","",""]
[null,null,null,null,null,{"$f":"IFERROR(IF(D40=\"\",\"\",VLOOKUP(D40,Cad!$B$12:$C$511,2,0)),\"\")","v":""},"","",""]
[null,null,null,null,null,{"$f":"IFERROR(IF(D41=\"\",\"\",VLOOKUP(D41,Cad!$B$12:$C$511,2,0)),\"\")","v":""},"","",""]
[null,null,null,null,null,{"$f":"IFERROR(IF(D42=\"\",\"\",VLOOKUP(D42,Cad!$B$12:$C$511,2,0)),\"\")","v":""},"","",""]
[null,null,null,null,null,{"$f":"IFERROR(IF(D43=\"\",\"\",VLOOKUP(D43,Cad!$B$12:$C$511,2,0)),\"\")","v":""},"","",""]
[null,null,null,null,null,{"$f":"IFERROR(IF(D44=\"\",\"\",VLOOKUP(D44,Cad!$B$12:$C$511,2,0)),\"\")","v":""},"","",""]
[null,null,null,null,null,{"$f":"IFERROR(IF(D45=\"\",\"\",VLOOKUP(D45,Cad!$B$12:$C$511,2,0)),\"\")","v":""},"","",""]
[null,null,null,null,null,{"$f":"IFERROR(IF(D46=\"\",\"\",VLOOKUP(D46,Cad!$B$12:$C$511,2,0)),\"\")","v":""},"","",""]
[null,null,null,null,null,{"$f":"IFERROR(IF(D47=\"\",\"\",VLOOKUP(D47,Cad!$B$12:$C$511,2,0)),\"\")","v":""},"","",""]
[null,null,null,null,null,{"$f":"IFERROR(IF(D48=\"\",\"\",VLOOKUP(D48,Cad!$B$12:$C$511,2,0)),\"\")","v":""},"","",""]
[null,null,null,null,null,{"$f":"IFERROR(IF(D49=\"\",\"\",VLOOKUP(D49,Cad!$B$12:$C$511,2,0)),\"\")","v":""},"","",""]
[null,null,null,null,null,{"$f":"IFERROR(IF(D50=\"\",\"\",VLOOKUP(D50,Cad!$B$12:$C$511,2,0)),\"\")","v":""},"","",""]
[null,null,null,null,null,{"$f":"IFERROR(IF(D51=\"\",\"\",VLOOKUP(D51,Cad!$B$12:$C$511,2,0)),\"\")","v":""},"","",""]
[null,null,null,null,null,{"$f":"IFERROR(IF(D52=\"\",\"\",VLOOKUP(D52,Cad!$B$12:$C$511,2,0)),\"\")","v":""},"","Seu preço está 0% mais caro. Diminuir preço?"]
[null,null,null,null,null,{"$f":"IFERROR(IF(D53=\"\",\"\",VLOOKUP(D53,Cad!$B$12:$C$511,2,0)),\"\")","v":""},"","Seu preço está 0% mais caro. Diminuir preço?"]
[null,null,null,null,null,{"$f":"IFERROR(IF(D54=\"\",\"\",VLOOKUP(D54,Cad!$B$12:$C$511,2,0)),\"\")","v":""},"","Seu preço está 0% mais caro. Diminuir preço?"]
[null,null,null,null,null,{"$f":"IFERROR(IF(D55=\"\",\"\",VLOOKUP(D55,Cad!$B$12:$C$511,2,0)),\"\")","v":""},"","Seu preço está 0% mais caro. Diminuir preço?"]
[null,null,null,null,null,{"$f":"IFERROR(IF(D56=\"\",\"\",VLOOKUP(D56,Cad!$B$12:$C$511,2,0)),\"\")","v":""},"","Seu preço está 0% mais caro. Diminuir preço?"]
[null,null,null,null,null,{"$f":"IFERROR(IF(D57=\"\",\"\",VLOOKUP(D57,Cad!$B$12:$C$511,2,0)),\"\")","v":""},"","Seu preço está 0% mais caro. Diminuir preço?"]
[null,null,null,null,null,{"$f":"IFERROR(IF(D58=\"\",\"\",VLOOKUP(D58,Cad!$B$12:$C$511,2,0)),\"\")","v":""},"","Seu preço está 0% mais caro. Diminuir preço?"]
[null,null,null,null,null,{"$f":"IFERROR(IF(D59=\"\",\"\",VLOOKUP(D59,Cad!$B$12:$C$511,2,0)),\"\")","v":""},"","Seu preço está 0% mais caro. Diminuir preço?"]
[null,null,null,null,null,{"$f":"IFERROR(IF(D60=\"\",\"\",VLOOKUP(D60,Cad!$B$12:$C$511,2,0)),\"\")","v":""},"","Seu preço está 0% mais caro. Diminuir preço?"]

{"sheet":"RC","index":7,"n_rows":37,"n_cols":9,"rows_kept":37,"cut":false,"hidden":false,"merged":[[9,1,9,4],[9,6,9,9],[10,1,10,2],[10,3,10,4],[10,6,10,7],[10,8,10,9],[11,1,11,2],[11,3,11,4],[11,6,11,7],[11,8,11,9],[12,1,12,2],[12,3,12,4],[12,6,12,7],[12,8,12,9],[13,1,13,2],[13,3,13,4],[13,6,13,7],[13,8,13,9],[14,1,14,2],[14,3,14,4],[14,6,14,7],[14,8,14,9],[27,1,27,2],[15,6,15,7],[15,8,15,9],[17,1,17,7],[18,5,18,7],[19,5,19,7],[20,5,20,7],[21,5,21,7],[22,5,22,7],[23,5,23,7],[25,1,25,4],[26,1,26,2],[34,1,34,2],[35,1,35,2],[36,1,36,2],[28,1,28,2],[29,1,29,2],[30,1,30,2],[31,1,31,2],[32,1,32,2],[33,1,33,2]]}
[]
[]
[]
[]
[]
[]
[]
[]
[]
[null,"Resumo dos Custos Diretos",null,null,null,null,"Top 5 Custos Fixos"]
[null,"Materiais",null,{"$f":"IFERROR(SUM(Cad!G12:G511),\"\")","v":740},null,null,{"$f":"IFERROR(IF(I11=I10,INDEX(OFFSET(Cad!$N$12:$N$51,MATCH(I10,Cad!$O$12:$O$51,0),0),MATCH(I11,OFFSET(Cad!$O$12:$O$51,MATCH(I11,Cad!$O$12:$O$51,0),0),0),1),INDEX(Cad!$N$12:$N$51,MATCH(I11,Cad!$O$12:$O$51,0),1)),\"\"\n)","v":"Pró Labore e salários"},null,{"$f":"IFERROR(LARGE(Cad!O12:O51,1),\"\")","v":6500}]
[null,"Impostos",null,{"$f":"IFERROR(SUM(Cad!I12:I511),\"\")","v":0},null,null,{"$f":"IFERROR(IF(I12=I11,INDEX(OFFSET(Cad!$N$12:$N$51,MATCH(I11,Cad!$O$12:$O$51,0),0),MATCH(I12,OFFSET(Cad!$O$12:$O$51,MATCH(I12,Cad!$O$12:$O$51,0),0),0),1),INDEX(Cad!$N$12:$N$51,MATCH(I12,Cad!$O$12:$O$51,0),1)),\"\"\n)","v":"Aluguel"},null,{"$f":"IFERROR(LARGE(Cad!O12:O51,2),\"\")","v":2000}]
[null,"Comissões",null,{"$f":"IFERROR(SUM(Cad!H12:H511),\"\")","v":0},null,null,{"$f":"IFERROR(IF(I13=I12,INDEX(OFFSET(Cad!$N$12:$N$51,MATCH(I12,Cad!$O$12:$O$51,0),0),MATCH(I13,OFFSET(Cad!$O$12:$O$51,MATCH(I13,Cad!$O$12:$O$51,0),0),0),1),INDEX(Cad!$N$12:$N$51,MATCH(I13,Cad!$O$12:$O$51,0),1)),\"\"\n)","v":"Marketing"},null,{"$f":"IFERROR(LARGE(Cad!O12:O51,3),\"\")","v":2000}]
[null,"Outros gastos",null,{"$f":"IFERROR(SUM(Cad!K12:K511),\"\")","v":900},null,null,{"$f":"IFERROR(IF(I14=I13,INDEX(OFFSET(Cad!$N$12:$N$51,MATCH(I13,Cad!$O$12:$O$51,0),0),MATCH(I14,OFFSET(Cad!$O$12:$O$51,MATCH(I14,Cad!$O$12:$O$51,0),0),0),1),INDEX(Cad!$N$12:$N$51,MATCH(I14,Cad!$O$12:$O$51,0),1)),\"\"\n)","v":"Outros Custos"},null,{"$f":"IFERROR(LARGE(Cad!O12:O51,4),\"\")","v":1900}]
[null,"Total dos gastos",null,{"$f":"SUM(D11:E14)","v":1640},null,null,{"$f":"IFERROR(IF(I15=I14,INDEX(OFFSET(Cad!$N$12:$N$51,MATCH(I14,Cad!$O$12:$O$51,0),0),MATCH(I15,OFFSET(Cad!$O$12:$O$51,MATCH(I15,Cad!$O$12:$O$51,0),0),0),1),INDEX(Cad!$N$12:$N$51,MATCH(I15,Cad!$O$12:$O$51,0),1)),\"\"\n)","v":"Empréstimos"},null,{"$f":"IFERROR(LARGE(Cad!O12:O51,5),\"\")","v":1350}]
[null,null,null,null,null,null,"Total dos custos fixos",null,{"$f":"SUM(Cad!O12:O51)","v":16030}]
[]
[null,"Análise da concorrência (máximo de 5 serviços comparados)"]
[null,"Serviços","Preço médio de mercado","Preço praticado por você","Diferença","Comentário"]
[null,{"$f":"IFERROR(IF(D20=\"\",\"\",IF(D20=D19,INDEX(OFFSET(AC!$D$11:$D$50,MATCH(D20,AC!$F$11:$F$50,0),0),MATCH(D20,OFFSET(AC!$F$11:$F$50,MATCH(D20,AC!$F$11:$F$50,0),0),0),1),INDEX(AC!$D$11:$D$50,MATCH(D20,AC!$F$11:$F$50,0),1))),\"\")","v":"Serviço 2"},{"$f":"IFERROR(VLOOKUP(B20,AC!$D$11:$E$50,2,0),\"\")","v":1200},{"$f":"IFERROR(LARGE(AC!$F$11:$F$50,1),\"\")","v":1200},{"$f":"IF(ISERROR(\nIF(B20=\"\",\"\",D20-C20)),\"\",IF(B20=\"\",\"\",D20-C20))","v":0},{"$f":"IF(ISERROR(\nIF(E20<0,\"Seu preço está  \"&-I20*100&\" % mais barato. Vale aumentar?\",IF(E20>0,\"Seu preço está \"&I20*100&\"% mais caro. Diminuir preço?\",\"Seu preço está igual ao de mercado. Manter o preço?\"))),\"\",IF(E20<0,\"Seu preço está  \"&-I20*100&\" % mais barato. Vale aumentar?\",IF(E20>0,\"Seu preço está \"&I20*100&\"% mais caro. Diminuir preço?\",\"Seu preço está igual ao de mercado. Manter o preço?\")))","v":"Seu preço está igual ao de mercado. Manter o preço?"},null,null,{"$f":"IFERROR(ROUND(D20/C20-1,2),\"\")","v":0}]
[null,{"$f":"IFERROR(IF(D21=\"\",\"\",IF(D21=D20,INDEX(OFFSET(AC!$D$11:$D$50,MATCH(D21,AC!$F$11:$F$50,0),0),MATCH(D21,OFFSET(AC!$F$11:$F$50,MATCH(D21,AC!$F$11:$F$50,0),0),0),1),INDEX(AC!$D$11:$D$50,MATCH(D21,AC!$F$11:$F$50,0),1))),\"\")","v":"Serviço 2"},{"$f":"IFERROR(VLOOKUP(B21,AC!$D$11:$E$50,2,0),\"\")","v":1200},{"$f":"IFERROR(LARGE(AC!$F$11:$F$50,2),\"\")","v":1200},{"$f":"IF(ISERROR(\nIF(B21=\"\",\"\",D21-C21)),\"\",IF(B21=\"\",\"\",D21-C21))","v":0},{"$f":"IF(ISERROR(\nIF(E21<0,\"Seu preço está  \"&-I21*100&\" % mais barato. Vale aumentar?\",IF(E21>0,\"Seu preço está \"&I21*100&\"% mais caro. Diminuir preço?\",\"Seu preço está igual ao de mercado. Manter o preço?\"))),\"\",IF(E21<0,\"Seu preço está  \"&-I21*100&\" % mais barato. Vale aumentar?\",IF(E21>0,\"Seu preço está \"&I21*100&\"% mais caro. Diminuir preço?\",\"Seu preço está igual ao de mercado. Manter o preço?\")))","v":"Seu preço está igual ao de mercado. Manter o preço?"},null,null,{"$f":"IFERROR(ROUND(D21/C21-1,2),\"\")","v":0}]
[null,{"$f":"IFERROR(IF(D22=\"\",\"\",IF(D22=D21,INDEX(OFFSET(AC!$D$11:$D$50,MATCH(D22,AC!$F$11:$F$50,0),0),MATCH(D22,OFFSET(AC!$F$11:$F$50,MATCH(D22,AC!$F$11:$F$50,0),0),0),1),INDEX(AC!$D$11:$D$50,MATCH(D22,AC!$F$11:$F$50,0),1))),\"\")","v":"Serviço 1"},{"$f":"IFERROR(VLOOKUP(B22,AC!$D$11:$E$50,2,0),\"\")","v":1500},{"$f":"IFERROR(LARGE(AC!$F$11:$F$50,3),\"\")","v":1142.8571428571429},{"$f":"IF(ISERROR(\nIF(B22=\"\",\"\",D22-C22)),\"\",IF(B22=\"\",\"\",D22-C22))","v":-357.14285714285711},"Seu preço está  24 % mais barato. Vale aumentar?",null,null,-0.24]
[null,{"$f":"IFERROR(IF(D23=\"\",\"\",IF(D23=D22,INDEX(OFFSET(AC!$D$11:$D$50,MATCH(D23,AC!$F$11:$F$50,0),0),MATCH(D23,OFFSET(AC!$F$11:$F$50,MATCH(D23,AC!$F$11:$F$50,0),0),0),1),INDEX(AC!$D$11:$D$50,MATCH(D23,AC!$F$11:$F$50,0),1))),\"\")","v":"Serviço 1"},{"$f":"IFERROR(VLOOKUP(B23,AC!$D$11:$E$50,2,0),\"\")","v":1500},{"$f":"IFERROR(LARGE(AC!$F$11:$F$50,4),\"\")","v":1142.8571428571429},{"$f":"IF(ISERROR(\nIF(B23=\"\",\"\",D23-C23)),\"\",IF(B23=\"\",\"\",D23-C23))","v":-357.14285714285711},"Seu preço está  24 % mais barato. Vale aumentar?",null,null,-0.24]
[null,{"$f":"IFERROR(IF(D24=\"\",\"\",IF(D24=D23,INDEX(OFFSET(AC!$D$11:$D$50,MATCH(D24,AC!$F$11:$F$50,0),0),MATCH(D24,OFFSET(AC!$F$11:$F$50,MATCH(D24,AC!$F$11:$F$50,0),0),0),1),INDEX(AC!$D$11:$D$50,MATCH(D24,AC!$F$11:$F$50,0),1))),\"\")","v":"Serviço 1"},{"$f":"IFERROR(VLOOKUP(B24,AC!$D$11:$E$50,2,0),\"\")","v":1500},{"$f":"IFERROR(LARGE(AC!$F$11:$F$50,5),\"\")","v":1142.8571428571429},{"$f":"IF(ISERROR(\nIF(B24=\"\",\"\",D24-C24)),\"\",IF(B24=\"\",\"\",D24-C24))","v":-357.14285714285711},"Seu preço está  24 % mais barato. Vale aumentar?",null,null,-0.24]
[]
[null,"Top 10 Mix de Serviços - Receita Gerada"]
[null,"Produtos",null,"Quantidade a ser vendida","Receita gerada"]
[null,{"$f":"IFERROR(IF(E28=\"\",\"\",IF(E28=E27,INDEX(OFFSET(Cad!$B$12:$B$511,MATCH(E28,Cad!$V$12:$V$511,0),0),MATCH(E28,OFFSET(Cad!$V$12:$V$511,MATCH(E28,Cad!$V$12:$V$511,0),0),0),1),INDEX(Cad!$B$12:$B$511,MATCH(E28,Cad!$V$12:$V$511,0),1))),\"\")","v":"Serviço 2"},null,{"$f":"IFERROR(IF(E28=\"\",\"\",IF(E28=E27,INDEX(OFFSET(Cad!$W$12:$W$511,MATCH(E28,Cad!$V$12:$V$511,0),0),MATCH(E28,OFFSET(Cad!$V$12:$V$511,MATCH(E28,Cad!$V$12:$V$511,0),0),0),1),INDEX(Cad!$W$12:$W$511,MATCH(E28,Cad!$V$12:$V$511,0),1))),\"\")","v":30.899685287175451},{"$f":"IFERROR(IF(LARGE(Cad!$V$12:$V$511,F28)=0,\"\",LARGE(Cad!$V$12:$V$511,F28)),\"\")","v":37079.622344610543},1]
[null,{"$f":"IFERROR(IF(E29=\"\",\"\",IF(E29=E28,INDEX(OFFSET(Cad!$B$12:$B$511,MATCH(E29,Cad!$V$12:$V$511,0),0),MATCH(E29,OFFSET(Cad!$V$12:$V$511,MATCH(E29,Cad!$V$12:$V$511,0),0),0),1),INDEX(Cad!$B$12:$B$511,MATCH(E29,Cad!$V$12:$V$511,0),1))),\"\")","v":"Serviço 1"},null,{"$f":"IFERROR(IF(E29=\"\",\"\",IF(E29=E28,INDEX(OFFSET(Cad!$W$12:$W$511,MATCH(E29,Cad!$V$12:$V$511,0),0),MATCH(E29,OFFSET(Cad!$V$12:$V$511,MATCH(E29,Cad!$V$12:$V$511,0),0),0),1),INDEX(Cad!$W$12:$W$511,MATCH(E29,Cad!$V$12:$V$511,0),1))),\"\")","v":14.71413585103593},{"$f":"IFERROR(IF(LARGE(Cad!$V$12:$V$511,F29)=0,\"\",LARGE(Cad!$V$12:$V$511,F29)),\"\")","v":16816.155258326777},2]
[null,{"$f":"IFERROR(IF(E30=\"\",\"\",IF(E30=E29,INDEX(OFFSET(Cad!$B$12:$B$511,MATCH(E30,Cad!$V$12:$V$511,0),0),MATCH(E30,OFFSET(Cad!$V$12:$V$511,MATCH(E30,Cad!$V$12:$V$511,0),0),0),1),INDEX(Cad!$B$12:$B$511,MATCH(E30,Cad!$V$12:$V$511,0),1))),\"\")","v":""},null,{"$f":"IFERROR(IF(E30=\"\",\"\",IF(E30=E29,INDEX(OFFSET(Cad!$W$12:$W$511,MATCH(E30,Cad!$V$12:$V$511,0),0),MATCH(E30,OFFSET(Cad!$V$12:$V$511,MATCH(E30,Cad!$V$12:$V$511,0),0),0),1),INDEX(Cad!$W$12:$W$511,MATCH(E30,Cad!$V$12:$V$511,0),1))),\"\")","v":""},{"$f":"IFERROR(IF(LARGE(Cad!$V$12:$V$511,F30)=0,\"\",LARGE(Cad!$V$12:$V$511,F30)),\"\")","v":""},3]
[null,{"$f":"IFERROR(IF(E31=\"\",\"\",IF(E31=E30,INDEX(OFFSET(Cad!$B$12:$B$511,MATCH(E31,Cad!$V$12:$V$511,0),0),MATCH(E31,OFFSET(Cad!$V$12:$V$511,MATCH(E31,Cad!$V$12:$V$511,0),0),0),1),INDEX(Cad!$B$12:$B$511,MATCH(E31,Cad!$V$12:$V$511,0),1))),\"\")","v":""},null,{"$f":"IFERROR(IF(E31=\"\",\"\",IF(E31=E30,INDEX(OFFSET(Cad!$W$12:$W$511,MATCH(E31,Cad!$V$12:$V$511,0),0),MATCH(E31,OFFSET(Cad!$V$12:$V$511,MATCH(E31,Cad!$V$12:$V$511,0),0),0),1),INDEX(Cad!$W$12:$W$511,MATCH(E31,Cad!$V$12:$V$511,0),1))),\"\")","v":""},{"$f":"IFERROR(IF(LARGE(Cad!$V$12:$V$511,F31)=0,\"\",LARGE(Cad!$V$12:$V$511,F31)),\"\")","v":""},4]
[null,{"$f":"IFERROR(IF(E32=\"\",\"\",IF(E32=E31,INDEX(OFFSET(Cad!$B$12:$B$511,MATCH(E32,Cad!$V$12:$V$511,0),0),MATCH(E32,OFFSET(Cad!$V$12:$V$511,MATCH(E32,Cad!$V$12:$V$511,0),0),0),1),INDEX(Cad!$B$12:$B$511,MATCH(E32,Cad!$V$12:$V$511,0),1))),\"\")","v":""},null,{"$f":"IFERROR(IF(E32=\"\",\"\",IF(E32=E31,INDEX(OFFSET(Cad!$W$12:$W$511,MATCH(E32,Cad!$V$12:$V$511,0),0),MATCH(E32,OFFSET(Cad!$V$12:$V$511,MATCH(E32,Cad!$V$12:$V$511,0),0),0),1),INDEX(Cad!$W$12:$W$511,MATCH(E32,Cad!$V$12:$V$511,0),1))),\"\")","v":""},{"$f":"IFERROR(IF(LARGE(Cad!$V$12:$V$511,F32)=0,\"\",LARGE(Cad!$V$12:$V$511,F32)),\"\")","v":""},5]
[null,{"$f":"IFERROR(IF(E33=\"\",\"\",IF(E33=E32,INDEX(OFFSET(Cad!$B$12:$B$511,MATCH(E33,Cad!$V$12:$V$511,0),0),MATCH(E33,OFFSET(Cad!$V$12:$V$511,MATCH(E33,Cad!$V$12:$V$511,0),0),0),1),INDEX(Cad!$B$12:$B$511,MATCH(E33,Cad!$V$12:$V$511,0),1))),\"\")","v":""},null,{"$f":"IFERROR(IF(E33=\"\",\"\",IF(E33=E32,INDEX(OFFSET(Cad!$W$12:$W$511,MATCH(E33,Cad!$V$12:$V$511,0),0),MATCH(E33,OFFSET(Cad!$V$12:$V$511,MATCH(E33,Cad!$V$12:$V$511,0),0),0),1),INDEX(Cad!$W$12:$W$511,MATCH(E33,Cad!$V$12:$V$511,0),1))),\"\")","v":""},{"$f":"IFERROR(IF(LARGE(Cad!$V$12:$V$511,F33)=0,\"\",LARGE(Cad!$V$12:$V$511,F33)),\"\")","v":""},6]
[null,{"$f":"IFERROR(IF(E34=\"\",\"\",IF(E34=E33,INDEX(OFFSET(Cad!$B$12:$B$511,MATCH(E34,Cad!$V$12:$V$511,0),0),MATCH(E34,OFFSET(Cad!$V$12:$V$511,MATCH(E34,Cad!$V$12:$V$511,0),0),0),1),INDEX(Cad!$B$12:$B$511,MATCH(E34,Cad!$V$12:$V$511,0),1))),\"\")","v":""},null,{"$f":"IFERROR(IF(E34=\"\",\"\",IF(E34=E33,INDEX(OFFSET(Cad!$W$12:$W$511,MATCH(E34,Cad!$V$12:$V$511,0),0),MATCH(E34,OFFSET(Cad!$V$12:$V$511,MATCH(E34,Cad!$V$12:$V$511,0),0),0),1),INDEX(Cad!$W$12:$W$511,MATCH(E34,Cad!$V$12:$V$511,0),1))),\"\")","v":""},{"$f":"IFERROR(IF(LARGE(Cad!$V$12:$V$511,F34)=0,\"\",LARGE(Cad!$V$12:$V$511,F34)),\"\")","v":""},7]
[null,{"$f":"IFERROR(IF(E35=\"\",\"\",IF(E35=E34,INDEX(OFFSET(Cad!$B$12:$B$511,MATCH(E35,Cad!$V$12:$V$511,0),0),MATCH(E35,OFFSET(Cad!$V$12:$V$511,MATCH(E35,Cad!$V$12:$V$511,0),0),0),1),INDEX(Cad!$B$12:$B$511,MATCH(E35,Cad!$V$12:$V$511,0),1))),\"\")","v":""},null,{"$f":"IFERROR(IF(E35=\"\",\"\",IF(E35=E34,INDEX(OFFSET(Cad!$W$12:$W$511,MATCH(E35,Cad!$V$12:$V$511,0),0),MATCH(E35,OFFSET(Cad!$V$12:$V$511,MATCH(E35,Cad!$V$12:$V$511,0),0),0),1),INDEX(Cad!$W$12:$W$511,MATCH(E35,Cad!$V$12:$V$511,0),1))),\"\")","v":""},{"$f":"IFERROR(IF(LARGE(Cad!$V$12:$V$511,F35)=0,\"\",LARGE(Cad!$V$12:$V$511,F35)),\"\")","v":""},8]
[null,{"$f":"IFERROR(IF(E36=\"\",\"\",IF(E36=E35,INDEX(OFFSET(Cad!$B$12:$B$511,MATCH(E36,Cad!$V$12:$V$511,0),0),MATCH(E36,OFFSET(Cad!$V$12:$V$511,MATCH(E36,Cad!$V$12:$V$511,0),0),0),1),INDEX(Cad!$B$12:$B$511,MATCH(E36,Cad!$V$12:$V$511,0),1))),\"\")","v":""},null,{"$f":"IFERROR(IF(E36=\"\",\"\",IF(E36=E35,INDEX(OFFSET(Cad!$W$12:$W$511,MATCH(E36,Cad!$V$12:$V$511,0),0),MATCH(E36,OFFSET(Cad!$V$12:$V$511,MATCH(E36,Cad!$V$12:$V$511,0),0),0),1),INDEX(Cad!$W$12:$W$511,MATCH(E36,Cad!$V$12:$V$511,0),1))),\"\")","v":""},{"$f":"IFERROR(IF(LARGE(Cad!$V$12:$V$511,F36)=0,\"\",LARGE(Cad!$V$12:$V$511,F36)),\"\")","v":""},9]
[null,{"$f":"IFERROR(IF(E37=\"\",\"\",IF(E37=E36,INDEX(OFFSET(Cad!$B$12:$B$511,MATCH(E37,Cad!$V$12:$V$511,0),0),MATCH(E37,OFFSET(Cad!$V$12:$V$511,MATCH(E37,Cad!$V$12:$V$511,0),0),0),1),INDEX(Cad!$B$12:$B$511,MATCH(E37,Cad!$V$12:$V$511,0),1))),\"\")","v":""},null,{"$f":"IFERROR(IF(E37=\"\",\"\",IF(E37=E36,INDEX(OFFSET(Cad!$W$12:$W$511,MATCH(E37,Cad!$V$12:$V$511,0),0),MATCH(E37,OFFSET(Cad!$V$12:$V$511,MATCH(E37,Cad!$V$12:$V$511,0),0),0),1),INDEX(Cad!$W$12:$W$511,MATCH(E37,Cad!$V$12:$V$511,0),1))),\"\")","v":""},{"$f":"IFERROR(IF(LARGE(Cad!$V$12:$V$511,F37)=0,\"\",LARGE(Cad!$V$12:$V$511,F37)),\"\")","v":""},10]

{"sheet":"GR","index":8,"n_rows":91,"n_cols":17,"rows_kept":91,"cut":false,"hidden":false,"merged":[[74,6,81,7],[90,6,99,7],[9,2,9,5],[13,6,19,7],[27,6,33,7],[42,6,49,7],[57,6,64,7]]}
[]
[]
[]
[]
[]
[]
[]
[]
[]
[null,"Empresa:",{"$f":"Menu!G26","v":"Empresa ABCDE"}]
[null,"Top 10 Mix de Serviços - Receita Gerada necessária para \"Ponto de Equilíbrio\""]
[]
[]
[null,null,null,null,null,null,{"$f":"\"O serviço que mais gerou receita para atingir o ponto de equilíbrio foi: \"&\"\n\"&'RC'!B28","v":"O serviço que mais gerou receita para atingir o ponto de equilíbrio foi: \nServiço 2"}]
[]
[]
[]
[]
[]
[]
[]
[]
[]
[]
[null,"Top 10 Mix de Serviços - Quantidade"]
[]
[]
[null,null,null,null,null,null,{"$f":"\"O serviço que tem mais participação no ponto de equilíbrio é \"&GR_Dados!A3&\".\"&\"\n\"&\" A quantidade vendida de \"&GR_Dados!A3&\" é de \"&GR_Dados!E3&\" unidades.\"","v":"O serviço que tem mais participação no ponto de equilíbrio é Serviço 2.\n A quantidade vendida de Serviço 2 é de 31 unidades."}]
[]
[]
[]
[]
[]
[]
[]
[]
[]
[]
[]
[null,"Top 10 Margem de Contribuição"]
[]
[]
[null,null,null,null,null,null,{"$f":"\"O serviço que tem o maior índice de margem de contribuição é \"&GR_Dados!A16&\".\"&\"\n\"&\" O IMC de \"&GR_Dados!A16&\" é de \"&GR_Dados!C16*100&\" %.\"","v":"O serviço que tem o maior índice de margem de contribuição é Serviço 1.\n O IMC de Serviço 1 é de 30 %."}]
[]
[]
[]
[]
[]
[]
[]
[]
[]
[]
[]
[]
[null,"Top 10 Custos Fixos",null,null,null,null,null,null,null,null,null,null,null,"Custos Fixos:","Lucro:","custos maior que lucro","custo menor que lucro"]
[null,null,null,null,null,null,null,null,null,null,null,null,null,{"$f":"PE!F12","v":16030},{"$f":"SUM(Cad!E12:E511)-'RC'!D15-'RC'!I16","v":17758.571428571428},"A soma dos seus custos diretos e custos fixos fazem com que eles sejam maiores que seu lucro. Significa que o lucro obtido não paga seus custos com o volume de vendas que foi estipulado.\nDica: Faça uma revisão na operação do seu negócio com o intuito de reduzir todos os seus custos para se tornar mais competitivo sem deixar de obter lucro.","Parabéns! Seu lucro é maior que os seus custos fixos. Mantenha esse processo para não deixar que seus custos ultrapassem o seu lucro."]
[null,null,null,null,null,null,{"$f":"IF(N57>O57,P57,Q57)","v":"Parabéns! Seu lucro é maior que os seus custos fixos. Mantenha esse processo para não deixar que seus custos ultrapassem o seu lucro."}]
[]
[]
[]
[]
[]
[]
[]
[]
[]
[]
[]
[]
[]
[null,"Custos Diretos"]
[]
[]
[null,null,null,null,null,null,{"$f":"\"Os custos diretos são aqueles que variam de acordo com o volume de vendas. Sua média de custos diretos é de R$ \"&GR_Dados!C48&\" e o seu custo mais elevado está \"&GR_Dados!D48*100&\"% acima da média.\"&\"\n\n\"&\"Dica: É muito comum esquecer de alguns itens dessa parte de custos diretos. Por isso, faça uma avaliação mais criteriosa para entender quais são os itens que ainda podem estar sendo esquecidos.\"","v":"Os custos diretos são aqueles que variam de acordo com o volume de vendas. Sua média de custos diretos é de R$ 820 e o seu custo mais elevado está 10% acima da média.\n\nDica: É muito comum esquecer de alguns itens dessa parte de custos diretos. Por isso, faça uma avaliação mais criteriosa para entender quais são os itens que ainda podem estar sendo esquecidos."}]
[]
[]
[]
[]
[]
[]
[]
[]
[]
[]
[]
[]
[null,"Análise dos Concorrentes"]
[]
[]
[null,null,null,null,null,null,{"$f":"\"Você tem \"&GR_Dados!C52&\" concorrentes analisados e seu preço médio está inferior à média de mercado. Isso pode ser um bom sinal, mas não é algo para se animar muito.\"&\"\n\"&\"Dica:\"&\"\n\"&\"Existem muitas formas de se diferenciar em um negócio. Fatores como qualidade, posicionamento, localização geográfica (e outros fatores) são tão importantes quanto o preço. Faça uma avaliação para saber se o preço é a única diferenciação que você precisa.\"","v":"Você tem 5 concorrentes analisados e seu preço médio está inferior à média de mercado. Isso pode ser um bom sinal, mas não é algo para se animar muito.\nDica:\nExistem muitas formas de se diferenciar em um negócio. Fatores como qualidade, posicionamento, localização geográfica (e outros fatores) são tão importantes quanto o preço. Faça uma avaliação para saber se o preço é a única diferenciação que você precisa."}]

{"sheet":"GR_Dados","index":9,"n_rows":52,"n_cols":5,"rows_kept":52,"cut":false,"hidden":false,"merged":[[6,0,6,1],[1,0,1,1],[2,0,2,1],[3,0,3,1],[4,0,4,1],[5,0,5,1],[20,0,20,1],[7,0,7,1],[8,0,8,1],[9,0,9,1],[10,0,10,1],[11,0,11,1],[14,0,14,1],[15,0,15,1],[16,0,16,1],[17,0,17,1],[18,0,18,1],[19,0,19,1],[35,0,35,1],[21,0,21,1],[22,0,22,1],[23,0,23,1],[24,0,24,1],[28,0,28,1],[29,0,29,1],[30,0,30,1],[31,0,31,1],[32,0,32,1],[33,0,33,1],[34,0,34,1],[45,0,45,1],[46,0,46,1],[51,0,51,1],[36,0,36,1],[37,0,37,1],[38,0,38,1],[42,0,42,1],[43,0,43,1],[44,0,44,1]]}
["Top 10 Mix de Serviços - quantidade"]
["Produtos",null,"Quantidade a ser vendida"]
[{"$f":"IFERROR(IF(C3=\"\",\"\",IF(C3=C2,INDEX(OFFSET(Cad!$B$12:$B$511,MATCH(C3,Cad!$W$12:$W$511,0),0),MATCH(C3,OFFSET(Cad!$W$12:$W$511,MATCH(C3,Cad!$W$12:$W$511,0),0),0),1),INDEX(Cad!$B$12:$B$511,MATCH(C3,Cad!$W$12:$W$511,0),1))),\"\")","v":"Serviço 2"},null,{"$f":"IFERROR(IF(LARGE(Cad!$W$12:$W$511,D3)=0,\"\",LARGE(Cad!$W$12:$W$511,D3)),\"\")","v":30.899685287175451},1,{"$f":"IF(C3=\"\",\"\",ROUND(C3,0))","v":31}]
[{"$f":"IFERROR(IF(C4=\"\",\"\",IF(C4=C3,INDEX(OFFSET(Cad!$B$12:$B$511,MATCH(C4,Cad!$W$12:$W$511,0),0),MATCH(C4,OFFSET(Cad!$W$12:$W$511,MATCH(C4,Cad!$W$12:$W$511,0),0),0),1),INDEX(Cad!$B$12:$B$511,MATCH(C4,Cad!$W$12:$W$511,0),1))),\"\")","v":"Serviço 1"},null,{"$f":"IFERROR(IF(LARGE(Cad!$W$12:$W$511,D4)=0,\"\",LARGE(Cad!$W$12:$W$511,D4)),\"\")","v":14.71413585103593},2,{"$f":"IF(C4=\"\",\"\",ROUND(C4,0))","v":15}]
[{"$f":"IFERROR(IF(C5=\"\",\"\",IF(C5=C4,INDEX(OFFSET(Cad!$B$12:$B$511,MATCH(C5,Cad!$W$12:$W$511,0),0),MATCH(C5,OFFSET(Cad!$W$12:$W$511,MATCH(C5,Cad!$W$12:$W$511,0),0),0),1),INDEX(Cad!$B$12:$B$511,MATCH(C5,Cad!$W$12:$W$511,0),1))),\"\")","v":""},null,{"$f":"IFERROR(IF(LARGE(Cad!$W$12:$W$511,D5)=0,\"\",LARGE(Cad!$W$12:$W$511,D5)),\"\")","v":""},3,""]
[{"$f":"IFERROR(IF(C6=\"\",\"\",IF(C6=C5,INDEX(OFFSET(Cad!$B$12:$B$511,MATCH(C6,Cad!$W$12:$W$511,0),0),MATCH(C6,OFFSET(Cad!$W$12:$W$511,MATCH(C6,Cad!$W$12:$W$511,0),0),0),1),INDEX(Cad!$B$12:$B$511,MATCH(C6,Cad!$W$12:$W$511,0),1))),\"\")","v":""},null,{"$f":"IFERROR(IF(LARGE(Cad!$W$12:$W$511,D6)=0,\"\",LARGE(Cad!$W$12:$W$511,D6)),\"\")","v":""},4,""]
[{"$f":"IFERROR(IF(C7=\"\",\"\",IF(C7=C6,INDEX(OFFSET(Cad!$B$12:$B$511,MATCH(C7,Cad!$W$12:$W$511,0),0),MATCH(C7,OFFSET(Cad!$W$12:$W$511,MATCH(C7,Cad!$W$12:$W$511,0),0),0),1),INDEX(Cad!$B$12:$B$511,MATCH(C7,Cad!$W$12:$W$511,0),1))),\"\")","v":""},null,{"$f":"IFERROR(IF(LARGE(Cad!$W$12:$W$511,D7)=0,\"\",LARGE(Cad!$W$12:$W$511,D7)),\"\")","v":""},5,""]
[{"$f":"IFERROR(IF(C8=\"\",\"\",IF(C8=C7,INDEX(OFFSET(Cad!$B$12:$B$511,MATCH(C8,Cad!$W$12:$W$511,0),0),MATCH(C8,OFFSET(Cad!$W$12:$W$511,MATCH(C8,Cad!$W$12:$W$511,0),0),0),1),INDEX(Cad!$B$12:$B$511,MATCH(C8,Cad!$W$12:$W$511,0),1))),\"\")","v":""},null,{"$f":"IFERROR(IF(LARGE(Cad!$W$12:$W$511,D8)=0,\"\",LARGE(Cad!$W$12:$W$511,D8)),\"\")","v":""},6,""]
[{"$f":"IFERROR(IF(C9=\"\",\"\",IF(C9=C8,INDEX(OFFSET(Cad!$B$12:$B$511,MATCH(C9,Cad!$W$12:$W$511,0),0),MATCH(C9,OFFSET(Cad!$W$12:$W$511,MATCH(C9,Cad!$W$12:$W$511,0),0),0),1),INDEX(Cad!$B$12:$B$511,MATCH(C9,Cad!$W$12:$W$511,0),1))),\"\")","v":""},null,{"$f":"IFERROR(IF(LARGE(Cad!$W$12:$W$511,D9)=0,\"\",LARGE(Cad!$W$12:$W$511,D9)),\"\")","v":""},7,""]
[{"$f":"IFERROR(IF(C10=\"\",\"\",IF(C10=C9,INDEX(OFFSET(Cad!$B$12:$B$511,MATCH(C10,Cad!$W$12:$W$511,0),0),MATCH(C10,OFFSET(Cad!$W$12:$W$511,MATCH(C10,Cad!$W$12:$W$511,0),0),0),1),INDEX(Cad!$B$12:$B$511,MATCH(C10,Cad!$W$12:$W$511,0),1))),\"\")","v":""},null,{"$f":"IFERROR(IF(LARGE(Cad!$W$12:$W$511,D10)=0,\"\",LARGE(Cad!$W$12:$W$511,D10)),\"\")","v":""},8,""]
[{"$f":"IFERROR(IF(C11=\"\",\"\",IF(C11=C10,INDEX(OFFSET(Cad!$B$12:$B$511,MATCH(C11,Cad!$W$12:$W$511,0),0),MATCH(C11,OFFSET(Cad!$W$12:$W$511,MATCH(C11,Cad!$W$12:$W$511,0),0),0),1),INDEX(Cad!$B$12:$B$511,MATCH(C11,Cad!$W$12:$W$511,0),1))),\"\")","v":""},null,{"$f":"IFERROR(IF(LARGE(Cad!$W$12:$W$511,D11)=0,\"\",LARGE(Cad!$W$12:$W$511,D11)),\"\")","v":""},9,""]
[{"$f":"IFERROR(IF(C12=\"\",\"\",IF(C12=C11,INDEX(OFFSET(Cad!$B$12:$B$511,MATCH(C12,Cad!$W$12:$W$511,0),0),MATCH(C12,OFFSET(Cad!$W$12:$W$511,MATCH(C12,Cad!$W$12:$W$511,0),0),0),1),INDEX(Cad!$B$12:$B$511,MATCH(C12,Cad!$W$12:$W$511,0),1))),\"\")","v":""},null,{"$f":"IFERROR(IF(LARGE(Cad!$W$12:$W$511,D12)=0,\"\",LARGE(Cad!$W$12:$W$511,D12)),\"\")","v":""},10,""]
[]
[]
["Serviços",null,"Margem de Contribuição"]
[{"$f":"IFERROR(IF(C16=\"\",\"\",IF(C16=C15,INDEX(OFFSET(Cad!$B$12:$B$511,MATCH(C16,Cad!$U$12:$U$511,0),0),MATCH(C16,OFFSET(Cad!$U$12:$U$511,MATCH(C16,Cad!$U$12:$U$511,0),0),0),1),INDEX(Cad!$B$12:$B$511,MATCH(C16,Cad!$U$12:$U$511,0),1))),\"\")","v":"Serviço 1"},null,{"$f":"IFERROR(IF(LARGE(Cad!$U$12:$U$511,D16)=0,\"\",LARGE(Cad!$U$12:$U$511,D16)),\"\")","v":0.30000000000000004},1]
[{"$f":"IFERROR(IF(C17=\"\",\"\",IF(C17=C16,INDEX(OFFSET(Cad!$B$12:$B$511,MATCH(C17,Cad!$U$12:$U$511,0),0),MATCH(C17,OFFSET(Cad!$U$12:$U$511,MATCH(C17,Cad!$U$12:$U$511,0),0),0),1),INDEX(Cad!$B$12:$B$511,MATCH(C17,Cad!$U$12:$U$511,0),1))),\"\")","v":""},null,{"$f":"IFERROR(IF(LARGE(Cad!$U$12:$U$511,D17)=0,\"\",LARGE(Cad!$U$12:$U$511,D17)),\"\")","v":0.3},2]
[{"$f":"IFERROR(IF(C18=\"\",\"\",IF(C18=C17,INDEX(OFFSET(Cad!$B$12:$B$511,MATCH(C18,Cad!$U$12:$U$511,0),0),MATCH(C18,OFFSET(Cad!$U$12:$U$511,MATCH(C18,Cad!$U$12:$U$511,0),0),0),1),INDEX(Cad!$B$12:$B$511,MATCH(C18,Cad!$U$12:$U$511,0),1))),\"\")","v":""},null,{"$f":"IFERROR(IF(LARGE(Cad!$U$12:$U$511,D18)=0,\"\",LARGE(Cad!$U$12:$U$511,D18)),\"\")","v":""},3]
[{"$f":"IFERROR(IF(C19=\"\",\"\",IF(C19=C18,INDEX(OFFSET(Cad!$B$12:$B$511,MATCH(C19,Cad!$U$12:$U$511,0),0),MATCH(C19,OFFSET(Cad!$U$12:$U$511,MATCH(C19,Cad!$U$12:$U$511,0),0),0),1),INDEX(Cad!$B$12:$B$511,MATCH(C19,Cad!$U$12:$U$511,0),1))),\"\")","v":""},null,{"$f":"IFERROR(IF(LARGE(Cad!$U$12:$U$511,D19)=0,\"\",LARGE(Cad!$U$12:$U$511,D19)),\"\")","v":""},4]
[{"$f":"IFERROR(IF(C20=\"\",\"\",IF(C20=C19,INDEX(OFFSET(Cad!$B$12:$B$511,MATCH(C20,Cad!$U$12:$U$511,0),0),MATCH(C20,OFFSET(Cad!$U$12:$U$511,MATCH(C20,Cad!$U$12:$U$511,0),0),0),1),INDEX(Cad!$B$12:$B$511,MATCH(C20,Cad!$U$12:$U$511,0),1))),\"\")","v":""},null,{"$f":"IFERROR(IF(LARGE(Cad!$U$12:$U$511,D20)=0,\"\",LARGE(Cad!$U$12:$U$511,D20)),\"\")","v":""},5]
[{"$f":"IFERROR(IF(C21=\"\",\"\",IF(C21=C20,INDEX(OFFSET(Cad!$B$12:$B$511,MATCH(C21,Cad!$U$12:$U$511,0),0),MATCH(C21,OFFSET(Cad!$U$12:$U$511,MATCH(C21,Cad!$U$12:$U$511,0),0),0),1),INDEX(Cad!$B$12:$B$511,MATCH(C21,Cad!$U$12:$U$511,0),1))),\"\")","v":""},null,{"$f":"IFERROR(IF(LARGE(Cad!$U$12:$U$511,D21)=0,\"\",LARGE(Cad!$U$12:$U$511,D21)),\"\")","v":""},6]
[{"$f":"IFERROR(IF(C22=\"\",\"\",IF(C22=C21,INDEX(OFFSET(Cad!$B$12:$B$511,MATCH(C22,Cad!$U$12:$U$511,0),0),MATCH(C22,OFFSET(Cad!$U$12:$U$511,MATCH(C22,Cad!$U$12:$U$511,0),0),0),1),INDEX(Cad!$B$12:$B$511,MATCH(C22,Cad!$U$12:$U$511,0),1))),\"\")","v":""},null,{"$f":"IFERROR(IF(LARGE(Cad!$U$12:$U$511,D22)=0,\"\",LARGE(Cad!$U$12:$U$511,D22)),\"\")","v":""},7]
[{"$f":"IFERROR(IF(C23=\"\",\"\",IF(C23=C22,INDEX(OFFSET(Cad!$B$12:$B$511,MATCH(C23,Cad!$U$12:$U$511,0),0),MATCH(C23,OFFSET(Cad!$U$12:$U$511,MATCH(C23,Cad!$U$12:$U$511,0),0),0),1),INDEX(Cad!$B$12:$B$511,MATCH(C23,Cad!$U$12:$U$511,0),1))),\"\")","v":""},null,{"$f":"IFERROR(IF(LARGE(Cad!$U$12:$U$511,D23)=0,\"\",LARGE(Cad!$U$12:$U$511,D23)),\"\")","v":""},8]
[{"$f":"IFERROR(IF(C24=\"\",\"\",IF(C24=C23,INDEX(OFFSET(Cad!$B$12:$B$511,MATCH(C24,Cad!$U$12:$U$511,0),0),MATCH(C24,OFFSET(Cad!$U$12:$U$511,MATCH(C24,Cad!$U$12:$U$511,0),0),0),1),INDEX(Cad!$B$12:$B$511,MATCH(C24,Cad!$U$12:$U$511,0),1))),\"\")","v":""},null,{"$f":"IFERROR(IF(LARGE(Cad!$U$12:$U$511,D24)=0,\"\",LARGE(Cad!$U$12:$U$511,D24)),\"\")","v":""},9]
[{"$f":"IFERROR(IF(C25=\"\",\"\",IF(C25=C24,INDEX(OFFSET(Cad!$B$12:$B$511,MATCH(C25,Cad!$U$12:$U$511,0),0),MATCH(C25,OFFSET(Cad!$U$12:$U$511,MATCH(C25,Cad!$U$12:$U$511,0),0),0),1),INDEX(Cad!$B$12:$B$511,MATCH(C25,Cad!$U$12:$U$511,0),1))),\"\")","v":""},null,{"$f":"IFERROR(IF(LARGE(Cad!$U$12:$U$511,D25)=0,\"\",LARGE(Cad!$U$12:$U$511,D25)),\"\")","v":""},10]
[]
[]
[]
["Custos fixos",null,"Valor"]
[{"$f":"IFERROR(IF(C30=\"\",\"\",IF(C30=C29,INDEX(OFFSET(Cad!$N$12:$N$51,MATCH(C30,Cad!$O$12:$O$51,0),0),MATCH(C30,OFFSET(Cad!$O$12:$O$51,MATCH(C30,Cad!$O$12:$O$51,0),0),0),1),INDEX(Cad!$N$12:$N$51,MATCH(C30,Cad!$O$12:$O$51,0),1))),\"\")","v":"Pró Labore e salários"},null,{"$f":"IFERROR(IF(LARGE(Cad!$O$12:$O$51,D30)=0,\"\",LARGE(Cad!$O$12:$O$51,D30)),\"\")","v":6500},1]
[{"$f":"IFERROR(IF(C31=\"\",\"\",IF(C31=C30,INDEX(OFFSET(Cad!$N$12:$N$51,MATCH(C31,Cad!$O$12:$O$51,0),0),MATCH(C31,OFFSET(Cad!$O$12:$O$51,MATCH(C31,Cad!$O$12:$O$51,0),0),0),1),INDEX(Cad!$N$12:$N$51,MATCH(C31,Cad!$O$12:$O$51,0),1))),\"\")","v":"Aluguel"},null,{"$f":"IFERROR(IF(LARGE(Cad!$O$12:$O$51,D31)=0,\"\",LARGE(Cad!$O$12:$O$51,D31)),\"\")","v":2000},2]
[{"$f":"IFERROR(IF(C32=\"\",\"\",IF(C32=C31,INDEX(OFFSET(Cad!$N$12:$N$51,MATCH(C32,Cad!$O$12:$O$51,0),0),MATCH(C32,OFFSET(Cad!$O$12:$O$51,MATCH(C32,Cad!$O$12:$O$51,0),0),0),1),INDEX(Cad!$N$12:$N$51,MATCH(C32,Cad!$O$12:$O$51,0),1))),\"\")","v":"Marketing"},null,{"$f":"IFERROR(IF(LARGE(Cad!$O$12:$O$51,D32)=0,\"\",LARGE(Cad!$O$12:$O$51,D32)),\"\")","v":2000},3]
[{"$f":"IFERROR(IF(C33=\"\",\"\",IF(C33=C32,INDEX(OFFSET(Cad!$N$12:$N$51,MATCH(C33,Cad!$O$12:$O$51,0),0),MATCH(C33,OFFSET(Cad!$O$12:$O$51,MATCH(C33,Cad!$O$12:$O$51,0),0),0),1),INDEX(Cad!$N$12:$N$51,MATCH(C33,Cad!$O$12:$O$51,0),1))),\"\")","v":"Outros Custos"},null,{"$f":"IFERROR(IF(LARGE(Cad!$O$12:$O$51,D33)=0,\"\",LARGE(Cad!$O$12:$O$51,D33)),\"\")","v":1900},4]
[{"$f":"IFERROR(IF(C34=\"\",\"\",IF(C34=C33,INDEX(OFFSET(Cad!$N$12:$N$51,MATCH(C34,Cad!$O$12:$O$51,0),0),MATCH(C34,OFFSET(Cad!$O$12:$O$51,MATCH(C34,Cad!$O$12:$O$51,0),0),0),1),INDEX(Cad!$N$12:$N$51,MATCH(C34,Cad!$O$12:$O$51,0),1))),\"\")","v":"Empréstimos"},null,{"$f":"IFERROR(IF(LARGE(Cad!$O$12:$O$51,D34)=0,\"\",LARGE(Cad!$O$12:$O$51,D34)),\"\")","v":1350},5]
[{"$f":"IFERROR(IF(C35=\"\",\"\",IF(C35=C34,INDEX(OFFSET(Cad!$N$12:$N$51,MATCH(C35,Cad!$O$12:$O$51,0),0),MATCH(C35,OFFSET(Cad!$O$12:$O$51,MATCH(C35,Cad!$O$12:$O$51,0),0),0),1),INDEX(Cad!$N$12:$N$51,MATCH(C35,Cad!$O$12:$O$51,0),1))),\"\")","v":"Legais e Jurídicos"},null,{"$f":"IFERROR(IF(LARGE(Cad!$O$12:$O$51,D35)=0,\"\",LARGE(Cad!$O$12:$O$51,D35)),\"\")","v":980},6]
[{"$f":"IFERROR(IF(C36=\"\",\"\",IF(C36=C35,INDEX(OFFSET(Cad!$N$12:$N$51,MATCH(C36,Cad!$O$12:$O$51,0),0),MATCH(C36,OFFSET(Cad!$O$12:$O$51,MATCH(C36,Cad!$O$12:$O$51,0),0),0),1),INDEX(Cad!$N$12:$N$51,MATCH(C36,Cad!$O$12:$O$51,0),1))),\"\")","v":"Telefone e internet"},null,{"$f":"IFERROR(IF(LARGE(Cad!$O$12:$O$51,D36)=0,\"\",LARGE(Cad!$O$12:$O$51,D36)),\"\")","v":700},7]
[{"$f":"IFERROR(IF(C37=\"\",\"\",IF(C37=C36,INDEX(OFFSET(Cad!$N$12:$N$51,MATCH(C37,Cad!$O$12:$O$51,0),0),MATCH(C37,OFFSET(Cad!$O$12:$O$51,MATCH(C37,Cad!$O$12:$O$51,0),0),0),1),INDEX(Cad!$N$12:$N$51,MATCH(C37,Cad!$O$12:$O$51,0),1))),\"\")","v":"Taxa de propriedade (águal e luz)"},null,{"$f":"IFERROR(IF(LARGE(Cad!$O$12:$O$51,D37)=0,\"\",LARGE(Cad!$O$12:$O$51,D37)),\"\")","v":600},8]
[{"$f":"IFERROR(IF(C38=\"\",\"\",IF(C38=C37,INDEX(OFFSET(Cad!$N$12:$N$51,MATCH(C38,Cad!$O$12:$O$51,0),0),MATCH(C38,OFFSET(Cad!$O$12:$O$51,MATCH(C38,Cad!$O$12:$O$51,0),0),0),1),INDEX(Cad!$N$12:$N$51,MATCH(C38,Cad!$O$12:$O$51,0),1))),\"\")","v":""},null,{"$f":"IFERROR(IF(LARGE(Cad!$O$12:$O$51,D38)=0,\"\",LARGE(Cad!$O$12:$O$51,D38)),\"\")","v":""},9]
[{"$f":"IFERROR(IF(C39=\"\",\"\",IF(C39=C38,INDEX(OFFSET(Cad!$N$12:$N$51,MATCH(C39,Cad!$O$12:$O$51,0),0),MATCH(C39,OFFSET(Cad!$O$12:$O$51,MATCH(C39,Cad!$O$12:$O$51,0),0),0),1),INDEX(Cad!$N$12:$N$51,MATCH(C39,Cad!$O$12:$O$51,0),1))),\"\")","v":""},null,{"$f":"IFERROR(IF(LARGE(Cad!$O$12:$O$51,D39)=0,\"\",LARGE(Cad!$O$12:$O$51,D39)),\"\")","v":""},10]
[]
[]
[]
["Custos diretos",null,"Valor"]
[{"$f":"IFERROR(IF(C44=\"\",\"\",IF(C44=C43,INDEX(OFFSET('RC'!$B$11:$B$14,MATCH(C44,'RC'!$D$11:$D$14,0),0),MATCH(C44,OFFSET('RC'!$D$11:$D$14,MATCH(C44,'RC'!$D$11:$D$14,0),0),0),1),INDEX('RC'!$B$11:$B$14,MATCH(C44,'RC'!$D$11:$D$14,0),1))),\"\")","v":"Outros gastos"},null,{"$f":"IFERROR(IF(LARGE('RC'!$D$11:$E$14,D30)=0,\"\",LARGE('RC'!$D$11:$D$14,D30)),\"\")","v":900},1]
[{"$f":"IFERROR(IF(C45=\"\",\"\",IF(C45=C44,INDEX(OFFSET('RC'!$B$11:$B$14,MATCH(C45,'RC'!$D$11:$D$14,0),0),MATCH(C45,OFFSET('RC'!$D$11:$D$14,MATCH(C45,'RC'!$D$11:$D$14,0),0),0),1),INDEX('RC'!$B$11:$B$14,MATCH(C45,'RC'!$D$11:$D$14,0),1))),\"\")","v":"Materiais"},null,{"$f":"IFERROR(IF(LARGE('RC'!$D$11:$E$14,D31)=0,\"\",LARGE('RC'!$D$11:$D$14,D31)),\"\")","v":740},2]
[{"$f":"IFERROR(IF(C46=\"\",\"\",IF(C46=C45,INDEX(OFFSET('RC'!$B$11:$B$14,MATCH(C46,'RC'!$D$11:$D$14,0),0),MATCH(C46,OFFSET('RC'!$D$11:$D$14,MATCH(C46,'RC'!$D$11:$D$14,0),0),0),1),INDEX('RC'!$B$11:$B$14,MATCH(C46,'RC'!$D$11:$D$14,0),1))),\"\")","v":""},null,{"$f":"IFERROR(IF(LARGE('RC'!$D$11:$E$14,D32)=0,\"\",LARGE('RC'!$D$11:$D$14,D32)),\"\")","v":""},3]
[{"$f":"IFERROR(IF(C47=\"\",\"\",IF(C47=C46,INDEX(OFFSET('RC'!$B$11:$B$14,MATCH(C47,'RC'!$D$11:$D$14,0),0),MATCH(C47,OFFSET('RC'!$D$11:$D$14,MATCH(C47,'RC'!$D$11:$D$14,0),0),0),1),INDEX('RC'!$B$11:$B$14,MATCH(C47,'RC'!$D$11:$D$14,0),1))),\"\")","v":""},null,{"$f":"IFERROR(IF(LARGE('RC'!$D$11:$E$14,D33)=0,\"\",LARGE('RC'!$D$11:$D$14,D33)),\"\")","v":""},4]
[null,null,{"$f":"AVERAGE(C44:C47)","v":820},{"$f":"ROUND(C44/C48-1,2)","v":0.1}]
[]
[]
[]
["Qtd de concorrentes",null,{"$f":"COUNTA(AC!$B$11:$B$60)","v":5}]

{"sheet":"Instruções","index":10,"n_rows":0,"n_cols":0,"rows_kept":0,"cut":false,"hidden":false,"merged":[]}

{"sheet":"BaseProdutos","index":11,"n_rows":5000,"n_cols":97,"rows_kept":562,"cut":true,"hidden":false,"merged":[],"bounds":{"rows_first":250,"rows_last":62,"rows_between":250,"halvings":3}}
["Cod. Reg.","Serviço","Mao de Obra","A) Custo Materiais","B) Total Custos Adicionais","Impostos Recuperáveis","Impostos Não Recuperáveis","Fretes","Seguros","Substituição Tributária","Outros Custos","C) = A+B","D) Índice de Composição do Preço (%)","% Impostos Estaduais (ICMS)","% Impostos Municipais (ISS)","% Outros 1","% Outros 2","% Comissões","% Custo fixo","% Margem de Lucro","E) Taxa de Marcação Multiplicador","F) Cálculo do Preço de Venda","MP1","MP2","MP3","MP4","MP5","MP6","MP7","MP8","MP9","MP10","MP11","MP12","MP13","MP14","MP15","Qtde1","Qtde2","Qtde3","Qtde4","Qtde5","Qtde6","Qtde7","Qtde8","Qtde9","Qtde10","Qtde11","Qtde12","Qtde13","Qtde14","Qtde15","UnidMed1","UnidMed2","UnidMed3","UnidMed4","UnidMed5","UnidMed6","UnidMed7","UnidMed8","UnidMed9","UnidMed10","UnidMed11","UnidMed12","UnidMed13","UnidMed14","UnidMed15","ValorUnit1","ValorUnit2","ValorUnit3","ValorUnit4","ValorUnit5","ValorUnit6","ValorUnit7","ValorUnit8","ValorUnit9","ValorUnit10","ValorUnit11","ValorUnit12","ValorUnit13","ValorUnit14","ValorUnit15","ValorTotal1","ValorTotal2","ValorTotal3","ValorTotal4","ValorTotal5","ValorTotal6","ValorTotal7","ValorTotal8","ValorTotal9","ValorTotal10","ValorTotal11","ValorTotal12","ValorTotal13","ValorTotal14","ValorTotal15"]
[1,"Serviço 1",null,{"$f":"SUM(CE2:CS2)","v":350},{"$f":"SUM(F2:K2)","v":450},null,null,150,300,null,null,{"$f":"SUM(D2:E2)","v":800},{"$f":"SUM(N2:T2)","v":30},null,null,null,null,null,10,20,{"$f":"(100)/(100-M2)","v":1.4285714285714286},{"$f":"L2*U2","v":1142.8571428571429},"Material 2","Material 4",null,null,null,null,null,null,null,null,null,null,null,null,null,20,5,null,null,null,null,null,null,null,null,null,null,null,null,null,{"$f":"IFERROR(VLOOKUP(W2,CadMP!$B:$D,2,0),\"\")","v":"UN"},{"$f":"IFERROR(VLOOKUP(X2,CadMP!$B:$D,2,0),\"\")","v":"UN"},{"$f":"IFERROR(VLOOKUP(Y2,CadMP!$B:$D,2,0),\"\")","v":""},{"$f":"IFERROR(VLOOKUP(Z2,CadMP!$B:$D,2,0),\"\")","v":""},{"$f":"IFERROR(VLOOKUP(AA2,CadMP!$B:$D,2,0),\"\")","v":""},{"$f":"IFERROR(VLOOKUP(AB2,CadMP!$B:$D,2,0),\"\")","v":""},{"$f":"IFERROR(VLOOKUP(AC2,CadMP!$B:$D,2,0),\"\")","v":""},{"$f":"IFERROR(VLOOKUP(AD2,CadMP!$B:$D,2,0),\"\")","v":""},{"$f":"IFERROR(VLOOKUP(AE2,CadMP!$B:$D,2,0),\"\")","v":""},{"$f":"IFERROR(VLOOKUP(AF2,CadMP!$B:$D,2,0),\"\")","v":""},{"$f":"IFERROR(VLOOKUP(AG2,CadMP!$B:$D,2,0),\"\")","v":""},{"$f":"IFERROR(VLOOKUP(AH2,CadMP!$B:$D,2,0),\"\")","v":""},{"$f":"IFERROR(VLOOKUP(AI2,CadMP!$B:$D,2,0),\"\")","v":""},{"$f":"IFERROR(VLOOKUP(AJ2,CadMP!$B:$D,2,0),\"\")","v":""},{"$f":"IFERROR(VLOOKUP(AK2,CadMP!$B:$D,2,0),\"\")","v":""},{"$f":"IFERROR(VLOOKUP(W2,CadMP!$B:$D,3,0),\"\")","v":10},{"$f":"IFERROR(VLOOKUP(X2,CadMP!$B:$D,3,0),\"\")","v":30},{"$f":"IFERROR(VLOOKUP(Y2,CadMP!$B:$D,3,0),\"\")","v":""},{"$f":"IFERROR(VLOOKUP(Z2,CadMP!$B:$D,3,0),\"\")","v":""},{"$f":"IFERROR(VLOOKUP(AA2,CadMP!$B:$D,3,0),\"\")","v":""},{"$f":"IFERROR(VLOOKUP(AB2,CadMP!$B:$D,3,0),\"\")","v":""},{"$f":"IFERROR(VLOOKUP(AC2,CadMP!$B:$D,3,0),\"\")","v":""},{"$f":"IFERROR(VLOOKUP(AD2,CadMP!$B:$D,3,0),\"\")","v":""},{"$f":"IFERROR(VLOOKUP(AE2,CadMP!$B:$D,3,0),\"\")","v":""},{"$f":"IFERROR(VLOOKUP(AF2,CadMP!$B:$D,3,0),\"\")","v":""},{"$f":"IFERROR(VLOOKUP(AG2,CadMP!$B:$D,3,0),\"\")","v":""},{"$f":"IFERROR(VLOOKUP(AH2,CadMP!$B:$D,3,0),\"\")","v":""},{"$f":"IFERROR(VLOOKUP(AI2,CadMP!$B:$D,3,0),\"\")","v":""},{"$f":"IFERROR(VLOOKUP(AJ2,CadMP!$B:$D,3,0),\"\")","v":""},{"$f":"IFERROR(VLOOKUP(AK2,CadMP!$B:$D,3,0),\"\")","v":""},{"$f":"IFERROR(AL2*BP2,0)","v":200},{"$f":"IFERROR(AM2*BQ2,0)","v":150},{"$f":"IFERROR(AN2*BR2,0)","v":0},{"$f":"IFERROR(AO2*BS2,0)","v":0},{"$f":"IFERROR(AP2*BT2,0)","v":0},{"$f":"IFERROR(AQ2*BU2,0)","v":0},{"$f":"IFERROR(AR2*BV2,0)","v":0},{"$f":"IFERROR(AS2*BW2,0)","v":0},{"$f":"IFERROR(AT2*BX2,0)","v":0},{"$f":"IFERROR(AU2*BY2,0)","v":0},{"$f":"IFERROR(AV2*BZ2,0)","v":0},{"$f":"IFERROR(AW2*CA2,0)","v":0},{"$f":"IFERROR(AX2*CB2,0)","v":0},{"$f":"IFERROR(AY2*CC2,0)","v":0},{"$f":"IFERROR(AZ2*CD2,0)","v":0}]
[2,"Serviço 2",null,{"$f":"SUM(CE3:CS3)","v":390},{"$f":"SUM(F3:K3)","v":450},null,null,150,300,null,null,{"$f":"SUM(D3:E3)","v":840},{"$f":"SUM(N3:T3)","v":30},null,null,null,null,null,10,20,{"$f":"(100)/(100-M3)","v":1.4285714285714286},{"$f":"L3*U3","v":1200},"Material 2","Material 4","Material 3",null,null,null,null,null,null,null,null,null,null,null,null,20,5,2,null,null,null,null,null,null,null,null,null,null,null,null,{"$f":"IFERROR(VLOOKUP(W3,CadMP!$B:$D,2,0),\"\")","v":"UN"},{"$f":"IFERROR(VLOOKUP(X3,CadMP!$B:$D,2,0),\"\")","v":"UN"},{"$f":"IFERROR(VLOOKUP(Y3,CadMP!$B:$D,2,0),\"\")","v":"UN"},{"$f":"IFERROR(VLOOKUP(Z3,CadMP!$B:$D,2,0),\"\")","v":""},{"$f":"IFERROR(VLOOKUP(AA3,CadMP!$B:$D,2,0),\"\")","v":""},{"$f":"IFERROR(VLOOKUP(AB3,CadMP!$B:$D,2,0),\"\")","v":""},{"$f":"IFERROR(VLOOKUP(AC3,CadMP!$B:$D,2,0),\"\")","v":""},{"$f":"IFERROR(VLOOKUP(AD3,CadMP!$B:$D,2,0),\"\")","v":""},{"$f":"IFERROR(VLOOKUP(AE3,CadMP!$B:$D,2,0),\"\")","v":""},{"$f":"IFERROR(VLOOKUP(AF3,CadMP!$B:$D,2,0),\"\")","v":""},{"$f":"IFERROR(VLOOKUP(AG3,CadMP!$B:$D,2,0),\"\")","v":""},{"$f":"IFERROR(VLOOKUP(AH3,CadMP!$B:$D,2,0),\"\")","v":""},{"$f":"IFERROR(VLOOKUP(AI3,CadMP!$B:$D,2,0),\"\")","v":""},{"$f":"IFERROR(VLOOKUP(AJ3,CadMP!$B:$D,2,0),\"\")","v":""},{"$f":"IFERROR(VLOOKUP(AK3,CadMP!$B:$D,2,0),\"\")","v":""},{"$f":"IFERROR(VLOOKUP(W3,CadMP!$B:$D,3,0),\"\")","v":10},{"$f":"IFERROR(VLOOKUP(X3,CadMP!$B:$D,3,0),\"\")","v":30},{"$f":"IFERROR(VLOOKUP(Y3,CadMP!$B:$D,3,0),\"\")","v":20},{"$f":"IFERROR(VLOOKUP(Z3,CadMP!$B:$D,3,0),\"\")","v":""},{"$f":"IFERROR(VLOOKUP(AA3,CadMP!$B:$D,3,0),\"\")","v":""},{"$f":"IFERROR(VLOOKUP(AB3,CadMP!$B:$D,3,0),\"\")","v":""},{"$f":"IFERROR(VLOOKUP(AC3,CadMP!$B:$D,3,0),\"\")","v":""},{"$f":"IFERROR(VLOOKUP(AD3,CadMP!$B:$D,3,0),\"\")","v":""},{"$f":"IFERROR(VLOOKUP(AE3,CadMP!$B:$D,3,0),\"\")","v":""},{"$f":"IFERROR(VLOOKUP(AF3,CadMP!$B:$D,3,0),\"\")","v":""},{"$f":"IFERROR(VLOOKUP(AG3,CadMP!$B:$D,3,0),\"\")","v":""},{"$f":"IFERROR(VLOOKUP(AH3,CadMP!$B:$D,3,0),\"\")","v":""},{"$f":"IFERROR(VLOOKUP(AI3,CadMP!$B:$D,3,0),\"\")","v":""},{"$f":"IFERROR(VLOOKUP(AJ3,CadMP!$B:$D,3,0),\"\")","v":""},{"$f":"IFERROR(VLOOKUP(AK3,CadMP!$B:$D,3,0),\"\")","v":""},{"$f":"IFERROR(AL3*BP3,0)","v":200},{"$f":"IFERROR(AM3*BQ3,0)","v":150},{"$f":"IFERROR(AN3*BR3,0)","v":40},{"$f":"IFERROR(AO3*BS3,0)","v":0},{"$f":"IFERROR(AP3*BT3,0)","v":0},{"$f":"IFERROR(AQ3*BU3,0)","v":0},{"$f":"IFERROR(AR3*BV3,0)","v":0},{"$f":"IFERROR(AS3*BW3,0)","v":0},{"$f":"IFERROR(AT3*BX3,0)","v":0},{"$f":"IFERROR(AU3*BY3,0)","v":0},{"$f":"IFERROR(AV3*BZ3,0)","v":0},{"$f":"IFERROR(AW3*CA3,0)","v":0},{"$f":"IFERROR(AX3*CB3,0)","v":0},{"$f":"IFERROR(AY3*CC3,0)","v":0},{"$f":"IFERROR(AZ3*CD3,0)","v":0}]
[3,null,null,0,0,null,null,null,null,null,null,0,0,null,null,null,null,null,null,null,1,0,null,null,null,null,null,null,null,null,null,null,null,null,null,null,null,null,null,null,null,null,null,null,null,null,null,null,null,null,null,null,{"$f":"IFERROR(VLOOKUP(W4,CadMP!$B:$D,2,0),\"\")","v":""},{"$f":"IFERROR(VLOOKUP(X4,CadMP!$B:$D,2,0),\"\")","v":""},{"$f":"IFERROR(VLOOKUP(Y4,CadMP!$B:$D,2,0),\"\")","v":""},{"$f":"IFERROR(VLOOKUP(Z4,CadMP!$B:$D,2,0),\"\")","v":""},{"$f":"IFERROR(VLOOKUP(AA4,CadMP!$B:$D,2,0),\"\")","v":""},{"$f":"IFERROR(VLOOKUP(AB4,CadMP!$B:$D,2,0),\"\")","v":""},{"$f":"IFERROR(VLOOKUP(AC4,CadMP!$B:$D,2,0),\"\")","v":""},{"$f":"IFERROR(VLOOKUP(AD4,CadMP!$B:$D,2,0),\"\")","v":""},{"$f":"IFERROR(VLOOKUP(AE4,CadMP!$B:$D,2,0),\"\")","v":""},{"$f":"IFERROR(VLOOKUP(AF4,CadMP!$B:$D,2,0),\"\")","v":""},{"$f":"IFERROR(VLOOKUP(AG4,CadMP!$B:$D,2,0),\"\")","v":""},{"$f":"IFERROR(VLOOKUP(AH4,CadMP!$B:$D,2,0),\"\")","v":""},{"$f":"IFERROR(VLOOKUP(AI4,CadMP!$B:$D,2,0),\"\")","v":""},{"$f":"IFERROR(VLOOKUP(AJ4,CadMP!$B:$D,2,0),\"\")","v":""},{"$f":"IFERROR(VLOOKUP(AK4,CadMP!$B:$D,2,0),\"\")","v":""},{"$f":"IFERROR(VLOOKUP(W4,CadMP!$B:$D,3,0),\"\")","v":""},{"$f":"IFERROR(VLOOKUP(X4,CadMP!$B:$D,3,0),\"\")","v":""},{"$f":"IFERROR(VLOOKUP(Y4,CadMP!$B:$D,3,0),\"\")","v":""},{"$f":"IFERROR(VLOOKUP(Z4,CadMP!$B:$D,3,0),\"\")","v":""},{"$f":"IFERROR(VLOOKUP(AA4,CadMP!$B:$D,3,0),\"\")","v":""},{"$f":"IFERROR(VLOOKUP(AB4,CadMP!$B:$D,3,0),\"\")","v":""},{"$f":"IFERROR(VLOOKUP(AC4,CadMP!$B:$D,3,0),\"\")","v":""},{"$f":"IFERROR(VLOOKUP(AD4,CadMP!$B:$D,3,0),\"\")","v":""},{"$f":"IFERROR(VLOOKUP(AE4,CadMP!$B:$D,3,0),\"\")","v":""},{"$f":"IFERROR(VLOOKUP(AF4,CadMP!$B:$D,3,0),\"\")","v":""},{"$f":"IFERROR(VLOOKUP(AG4,CadMP!$B:$D,3,0),\"\")","v":""},{"$f":"IFERROR(VLOOKUP(AH4,CadMP!$B:$D,3,0),\"\")","v":""},{"$f":"IFERROR(VLOOKUP(AI4,CadMP!$B:$D,3,0),\"\")","v":""},{"$f":"IFERROR(VLOOKUP(AJ4,CadMP!$B:$D,3,0),\"\")","v":""},{"$f":"IFERROR(VLOOKUP(AK4,CadMP!$B:$D,3,0),\"\")","v":""},0,0,0,0,0,0,0,0,0,0,0,0,0,0,0]
[4,null,null,0,0,null,null,null,null,null,null,0,0,null,null,null,null,null,null,null,1,0,null,null,null,null,null,null,null,null,null,null,null,null,null,null,null,null,null,null,null,null,null,null,null,null,null,null,null,null,null,null,{"$f":"IFERROR(VLOOKUP(W5,CadMP!$B:$D,2,0),\"\")","v":""},{"$f":"IFERROR(VLOOKUP(X5,CadMP!$B:$D,2,0),\"\")","v":""},{"$f":"IFERROR(VLOOKUP(Y5,CadMP!$B:$D,2,0),\"\")","v":""},{"$f":"IFERROR(VLOOKUP(Z5,CadMP!$B:$D,2,0),\"\")","v":""},{"$f":"IFERROR(VLOOKUP(AA5,CadMP!$B:$D,2,0),\"\")","v":""},{"$f":"IFERROR(VLOOKUP(AB5,CadMP!$B:$D,2,0),\"\")","v":""},{"$f":"IFERROR(VLOOKUP(AC5,CadMP!$B:$D,2,0),\"\")","v":""},{"$f":"IFERROR(VLOOKUP(AD5,CadMP!$B:$D,2,0),\"\")","v":""},{"$f":"IFERROR(VLOOKUP(AE5,CadMP!$B:$D,2,0),\"\")","v":""},{"$f":"IFERROR(VLOOKUP(AF5,CadMP!$B:$D,2,0),\"\")","v":""},{"$f":"IFERROR(VLOOKUP(AG5,CadMP!$B:$D,2,0),\"\")","v":""},{"$f":"IFERROR(VLOOKUP(AH5,CadMP!$B:$D,2,0),\"\")","v":""},{"$f":"IFERROR(VLOOKUP(AI5,CadMP!$B:$D,2,0),\"\")","v":""},{"$f":"IFERROR(VLOOKUP(AJ5,CadMP!$B:$D,2,0),\"\")","v":""},{"$f":"IFERROR(VLOOKUP(AK5,CadMP!$B:$D,2,0),\"\")","v":""},{"$f":"IFERROR(VLOOKUP(W5,CadMP!$B:$D,3,0),\"\")","v":""},{"$f":"IFERROR(VLOOKUP(X5,CadMP!$B:$D,3,0),\"\")","v":""},{"$f":"IFERROR(VLOOKUP(Y5,CadMP!$B:$D,3,0),\"\")","v":""},{"$f":"IFERROR(VLOOKUP(Z5,CadMP!$B:$D,3,0),\"\")","v":""},{"$f":"IFERROR(VLOOKUP(AA5,CadMP!$B:$D,3,0),\"\")","v":""},{"$f":"IFERROR(VLOOKUP(AB5,CadMP!$B:$D,3,0),\"\")","v":""},{"$f":"IFERROR(VLOOKUP(AC5,CadMP!$B:$D,3,0),\"\")","v":""},{"$f":"IFERROR(VLOOKUP(AD5,CadMP!$B:$D,3,0),\"\")","v":""},{"$f":"IFERROR(VLOOKUP(AE5,CadMP!$B:$D,3,0),\"\")","v":""},{"$f":"IFERROR(VLOOKUP(AF5,CadMP!$B:$D,3,0),\"\")","v":""},{"$f":"IFERROR(VLOOKUP(AG5,CadMP!$B:$D,3,0),\"\")","v":""},{"$f":"IFERROR(VLOOKUP(AH5,CadMP!$B:$D,3,0),\"\")","v":""},{"$f":"IFERROR(VLOOKUP(AI5,CadMP!$B:$D,3,0),\"\")","v":""},{"$f":"IFERROR(VLOOKUP(AJ5,CadMP!$B:$D,3,0),\"\")","v":""},{"$f":"IFERROR(VLOOKUP(AK5,CadMP!$B:$D,3,0),\"\")","v":""},0,0,0,0,0,0,0,0,0,0,0,0,0,0,0]
[5,null,null,0,0,null,null,null,null,null,null,0,0,null,null,null,null,null,null,null,1,0,null,null,null,null,null,null,null,null,null,null,null,null,null,null,null,null,null,null,null,null,null,null,null,null,null,null,null,null,null,null,{"$f":"IFERROR(VLOOKUP(W6,CadMP!$B:$D,2,0),\"\")","v":""},{"$f":"IFERROR(VLOOKUP(X6,CadMP!$B:$D,2,0),\"\")","v":""},{"$f":"IFERROR(VLOOKUP(Y6,CadMP!$B:$D,2,0),\"\")","v":""},{"$f":"IFERROR(VLOOKUP(Z6,CadMP!$B:$D,2,0),\"\")","v":""},{"$f":"IFERROR(VLOOKUP(AA6,CadMP!$B:$D,2,0),\"\")","v":""},{"$f":"IFERROR(VLOOKUP(AB6,CadMP!$B:$D,2,0),\"\")","v":""},{"$f":"IFERROR(VLOOKUP(AC6,CadMP!$B:$D,2,0),\"\")","v":""},{"$f":"IFERROR(VLOOKUP(AD6,CadMP!$B:$D,2,0),\"\")","v":""},{"$f":"IFERROR(VLOOKUP(AE6,CadMP!$B:$D,2,0),\"\")","v":""},{"$f":"IFERROR(VLOOKUP(AF6,CadMP!$B:$D,2,0),\"\")","v":""},{"$f":"IFERROR(VLOOKUP(AG6,CadMP!$B:$D,2,0),\"\")","v":""},{"$f":"IFERROR(VLOOKUP(AH6,CadMP!$B:$D,2,0),\"\")","v":""},{"$f":"IFERROR(VLOOKUP(AI6,CadMP!$B:$D,2,0),\"\")","v":""},{"$f":"IFERROR(VLOOKUP(AJ6,CadMP!$B:$D,2,0),\"\")","v":""},{"$f":"IFERROR(VLOOKUP(AK6,CadMP!$B:$D,2,0),\"\")","v":""},{"$f":"IFERROR(VLOOKUP(W6,CadMP!$B:$D,3,0),\"\")","v":""},{"$f":"IFERROR(VLOOKUP(X6,CadMP!$B:$D,3,0),\"\")","v":""},{"$f":"IFERROR(VLOOKUP(Y6,CadMP!$B:$D,3,0),\"\")","v":""},{"$f":"IFERROR(VLOOKUP(Z6,CadMP!$B:$D,3,0),\"\")","v":""},{"$f":"IFERROR(VLOOKUP(AA6,CadMP!$B:$D,3,0),\"\")","v":""},{"$f":"IFERROR(VLOOKUP(AB6,CadMP!$B:$D,3,0),\"\")","v":""},{"$f":"IFERROR(VLOOKUP(AC6,CadMP!$B:$D,3,0),\"\")","v":""},{"$f":"IFERROR(VLOOKUP(AD6,CadMP!$B:$D,3,0),\"\")","v":""},{"$f":"IFERROR(VLOOKUP(AE6,CadMP!$B:$D,3,0),\"\")","v":""},{"$f":"IFERROR(VLOOKUP(AF6,CadMP!$B:$D,3,0),\"\")","v":""},{"$f":"IFERROR(VLOOKUP(AG6,CadMP!$B:$D,3,0),\"\")","v":""},{"$f":"IFERROR(VLOOKUP(AH6,CadMP!$B:$D,3,0),\"\")","v":""},{"$f":"IFERROR(VLOOKUP(AI6,CadMP!$B:$D,3,0),\"\")","v":""},{"$f":"IFERROR(VLOOKUP(AJ6,CadMP!$B:$D,3,0),\"\")","v":""},{"$f":"IFERROR(VLOOKUP(AK6,CadMP!$B:$D,3,0),\"\")","v":""},0,0,0,0,0,0,0,0,0,0,0,0,0,0,0]
[6,null,null,0,0,null,null,null,null,null,null,0,0,null,null,null,null,null,null,null,1,0,null,null,null,null,null,null,null,null,null,null,null,null,null,null,null,null,null,null,null,null,null,null,null,null,null,null,null,null,null,null,{"$f":"IFERROR(VLOOKUP(W7,CadMP!$B:$D,2,0),\"\")","v":""},{"$f":"IFERROR(VLOOKUP(X7,CadMP!$B:$D,2,0),\"\")","v":""},{"$f":"IFERROR(VLOOKUP(Y7,CadMP!$B:$D,2,0),\"\")","v":""},{"$f":"IFERROR(VLOOKUP(Z7,CadMP!$B:$D,2,0),\"\")","v":""},{"$f":"IFERROR(VLOOKUP(AA7,CadMP!$B:$D,2,0),\"\")","v":""},{"$f":"IFERROR(VLOOKUP(AB7,CadMP!$B:$D,2,0),\"\")","v":""},{"$f":"IFERROR(VLOOKUP(AC7,CadMP!$B:$D,2,0),\"\")","v":""},{"$f":"IFERROR(VLOOKUP(AD7,CadMP!$B:$D,2,0),\"\")","v":""},{"$f":"IFERROR(VLOOKUP(AE7,CadMP!$B:$D,2,0),\"\")","v":""},{"$f":"IFERROR(VLOOKUP(AF7,CadMP!$B:$D,2,0),\"\")","v":""},{"$f":"IFERROR(VLOOKUP(AG7,CadMP!$B:$D,2,0),\"\")","v":""},{"$f":"IFERROR(VLOOKUP(AH7,CadMP!$B:$D,2,0),\"\")","v":""},{"$f":"IFERROR(VLOOKUP(AI7,CadMP!$B:$D,2,0),\"\")","v":""},{"$f":"IFERROR(VLOOKUP(AJ7,CadMP!$B:$D,2,0),\"\")","v":""},{"$f":"IFERROR(VLOOKUP(AK7,CadMP!$B:$D,2,0),\"\")","v":""},{"$f":"IFERROR(VLOOKUP(W7,CadMP!$B:$D,3,0),\"\")","v":""},{"$f":"IFERROR(VLOOKUP(X7,CadMP!$B:$D,3,0),\"\")","v":""},{"$f":"IFERROR(VLOOKUP(Y7,CadMP!$B:$D,3,0),\"\")","v":""},{"$f":"IFERROR(VLOOKUP(Z7,CadMP!$B:$D,3,0),\"\")","v":""},{"$f":"IFERROR(VLOOKUP(AA7,CadMP!$B:$D,3,0),\"\")","v":""},{"$f":"IFERROR(VLOOKUP(AB7,CadMP!$B:$D,3,0),\"\")","v":""},{"$f":"IFERROR(VLOOKUP(AC7,CadMP!$B:$D,3,0),\"\")","v":""},{"$f":"IFERROR(VLOOKUP(AD7,CadMP!$B:$D,3,0),\"\")","v":""},{"$f":"IFERROR(VLOOKUP(AE7,CadMP!$B:$D,3,0),\"\")","v":""},{"$f":"IFERROR(VLOOKUP(AF7,CadMP!$B:$D,3,0),\"\")","v":""},{"$f":"IFERROR(VLOOKUP(AG7,CadMP!$B:$D,3,0),\"\")","v":""},{"$f":"IFERROR(VLOOKUP(AH7,CadMP!$B:$D,3,0),\"\")","v":""},{"$f":"IFERROR(VLOOKUP(AI7,CadMP!$B:$D,3,0),\"\")","v":""},{"$f":"IFERROR(VLOOKUP(AJ7,CadMP!$B:$D,3,0),\"\")","v":""},{"$f":"IFERROR(VLOOKUP(AK7,CadMP!$B:$D,3,0),\"\")","v":""},0,0,0,0,0,0,0,0,0,0,0,0,0,0,0]
[7,null,null,0,0,null,null,null,null,null,null,0,0,null,null,null,null,null,null,null,1,0,null,null,null,null,null,null,null,null,null,null,null,null,null,null,null,null,null,null,null,null,null,null,null,null,null,null,null,null,null,null,{"$f":"IFERROR(VLOOKUP(W8,CadMP!$B:$D,2,0),\"\")","v":""},{"$f":"IFERROR(VLOOKUP(X8,CadMP!$B:$D,2,0),\"\")","v":""},{"$f":"IFERROR(VLOOKUP(Y8,CadMP!$B:$D,2,0),\"\")","v":""},{"$f":"IFERROR(VLOOKUP(Z8,CadMP!$B:$D,2,0),\"\")","v":""},{"$f":"IFERROR(VLOOKUP(AA8,CadMP!$B:$D,2,0),\"\")","v":""},{"$f":"IFERROR(VLOOKUP(AB8,CadMP!$B:$D,2,0),\"\")","v":""},{"$f":"IFERROR(VLOOKUP(AC8,CadMP!$B:$D,2,0),\"\")","v":""},{"$f":"IFERROR(VLOOKUP(AD8,CadMP!$B:$D,2,0),\"\")","v":""},{"$f":"IFERROR(VLOOKUP(AE8,CadMP!$B:$D,2,0),\"\")","v":""},{"$f":"IFERROR(VLOOKUP(AF8,CadMP!$B:$D,2,0),\"\")","v":""},{"$f":"IFERROR(VLOOKUP(AG8,CadMP!$B:$D,2,0),\"\")","v":""},{"$f":"IFERROR(VLOOKUP(AH8,CadMP!$B:$D,2,0),\"\")","v":""},{"$f":"IFERROR(VLOOKUP(AI8,CadMP!$B:$D,2,0),\"\")","v":""},{"$f":"IFERROR(VLOOKUP(AJ8,CadMP!$B:$D,2,0),\"\")","v":""},{"$f":"IFERROR(VLOOKUP(AK8,CadMP!$B:$D,2,0),\"\")","v":""},{"$f":"IFERROR(VLOOKUP(W8,CadMP!$B:$D,3,0),\"\")","v":""},{"$f":"IFERROR(VLOOKUP(X8,CadMP!$B:$D,3,0),\"\")","v":""},{"$f":"IFERROR(VLOOKUP(Y8,CadMP!$B:$D,3,0),\"\")","v":""},{"$f":"IFERROR(VLOOKUP(Z8,CadMP!$B:$D,3,0),\"\")","v":""},{"$f":"IFERROR(VLOOKUP(AA8,CadMP!$B:$D,3,0),\"\")","v":""},{"$f":"IFERROR(VLOOKUP(AB8,CadMP!$B:$D,3,0),\"\")","v":""},{"$f":"IFERROR(VLOOKUP(AC8,CadMP!$B:$D,3,0),\"\")","v":""},{"$f":"IFERROR(VLOOKUP(AD8,CadMP!$B:$D,3,0),\"\")","v":""},{"$f":"IFERROR(VLOOKUP(AE8,CadMP!$B:$D,3,0),\"\")","v":""},{"$f":"IFERROR(VLOOKUP(AF8,CadMP!$B:$D,3,0),\"\")","v":""},{"$f":"IFERROR(VLOOKUP(AG8,CadMP!$B:$D,3,0),\"\")","v":""},{"$f":"IFERROR(VLOOKUP(AH8,CadMP!$B:$D,3,0),\"\")","v":""},{"$f":"IFERROR(VLOOKUP(AI8,CadMP!$B:$D,3,0),\"\")","v":""},{"$f":"IFERROR(VLOOKUP(AJ8,CadMP!$B:$D,3,0),\"\")","v":""},{"$f":"IFERROR(VLOOKUP(AK8,CadMP!$B:$D,3,0),\"\")","v":""},0,0,0,0,0,0,0,0,0,0,0,0,0,0,0]
[8,null,null,0,0,null,null,null,null,null,null,0,0,null,null,null,null,null,null,null,1,0,null,null,null,null,null,null,null,null,null,null,null,null,null,null,null,null,null,null,null,null,null,null,null,null,null,null,null,null,null,null,{"$f":"IFERROR(VLOOKUP(W9,CadMP!$B:$D,2,0),\"\")","v":""},{"$f":"IFERROR(VLOOKUP(X9,CadMP!$B:$D,2,0),\"\")","v":""},{"$f":"IFERROR(VLOOKUP(Y9,CadMP!$B:$D,2,0),\"\")","v":""},{"$f":"IFERROR(VLOOKUP(Z9,CadMP!$B:$D,2,0),\"\")","v":""},{"$f":"IFERROR(VLOOKUP(AA9,CadMP!$B:$D,2,0),\"\")","v":""},{"$f":"IFERROR(VLOOKUP(AB9,CadMP!$B:$D,2,0),\"\")","v":""},{"$f":"IFERROR(VLOOKUP(AC9,CadMP!$B:$D,2,0),\"\")","v":""},{"$f":"IFERROR(VLOOKUP(AD9,CadMP!$B:$D,2,0),\"\")","v":""},{"$f":"IFERROR(VLOOKUP(AE9,CadMP!$B:$D,2,0),\"\")","v":""},{"$f":"IFERROR(VLOOKUP(AF9,CadMP!$B:$D,2,0),\"\")","v":""},{"$f":"IFERROR(VLOOKUP(AG9,CadMP!$B:$D,2,0),\"\")","v":""},{"$f":"IFERROR(VLOOKUP(AH9,CadMP!$B:$D,2,0),\"\")","v":""},{"$f":"IFERROR(VLOOKUP(AI9,CadMP!$B:$D,2,0),\"\")","v":""},{"$f":"IFERROR(VLOOKUP(AJ9,CadMP!$B:$D,2,0),\"\")","v":""},{"$f":"IFERROR(VLOOKUP(AK9,CadMP!$B:$D,2,0),\"\")","v":""},{"$f":"IFERROR(VLOOKUP(W9,CadMP!$B:$D,3,0),\"\")","v":""},{"$f":"IFERROR(VLOOKUP(X9,CadMP!$B:$D,3,0),\"\")","v":""},{"$f":"IFERROR(VLOOKUP(Y9,CadMP!$B:$D,3,0),\"\")","v":""},{"$f":"IFERROR(VLOOKUP(Z9,CadMP!$B:$D,3,0),\"\")","v":""},{"$f":"IFERROR(VLOOKUP(AA9,CadMP!$B:$D,3,0),\"\")","v":""},{"$f":"IFERROR(VLOOKUP(AB9,CadMP!$B:$D,3,0),\"\")","v":""},{"$f":"IFERROR(VLOOKUP(AC9,CadMP!$B:$D,3,0),\"\")","v":""},{"$f":"IFERROR(VLOOKUP(AD9,CadMP!$B:$D,3,0),\"\")","v":""},{"$f":"IFERROR(VLOOKUP(AE9,CadMP!$B:$D,3,0),\"\")","v":""},{"$f":"IFERROR(VLOOKUP(AF9,CadMP!$B:$D,3,0),\"\")","v":""},{"$f":"IFERROR(VLOOKUP(AG9,CadMP!$B:$D,3,0),\"\")","v":""},{"$f":"IFERROR(VLOOKUP(AH9,CadMP!$B:$D,3,0),\"\")","v":""},{"$f":"IFERROR(VLOOKUP(AI9,CadMP!$B:$D,3,0),\"\")","v":""},{"$f":"IFERROR(VLOOKUP(AJ9,CadMP!$B:$D,3,0),\"\")","v":""},{"$f":"IFERROR(VLOOKUP(AK9,CadMP!$B:$D,3,0),\"\")","v":""},0,0,0,0,0,0,0,0,0,0,0,0,0,0,0]
[9,null,null,0,0,null,null,null,null,null,null,0,0,null,null,null,null,null,null,null,1,0,null,null,null,null,null,null,null,null,null,null,null,null,null,null,null,null,null,null,null,null,null,null,null,null,null,null,null,null,null,null,{"$f":"IFERROR(VLOOKUP(W10,CadMP!$B:$D,2,0),\"\")","v":""},{"$f":"IFERROR(VLOOKUP(X10,CadMP!$B:$D,2,0),\"\")","v":""},{"$f":"IFERROR(VLOOKUP(Y10,CadMP!$B:$D,2,0),\"\")","v":""},{"$f":"IFERROR(VLOOKUP(Z10,CadMP!$B:$D,2,0),\"\")","v":""},{"$f":"IFERROR(VLOOKUP(AA10,CadMP!$B:$D,2,0),\"\")","v":""},{"$f":"IFERROR(VLOOKUP(AB10,CadMP!$B:$D,2,0),\"\")","v":""},{"$f":"IFERROR(VLOOKUP(AC10,CadMP!$B:$D,2,0),\"\")","v":""},{"$f":"IFERROR(VLOOKUP(AD10,CadMP!$B:$D,2,0),\"\")","v":""},{"$f":"IFERROR(VLOOKUP(AE10,CadMP!$B:$D,2,0),\"\")","v":""},{"$f":"IFERROR(VLOOKUP(AF10,CadMP!$B:$D,2,0),\"\")","v":""},{"$f":"IFERROR(VLOOKUP(AG10,CadMP!$B:$D,2,0),\"\")","v":""},{"$f":"IFERROR(VLOOKUP(AH10,CadMP!$B:$D,2,0),\"\")","v":""},{"$f":"IFERROR(VLOOKUP(AI10,CadMP!$B:$D,2,0),\"\")","v":""},{"$f":"IFERROR(VLOOKUP(AJ10,CadMP!$B:$D,2,0),\"\")","v":""},{"$f":"IFERROR(VLOOKUP(AK10,CadMP!$B:$D,2,0),\"\")","v":""},{"$f":"IFERROR(VLOOKUP(W10,CadMP!$B:$D,3,0),\"\")","v":""},{"$f":"IFERROR(VLOOKUP(X10,CadMP!$B:$D,3,0),\"\")","v":""},{"$f":"IFERROR(VLOOKUP(Y10,CadMP!$B:$D,3,0),\"\")","v":""},{"$f":"IFERROR(VLOOKUP(Z10,CadMP!$B:$D,3,0),\"\")","v":""},{"$f":"IFERROR(VLOOKUP(AA10,CadMP!$B:$D,3,0),\"\")","v":""},{"$f":"IFERROR(VLOOKUP(AB10,CadMP!$B:$D,3,0),\"\")","v":""},{"$f":"IFERROR(VLOOKUP(AC10,CadMP!$B:$D,3,0),\"\")","v":""},{"$f":"IFERROR(VLOOKUP(AD10,CadMP!$B:$D,3,0),\"\")","v":""},{"$f":"IFERROR(VLOOKUP(AE10,CadMP!$B:$D,3,0),\"\")","v":""},{"$f":"IFERROR(VLOOKUP(AF10,CadMP!$B:$D,3,0),\"\")","v":""},{"$f":"IFERROR(VLOOKUP(AG10,CadMP!$B:$D,3,0),\"\")","v":""},{"$f":"IFERROR(VLOOKUP(AH10,CadMP!$B:$D,3,0),\"\")","v":""},{"$f":"IFERROR(VLOOKUP(AI10,CadMP!$B:$D,3,0),\"\")","v":""},{"$f":"IFERROR(VLOOKUP(AJ10,CadMP!$B:$D,3,0),\"\")","v":""},{"$f":"IFERROR(VLOOKUP(AK10,CadMP!$B:$D,3,0),\"\")","v":""},0,0,0,0,0,0,0,0,0,0,0,0,0,0,0]
[10,null,null,0,0,null,null,null,null,null,null,0,0,null,null,null,null,null,null,null,1,0,null,null,null,null,null,null,null,null,null,null,null,null,null,null,null,null,null,null,null,null,null,null,null,null,null,null,null,null,null,null,{"$f":"IFERROR(VLOOKUP(W11,CadMP!$B:$D,2,0),\"\")","v":""},{"$f":"IFERROR(VLOOKUP(X11,CadMP!$B:$D,2,0),\"\")","v":""},{"$f":"IFERROR(VLOOKUP(Y11,CadMP!$B:$D,2,0),\"\")","v":""},{"$f":"IFERROR(VLOOKUP(Z11,CadMP!$B:$D,2,0),\"\")","v":""},{"$f":"IFERROR(VLOOKUP(AA11,CadMP!$B:$D,2,0),\"\")","v":""},{"$f":"IFERROR(VLOOKUP(AB11,CadMP!$B:$D,2,0),\"\")","v":""},{"$f":"IFERROR(VLOOKUP(AC11,CadMP!$B:$D,2,0),\"\")","v":""},{"$f":"IFERROR(VLOOKUP(AD11,CadMP!$B:$D,2,0),\"\")","v":""},{"$f":"IFERROR(VLOOKUP(AE11,CadMP!$B:$D,2,0),\"\")","v":""},{"$f":"IFERROR(VLOOKUP(AF11,CadMP!$B:$D,2,0),\"\")","v":""},{"$f":"IFERROR(VLOOKUP(AG11,CadMP!$B:$D,2,0),\"\")","v":""},{"$f":"IFERROR(VLOOKUP(AH11,CadMP!$B:$D,2,0),\"\")","v":""},{"$f":"IFERROR(VLOOKUP(AI11,CadMP!$B:$D,2,0),\"\")","v":""},{"$f":"IFERROR(VLOOKUP(AJ11,CadMP!$B:$D,2,0),\"\")","v":""},{"$f":"IFERROR(VLOOKUP(AK11,CadMP!$B:$D,2,0),\"\")","v":""},{"$f":"IFERROR(VLOOKUP(W11,CadMP!$B:$D,3,0),\"\")","v":""},{"$f":"IFERROR(VLOOKUP(X11,CadMP!$B:$D,3,0),\"\")","v":""},{"$f":"IFERROR(VLOOKUP(Y11,CadMP!$B:$D,3,0),\"\")","v":""},{"$f":"IFERROR(VLOOKUP(Z11,CadMP!$B:$D,3,0),\"\")","v":""},{"$f":"IFERROR(VLOOKUP(AA11,CadMP!$B:$D,3,0),\"\")","v":""},{"$f":"IFERROR(VLOOKUP(AB11,CadMP!$B:$D,3,0),\"\")","v":""},{"$f":"IFERROR(VLOOKUP(AC11,CadMP!$B:$D,3,0),\"\")","v":""},{"$f":"IFERROR(VLOOKUP(AD11,CadMP!$B:$D,3,0),\"\")","v":""},{"$f":"IFERROR(VLOOKUP(AE11,CadMP!$B:$D,3,0),\"\")","v":""},{"$f":"IFERROR(VLOOKUP(AF11,CadMP!$B:$D,3,0),\"\")","v":""},{"$f":"IFERROR(VLOOKUP(AG11,CadMP!$B:$D,3,0),\"\")","v":""},{"$f":"IFERROR(VLOOKUP(AH11,CadMP!$B:$D,3,0),\"\")","v":""},{"$f":"IFERROR(VLOOKUP(AI11,CadMP!$B:$D,3,0),\"\")","v":""},{"$f":"IFERROR(VLOOKUP(AJ11,CadMP!$B:$D,3,0),\"\")","v":""},{"$f":"IFERROR(VLOOKUP(AK11,CadMP!$B:$D,3,0),\"\")","v":""},0,0,0,0,0,0,0,0,0,0,0,0,0,0,0]
[11,null,null,0,0,null,null,null,null,null,null,0,0,null,null,null,null,null,null,null,1,0,null,null,null,null,null,null,null,null,null,null,null,null,null,null,null,null,null,null,null,null,null,null,null,null,null,null,null,null,null,null,{"$f":"IFERROR(VLOOKUP(W12,CadMP!$B:$D,2,0),\"\")","v":""},{"$f":"IFERROR(VLOOKUP(X12,CadMP!$B:$D,2,0),\"\")","v":""},{"$f":"IFERROR(VLOOKUP(Y12,CadMP!$B:$D,2,0),\"\")","v":""},{"$f":"IFERROR(VLOOKUP(Z12,CadMP!$B:$D,2,0),\"\")","v":""},{"$f":"IFERROR(VLOOKUP(AA12,CadMP!$B:$D,2,0),\"\")","v":""},{"$f":"IFERROR(VLOOKUP(AB12,CadMP!$B:$D,2,0),\"\")","v":""},{"$f":"IFERROR(VLOOKUP(AC12,CadMP!$B:$D,2,0),\"\")","v":""},{"$f":"IFERROR(VLOOKUP(AD12,CadMP!$B:$D,2,0),\"\")","v":""},{"$f":"IFERROR(VLOOKUP(AE12,CadMP!$B:$D,2,0),\"\")","v":""},{"$f":"IFERROR(VLOOKUP(AF12,CadMP!$B:$D,2,0),\"\")","v":""},{"$f":"IFERROR(VLOOKUP(AG12,CadMP!$B:$D,2,0),\"\")","v":""},{"$f":"IFERROR(VLOOKUP(AH12,CadMP!$B:$D,2,0),\"\")","v":""},{"$f":"IFERROR(VLOOKUP(AI12,CadMP!$B:$D,2,0),\"\")","v":""},{"$f":"IFERROR(VLOOKUP(AJ12,CadMP!$B:$D,2,0),\"\")","v":""},{"$f":"IFERROR(VLOOKUP(AK12,CadMP!$B:$D,2,0),\"\")","v":""},{"$f":"IFERROR(VLOOKUP(W12,CadMP!$B:$D,3,0),\"\")","v":""},{"$f":"IFERROR(VLOOKUP(X12,CadMP!$B:$D,3,0),\"\")","v":""},{"$f":"IFERROR(VLOOKUP(Y12,CadMP!$B:$D,3,0),\"\")","v":""},{"$f":"IFERROR(VLOOKUP(Z12,CadMP!$B:$D,3,0),\"\")","v":""},{"$f":"IFERROR(VLOOKUP(AA12,CadMP!$B:$D,3,0),\"\")","v":""},{"$f":"IFERROR(VLOOKUP(AB12,CadMP!$B:$D,3,0),\"\")","v":""},{"$f":"IFERROR(VLOOKUP(AC12,CadMP!$B:$D,3,0),\"\")","v":""},{"$f":"IFERROR(VLOOKUP(AD12,CadMP!$B:$D,3,0),\"\")","v":""},{"$f":"IFERROR(VLOOKUP(AE12,CadMP!$B:$D,3,0),\"\")","v":""},{"$f":"IFERROR(VLOOKUP(AF12,CadMP!$B:$D,3,0),\"\")","v":""},{"$f":"IFERROR(VLOOKUP(AG12,CadMP!$B:$D,3,0),\"\")","v":""},{"$f":"IFERROR(VLOOKUP(AH12,CadMP!$B:$D,3,0),\"\")","v":""},{"$f":"IFERROR(VLOOKUP(AI12,CadMP!$B:$D,3,0),\"\")","v":""},{"$f":"IFERROR(VLOOKUP(AJ12,CadMP!$B:$D,3,0),\"\")","v":""},{"$f":"IFERROR(VLOOKUP(AK12,CadMP!$B:$D,3,0),\"\")","v":""},0,0,0,0,0,0,0,0,0,0,0,0,0,0,0]
[12,null,null,0,0,null,null,null,null,null,null,0,0,null,null,null,null,null,null,null,1,0,null,null,null,null,null,null,null,null,null,null,null,null,null,null,null,null,null,null,null,null,null,null,null,null,null,null,null,null,null,null,{"$f":"IFERROR(VLOOKUP(W13,CadMP!$B:$D,2,0),\"\")","v":""},{"$f":"IFERROR(VLOOKUP(X13,CadMP!$B:$D,2,0),\"\")","v":""},{"$f":"IFERROR(VLOOKUP(Y13,CadMP!$B:$D,2,0),\"\")","v":""},{"$f":"IFERROR(VLOOKUP(Z13,CadMP!$B:$D,2,0),\"\")","v":""},{"$f":"IFERROR(VLOOKUP(AA13,CadMP!$B:$D,2,0),\"\")","v":""},{"$f":"IFERROR(VLOOKUP(AB13,CadMP!$B:$D,2,0),\"\")","v":""},{"$f":"IFERROR(VLOOKUP(AC13,CadMP!$B:$D,2,0),\"\")","v":""},{"$f":"IFERROR(VLOOKUP(AD13,CadMP!$B:$D,2,0),\"\")","v":""},{"$f":"IFERROR(VLOOKUP(AE13,CadMP!$B:$D,2,0),\"\")","v":""},{"$f":"IFERROR(VLOOKUP(AF13,CadMP!$B:$D,2,0),\"\")","v":""},{"$f":"IFERROR(VLOOKUP(AG13,CadMP!$B:$D,2,0),\"\")","v":""},{"$f":"IFERROR(VLOOKUP(AH13,CadMP!$B:$D,2,0),\"\")","v":""},{"$f":"IFERROR(VLOOKUP(AI13,CadMP!$B:$D,2,0),\"\")","v":""},{"$f":"IFERROR(VLOOKUP(AJ13,CadMP!$B:$D,2,0),\"\")","v":""},{"$f":"IFERROR(VLOOKUP(AK13,CadMP!$B:$D,2,0),\"\")","v":""},{"$f":"IFERROR(VLOOKUP(W13,CadMP!$B:$D,3,0),\"\")","v":""},{"$f":"IFERROR(VLOOKUP(X13,CadMP!$B:$D,3,0),\"\")","v":""},{"$f":"IFERROR(VLOOKUP(Y13,CadMP!$B:$D,3,0),\"\")","v":""},{"$f":"IFERROR(VLOOKUP(Z13,CadMP!$B:$D,3,0),\"\")","v":""},{"$f":"IFERROR(VLOOKUP(AA13,CadMP!$B:$D,3,0),\"\")","v":""},{"$f":"IFERROR(VLOOKUP(AB13,CadMP!$B:$D,3,0),\"\")","v":""},{"$f":"IFERROR(VLOOKUP(AC13,CadMP!$B:$D,3,0),\"\")","v":""},{"$f":"IFERROR(VLOOKUP(AD13,CadMP!$B:$D,3,0),\"\")","v":""},{"$f":"IFERROR(VLOOKUP(AE13,CadMP!$B:$D,3,0),\"\")","v":""},{"$f":"IFERROR(VLOOKUP(AF13,CadMP!$B:$D,3,0),\"\")","v":""},{"$f":"IFERROR(VLOOKUP(AG13,CadMP!$B:$D,3,0),\"\")","v":""},{"$f":"IFERROR(VLOOKUP(AH13,CadMP!$B:$D,3,0),\"\")","v":""},{"$f":"IFERROR(VLOOKUP(AI13,CadMP!$B:$D,3,0),\"\")","v":""},{"$f":"IFERROR(VLOOKUP(AJ13,CadMP!$B:$D,3,0),\"\")","v":""},{"$f":"IFERROR(VLOOKUP(AK13,CadMP!$B:$D,3,0),\"\")","v":""},0,0,0,0,0,0,0,0,0,0,0,0,0,0,0]
[13,null,null,0,0,null,null,null,null,null,null,0,0,null,null,null,null,null,null,null,1,0,null,null,null,null,null,null,null,null,null,null,null,null,null,null,null,null,null,null,null,null,null,null,null,null,null,null,null,null,null,null,{"$f":"IFERROR(VLOOKUP(W14,CadMP!$B:$D,2,0),\"\")","v":""},{"$f":"IFERROR(VLOOKUP(X14,CadMP!$B:$D,2,0),\"\")","v":""},{"$f":"IFERROR(VLOOKUP(Y14,CadMP!$B:$D,2,0),\"\")","v":""},{"$f":"IFERROR(VLOOKUP(Z14,CadMP!$B:$D,2,0),\"\")","v":""},{"$f":"IFERROR(VLOOKUP(AA14,CadMP!$B:$D,2,0),\"\")","v":""},{"$f":"IFERROR(VLOOKUP(AB14,CadMP!$B:$D,2,0),\"\")","v":""},{"$f":"IFERROR(VLOOKUP(AC14,CadMP!$B:$D,2,0),\"\")","v":""},{"$f":"IFERROR(VLOOKUP(AD14,CadMP!$B:$D,2,0),\"\")","v":""},{"$f":"IFERROR(VLOOKUP(AE14,CadMP!$B:$D,2,0),\"\")","v":""},{"$f":"IFERROR(VLOOKUP(AF14,CadMP!$B:$D,2,0),\"\")","v":""},{"$f":"IFERROR(VLOOKUP(AG14,CadMP!$B:$D,2,0),\"\")","v":""},{"$f":"IFERROR(VLOOKUP(AH14,CadMP!$B:$D,2,0),\"\")","v":""},{"$f":"IFERROR(VLOOKUP(AI14,CadMP!$B:$D,2,0),\"\")","v":""},{"$f":"IFERROR(VLOOKUP(AJ14,CadMP!$B:$D,2,0),\"\")","v":""},{"$f":"IFERROR(VLOOKUP(AK14,CadMP!$B:$D,2,0),\"\")","v":""},{"$f":"IFERROR(VLOOKUP(W14,CadMP!$B:$D,3,0),\"\")","v":""},{"$f":"IFERROR(VLOOKUP(X14,CadMP!$B:$D,3,0),\"\")","v":""},{"$f":"IFERROR(VLOOKUP(Y14,CadMP!$B:$D,3,0),\"\")","v":""},{"$f":"IFERROR(VLOOKUP(Z14,CadMP!$B:$D,3,0),\"\")","v":""},{"$f":"IFERROR(VLOOKUP(AA14,CadMP!$B:$D,3,0),\"\")","v":""},{"$f":"IFERROR(VLOOKUP(AB14,CadMP!$B:$D,3,0),\"\")","v":""},{"$f":"IFERROR(VLOOKUP(AC14,CadMP!$B:$D,3,0),\"\")","v":""},{"$f":"IFERROR(VLOOKUP(AD14,CadMP!$B:$D,3,0),\"\")","v":""},{"$f":"IFERROR(VLOOKUP(AE14,CadMP!$B:$D,3,0),\"\")","v":""},{"$f":"IFERROR(VLOOKUP(AF14,CadMP!$B:$D,3,0),\"\")","v":""},{"$f":"IFERROR(VLOOKUP(AG14,CadMP!$B:$D,3,0),\"\")","v":""},{"$f":"IFERROR(VLOOKUP(AH14,CadMP!$B:$D,3,0),\"\")","v":""},{"$f":"IFERROR(VLOOKUP(AI14,CadMP!$B:$D,3,0),\"\")","v":""},{"$f":"IFERROR(VLOOKUP(AJ14,CadMP!$B:$D,3,0),\"\")","v":""},{"$f":"IFERROR(VLOOKUP(AK14,CadMP!$B:$D,3,0),\"\")","v":""},0,0,0,0,0,0,0,0,0,0,0,0,0,0,0]
[14,null,null,0,0,null,null,null,null,null,null,0,0,null,null,null,null,null,null,null,1,0,null,null,null,null,null,null,null,null,null,null,null,null,null,null,null,null,null,null,null,null,null,null,null,null,null,null,null,null,null,null,{"$f":"IFERROR(VLOOKUP(W15,CadMP!$B:$D,2,0),\"\")","v":""},{"$f":"IFERROR(VLOOKUP(X15,CadMP!$B:$D,2,0),\"\")","v":""},{"$f":"IFERROR(VLOOKUP(Y15,CadMP!$B:$D,2,0),\"\")","v":""},{"$f":"IFERROR(VLOOKUP(Z15,CadMP!$B:$D,2,0),\"\")","v":""},{"$f":"IFERROR(VLOOKUP(AA15,CadMP!$B:$D,2,0),\"\")","v":""},{"$f":"IFERROR(VLOOKUP(AB15,CadMP!$B:$D,2,0),\"\")","v":""},{"$f":"IFERROR(VLOOKUP(AC15,CadMP!$B:$D,2,0),\"\")","v":""},{"$f":"IFERROR(VLOOKUP(AD15,CadMP!$B:$D,2,0),\"\")","v":""},{"$f":"IFERROR(VLOOKUP(AE15,CadMP!$B:$D,2,0),\"\")","v":""},{"$f":"IFERROR(VLOOKUP(AF15,CadMP!$B:$D,2,0),\"\")","v":""},{"$f":"IFERROR(VLOOKUP(AG15,CadMP!$B:$D,2,0),\"\")","v":""},{"$f":"IFERROR(VLOOKUP(AH15,CadMP!$B:$D,2,0),\"\")","v":""},{"$f":"IFERROR(VLOOKUP(AI15,CadMP!$B:$D,2,0),\"\")","v":""},{"$f":"IFERROR(VLOOKUP(AJ15,CadMP!$B:$D,2,0),\"\")","v":""},{"$f":"IFERROR(VLOOKUP(AK15,CadMP!$B:$D,2,0),\"\")","v":""},{"$f":"IFERROR(VLOOKUP(W15,CadMP!$B:$D,3,0),\"\")","v":""},{"$f":"IFERROR(VLOOKUP(X15,CadMP!$B:$D,3,0),\"\")","v":""},{"$f":"IFERROR(VLOOKUP(Y15,CadMP!$B:$D,3,0),\"\")","v":""},{"$f":"IFERROR(VLOOKUP(Z15,CadMP!$B:$D,3,0),\"\")","v":""},{"$f":"IFERROR(VLOOKUP(AA15,CadMP!$B:$D,3,0),\"\")","v":""},{"$f":"IFERROR(VLOOKUP(AB15,CadMP!$B:$D,3,0),\"\")","v":""},{"$f":"IFERROR(VLOOKUP(AC15,CadMP!$B:$D,3,0),\"\")","v":""},{"$f":"IFERROR(VLOOKUP(AD15,CadMP!$B:$D,3,0),\"\")","v":""},{"$f":"IFERROR(VLOOKUP(AE15,CadMP!$B:$D,3,0),\"\")","v":""},{"$f":"IFERROR(VLOOKUP(AF15,CadMP!$B:$D,3,0),\"\")","v":""},{"$f":"IFERROR(VLOOKUP(AG15,CadMP!$B:$D,3,0),\"\")","v":""},{"$f":"IFERROR(VLOOKUP(AH15,CadMP!$B:$D,3,0),\"\")","v":""},{"$f":"IFERROR(VLOOKUP(AI15,CadMP!$B:$D,3,0),\"\")","v":""},{"$f":"IFERROR(VLOOKUP(AJ15,CadMP!$B:$D,3,0),\"\")","v":""},{"$f":"IFERROR(VLOOKUP(AK15,CadMP!$B:$D,3,0),\"\")","v":""},0,0,0,0,0,0,0,0,0,0,0,0,0,0,0]
[15,null,null,0,0,null,null,null,null,null,null,0,0,null,null,null,null,null,null,null,1,0,null,null,null,null,null,null,null,null,null,null,null,null,null,null,null,null,null,null,null,null,null,null,null,null,null,null,null,null,null,null,{"$f":"IFERROR(VLOOKUP(W16,CadMP!$B:$D,2,0),\"\")","v":""},{"$f":"IFERROR(VLOOKUP(X16,CadMP!$B:$D,2,0),\"\")","v":""},{"$f":"IFERROR(VLOOKUP(Y16,CadMP!$B:$D,2,0),\"\")","v":""},{"$f":"IFERROR(VLOOKUP(Z16,CadMP!$B:$D,2,0),\"\")","v":""},{"$f":"IFERROR(VLOOKUP(AA16,CadMP!$B:$D,2,0),\"\")","v":""},{"$f":"IFERROR(VLOOKUP(AB16,CadMP!$B:$D,2,0),\"\")","v":""},{"$f":"IFERROR(VLOOKUP(AC16,CadMP!$B:$D,2,0),\"\")","v":""},{"$f":"IFERROR(VLOOKUP(AD16,CadMP!$B:$D,2,0),\"\")","v":""},{"$f":"IFERROR(VLOOKUP(AE16,CadMP!$B:$D,2,0),\"\")","v":""},{"$f":"IFERROR(VLOOKUP(AF16,CadMP!$B:$D,2,0),\"\")","v":""},{"$f":"IFERROR(VLOOKUP(AG16,CadMP!$B:$D,2,0),\"\")","v":""},{"$f":"IFERROR(VLOOKUP(AH16,CadMP!$B:$D,2,0),\"\")","v":""},{"$f":"IFERROR(VLOOKUP(AI16,CadMP!$B:$D,2,0),\"\")","v":""},{"$f":"IFERROR(VLOOKUP(AJ16,CadMP!$B:$D,2,0),\"\")","v":""},{"$f":"IFERROR(VLOOKUP(AK16,CadMP!$B:$D,2,0),\"\")","v":""},{"$f":"IFERROR(VLOOKUP(W16,CadMP!$B:$D,3,0),\"\")","v":""},{"$f":"IFERROR(VLOOKUP(X16,CadMP!$B:$D,3,0),\"\")","v":""},{"$f":"IFERROR(VLOOKUP(Y16,CadMP!$B:$D,3,0),\"\")","v":""},{"$f":"IFERROR(VLOOKUP(Z16,CadMP!$B:$D,3,0),\"\")","v":""},{"$f":"IFERROR(VLOOKUP(AA16,CadMP!$B:$D,3,0),\"\")","v":""},{"$f":"IFERROR(VLOOKUP(AB16,CadMP!$B:$D,3,0),\"\")","v":""},{"$f":"IFERROR(VLOOKUP(AC16,CadMP!$B:$D,3,0),\"\")","v":""},{"$f":"IFERROR(VLOOKUP(AD16,CadMP!$B:$D,3,0),\"\")","v":""},{"$f":"IFERROR(VLOOKUP(AE16,CadMP!$B:$D,3,0),\"\")","v":""},{"$f":"IFERROR(VLOOKUP(AF16,CadMP!$B:$D,3,0),\"\")","v":""},{"$f":"IFERROR(VLOOKUP(AG16,CadMP!$B:$D,3,0),\"\")","v":""},{"$f":"IFERROR(VLOOKUP(AH16,CadMP!$B:$D,3,0),\"\")","v":""},{"$f":"IFERROR(VLOOKUP(AI16,CadMP!$B:$D,3,0),\"\")","v":""},{"$f":"IFERROR(VLOOKUP(AJ16,CadMP!$B:$D,3,0),\"\")","v":""},{"$f":"IFERROR(VLOOKUP(AK16,CadMP!$B:$D,3,0),\"\")","v":""},0,0,0,0,0,0,0,0,0,0,0,0,0,0,0]
[16,null,null,0,0,null,null,null,null,null,null,0,0,null,null,null,null,null,null,null,1,0,null,null,null,null,null,null,null,null,null,null,null,null,null,null,null,null,null,null,null,null,null,null,null,null,null,null,null,null,null,null,{"$f":"IFERROR(VLOOKUP(W17,CadMP!$B:$D,2,0),\"\")","v":""},{"$f":"IFERROR(VLOOKUP(X17,CadMP!$B:$D,2,0),\"\")","v":""},{"$f":"IFERROR(VLOOKUP(Y17,CadMP!$B:$D,2,0),\"\")","v":""},{"$f":"IFERROR(VLOOKUP(Z17,CadMP!$B:$D,2,0),\"\")","v":""},{"$f":"IFERROR(VLOOKUP(AA17,CadMP!$B:$D,2,0),\"\")","v":""},{"$f":"IFERROR(VLOOKUP(AB17,CadMP!$B:$D,2,0),\"\")","v":""},{"$f":"IFERROR(VLOOKUP(AC17,CadMP!$B:$D,2,0),\"\")","v":""},{"$f":"IFERROR(VLOOKUP(AD17,CadMP!$B:$D,2,0),\"\")","v":""},{"$f":"IFERROR(VLOOKUP(AE17,CadMP!$B:$D,2,0),\"\")","v":""},{"$f":"IFERROR(VLOOKUP(AF17,CadMP!$B:$D,2,0),\"\")","v":""},{"$f":"IFERROR(VLOOKUP(AG17,CadMP!$B:$D,2,0),\"\")","v":""},{"$f":"IFERROR(VLOOKUP(AH17,CadMP!$B:$D,2,0),\"\")","v":""},{"$f":"IFERROR(VLOOKUP(AI17,CadMP!$B:$D,2,0),\"\")","v":""},{"$f":"IFERROR(VLOOKUP(AJ17,CadMP!$B:$D,2,0),\"\")","v":""},{"$f":"IFERROR(VLOOKUP(AK17,CadMP!$B:$D,2,0),\"\")","v":""},{"$f":"IFERROR(VLOOKUP(W17,CadMP!$B:$D,3,0),\"\")","v":""},{"$f":"IFERROR(VLOOKUP(X17,CadMP!$B:$D,3,0),\"\")","v":""},{"$f":"IFERROR(VLOOKUP(Y17,CadMP!$B:$D,3,0),\"\")","v":""},{"$f":"IFERROR(VLOOKUP(Z17,CadMP!$B:$D,3,0),\"\")","v":""},{"$f":"IFERROR(VLOOKUP(AA17,CadMP!$B:$D,3,0),\"\")","v":""},{"$f":"IFERROR(VLOOKUP(AB17,CadMP!$B:$D,3,0),\"\")","v":""},{"$f":"IFERROR(VLOOKUP(AC17,CadMP!$B:$D,3,0),\"\")","v":""},{"$f":"IFERROR(VLOOKUP(AD17,CadMP!$B:$D,3,0),\"\")","v":""},{"$f":"IFERROR(VLOOKUP(AE17,CadMP!$B:$D,3,0),\"\")","v":""},{"$f":"IFERROR(VLOOKUP(AF17,CadMP!$B:$D,3,0),\"\")","v":""},{"$f":"IFERROR(VLOOKUP(AG17,CadMP!$B:$D,3,0),\"\")","v":""},{"$f":"IFERROR(VLOOKUP(AH17,CadMP!$B:$D,3,0),\"\")","v":""},{"$f":"IFERROR(VLOOKUP(AI17,CadMP!$B:$D,3,0),\"\")","v":""},{"$f":"IFERROR(VLOOKUP(AJ17,CadMP!$B:$D,3,0),\"\")","v":""},{"$f":"IFERROR(VLOOKUP(AK17,CadMP!$B:$D,3,0),\"\")","v":""},0,0,0,0,0,0,0,0,0,0,0,0,0,0,0]
[17,null,null,0,0,null,null,null,null,null,null,0,0,null,null,null,null,null,null,null,1,0,null,null,null,null,null,null,null,null,null,null,null,null,null,null,null,null,null,null,null,null,null,null,null,null,null,null,null,null,null,null,{"$f":"IFERROR(VLOOKUP(W18,CadMP!$B:$D,2,0),\"\")","v":""},{"$f":"IFERROR(VLOOKUP(X18,CadMP!$B:$D,2,0),\"\")","v":""},{"$f":"IFERROR(VLOOKUP(Y18,CadMP!$B:$D,2,0),\"\")","v":""},{"$f":"IFERROR(VLOOKUP(Z18,CadMP!$B:$D,2,0),\"\")","v":""},{"$f":"IFERROR(VLOOKUP(AA18,CadMP!$B:$D,2,0),\"\")","v":""},{"$f":"IFERROR(VLOOKUP(AB18,CadMP!$B:$D,2,0),\"\")","v":""},{"$f":"IFERROR(VLOOKUP(AC18,CadMP!$B:$D,2,0),\"\")","v":""},{"$f":"IFERROR(VLOOKUP(AD18,CadMP!$B:$D,2,0),\"\")","v":""},{"$f":"IFERROR(VLOOKUP(AE18,CadMP!$B:$D,2,0),\"\")","v":""},{"$f":"IFERROR(VLOOKUP(AF18,CadMP!$B:$D,2,0),\"\")","v":""},{"$f":"IFERROR(VLOOKUP(AG18,CadMP!$B:$D,2,0),\"\")","v":""},{"$f":"IFERROR(VLOOKUP(AH18,CadMP!$B:$D,2,0),\"\")","v":""},{"$f":"IFERROR(VLOOKUP(AI18,CadMP!$B:$D,2,0),\"\")","v":""},{"$f":"IFERROR(VLOOKUP(AJ18,CadMP!$B:$D,2,0),\"\")","v":""},{"$f":"IFERROR(VLOOKUP(AK18,CadMP!$B:$D,2,0),\"\")","v":""},{"$f":"IFERROR(VLOOKUP(W18,CadMP!$B:$D,3,0),\"\")","v":""},{"$f":"IFERROR(VLOOKUP(X18,CadMP!$B:$D,3,0),\"\")","v":""},{"$f":"IFERROR(VLOOKUP(Y18,CadMP!$B:$D,3,0),\"\")","v":""},{"$f":"IFERROR(VLOOKUP(Z18,CadMP!$B:$D,3,0),\"\")","v":""},{"$f":"IFERROR(VLOOKUP(AA18,CadMP!$B:$D,3,0),\"\")","v":""},{"$f":"IFERROR(VLOOKUP(AB18,CadMP!$B:$D,3,0),\"\")","v":""},{"$f":"IFERROR(VLOOKUP(AC18,CadMP!$B:$D,3,0),\"\")","v":""},{"$f":"IFERROR(VLOOKUP(AD18,CadMP!$B:$D,3,0),\"\")","v":""},{"$f":"IFERROR(VLOOKUP(AE18,CadMP!$B:$D,3,0),\"\")","v":""},{"$f":"IFERROR(VLOOKUP(AF18,CadMP!$B:$D,3,0),\"\")","v":""},{"$f":"IFERROR(VLOOKUP(AG18,CadMP!$B:$D,3,0),\"\")","v":""},{"$f":"IFERROR(VLOOKUP(AH18,CadMP!$B:$D,3,0),\"\")","v":""},{"$f":"IFERROR(VLOOKUP(AI18,CadMP!$B:$D,3,0),\"\")","v":""},{"$f":"IFERROR(VLOOKUP(AJ18,CadMP!$B:$D,3,0),\"\")","v":""},{"$f":"IFERROR(VLOOKUP(AK18,CadMP!$B:$D,3,0),\"\")","v":""},0,0,0,0,0,0,0,0,0,0,0,0,0,0,0]
[18,null,null,0,0,null,null,null,null,null,null,0,0,null,null,null,null,null,null,null,1,0,null,null,null,null,null,null,null,null,null,null,null,null,null,null,null,null,null,null,null,null,null,null,null,null,null,null,null,null,null,null,{"$f":"IFERROR(VLOOKUP(W19,CadMP!$B:$D,2,0),\"\")","v":""},{"$f":"IFERROR(VLOOKUP(X19,CadMP!$B:$D,2,0),\"\")","v":""},{"$f":"IFERROR(VLOOKUP(Y19,CadMP!$B:$D,2,0),\"\")","v":""},{"$f":"IFERROR(VLOOKUP(Z19,CadMP!$B:$D,2,0),\"\")","v":""},{"$f":"IFERROR(VLOOKUP(AA19,CadMP!$B:$D,2,0),\"\")","v":""},{"$f":"IFERROR(VLOOKUP(AB19,CadMP!$B:$D,2,0),\"\")","v":""},{"$f":"IFERROR(VLOOKUP(AC19,CadMP!$B:$D,2,0),\"\")","v":""},{"$f":"IFERROR(VLOOKUP(AD19,CadMP!$B:$D,2,0),\"\")","v":""},{"$f":"IFERROR(VLOOKUP(AE19,CadMP!$B:$D,2,0),\"\")","v":""},{"$f":"IFERROR(VLOOKUP(AF19,CadMP!$B:$D,2,0),\"\")","v":""},{"$f":"IFERROR(VLOOKUP(AG19,CadMP!$B:$D,2,0),\"\")","v":""},{"$f":"IFERROR(VLOOKUP(AH19,CadMP!$B:$D,2,0),\"\")","v":""},{"$f":"IFERROR(VLOOKUP(AI19,CadMP!$B:$D,2,0),\"\")","v":""},{"$f":"IFERROR(VLOOKUP(AJ19,CadMP!$B:$D,2,0),\"\")","v":""},{"$f":"IFERROR(VLOOKUP(AK19,CadMP!$B:$D,2,0),\"\")","v":""},{"$f":"IFERROR(VLOOKUP(W19,CadMP!$B:$D,3,0),\"\")","v":""},{"$f":"IFERROR(VLOOKUP(X19,CadMP!$B:$D,3,0),\"\")","v":""},{"$f":"IFERROR(VLOOKUP(Y19,CadMP!$B:$D,3,0),\"\")","v":""},{"$f":"IFERROR(VLOOKUP(Z19,CadMP!$B:$D,3,0),\"\")","v":""},{"$f":"IFERROR(VLOOKUP(AA19,CadMP!$B:$D,3,0),\"\")","v":""},{"$f":"IFERROR(VLOOKUP(AB19,CadMP!$B:$D,3,0),\"\")","v":""},{"$f":"IFERROR(VLOOKUP(AC19,CadMP!$B:$D,3,0),\"\")","v":""},{"$f":"IFERROR(VLOOKUP(AD19,CadMP!$B:$D,3,0),\"\")","v":""},{"$f":"IFERROR(VLOOKUP(AE19,CadMP!$B:$D,3,0),\"\")","v":""},{"$f":"IFERROR(VLOOKUP(AF19,CadMP!$B:$D,3,0),\"\")","v":""},{"$f":"IFERROR(VLOOKUP(AG19,CadMP!$B:$D,3,0),\"\")","v":""},{"$f":"IFERROR(VLOOKUP(AH19,CadMP!$B:$D,3,0),\"\")","v":""},{"$f":"IFERROR(VLOOKUP(AI19,CadMP!$B:$D,3,0),\"\")","v":""},{"$f":"IFERROR(VLOOKUP(AJ19,CadMP!$B:$D,3,0),\"\")","v":""},{"$f":"IFERROR(VLOOKUP(AK19,CadMP!$B:$D,3,0),\"\")","v":""},0,0,0,0,0,0,0,0,0,0,0,0,0,0,0]
[19,null,null,0,0,null,null,null,null,null,null,0,0,null,null,null,null,null,null,null,1,0,null,null,null,null,null,null,null,null,null,null,null,null,null,null,null,null,null,null,null,null,null,null,null,null,null,null,null,null,null,null,{"$f":"IFERROR(VLOOKUP(W20,CadMP!$B:$D,2,0),\"\")","v":""},{"$f":"IFERROR(VLOOKUP(X20,CadMP!$B:$D,2,0),\"\")","v":""},{"$f":"IFERROR(VLOOKUP(Y20,CadMP!$B:$D,2,0),\"\")","v":""},{"$f":"IFERROR(VLOOKUP(Z20,CadMP!$B:$D,2,0),\"\")","v":""},{"$f":"IFERROR(VLOOKUP(AA20,CadMP!$B:$D,2,0),\"\")","v":""},{"$f":"IFERROR(VLOOKUP(AB20,CadMP!$B:$D,2,0),\"\")","v":""},{"$f":"IFERROR(VLOOKUP(AC20,CadMP!$B:$D,2,0),\"\")","v":""},{"$f":"IFERROR(VLOOKUP(AD20,CadMP!$B:$D,2,0),\"\")","v":""},{"$f":"IFERROR(VLOOKUP(AE20,CadMP!$B:$D,2,0),\"\")","v":""},{"$f":"IFERROR(VLOOKUP(AF20,CadMP!$B:$D,2,0),\"\")","v":""},{"$f":"IFERROR(VLOOKUP(AG20,CadMP!$B:$D,2,0),\"\")","v":""},{"$f":"IFERROR(VLOOKUP(AH20,CadMP!$B:$D,2,0),\"\")","v":""},{"$f":"IFERROR(VLOOKUP(AI20,CadMP!$B:$D,2,0),\"\")","v":""},{"$f":"IFERROR(VLOOKUP(AJ20,CadMP!$B:$D,2,0),\"\")","v":""},{"$f":"IFERROR(VLOOKUP(AK20,CadMP!$B:$D,2,0),\"\")","v":""},{"$f":"IFERROR(VLOOKUP(W20,CadMP!$B:$D,3,0),\"\")","v":""},{"$f":"IFERROR(VLOOKUP(X20,CadMP!$B:$D,3,0),\"\")","v":""},{"$f":"IFERROR(VLOOKUP(Y20,CadMP!$B:$D,3,0),\"\")","v":""},{"$f":"IFERROR(VLOOKUP(Z20,CadMP!$B:$D,3,0),\"\")","v":""},{"$f":"IFERROR(VLOOKUP(AA20,CadMP!$B:$D,3,0),\"\")","v":""},{"$f":"IFERROR(VLOOKUP(AB20,CadMP!$B:$D,3,0),\"\")","v":""},{"$f":"IFERROR(VLOOKUP(AC20,CadMP!$B:$D,3,0),\"\")","v":""},{"$f":"IFERROR(VLOOKUP(AD20,CadMP!$B:$D,3,0),\"\")","v":""},{"$f":"IFERROR(VLOOKUP(AE20,CadMP!$B:$D,3,0),\"\")","v":""},{"$f":"IFERROR(VLOOKUP(AF20,CadMP!$B:$D,3,0),\"\")","v":""},{"$f":"IFERROR(VLOOKUP(AG20,CadMP!$B:$D,3,0),\"\")","v":""},{"$f":"IFERROR(VLOOKUP(AH20,CadMP!$B:$D,3,0),\"\")","v":""},{"$f":"IFERROR(VLOOKUP(AI20,CadMP!$B:$D,3,0),\"\")","v":""},{"$f":"IFERROR(VLOOKUP(AJ20,CadMP!$B:$D,3,0),\"\")","v":""},{"$f":"IFERROR(VLOOKUP(AK20,CadMP!$B:$D,3,0),\"\")","v":""},0,0,0,0,0,0,0,0,0,0,0,0,0,0,0]
[20,null,null,0,0,null,null,null,null,null,null,0,0,null,null,null,null,null,null,null,1,0,null,null,null,null,null,null,null,null,null,null,null,null,null,null,null,null,null,null,null,null,null,null,null,null,null,null,null,null,null,null,{"$f":"IFERROR(VLOOKUP(W21,CadMP!$B:$D,2,0),\"\")","v":""},{"$f":"IFERROR(VLOOKUP(X21,CadMP!$B:$D,2,0),\"\")","v":""},{"$f":"IFERROR(VLOOKUP(Y21,CadMP!$B:$D,2,0),\"\")","v":""},{"$f":"IFERROR(VLOOKUP(Z21,CadMP!$B:$D,2,0),\"\")","v":""},{"$f":"IFERROR(VLOOKUP(AA21,CadMP!$B:$D,2,0),\"\")","v":""},{"$f":"IFERROR(VLOOKUP(AB21,CadMP!$B:$D,2,0),\"\")","v":""},{"$f":"IFERROR(VLOOKUP(AC21,CadMP!$B:$D,2,0),\"\")","v":""},{"$f":"IFERROR(VLOOKUP(AD21,CadMP!$B:$D,2,0),\"\")","v":""},{"$f":"IFERROR(VLOOKUP(AE21,CadMP!$B:$D,2,0),\"\")","v":""},{"$f":"IFERROR(VLOOKUP(AF21,CadMP!$B:$D,2,0),\"\")","v":""},{"$f":"IFERROR(VLOOKUP(AG21,CadMP!$B:$D,2,0),\"\")","v":""},{"$f":"IFERROR(VLOOKUP(AH21,CadMP!$B:$D,2,0),\"\")","v":""},{"$f":"IFERROR(VLOOKUP(AI21,CadMP!$B:$D,2,0),\"\")","v":""},{"$f":"IFERROR(VLOOKUP(AJ21,CadMP!$B:$D,2,0),\"\")","v":""},{"$f":"IFERROR(VLOOKUP(AK21,CadMP!$B:$D,2,0),\"\")","v":""},{"$f":"IFERROR(VLOOKUP(W21,CadMP!$B:$D,3,0),\"\")","v":""},{"$f":"IFERROR(VLOOKUP(X21,CadMP!$B:$D,3,0),\"\")","v":""},{"$f":"IFERROR(VLOOKUP(Y21,CadMP!$B:$D,3,0),\"\")","v":""},{"$f":"IFERROR(VLOOKUP(Z21,CadMP!$B:$D,3,0),\"\")","v":""},{"$f":"IFERROR(VLOOKUP(AA21,CadMP!$B:$D,3,0),\"\")","v":""},{"$f":"IFERROR(VLOOKUP(AB21,CadMP!$B:$D,3,0),\"\")","v":""},{"$f":"IFERROR(VLOOKUP(AC21,CadMP!$B:$D,3,0),\"\")","v":""},{"$f":"IFERROR(VLOOKUP(AD21,CadMP!$B:$D,3,0),\"\")","v":""},{"$f":"IFERROR(VLOOKUP(AE21,CadMP!$B:$D,3,0),\"\")","v":""},{"$f":"IFERROR(VLOOKUP(AF21,CadMP!$B:$D,3,0),\"\")","v":""},{"$f":"IFERROR(VLOOKUP(AG21,CadMP!$B:$D,3,0),\"\")","v":""},{"$f":"IFERROR(VLOOKUP(AH21,CadMP!$B:$D,3,0),\"\")","v":""},{"$f":"IFERROR(VLOOKUP(AI21,CadMP!$B:$D,3,0),\"\")","v":""},{"$f":"IFERROR(VLOOKUP(AJ21,CadMP!$B:$D,3,0),\"\")","v":""},{"$f":"IFERROR(VLOOKUP(AK21,CadMP!$B:$D,3,0),\"\")","v":""},0,0,0,0,0,0,0,0,0,0,0,0,0,0,0]
[21,null,null,0,0,null,null,null,null,null,null,0,0,null,null,null,null,null,null,null,1,0,null,null,null,null,null,null,null,null,null,null,null,null,null,null,null,null,null,null,null,null,null,null,null,null,null,null,null,null,null,null,{"$f":"IFERROR(VLOOKUP(W22,CadMP!$B:$D,2,0),\"\")","v":""},{"$f":"IFERROR(VLOOKUP(X22,CadMP!$B:$D,2,0),\"\")","v":""},{"$f":"IFERROR(VLOOKUP(Y22,CadMP!$B:$D,2,0),\"\")","v":""},{"$f":"IFERROR(VLOOKUP(Z22,CadMP!$B:$D,2,0),\"\")","v":""},{"$f":"IFERROR(VLOOKUP(AA22,CadMP!$B:$D,2,0),\"\")","v":""},{"$f":"IFERROR(VLOOKUP(AB22,CadMP!$B:$D,2,0),\"\")","v":""},{"$f":"IFERROR(VLOOKUP(AC22,CadMP!$B:$D,2,0),\"\")","v":""},{"$f":"IFERROR(VLOOKUP(AD22,CadMP!$B:$D,2,0),\"\")","v":""},{"$f":"IFERROR(VLOOKUP(AE22,CadMP!$B:$D,2,0),\"\")","v":""},{"$f":"IFERROR(VLOOKUP(AF22,CadMP!$B:$D,2,0),\"\")","v":""},{"$f":"IFERROR(VLOOKUP(AG22,CadMP!$B:$D,2,0),\"\")","v":""},{"$f":"IFERROR(VLOOKUP(AH22,CadMP!$B:$D,2,0),\"\")","v":""},{"$f":"IFERROR(VLOOKUP(AI22,CadMP!$B:$D,2,0),\"\")","v":""},{"$f":"IFERROR(VLOOKUP(AJ22,CadMP!$B:$D,2,0),\"\")","v":""},{"$f":"IFERROR(VLOOKUP(AK22,CadMP!$B:$D,2,0),\"\")","v":""},{"$f":"IFERROR(VLOOKUP(W22,CadMP!$B:$D,3,0),\"\")","v":""},{"$f":"IFERROR(VLOOKUP(X22,CadMP!$B:$D,3,0),\"\")","v":""},{"$f":"IFERROR(VLOOKUP(Y22,CadMP!$B:$D,3,0),\"\")","v":""},{"$f":"IFERROR(VLOOKUP(Z22,CadMP!$B:$D,3,0),\"\")","v":""},{"$f":"IFERROR(VLOOKUP(AA22,CadMP!$B:$D,3,0),\"\")","v":""},{"$f":"IFERROR(VLOOKUP(AB22,CadMP!$B:$D,3,0),\"\")","v":""},{"$f":"IFERROR(VLOOKUP(AC22,CadMP!$B:$D,3,0),\"\")","v":""},{"$f":"IFERROR(VLOOKUP(AD22,CadMP!$B:$D,3,0),\"\")","v":""},{"$f":"IFERROR(VLOOKUP(AE22,CadMP!$B:$D,3,0),\"\")","v":""},{"$f":"IFERROR(VLOOKUP(AF22,CadMP!$B:$D,3,0),\"\")","v":""},{"$f":"IFERROR(VLOOKUP(AG22,CadMP!$B:$D,3,0),\"\")","v":""},{"$f":"IFERROR(VLOOKUP(AH22,CadMP!$B:$D,3,0),\"\")","v":""},{"$f":"IFERROR(VLOOKUP(AI22,CadMP!$B:$D,3,0),\"\")","v":""},{"$f":"IFERROR(VLOOKUP(AJ22,CadMP!$B:$D,3,0),\"\")","v":""},{"$f":"IFERROR(VLOOKUP(AK22,CadMP!$B:$D,3,0),\"\")","v":""},0,0,0,0,0,0,0,0,0,0,0,0,0,0,0]
[22,null,null,0,0,null,null,null,null,null,null,0,0,null,null,null,null,null,null,null,1,0,null,null,null,null,null,null,null,null,null,null,null,null,null,null,null,null,null,null,null,null,null,null,null,null,null,null,null,null,null,null,{"$f":"IFERROR(VLOOKUP(W23,CadMP!$B:$D,2,0),\"\")","v":""},{"$f":"IFERROR(VLOOKUP(X23,CadMP!$B:$D,2,0),\"\")","v":""},{"$f":"IFERROR(VLOOKUP(Y23,CadMP!$B:$D,2,0),\"\")","v":""},{"$f":"IFERROR(VLOOKUP(Z23,CadMP!$B:$D,2,0),\"\")","v":""},{"$f":"IFERROR(VLOOKUP(AA23,CadMP!$B:$D,2,0),\"\")","v":""},{"$f":"IFERROR(VLOOKUP(AB23,CadMP!$B:$D,2,0),\"\")","v":""},{"$f":"IFERROR(VLOOKUP(AC23,CadMP!$B:$D,2,0),\"\")","v":""},{"$f":"IFERROR(VLOOKUP(AD23,CadMP!$B:$D,2,0),\"\")","v":""},{"$f":"IFERROR(VLOOKUP(AE23,CadMP!$B:$D,2,0),\"\")","v":""},{"$f":"IFERROR(VLOOKUP(AF23,CadMP!$B:$D,2,0),\"\")","v":""},{"$f":"IFERROR(VLOOKUP(AG23,CadMP!$B:$D,2,0),\"\")","v":""},{"$f":"IFERROR(VLOOKUP(AH23,CadMP!$B:$D,2,0),\"\")","v":""},{"$f":"IFERROR(VLOOKUP(AI23,CadMP!$B:$D,2,0),\"\")","v":""},{"$f":"IFERROR(VLOOKUP(AJ23,CadMP!$B:$D,2,0),\"\")","v":""},{"$f":"IFERROR(VLOOKUP(AK23,CadMP!$B:$D,2,0),\"\")","v":""},{"$f":"IFERROR(VLOOKUP(W23,CadMP!$B:$D,3,0),\"\")","v":""},{"$f":"IFERROR(VLOOKUP(X23,CadMP!$B:$D,3,0),\"\")","v":""},{"$f":"IFERROR(VLOOKUP(Y23,CadMP!$B:$D,3,0),\"\")","v":""},{"$f":"IFERROR(VLOOKUP(Z23,CadMP!$B:$D,3,0),\"\")","v":""},{"$f":"IFERROR(VLOOKUP(AA23,CadMP!$B:$D,3,0),\"\")","v":""},{"$f":"IFERROR(VLOOKUP(AB23,CadMP!$B:$D,3,0),\"\")","v":""},{"$f":"IFERROR(VLOOKUP(AC23,CadMP!$B:$D,3,0),\"\")","v":""},{"$f":"IFERROR(VLOOKUP(AD23,CadMP!$B:$D,3,0),\"\")","v":""},{"$f":"IFERROR(VLOOKUP(AE23,CadMP!$B:$D,3,0),\"\")","v":""},{"$f":"IFERROR(VLOOKUP(AF23,CadMP!$B:$D,3,0),\"\")","v":""},{"$f":"IFERROR(VLOOKUP(AG23,CadMP!$B:$D,3,0),\"\")","v":""},{"$f":"IFERROR(VLOOKUP(AH23,CadMP!$B:$D,3,0),\"\")","v":""},{"$f":"IFERROR(VLOOKUP(AI23,CadMP!$B:$D,3,0),\"\")","v":""},{"$f":"IFERROR(VLOOKUP(AJ23,CadMP!$B:$D,3,0),\"\")","v":""},{"$f":"IFERROR(VLOOKUP(AK23,CadMP!$B:$D,3,0),\"\")","v":""},0,0,0,0,0,0,0,0,0,0,0,0,0,0,0]
[23,null,null,0,0,null,null,null,null,null,null,0,0,null,null,null,null,null,null,null,1,0,null,null,null,null,null,null,null,null,null,null,null,null,null,null,null,null,null,null,null,null,null,null,null,null,null,null,null,null,null,null,{"$f":"IFERROR(VLOOKUP(W24,CadMP!$B:$D,2,0),\"\")","v":""},{"$f":"IFERROR(VLOOKUP(X24,CadMP!$B:$D,2,0),\"\")","v":""},{"$f":"IFERROR(VLOOKUP(Y24,CadMP!$B:$D,2,0),\"\")","v":""},{"$f":"IFERROR(VLOOKUP(Z24,CadMP!$B:$D,2,0),\"\")","v":""},{"$f":"IFERROR(VLOOKUP(AA24,CadMP!$B:$D,2,0),\"\")","v":""},{"$f":"IFERROR(VLOOKUP(AB24,CadMP!$B:$D,2,0),\"\")","v":""},{"$f":"IFERROR(VLOOKUP(AC24,CadMP!$B:$D,2,0),\"\")","v":""},{"$f":"IFERROR(VLOOKUP(AD24,CadMP!$B:$D,2,0),\"\")","v":""},{"$f":"IFERROR(VLOOKUP(AE24,CadMP!$B:$D,2,0),\"\")","v":""},{"$f":"IFERROR(VLOOKUP(AF24,CadMP!$B:$D,2,0),\"\")","v":""},{"$f":"IFERROR(VLOOKUP(AG24,CadMP!$B:$D,2,0),\"\")","v":""},{"$f":"IFERROR(VLOOKUP(AH24,CadMP!$B:$D,2,0),\"\")","v":""},{"$f":"IFERROR(VLOOKUP(AI24,CadMP!$B:$D,2,0),\"\")","v":""},{"$f":"IFERROR(VLOOKUP(AJ24,CadMP!$B:$D,2,0),\"\")","v":""},{"$f":"IFERROR(VLOOKUP(AK24,CadMP!$B:$D,2,0),\"\")","v":""},{"$f":"IFERROR(VLOOKUP(W24,CadMP!$B:$D,3,0),\"\")","v":""},{"$f":"IFERROR(VLOOKUP(X24,CadMP!$B:$D,3,0),\"\")","v":""},{"$f":"IFERROR(VLOOKUP(Y24,CadMP!$B:$D,3,0),\"\")","v":""},{"$f":"IFERROR(VLOOKUP(Z24,CadMP!$B:$D,3,0),\"\")","v":""},{"$f":"IFERROR(VLOOKUP(AA24,CadMP!$B:$D,3,0),\"\")","v":""},{"$f":"IFERROR(VLOOKUP(AB24,CadMP!$B:$D,3,0),\"\")","v":""},{"$f":"IFERROR(VLOOKUP(AC24,CadMP!$B:$D,3,0),\"\")","v":""},{"$f":"IFERROR(VLOOKUP(AD24,CadMP!$B:$D,3,0),\"\")","v":""},{"$f":"IFERROR(VLOOKUP(AE24,CadMP!$B:$D,3,0),\"\")","v":""},{"$f":"IFERROR(VLOOKUP(AF24,CadMP!$B:$D,3,0),\"\")","v":""},{"$f":"IFERROR(VLOOKUP(AG24,CadMP!$B:$D,3,0),\"\")","v":""},{"$f":"IFERROR(VLOOKUP(AH24,CadMP!$B:$D,3,0),\"\")","v":""},{"$f":"IFERROR(VLOOKUP(AI24,CadMP!$B:$D,3,0),\"\")","v":""},{"$f":"IFERROR(VLOOKUP(AJ24,CadMP!$B:$D,3,0),\"\")","v":""},{"$f":"IFERROR(VLOOKUP(AK24,CadMP!$B:$D,3,0),\"\")","v":""},0,0,0,0,0,0,0,0,0,0,0,0,0,0,0]
[24,null,null,0,0,null,null,null,null,null,null,0,0,null,null,null,null,null,null,null,1,0,null,null,null,null,null,null,null,null,null,null,null,null,null,null,null,null,null,null,null,null,null,null,null,null,null,null,null,null,null,null,{"$f":"IFERROR(VLOOKUP(W25,CadMP!$B:$D,2,0),\"\")","v":""},{"$f":"IFERROR(VLOOKUP(X25,CadMP!$B:$D,2,0),\"\")","v":""},{"$f":"IFERROR(VLOOKUP(Y25,CadMP!$B:$D,2,0),\"\")","v":""},{"$f":"IFERROR(VLOOKUP(Z25,CadMP!$B:$D,2,0),\"\")","v":""},{"$f":"IFERROR(VLOOKUP(AA25,CadMP!$B:$D,2,0),\"\")","v":""},{"$f":"IFERROR(VLOOKUP(AB25,CadMP!$B:$D,2,0),\"\")","v":""},{"$f":"IFERROR(VLOOKUP(AC25,CadMP!$B:$D,2,0),\"\")","v":""},{"$f":"IFERROR(VLOOKUP(AD25,CadMP!$B:$D,2,0),\"\")","v":""},{"$f":"IFERROR(VLOOKUP(AE25,CadMP!$B:$D,2,0),\"\")","v":""},{"$f":"IFERROR(VLOOKUP(AF25,CadMP!$B:$D,2,0),\"\")","v":""},{"$f":"IFERROR(VLOOKUP(AG25,CadMP!$B:$D,2,0),\"\")","v":""},{"$f":"IFERROR(VLOOKUP(AH25,CadMP!$B:$D,2,0),\"\")","v":""},{"$f":"IFERROR(VLOOKUP(AI25,CadMP!$B:$D,2,0),\"\")","v":""},{"$f":"IFERROR(VLOOKUP(AJ25,CadMP!$B:$D,2,0),\"\")","v":""},{"$f":"IFERROR(VLOOKUP(AK25,CadMP!$B:$D,2,0),\"\")","v":""},{"$f":"IFERROR(VLOOKUP(W25,CadMP!$B:$D,3,0),\"\")","v":""},{"$f":"IFERROR(VLOOKUP(X25,CadMP!$B:$D,3,0),\"\")","v":""},{"$f":"IFERROR(VLOOKUP(Y25,CadMP!$B:$D,3,0),\"\")","v":""},{"$f":"IFERROR(VLOOKUP(Z25,CadMP!$B:$D,3,0),\"\")","v":""},{"$f":"IFERROR(VLOOKUP(AA25,CadMP!$B:$D,3,0),\"\")","v":""},{"$f":"IFERROR(VLOOKUP(AB25,CadMP!$B:$D,3,0),\"\")","v":""},{"$f":"IFERROR(VLOOKUP(AC25,CadMP!$B:$D,3,0),\"\")","v":""},{"$f":"IFERROR(VLOOKUP(AD25,CadMP!$B:$D,3,0),\"\")","v":""},{"$f":"IFERROR(VLOOKUP(AE25,CadMP!$B:$D,3,0),\"\")","v":""},{"$f":"IFERROR(VLOOKUP(AF25,CadMP!$B:$D,3,0),\"\")","v":""},{"$f":"IFERROR(VLOOKUP(AG25,CadMP!$B:$D,3,0),\"\")","v":""},{"$f":"IFERROR(VLOOKUP(AH25,CadMP!$B:$D,3,0),\"\")","v":""},{"$f":"IFERROR(VLOOKUP(AI25,CadMP!$B:$D,3,0),\"\")","v":""},{"$f":"IFERROR(VLOOKUP(AJ25,CadMP!$B:$D,3,0),\"\")","v":""},{"$f":"IFERROR(VLOOKUP(AK25,CadMP!$B:$D,3,0),\"\")","v":""},0,0,0,0,0,0,0,0,0,0,0,0,0,0,0]
[25,null,null,0,0,null,null,null,null,null,null,0,0,null,null,null,null,null,null,null,1,0,null,null,null,null,null,null,null,null,null,null,null,null,null,null,null,null,null,null,null,null,null,null,null,null,null,null,null,null,null,null,{"$f":"IFERROR(VLOOKUP(W26,CadMP!$B:$D,2,0),\"\")","v":""},{"$f":"IFERROR(VLOOKUP(X26,CadMP!$B:$D,2,0),\"\")","v":""},{"$f":"IFERROR(VLOOKUP(Y26,CadMP!$B:$D,2,0),\"\")","v":""},{"$f":"IFERROR(VLOOKUP(Z26,CadMP!$B:$D,2,0),\"\")","v":""},{"$f":"IFERROR(VLOOKUP(AA26,CadMP!$B:$D,2,0),\"\")","v":""},{"$f":"IFERROR(VLOOKUP(AB26,CadMP!$B:$D,2,0),\"\")","v":""},{"$f":"IFERROR(VLOOKUP(AC26,CadMP!$B:$D,2,0),\"\")","v":""},{"$f":"IFERROR(VLOOKUP(AD26,CadMP!$B:$D,2,0),\"\")","v":""},{"$f":"IFERROR(VLOOKUP(AE26,CadMP!$B:$D,2,0),\"\")","v":""},{"$f":"IFERROR(VLOOKUP(AF26,CadMP!$B:$D,2,0),\"\")","v":""},{"$f":"IFERROR(VLOOKUP(AG26,CadMP!$B:$D,2,0),\"\")","v":""},{"$f":"IFERROR(VLOOKUP(AH26,CadMP!$B:$D,2,0),\"\")","v":""},{"$f":"IFERROR(VLOOKUP(AI26,CadMP!$B:$D,2,0),\"\")","v":""},{"$f":"IFERROR(VLOOKUP(AJ26,CadMP!$B:$D,2,0),\"\")","v":""},{"$f":"IFERROR(VLOOKUP(AK26,CadMP!$B:$D,2,0),\"\")","v":""},{"$f":"IFERROR(VLOOKUP(W26,CadMP!$B:$D,3,0),\"\")","v":""},{"$f":"IFERROR(VLOOKUP(X26,CadMP!$B:$D,3,0),\"\")","v":""},{"$f":"IFERROR(VLOOKUP(Y26,CadMP!$B:$D,3,0),\"\")","v":""},{"$f":"IFERROR(VLOOKUP(Z26,CadMP!$B:$D,3,0),\"\")","v":""},{"$f":"IFERROR(VLOOKUP(AA26,CadMP!$B:$D,3,0),\"\")","v":""},{"$f":"IFERROR(VLOOKUP(AB26,CadMP!$B:$D,3,0),\"\")","v":""},{"$f":"IFERROR(VLOOKUP(AC26,CadMP!$B:$D,3,0),\"\")","v":""},{"$f":"IFERROR(VLOOKUP(AD26,CadMP!$B:$D,3,0),\"\")","v":""},{"$f":"IFERROR(VLOOKUP(AE26,CadMP!$B:$D,3,0),\"\")","v":""},{"$f":"IFERROR(VLOOKUP(AF26,CadMP!$B:$D,3,0),\"\")","v":""},{"$f":"IFERROR(VLOOKUP(AG26,CadMP!$B:$D,3,0),\"\")","v":""},{"$f":"IFERROR(VLOOKUP(AH26,CadMP!$B:$D,3,0),\"\")","v":""},{"$f":"IFERROR(VLOOKUP(AI26,CadMP!$B:$D,3,0),\"\")","v":""},{"$f":"IFERROR(VLOOKUP(AJ26,CadMP!$B:$D,3,0),\"\")","v":""},{"$f":"IFERROR(VLOOKUP(AK26,CadMP!$B:$D,3,0),\"\")","v":""},0,0,0,0,0,0,0,0,0,0,0,0,0,0,0]
[26,null,null,0,0,null,null,null,null,null,null,0,0,null,null,null,null,null,null,null,1,0,null,null,null,null,null,null,null,null,null,null,null,null,null,null,null,null,null,null,null,null,null,null,null,null,null,null,null,null,null,null,{"$f":"IFERROR(VLOOKUP(W27,CadMP!$B:$D,2,0),\"\")","v":""},{"$f":"IFERROR(VLOOKUP(X27,CadMP!$B:$D,2,0),\"\")","v":""},{"$f":"IFERROR(VLOOKUP(Y27,CadMP!$B:$D,2,0),\"\")","v":""},{"$f":"IFERROR(VLOOKUP(Z27,CadMP!$B:$D,2,0),\"\")","v":""},{"$f":"IFERROR(VLOOKUP(AA27,CadMP!$B:$D,2,0),\"\")","v":""},{"$f":"IFERROR(VLOOKUP(AB27,CadMP!$B:$D,2,0),\"\")","v":""},{"$f":"IFERROR(VLOOKUP(AC27,CadMP!$B:$D,2,0),\"\")","v":""},{"$f":"IFERROR(VLOOKUP(AD27,CadMP!$B:$D,2,0),\"\")","v":""},{"$f":"IFERROR(VLOOKUP(AE27,CadMP!$B:$D,2,0),\"\")","v":""},{"$f":"IFERROR(VLOOKUP(AF27,CadMP!$B:$D,2,0),\"\")","v":""},{"$f":"IFERROR(VLOOKUP(AG27,CadMP!$B:$D,2,0),\"\")","v":""},{"$f":"IFERROR(VLOOKUP(AH27,CadMP!$B:$D,2,0),\"\")","v":""},{"$f":"IFERROR(VLOOKUP(AI27,CadMP!$B:$D,2,0),\"\")","v":""},{"$f":"IFERROR(VLOOKUP(AJ27,CadMP!$B:$D,2,0),\"\")","v":""},{"$f":"IFERROR(VLOOKUP(AK27,CadMP!$B:$D,2,0),\"\")","v":""},{"$f":"IFERROR(VLOOKUP(W27,CadMP!$B:$D,3,0),\"\")","v":""},{"$f":"IFERROR(VLOOKUP(X27,CadMP!$B:$D,3,0),\"\")","v":""},{"$f":"IFERROR(VLOOKUP(Y27,CadMP!$B:$D,3,0),\"\")","v":""},{"$f":"IFERROR(VLOOKUP(Z27,CadMP!$B:$D,3,0),\"\")","v":""},{"$f":"IFERROR(VLOOKUP(AA27,CadMP!$B:$D,3,0),\"\")","v":""},{"$f":"IFERROR(VLOOKUP(AB27,CadMP!$B:$D,3,0),\"\")","v":""},{"$f":"IFERROR(VLOOKUP(AC27,CadMP!$B:$D,3,0),\"\")","v":""},{"$f":"IFERROR(VLOOKUP(AD27,CadMP!$B:$D,3,0),\"\")","v":""},{"$f":"IFERROR(VLOOKUP(AE27,CadMP!$B:$D,3,0),\"\")","v":""},{"$f":"IFERROR(VLOOKUP(AF27,CadMP!$B:$D,3,0),\"\")","v":""},{"$f":"IFERROR(VLOOKUP(AG27,CadMP!$B:$D,3,0),\"\")","v":""},{"$f":"IFERROR(VLOOKUP(AH27,CadMP!$B:$D,3,0),\"\")","v":""},{"$f":"IFERROR(VLOOKUP(AI27,CadMP!$B:$D,3,0),\"\")","v":""},{"$f":"IFERROR(VLOOKUP(AJ27,CadMP!$B:$D,3,0),\"\")","v":""},{"$f":"IFERROR(VLOOKUP(AK27,CadMP!$B:$D,3,0),\"\")","v":""},0,0,0,0,0,0,0,0,0,0,0,0,0,0,0]
[27,null,null,0,0,null,null,null,null,null,null,0,0,null,null,null,null,null,null,null,1,0,null,null,null,null,null,null,null,null,null,null,null,null,null,null,null,null,null,null,null,null,null,null,null,null,null,null,null,null,null,null,{"$f":"IFERROR(VLOOKUP(W28,CadMP!$B:$D,2,0),\"\")","v":""},{"$f":"IFERROR(VLOOKUP(X28,CadMP!$B:$D,2,0),\"\")","v":""},{"$f":"IFERROR(VLOOKUP(Y28,CadMP!$B:$D,2,0),\"\")","v":""},{"$f":"IFERROR(VLOOKUP(Z28,CadMP!$B:$D,2,0),\"\")","v":""},{"$f":"IFERROR(VLOOKUP(AA28,CadMP!$B:$D,2,0),\"\")","v":""},{"$f":"IFERROR(VLOOKUP(AB28,CadMP!$B:$D,2,0),\"\")","v":""},{"$f":"IFERROR(VLOOKUP(AC28,CadMP!$B:$D,2,0),\"\")","v":""},{"$f":"IFERROR(VLOOKUP(AD28,CadMP!$B:$D,2,0),\"\")","v":""},{"$f":"IFERROR(VLOOKUP(AE28,CadMP!$B:$D,2,0),\"\")","v":""},{"$f":"IFERROR(VLOOKUP(AF28,CadMP!$B:$D,2,0),\"\")","v":""},{"$f":"IFERROR(VLOOKUP(AG28,CadMP!$B:$D,2,0),\"\")","v":""},{"$f":"IFERROR(VLOOKUP(AH28,CadMP!$B:$D,2,0),\"\")","v":""},{"$f":"IFERROR(VLOOKUP(AI28,CadMP!$B:$D,2,0),\"\")","v":""},{"$f":"IFERROR(VLOOKUP(AJ28,CadMP!$B:$D,2,0),\"\")","v":""},{"$f":"IFERROR(VLOOKUP(AK28,CadMP!$B:$D,2,0),\"\")","v":""},{"$f":"IFERROR(VLOOKUP(W28,CadMP!$B:$D,3,0),\"\")","v":""},{"$f":"IFERROR(VLOOKUP(X28,CadMP!$B:$D,3,0),\"\")","v":""},{"$f":"IFERROR(VLOOKUP(Y28,CadMP!$B:$D,3,0),\"\")","v":""},{"$f":"IFERROR(VLOOKUP(Z28,CadMP!$B:$D,3,0),\"\")","v":""},{"$f":"IFERROR(VLOOKUP(AA28,CadMP!$B:$D,3,0),\"\")","v":""},{"$f":"IFERROR(VLOOKUP(AB28,CadMP!$B:$D,3,0),\"\")","v":""},{"$f":"IFERROR(VLOOKUP(AC28,CadMP!$B:$D,3,0),\"\")","v":""},{"$f":"IFERROR(VLOOKUP(AD28,CadMP!$B:$D,3,0),\"\")","v":""},{"$f":"IFERROR(VLOOKUP(AE28,CadMP!$B:$D,3,0),\"\")","v":""},{"$f":"IFERROR(VLOOKUP(AF28,CadMP!$B:$D,3,0),\"\")","v":""},{"$f":"IFERROR(VLOOKUP(AG28,CadMP!$B:$D,3,0),\"\")","v":""},{"$f":"IFERROR(VLOOKUP(AH28,CadMP!$B:$D,3,0),\"\")","v":""},{"$f":"IFERROR(VLOOKUP(AI28,CadMP!$B:$D,3,0),\"\")","v":""},{"$f":"IFERROR(VLOOKUP(AJ28,CadMP!$B:$D,3,0),\"\")","v":""},{"$f":"IFERROR(VLOOKUP(AK28,CadMP!$B:$D,3,0),\"\")","v":""},0,0,0,0,0,0,0,0,0,0,0,0,0,0,0]
[28,null,null,0,0,null,null,null,null,null,null,0,0,null,null,null,null,null,null,null,1,0,null,null,null,null,null,null,null,null,null,null,null,null,null,null,null,null,null,null,null,null,null,null,null,null,null,null,null,null,null,null,{"$f":"IFERROR(VLOOKUP(W29,CadMP!$B:$D,2,0),\"\")","v":""},{"$f":"IFERROR(VLOOKUP(X29,CadMP!$B:$D,2,0),\"\")","v":""},{"$f":"IFERROR(VLOOKUP(Y29,CadMP!$B:$D,2,0),\"\")","v":""},{"$f":"IFERROR(VLOOKUP(Z29,CadMP!$B:$D,2,0),\"\")","v":""},{"$f":"IFERROR(VLOOKUP(AA29,CadMP!$B:$D,2,0),\"\")","v":""},{"$f":"IFERROR(VLOOKUP(AB29,CadMP!$B:$D,2,0),\"\")","v":""},{"$f":"IFERROR(VLOOKUP(AC29,CadMP!$B:$D,2,0),\"\")","v":""},{"$f":"IFERROR(VLOOKUP(AD29,CadMP!$B:$D,2,0),\"\")","v":""},{"$f":"IFERROR(VLOOKUP(AE29,CadMP!$B:$D,2,0),\"\")","v":""},{"$f":"IFERROR(VLOOKUP(AF29,CadMP!$B:$D,2,0),\"\")","v":""},{"$f":"IFERROR(VLOOKUP(AG29,CadMP!$B:$D,2,0),\"\")","v":""},{"$f":"IFERROR(VLOOKUP(AH29,CadMP!$B:$D,2,0),\"\")","v":""},{"$f":"IFERROR(VLOOKUP(AI29,CadMP!$B:$D,2,0),\"\")","v":""},{"$f":"IFERROR(VLOOKUP(AJ29,CadMP!$B:$D,2,0),\"\")","v":""},{"$f":"IFERROR(VLOOKUP(AK29,CadMP!$B:$D,2,0),\"\")","v":""},{"$f":"IFERROR(VLOOKUP(W29,CadMP!$B:$D,3,0),\"\")","v":""},{"$f":"IFERROR(VLOOKUP(X29,CadMP!$B:$D,3,0),\"\")","v":""},{"$f":"IFERROR(VLOOKUP(Y29,CadMP!$B:$D,3,0),\"\")","v":""},{"$f":"IFERROR(VLOOKUP(Z29,CadMP!$B:$D,3,0),\"\")","v":""},{"$f":"IFERROR(VLOOKUP(AA29,CadMP!$B:$D,3,0),\"\")","v":""},{"$f":"IFERROR(VLOOKUP(AB29,CadMP!$B:$D,3,0),\"\")","v":""},{"$f":"IFERROR(VLOOKUP(AC29,CadMP!$B:$D,3,0),\"\")","v":""},{"$f":"IFERROR(VLOOKUP(AD29,CadMP!$B:$D,3,0),\"\")","v":""},{"$f":"IFERROR(VLOOKUP(AE29,CadMP!$B:$D,3,0),\"\")","v":""},{"$f":"IFERROR(VLOOKUP(AF29,CadMP!$B:$D,3,0),\"\")","v":""},{"$f":"IFERROR(VLOOKUP(AG29,CadMP!$B:$D,3,0),\"\")","v":""},{"$f":"IFERROR(VLOOKUP(AH29,CadMP!$B:$D,3,0),\"\")","v":""},{"$f":"IFERROR(VLOOKUP(AI29,CadMP!$B:$D,3,0),\"\")","v":""},{"$f":"IFERROR(VLOOKUP(AJ29,CadMP!$B:$D,3,0),\"\")","v":""},{"$f":"IFERROR(VLOOKUP(AK29,CadMP!$B:$D,3,0),\"\")","v":""},0,0,0,0,0,0,0,0,0,0,0,0,0,0,0]
[29,null,null,0,0,null,null,null,null,null,null,0,0,null,null,null,null,null,null,null,1,0,null,null,null,null,null,null,null,null,null,null,null,null,null,null,null,null,null,null,null,null,null,null,null,null,null,null,null,null,null,null,{"$f":"IFERROR(VLOOKUP(W30,CadMP!$B:$D,2,0),\"\")","v":""},{"$f":"IFERROR(VLOOKUP(X30,CadMP!$B:$D,2,0),\"\")","v":""},{"$f":"IFERROR(VLOOKUP(Y30,CadMP!$B:$D,2,0),\"\")","v":""},{"$f":"IFERROR(VLOOKUP(Z30,CadMP!$B:$D,2,0),\"\")","v":""},{"$f":"IFERROR(VLOOKUP(AA30,CadMP!$B:$D,2,0),\"\")","v":""},{"$f":"IFERROR(VLOOKUP(AB30,CadMP!$B:$D,2,0),\"\")","v":""},{"$f":"IFERROR(VLOOKUP(AC30,CadMP!$B:$D,2,0),\"\")","v":""},{"$f":"IFERROR(VLOOKUP(AD30,CadMP!$B:$D,2,0),\"\")","v":""},{"$f":"IFERROR(VLOOKUP(AE30,CadMP!$B:$D,2,0),\"\")","v":""},{"$f":"IFERROR(VLOOKUP(AF30,CadMP!$B:$D,2,0),\"\")","v":""},{"$f":"IFERROR(VLOOKUP(AG30,CadMP!$B:$D,2,0),\"\")","v":""},{"$f":"IFERROR(VLOOKUP(AH30,CadMP!$B:$D,2,0),\"\")","v":""},{"$f":"IFERROR(VLOOKUP(AI30,CadMP!$B:$D,2,0),\"\")","v":""},{"$f":"IFERROR(VLOOKUP(AJ30,CadMP!$B:$D,2,0),\"\")","v":""},{"$f":"IFERROR(VLOOKUP(AK30,CadMP!$B:$D,2,0),\"\")","v":""},{"$f":"IFERROR(VLOOKUP(W30,CadMP!$B:$D,3,0),\"\")","v":""},{"$f":"IFERROR(VLOOKUP(X30,CadMP!$B:$D,3,0),\"\")","v":""},{"$f":"IFERROR(VLOOKUP(Y30,CadMP!$B:$D,3,0),\"\")","v":""},{"$f":"IFERROR(VLOOKUP(Z30,CadMP!$B:$D,3,0),\"\")","v":""},{"$f":"IFERROR(VLOOKUP(AA30,CadMP!$B:$D,3,0),\"\")","v":""},{"$f":"IFERROR(VLOOKUP(AB30,CadMP!$B:$D,3,0),\"\")","v":""},{"$f":"IFERROR(VLOOKUP(AC30,CadMP!$B:$D,3,0),\"\")","v":""},{"$f":"IFERROR(VLOOKUP(AD30,CadMP!$B:$D,3,0),\"\")","v":""},{"$f":"IFERROR(VLOOKUP(AE30,CadMP!$B:$D,3,0),\"\")","v":""},{"$f":"IFERROR(VLOOKUP(AF30,CadMP!$B:$D,3,0),\"\")","v":""},{"$f":"IFERROR(VLOOKUP(AG30,CadMP!$B:$D,3,0),\"\")","v":""},{"$f":"IFERROR(VLOOKUP(AH30,CadMP!$B:$D,3,0),\"\")","v":""},{"$f":"IFERROR(VLOOKUP(AI30,CadMP!$B:$D,3,0),\"\")","v":""},{"$f":"IFERROR(VLOOKUP(AJ30,CadMP!$B:$D,3,0),\"\")","v":""},{"$f":"IFERROR(VLOOKUP(AK30,CadMP!$B:$D,3,0),\"\")","v":""},0,0,0,0,0,0,0,0,0,0,0,0,0,0,0]
[30,null,null,0,0,null,null,null,null,null,null,0,0,null,null,null,null,null,null,null,1,0,null,null,null,null,null,null,null,null,null,null,null,null,null,null,null,null,null,null,null,null,null,null,null,null,null,null,null,null,null,null,{"$f":"IFERROR(VLOOKUP(W31,CadMP!$B:$D,2,0),\"\")","v":""},{"$f":"IFERROR(VLOOKUP(X31,CadMP!$B:$D,2,0),\"\")","v":""},{"$f":"IFERROR(VLOOKUP(Y31,CadMP!$B:$D,2,0),\"\")","v":""},{"$f":"IFERROR(VLOOKUP(Z31,CadMP!$B:$D,2,0),\"\")","v":""},{"$f":"IFERROR(VLOOKUP(AA31,CadMP!$B:$D,2,0),\"\")","v":""},{"$f":"IFERROR(VLOOKUP(AB31,CadMP!$B:$D,2,0),\"\")","v":""},{"$f":"IFERROR(VLOOKUP(AC31,CadMP!$B:$D,2,0),\"\")","v":""},{"$f":"IFERROR(VLOOKUP(AD31,CadMP!$B:$D,2,0),\"\")","v":""},{"$f":"IFERROR(VLOOKUP(AE31,CadMP!$B:$D,2,0),\"\")","v":""},{"$f":"IFERROR(VLOOKUP(AF31,CadMP!$B:$D,2,0),\"\")","v":""},{"$f":"IFERROR(VLOOKUP(AG31,CadMP!$B:$D,2,0),\"\")","v":""},{"$f":"IFERROR(VLOOKUP(AH31,CadMP!$B:$D,2,0),\"\")","v":""},{"$f":"IFERROR(VLOOKUP(AI31,CadMP!$B:$D,2,0),\"\")","v":""},{"$f":"IFERROR(VLOOKUP(AJ31,CadMP!$B:$D,2,0),\"\")","v":""},{"$f":"IFERROR(VLOOKUP(AK31,CadMP!$B:$D,2,0),\"\")","v":""},{"$f":"IFERROR(VLOOKUP(W31,CadMP!$B:$D,3,0),\"\")","v":""},{"$f":"IFERROR(VLOOKUP(X31,CadMP!$B:$D,3,0),\"\")","v":""},{"$f":"IFERROR(VLOOKUP(Y31,CadMP!$B:$D,3,0),\"\")","v":""},{"$f":"IFERROR(VLOOKUP(Z31,CadMP!$B:$D,3,0),\"\")","v":""},{"$f":"IFERROR(VLOOKUP(AA31,CadMP!$B:$D,3,0),\"\")","v":""},{"$f":"IFERROR(VLOOKUP(AB31,CadMP!$B:$D,3,0),\"\")","v":""},{"$f":"IFERROR(VLOOKUP(AC31,CadMP!$B:$D,3,0),\"\")","v":""},{"$f":"IFERROR(VLOOKUP(AD31,CadMP!$B:$D,3,0),\"\")","v":""},{"$f":"IFERROR(VLOOKUP(AE31,CadMP!$B:$D,3,0),\"\")","v":""},{"$f":"IFERROR(VLOOKUP(AF31,CadMP!$B:$D,3,0),\"\")","v":""},{"$f":"IFERROR(VLOOKUP(AG31,CadMP!$B:$D,3,0),\"\")","v":""},{"$f":"IFERROR(VLOOKUP(AH31,CadMP!$B:$D,3,0),\"\")","v":""},{"$f":"IFERROR(VLOOKUP(AI31,CadMP!$B:$D,3,0),\"\")","v":""},{"$f":"IFERROR(VLOOKUP(AJ31,CadMP!$B:$D,3,0),\"\")","v":""},{"$f":"IFERROR(VLOOKUP(AK31,CadMP!$B:$D,3,0),\"\")","v":""},0,0,0,0,0,0,0,0,0,0,0,0,0,0,0]
[31,null,null,0,0,null,null,null,null,null,null,0,0,null,null,null,null,null,null,null,1,0,null,null,null,null,null,null,null,null,null,null,null,null,null,null,null,null,null,null,null,null,null,null,null,null,null,null,null,null,null,null,{"$f":"IFERROR(VLOOKUP(W32,CadMP!$B:$D,2,0),\"\")","v":""},{"$f":"IFERROR(VLOOKUP(X32,CadMP!$B:$D,2,0),\"\")","v":""},{"$f":"IFERROR(VLOOKUP(Y32,CadMP!$B:$D,2,0),\"\")","v":""},{"$f":"IFERROR(VLOOKUP(Z32,CadMP!$B:$D,2,0),\"\")","v":""},{"$f":"IFERROR(VLOOKUP(AA32,CadMP!$B:$D,2,0),\"\")","v":""},{"$f":"IFERROR(VLOOKUP(AB32,CadMP!$B:$D,2,0),\"\")","v":""},{"$f":"IFERROR(VLOOKUP(AC32,CadMP!$B:$D,2,0),\"\")","v":""},{"$f":"IFERROR(VLOOKUP(AD32,CadMP!$B:$D,2,0),\"\")","v":""},{"$f":"IFERROR(VLOOKUP(AE32,CadMP!$B:$D,2,0),\"\")","v":""},{"$f":"IFERROR(VLOOKUP(AF32,CadMP!$B:$D,2,0),\"\")","v":""},{"$f":"IFERROR(VLOOKUP(AG32,CadMP!$B:$D,2,0),\"\")","v":""},{"$f":"IFERROR(VLOOKUP(AH32,CadMP!$B:$D,2,0),\"\")","v":""},{"$f":"IFERROR(VLOOKUP(AI32,CadMP!$B:$D,2,0),\"\")","v":""},{"$f":"IFERROR(VLOOKUP(AJ32,CadMP!$B:$D,2,0),\"\")","v":""},{"$f":"IFERROR(VLOOKUP(AK32,CadMP!$B:$D,2,0),\"\")","v":""},{"$f":"IFERROR(VLOOKUP(W32,CadMP!$B:$D,3,0),\"\")","v":""},{"$f":"IFERROR(VLOOKUP(X32,CadMP!$B:$D,3,0),\"\")","v":""},{"$f":"IFERROR(VLOOKUP(Y32,CadMP!$B:$D,3,0),\"\")","v":""},{"$f":"IFERROR(VLOOKUP(Z32,CadMP!$B:$D,3,0),\"\")","v":""},{"$f":"IFERROR(VLOOKUP(AA32,CadMP!$B:$D,3,0),\"\")","v":""},{"$f":"IFERROR(VLOOKUP(AB32,CadMP!$B:$D,3,0),\"\")","v":""},{"$f":"IFERROR(VLOOKUP(AC32,CadMP!$B:$D,3,0),\"\")","v":""},{"$f":"IFERROR(VLOOKUP(AD32,CadMP!$B:$D,3,0),\"\")","v":""},{"$f":"IFERROR(VLOOKUP(AE32,CadMP!$B:$D,3,0),\"\")","v":""},{"$f":"IFERROR(VLOOKUP(AF32,CadMP!$B:$D,3,0),\"\")","v":""},{"$f":"IFERROR(VLOOKUP(AG32,CadMP!$B:$D,3,0),\"\")","v":""},{"$f":"IFERROR(VLOOKUP(AH32,CadMP!$B:$D,3,0),\"\")","v":""},{"$f":"IFERROR(VLOOKUP(AI32,CadMP!$B:$D,3,0),\"\")","v":""},{"$f":"IFERROR(VLOOKUP(AJ32,CadMP!$B:$D,3,0),\"\")","v":""},{"$f":"IFERROR(VLOOKUP(AK32,CadMP!$B:$D,3,0),\"\")","v":""},0,0,0,0,0,0,0,0,0,0,0,0,0,0,0]
[32,null,null,0,0,null,null,null,null,null,null,0,0,null,null,null,null,null,null,null,1,0,null,null,null,null,null,null,null,null,null,null,null,null,null,null,null,null,null,null,null,null,null,null,null,null,null,null,null,null,null,null,{"$f":"IFERROR(VLOOKUP(W33,CadMP!$B:$D,2,0),\"\")","v":""},{"$f":"IFERROR(VLOOKUP(X33,CadMP!$B:$D,2,0),\"\")","v":""},{"$f":"IFERROR(VLOOKUP(Y33,CadMP!$B:$D,2,0),\"\")","v":""},{"$f":"IFERROR(VLOOKUP(Z33,CadMP!$B:$D,2,0),\"\")","v":""},{"$f":"IFERROR(VLOOKUP(AA33,CadMP!$B:$D,2,0),\"\")","v":""},{"$f":"IFERROR(VLOOKUP(AB33,CadMP!$B:$D,2,0),\"\")","v":""},{"$f":"IFERROR(VLOOKUP(AC33,CadMP!$B:$D,2,0),\"\")","v":""},{"$f":"IFERROR(VLOOKUP(AD33,CadMP!$B:$D,2,0),\"\")","v":""},{"$f":"IFERROR(VLOOKUP(AE33,CadMP!$B:$D,2,0),\"\")","v":""},{"$f":"IFERROR(VLOOKUP(AF33,CadMP!$B:$D,2,0),\"\")","v":""},{"$f":"IFERROR(VLOOKUP(AG33,CadMP!$B:$D,2,0),\"\")","v":""},{"$f":"IFERROR(VLOOKUP(AH33,CadMP!$B:$D,2,0),\"\")","v":""},{"$f":"IFERROR(VLOOKUP(AI33,CadMP!$B:$D,2,0),\"\")","v":""},{"$f":"IFERROR(VLOOKUP(AJ33,CadMP!$B:$D,2,0),\"\")","v":""},{"$f":"IFERROR(VLOOKUP(AK33,CadMP!$B:$D,2,0),\"\")","v":""},{"$f":"IFERROR(VLOOKUP(W33,CadMP!$B:$D,3,0),\"\")","v":""},{"$f":"IFERROR(VLOOKUP(X33,CadMP!$B:$D,3,0),\"\")","v":""},{"$f":"IFERROR(VLOOKUP(Y33,CadMP!$B:$D,3,0),\"\")","v":""},{"$f":"IFERROR(VLOOKUP(Z33,CadMP!$B:$D,3,0),\"\")","v":""},{"$f":"IFERROR(VLOOKUP(AA33,CadMP!$B:$D,3,0),\"\")","v":""},{"$f":"IFERROR(VLOOKUP(AB33,CadMP!$B:$D,3,0),\"\")","v":""},{"$f":"IFERROR(VLOOKUP(AC33,CadMP!$B:$D,3,0),\"\")","v":""},{"$f":"IFERROR(VLOOKUP(AD33,CadMP!$B:$D,3,0),\"\")","v":""},{"$f":"IFERROR(VLOOKUP(AE33,CadMP!$B:$D,3,0),\"\")","v":""},{"$f":"IFERROR(VLOOKUP(AF33,CadMP!$B:$D,3,0),\"\")","v":""},{"$f":"IFERROR(VLOOKUP(AG33,CadMP!$B:$D,3,0),\"\")","v":""},{"$f":"IFERROR(VLOOKUP(AH33,CadMP!$B:$D,3,0),\"\")","v":""},{"$f":"IFERROR(VLOOKUP(AI33,CadMP!$B:$D,3,0),\"\")","v":""},{"$f":"IFERROR(VLOOKUP(AJ33,CadMP!$B:$D,3,0),\"\")","v":""},{"$f":"IFERROR(VLOOKUP(AK33,CadMP!$B:$D,3,0),\"\")","v":""},0,0,0,0,0,0,0,0,0,0,0,0,0,0,0]
[33,null,null,0,0,null,null,null,null,null,null,0,0,null,null,null,null,null,null,null,1,0,null,null,null,null,null,null,null,null,null,null,null,null,null,null,null,null,null,null,null,null,null,null,null,null,null,null,null,null,null,null,{"$f":"IFERROR(VLOOKUP(W34,CadMP!$B:$D,2,0),\"\")","v":""},{"$f":"IFERROR(VLOOKUP(X34,CadMP!$B:$D,2,0),\"\")","v":""},{"$f":"IFERROR(VLOOKUP(Y34,CadMP!$B:$D,2,0),\"\")","v":""},{"$f":"IFERROR(VLOOKUP(Z34,CadMP!$B:$D,2,0),\"\")","v":""},{"$f":"IFERROR(VLOOKUP(AA34,CadMP!$B:$D,2,0),\"\")","v":""},{"$f":"IFERROR(VLOOKUP(AB34,CadMP!$B:$D,2,0),\"\")","v":""},{"$f":"IFERROR(VLOOKUP(AC34,CadMP!$B:$D,2,0),\"\")","v":""},{"$f":"IFERROR(VLOOKUP(AD34,CadMP!$B:$D,2,0),\"\")","v":""},{"$f":"IFERROR(VLOOKUP(AE34,CadMP!$B:$D,2,0),\"\")","v":""},{"$f":"IFERROR(VLOOKUP(AF34,CadMP!$B:$D,2,0),\"\")","v":""},{"$f":"IFERROR(VLOOKUP(AG34,CadMP!$B:$D,2,0),\"\")","v":""},{"$f":"IFERROR(VLOOKUP(AH34,CadMP!$B:$D,2,0),\"\")","v":""},{"$f":"IFERROR(VLOOKUP(AI34,CadMP!$B:$D,2,0),\"\")","v":""},{"$f":"IFERROR(VLOOKUP(AJ34,CadMP!$B:$D,2,0),\"\")","v":""},{"$f":"IFERROR(VLOOKUP(AK34,CadMP!$B:$D,2,0),\"\")","v":""},{"$f":"IFERROR(VLOOKUP(W34,CadMP!$B:$D,3,0),\"\")","v":""},{"$f":"IFERROR(VLOOKUP(X34,CadMP!$B:$D,3,0),\"\")","v":""},{"$f":"IFERROR(VLOOKUP(Y34,CadMP!$B:$D,3,0),\"\")","v":""},{"$f":"IFERROR(VLOOKUP(Z34,CadMP!$B:$D,3,0),\"\")","v":""},{"$f":"IFERROR(VLOOKUP(AA34,CadMP!$B:$D,3,0),\"\")","v":""},{"$f":"IFERROR(VLOOKUP(AB34,CadMP!$B:$D,3,0),\"\")","v":""},{"$f":"IFERROR(VLOOKUP(AC34,CadMP!$B:$D,3,0),\"\")","v":""},{"$f":"IFERROR(VLOOKUP(AD34,CadMP!$B:$D,3,0),\"\")","v":""},{"$f":"IFERROR(VLOOKUP(AE34,CadMP!$B:$D,3,0),\"\")","v":""},{"$f":"IFERROR(VLOOKUP(AF34,CadMP!$B:$D,3,0),\"\")","v":""},{"$f":"IFERROR(VLOOKUP(AG34,CadMP!$B:$D,3,0),\"\")","v":""},{"$f":"IFERROR(VLOOKUP(AH34,CadMP!$B:$D,3,0),\"\")","v":""},{"$f":"IFERROR(VLOOKUP(AI34,CadMP!$B:$D,3,0),\"\")","v":""},{"$f":"IFERROR(VLOOKUP(AJ34,CadMP!$B:$D,3,0),\"\")","v":""},{"$f":"IFERROR(VLOOKUP(AK34,CadMP!$B:$D,3,0),\"\")","v":""},0,0,0,0,0,0,0,0,0,0,0,0,0,0,0]
[34,null,null,0,0,null,null,null,null,null,null,0,0,null,null,null,null,null,null,null,1,0,null,null,null,null,null,null,null,null,null,null,null,null,null,null,null,null,null,null,null,null,null,null,null,null,null,null,null,null,null,null,{"$f":"IFERROR(VLOOKUP(W35,CadMP!$B:$D,2,0),\"\")","v":""},{"$f":"IFERROR(VLOOKUP(X35,CadMP!$B:$D,2,0),\"\")","v":""},{"$f":"IFERROR(VLOOKUP(Y35,CadMP!$B:$D,2,0),\"\")","v":""},{"$f":"IFERROR(VLOOKUP(Z35,CadMP!$B:$D,2,0),\"\")","v":""},{"$f":"IFERROR(VLOOKUP(AA35,CadMP!$B:$D,2,0),\"\")","v":""},{"$f":"IFERROR(VLOOKUP(AB35,CadMP!$B:$D,2,0),\"\")","v":""},{"$f":"IFERROR(VLOOKUP(AC35,CadMP!$B:$D,2,0),\"\")","v":""},{"$f":"IFERROR(VLOOKUP(AD35,CadMP!$B:$D,2,0),\"\")","v":""},{"$f":"IFERROR(VLOOKUP(AE35,CadMP!$B:$D,2,0),\"\")","v":""},{"$f":"IFERROR(VLOOKUP(AF35,CadMP!$B:$D,2,0),\"\")","v":""},{"$f":"IFERROR(VLOOKUP(AG35,CadMP!$B:$D,2,0),\"\")","v":""},{"$f":"IFERROR(VLOOKUP(AH35,CadMP!$B:$D,2,0),\"\")","v":""},{"$f":"IFERROR(VLOOKUP(AI35,CadMP!$B:$D,2,0),\"\")","v":""},{"$f":"IFERROR(VLOOKUP(AJ35,CadMP!$B:$D,2,0),\"\")","v":""},{"$f":"IFERROR(VLOOKUP(AK35,CadMP!$B:$D,2,0),\"\")","v":""},{"$f":"IFERROR(VLOOKUP(W35,CadMP!$B:$D,3,0),\"\")","v":""},{"$f":"IFERROR(VLOOKUP(X35,CadMP!$B:$D,3,0),\"\")","v":""},{"$f":"IFERROR(VLOOKUP(Y35,CadMP!$B:$D,3,0),\"\")","v":""},{"$f":"IFERROR(VLOOKUP(Z35,CadMP!$B:$D,3,0),\"\")","v":""},{"$f":"IFERROR(VLOOKUP(AA35,CadMP!$B:$D,3,0),\"\")","v":""},{"$f":"IFERROR(VLOOKUP(AB35,CadMP!$B:$D,3,0),\"\")","v":""},{"$f":"IFERROR(VLOOKUP(AC35,CadMP!$B:$D,3,0),\"\")","v":""},{"$f":"IFERROR(VLOOKUP(AD35,CadMP!$B:$D,3,0),\"\")","v":""},{"$f":"IFERROR(VLOOKUP(AE35,CadMP!$B:$D,3,0),\"\")","v":""},{"$f":"IFERROR(VLOOKUP(AF35,CadMP!$B:$D,3,0),\"\")","v":""},{"$f":"IFERROR(VLOOKUP(AG35,CadMP!$B:$D,3,0),\"\")","v":""},{"$f":"IFERROR(VLOOKUP(AH35,CadMP!$B:$D,3,0),\"\")","v":""},{"$f":"IFERROR(VLOOKUP(AI35,CadMP!$B:$D,3,0),\"\")","v":""},{"$f":"IFERROR(VLOOKUP(AJ35,CadMP!$B:$D,3,0),\"\")","v":""},{"$f":"IFERROR(VLOOKUP(AK35,CadMP!$B:$D,3,0),\"\")","v":""},0,0,0,0,0,0,0,0,0,0,0,0,0,0,0]
[35,null,null,0,0,null,null,null,null,null,null,0,0,null,null,null,null,null,null,null,1,0,null,null,null,null,null,null,null,null,null,null,null,null,null,null,null,null,null,null,null,null,null,null,null,null,null,null,null,null,null,null,{"$f":"IFERROR(VLOOKUP(W36,CadMP!$B:$D,2,0),\"\")","v":""},{"$f":"IFERROR(VLOOKUP(X36,CadMP!$B:$D,2,0),\"\")","v":""},{"$f":"IFERROR(VLOOKUP(Y36,CadMP!$B:$D,2,0),\"\")","v":""},{"$f":"IFERROR(VLOOKUP(Z36,CadMP!$B:$D,2,0),\"\")","v":""},{"$f":"IFERROR(VLOOKUP(AA36,CadMP!$B:$D,2,0),\"\")","v":""},{"$f":"IFERROR(VLOOKUP(AB36,CadMP!$B:$D,2,0),\"\")","v":""},{"$f":"IFERROR(VLOOKUP(AC36,CadMP!$B:$D,2,0),\"\")","v":""},{"$f":"IFERROR(VLOOKUP(AD36,CadMP!$B:$D,2,0),\"\")","v":""},{"$f":"IFERROR(VLOOKUP(AE36,CadMP!$B:$D,2,0),\"\")","v":""},{"$f":"IFERROR(VLOOKUP(AF36,CadMP!$B:$D,2,0),\"\")","v":""},{"$f":"IFERROR(VLOOKUP(AG36,CadMP!$B:$D,2,0),\"\")","v":""},{"$f":"IFERROR(VLOOKUP(AH36,CadMP!$B:$D,2,0),\"\")","v":""},{"$f":"IFERROR(VLOOKUP(AI36,CadMP!$B:$D,2,0),\"\")","v":""},{"$f":"IFERROR(VLOOKUP(AJ36,CadMP!$B:$D,2,0),\"\")","v":""},{"$f":"IFERROR(VLOOKUP(AK36,CadMP!$B:$D,2,0),\"\")","v":""},{"$f":"IFERROR(VLOOKUP(W36,CadMP!$B:$D,3,0),\"\")","v":""},{"$f":"IFERROR(VLOOKUP(X36,CadMP!$B:$D,3,0),\"\")","v":""},{"$f":"IFERROR(VLOOKUP(Y36,CadMP!$B:$D,3,0),\"\")","v":""},{"$f":"IFERROR(VLOOKUP(Z36,CadMP!$B:$D,3,0),\"\")","v":""},{"$f":"IFERROR(VLOOKUP(AA36,CadMP!$B:$D,3,0),\"\")","v":""},{"$f":"IFERROR(VLOOKUP(AB36,CadMP!$B:$D,3,0),\"\")","v":""},{"$f":"IFERROR(VLOOKUP(AC36,CadMP!$B:$D,3,0),\"\")","v":""},{"$f":"IFERROR(VLOOKUP(AD36,CadMP!$B:$D,3,0),\"\")","v":""},{"$f":"IFERROR(VLOOKUP(AE36,CadMP!$B:$D,3,0),\"\")","v":""},{"$f":"IFERROR(VLOOKUP(AF36,CadMP!$B:$D,3,0),\"\")","v":""},{"$f":"IFERROR(VLOOKUP(AG36,CadMP!$B:$D,3,0),\"\")","v":""},{"$f":"IFERROR(VLOOKUP(AH36,CadMP!$B:$D,3,0),\"\")","v":""},{"$f":"IFERROR(VLOOKUP(AI36,CadMP!$B:$D,3,0),\"\")","v":""},{"$f":"IFERROR(VLOOKUP(AJ36,CadMP!$B:$D,3,0),\"\")","v":""},{"$f":"IFERROR(VLOOKUP(AK36,CadMP!$B:$D,3,0),\"\")","v":""},0,0,0,0,0,0,0,0,0,0,0,0,0,0,0]
[36,null,null,0,0,null,null,null,null,null,null,0,0,null,null,null,null,null,null,null,1,0,null,null,null,null,null,null,null,null,null,null,null,null,null,null,null,null,null,null,null,null,null,null,null,null,null,null,null,null,null,null,{"$f":"IFERROR(VLOOKUP(W37,CadMP!$B:$D,2,0),\"\")","v":""},{"$f":"IFERROR(VLOOKUP(X37,CadMP!$B:$D,2,0),\"\")","v":""},{"$f":"IFERROR(VLOOKUP(Y37,CadMP!$B:$D,2,0),\"\")","v":""},{"$f":"IFERROR(VLOOKUP(Z37,CadMP!$B:$D,2,0),\"\")","v":""},{"$f":"IFERROR(VLOOKUP(AA37,CadMP!$B:$D,2,0),\"\")","v":""},{"$f":"IFERROR(VLOOKUP(AB37,CadMP!$B:$D,2,0),\"\")","v":""},{"$f":"IFERROR(VLOOKUP(AC37,CadMP!$B:$D,2,0),\"\")","v":""},{"$f":"IFERROR(VLOOKUP(AD37,CadMP!$B:$D,2,0),\"\")","v":""},{"$f":"IFERROR(VLOOKUP(AE37,CadMP!$B:$D,2,0),\"\")","v":""},{"$f":"IFERROR(VLOOKUP(AF37,CadMP!$B:$D,2,0),\"\")","v":""},{"$f":"IFERROR(VLOOKUP(AG37,CadMP!$B:$D,2,0),\"\")","v":""},{"$f":"IFERROR(VLOOKUP(AH37,CadMP!$B:$D,2,0),\"\")","v":""},{"$f":"IFERROR(VLOOKUP(AI37,CadMP!$B:$D,2,0),\"\")","v":""},{"$f":"IFERROR(VLOOKUP(AJ37,CadMP!$B:$D,2,0),\"\")","v":""},{"$f":"IFERROR(VLOOKUP(AK37,CadMP!$B:$D,2,0),\"\")","v":""},{"$f":"IFERROR(VLOOKUP(W37,CadMP!$B:$D,3,0),\"\")","v":""},{"$f":"IFERROR(VLOOKUP(X37,CadMP!$B:$D,3,0),\"\")","v":""},{"$f":"IFERROR(VLOOKUP(Y37,CadMP!$B:$D,3,0),\"\")","v":""},{"$f":"IFERROR(VLOOKUP(Z37,CadMP!$B:$D,3,0),\"\")","v":""},{"$f":"IFERROR(VLOOKUP(AA37,CadMP!$B:$D,3,0),\"\")","v":""},{"$f":"IFERROR(VLOOKUP(AB37,CadMP!$B:$D,3,0),\"\")","v":""},{"$f":"IFERROR(VLOOKUP(AC37,CadMP!$B:$D,3,0),\"\")","v":""},{"$f":"IFERROR(VLOOKUP(AD37,CadMP!$B:$D,3,0),\"\")","v":""},{"$f":"IFERROR(VLOOKUP(AE37,CadMP!$B:$D,3,0),\"\")","v":""},{"$f":"IFERROR(VLOOKUP(AF37,CadMP!$B:$D,3,0),\"\")","v":""},{"$f":"IFERROR(VLOOKUP(AG37,CadMP!$B:$D,3,0),\"\")","v":""},{"$f":"IFERROR(VLOOKUP(AH37,CadMP!$B:$D,3,0),\"\")","v":""},{"$f":"IFERROR(VLOOKUP(AI37,CadMP!$B:$D,3,0),\"\")","v":""},{"$f":"IFERROR(VLOOKUP(AJ37,CadMP!$B:$D,3,0),\"\")","v":""},{"$f":"IFERROR(VLOOKUP(AK37,CadMP!$B:$D,3,0),\"\")","v":""},0,0,0,0,0,0,0,0,0,0,0,0,0,0,0]
[37,null,null,0,0,null,null,null,null,null,null,0,0,null,null,null,null,null,null,null,1,0,null,null,null,null,null,null,null,null,null,null,null,null,null,null,null,null,null,null,null,null,null,null,null,null,null,null,null,null,null,null,{"$f":"IFERROR(VLOOKUP(W38,CadMP!$B:$D,2,0),\"\")","v":""},{"$f":"IFERROR(VLOOKUP(X38,CadMP!$B:$D,2,0),\"\")","v":""},{"$f":"IFERROR(VLOOKUP(Y38,CadMP!$B:$D,2,0),\"\")","v":""},{"$f":"IFERROR(VLOOKUP(Z38,CadMP!$B:$D,2,0),\"\")","v":""},{"$f":"IFERROR(VLOOKUP(AA38,CadMP!$B:$D,2,0),\"\")","v":""},{"$f":"IFERROR(VLOOKUP(AB38,CadMP!$B:$D,2,0),\"\")","v":""},{"$f":"IFERROR(VLOOKUP(AC38,CadMP!$B:$D,2,0),\"\")","v":""},{"$f":"IFERROR(VLOOKUP(AD38,CadMP!$B:$D,2,0),\"\")","v":""},{"$f":"IFERROR(VLOOKUP(AE38,CadMP!$B:$D,2,0),\"\")","v":""},{"$f":"IFERROR(VLOOKUP(AF38,CadMP!$B:$D,2,0),\"\")","v":""},{"$f":"IFERROR(VLOOKUP(AG38,CadMP!$B:$D,2,0),\"\")","v":""},{"$f":"IFERROR(VLOOKUP(AH38,CadMP!$B:$D,2,0),\"\")","v":""},{"$f":"IFERROR(VLOOKUP(AI38,CadMP!$B:$D,2,0),\"\")","v":""},{"$f":"IFERROR(VLOOKUP(AJ38,CadMP!$B:$D,2,0),\"\")","v":""},{"$f":"IFERROR(VLOOKUP(AK38,CadMP!$B:$D,2,0),\"\")","v":""},{"$f":"IFERROR(VLOOKUP(W38,CadMP!$B:$D,3,0),\"\")","v":""},{"$f":"IFERROR(VLOOKUP(X38,CadMP!$B:$D,3,0),\"\")","v":""},{"$f":"IFERROR(VLOOKUP(Y38,CadMP!$B:$D,3,0),\"\")","v":""},{"$f":"IFERROR(VLOOKUP(Z38,CadMP!$B:$D,3,0),\"\")","v":""},{"$f":"IFERROR(VLOOKUP(AA38,CadMP!$B:$D,3,0),\"\")","v":""},{"$f":"IFERROR(VLOOKUP(AB38,CadMP!$B:$D,3,0),\"\")","v":""},{"$f":"IFERROR(VLOOKUP(AC38,CadMP!$B:$D,3,0),\"\")","v":""},{"$f":"IFERROR(VLOOKUP(AD38,CadMP!$B:$D,3,0),\"\")","v":""},{"$f":"IFERROR(VLOOKUP(AE38,CadMP!$B:$D,3,0),\"\")","v":""},{"$f":"IFERROR(VLOOKUP(AF38,CadMP!$B:$D,3,0),\"\")","v":""},{"$f":"IFERROR(VLOOKUP(AG38,CadMP!$B:$D,3,0),\"\")","v":""},{"$f":"IFERROR(VLOOKUP(AH38,CadMP!$B:$D,3,0),\"\")","v":""},{"$f":"IFERROR(VLOOKUP(AI38,CadMP!$B:$D,3,0),\"\")","v":""},{"$f":"IFERROR(VLOOKUP(AJ38,CadMP!$B:$D,3,0),\"\")","v":""},{"$f":"IFERROR(VLOOKUP(AK38,CadMP!$B:$D,3,0),\"\")","v":""},0,0,0,0,0,0,0,0,0,0,0,0,0,0,0]
[38,null,null,0,0,null,null,null,null,null,null,0,0,null,null,null,null,null,null,null,1,0,null,null,null,null,null,null,null,null,null,null,null,null,null,null,null,null,null,null,null,null,null,null,null,null,null,null,null,null,null,null,{"$f":"IFERROR(VLOOKUP(W39,CadMP!$B:$D,2,0),\"\")","v":""},{"$f":"IFERROR(VLOOKUP(X39,CadMP!$B:$D,2,0),\"\")","v":""},{"$f":"IFERROR(VLOOKUP(Y39,CadMP!$B:$D,2,0),\"\")","v":""},{"$f":"IFERROR(VLOOKUP(Z39,CadMP!$B:$D,2,0),\"\")","v":""},{"$f":"IFERROR(VLOOKUP(AA39,CadMP!$B:$D,2,0),\"\")","v":""},{"$f":"IFERROR(VLOOKUP(AB39,CadMP!$B:$D,2,0),\"\")","v":""},{"$f":"IFERROR(VLOOKUP(AC39,CadMP!$B:$D,2,0),\"\")","v":""},{"$f":"IFERROR(VLOOKUP(AD39,CadMP!$B:$D,2,0),\"\")","v":""},{"$f":"IFERROR(VLOOKUP(AE39,CadMP!$B:$D,2,0),\"\")","v":""},{"$f":"IFERROR(VLOOKUP(AF39,CadMP!$B:$D,2,0),\"\")","v":""},{"$f":"IFERROR(VLOOKUP(AG39,CadMP!$B:$D,2,0),\"\")","v":""},{"$f":"IFERROR(VLOOKUP(AH39,CadMP!$B:$D,2,0),\"\")","v":""},{"$f":"IFERROR(VLOOKUP(AI39,CadMP!$B:$D,2,0),\"\")","v":""},{"$f":"IFERROR(VLOOKUP(AJ39,CadMP!$B:$D,2,0),\"\")","v":""},{"$f":"IFERROR(VLOOKUP(AK39,CadMP!$B:$D,2,0),\"\")","v":""},{"$f":"IFERROR(VLOOKUP(W39,CadMP!$B:$D,3,0),\"\")","v":""},{"$f":"IFERROR(VLOOKUP(X39,CadMP!$B:$D,3,0),\"\")","v":""},{"$f":"IFERROR(VLOOKUP(Y39,CadMP!$B:$D,3,0),\"\")","v":""},{"$f":"IFERROR(VLOOKUP(Z39,CadMP!$B:$D,3,0),\"\")","v":""},{"$f":"IFERROR(VLOOKUP(AA39,CadMP!$B:$D,3,0),\"\")","v":""},{"$f":"IFERROR(VLOOKUP(AB39,CadMP!$B:$D,3,0),\"\")","v":""},{"$f":"IFERROR(VLOOKUP(AC39,CadMP!$B:$D,3,0),\"\")","v":""},{"$f":"IFERROR(VLOOKUP(AD39,CadMP!$B:$D,3,0),\"\")","v":""},{"$f":"IFERROR(VLOOKUP(AE39,CadMP!$B:$D,3,0),\"\")","v":""},{"$f":"IFERROR(VLOOKUP(AF39,CadMP!$B:$D,3,0),\"\")","v":""},{"$f":"IFERROR(VLOOKUP(AG39,CadMP!$B:$D,3,0),\"\")","v":""},{"$f":"IFERROR(VLOOKUP(AH39,CadMP!$B:$D,3,0),\"\")","v":""},{"$f":"IFERROR(VLOOKUP(AI39,CadMP!$B:$D,3,0),\"\")","v":""},{"$f":"IFERROR(VLOOKUP(AJ39,CadMP!$B:$D,3,0),\"\")","v":""},{"$f":"IFERROR(VLOOKUP(AK39,CadMP!$B:$D,3,0),\"\")","v":""},0,0,0,0,0,0,0,0,0,0,0,0,0,0,0]
[39,null,null,0,0,null,null,null,null,null,null,0,0,null,null,null,null,null,null,null,1,0,null,null,null,null,null,null,null,null,null,null,null,null,null,null,null,null,null,null,null,null,null,null,null,null,null,null,null,null,null,null,{"$f":"IFERROR(VLOOKUP(W40,CadMP!$B:$D,2,0),\"\")","v":""},{"$f":"IFERROR(VLOOKUP(X40,CadMP!$B:$D,2,0),\"\")","v":""},{"$f":"IFERROR(VLOOKUP(Y40,CadMP!$B:$D,2,0),\"\")","v":""},{"$f":"IFERROR(VLOOKUP(Z40,CadMP!$B:$D,2,0),\"\")","v":""},{"$f":"IFERROR(VLOOKUP(AA40,CadMP!$B:$D,2,0),\"\")","v":""},{"$f":"IFERROR(VLOOKUP(AB40,CadMP!$B:$D,2,0),\"\")","v":""},{"$f":"IFERROR(VLOOKUP(AC40,CadMP!$B:$D,2,0),\"\")","v":""},{"$f":"IFERROR(VLOOKUP(AD40,CadMP!$B:$D,2,0),\"\")","v":""},{"$f":"IFERROR(VLOOKUP(AE40,CadMP!$B:$D,2,0),\"\")","v":""},{"$f":"IFERROR(VLOOKUP(AF40,CadMP!$B:$D,2,0),\"\")","v":""},{"$f":"IFERROR(VLOOKUP(AG40,CadMP!$B:$D,2,0),\"\")","v":""},{"$f":"IFERROR(VLOOKUP(AH40,CadMP!$B:$D,2,0),\"\")","v":""},{"$f":"IFERROR(VLOOKUP(AI40,CadMP!$B:$D,2,0),\"\")","v":""},{"$f":"IFERROR(VLOOKUP(AJ40,CadMP!$B:$D,2,0),\"\")","v":""},{"$f":"IFERROR(VLOOKUP(AK40,CadMP!$B:$D,2,0),\"\")","v":""},{"$f":"IFERROR(VLOOKUP(W40,CadMP!$B:$D,3,0),\"\")","v":""},{"$f":"IFERROR(VLOOKUP(X40,CadMP!$B:$D,3,0),\"\")","v":""},{"$f":"IFERROR(VLOOKUP(Y40,CadMP!$B:$D,3,0),\"\")","v":""},{"$f":"IFERROR(VLOOKUP(Z40,CadMP!$B:$D,3,0),\"\")","v":""},{"$f":"IFERROR(VLOOKUP(AA40,CadMP!$B:$D,3,0),\"\")","v":""},{"$f":"IFERROR(VLOOKUP(AB40,CadMP!$B:$D,3,0),\"\")","v":""},{"$f":"IFERROR(VLOOKUP(AC40,CadMP!$B:$D,3,0),\"\")","v":""},{"$f":"IFERROR(VLOOKUP(AD40,CadMP!$B:$D,3,0),\"\")","v":""},{"$f":"IFERROR(VLOOKUP(AE40,CadMP!$B:$D,3,0),\"\")","v":""},{"$f":"IFERROR(VLOOKUP(AF40,CadMP!$B:$D,3,0),\"\")","v":""},{"$f":"IFERROR(VLOOKUP(AG40,CadMP!$B:$D,3,0),\"\")","v":""},{"$f":"IFERROR(VLOOKUP(AH40,CadMP!$B:$D,3,0),\"\")","v":""},{"$f":"IFERROR(VLOOKUP(AI40,CadMP!$B:$D,3,0),\"\")","v":""},{"$f":"IFERROR(VLOOKUP(AJ40,CadMP!$B:$D,3,0),\"\")","v":""},{"$f":"IFERROR(VLOOKUP(AK40,CadMP!$B:$D,3,0),\"\")","v":""},0,0,0,0,0,0,0,0,0,0,0,0,0,0,0]
[40,null,null,0,0,null,null,null,null,null,null,0,0,null,null,null,null,null,null,null,1,0,null,null,null,null,null,null,null,null,null,null,null,null,null,null,null,null,null,null,null,null,null,null,null,null,null,null,null,null,null,null,{"$f":"IFERROR(VLOOKUP(W41,CadMP!$B:$D,2,0),\"\")","v":""},{"$f":"IFERROR(VLOOKUP(X41,CadMP!$B:$D,2,0),\"\")","v":""},{"$f":"IFERROR(VLOOKUP(Y41,CadMP!$B:$D,2,0),\"\")","v":""},{"$f":"IFERROR(VLOOKUP(Z41,CadMP!$B:$D,2,0),\"\")","v":""},{"$f":"IFERROR(VLOOKUP(AA41,CadMP!$B:$D,2,0),\"\")","v":""},{"$f":"IFERROR(VLOOKUP(AB41,CadMP!$B:$D,2,0),\"\")","v":""},{"$f":"IFERROR(VLOOKUP(AC41,CadMP!$B:$D,2,0),\"\")","v":""},{"$f":"IFERROR(VLOOKUP(AD41,CadMP!$B:$D,2,0),\"\")","v":""},{"$f":"IFERROR(VLOOKUP(AE41,CadMP!$B:$D,2,0),\"\")","v":""},{"$f":"IFERROR(VLOOKUP(AF41,CadMP!$B:$D,2,0),\"\")","v":""},{"$f":"IFERROR(VLOOKUP(AG41,CadMP!$B:$D,2,0),\"\")","v":""},{"$f":"IFERROR(VLOOKUP(AH41,CadMP!$B:$D,2,0),\"\")","v":""},{"$f":"IFERROR(VLOOKUP(AI41,CadMP!$B:$D,2,0),\"\")","v":""},{"$f":"IFERROR(VLOOKUP(AJ41,CadMP!$B:$D,2,0),\"\")","v":""},{"$f":"IFERROR(VLOOKUP(AK41,CadMP!$B:$D,2,0),\"\")","v":""},{"$f":"IFERROR(VLOOKUP(W41,CadMP!$B:$D,3,0),\"\")","v":""},{"$f":"IFERROR(VLOOKUP(X41,CadMP!$B:$D,3,0),\"\")","v":""},{"$f":"IFERROR(VLOOKUP(Y41,CadMP!$B:$D,3,0),\"\")","v":""},{"$f":"IFERROR(VLOOKUP(Z41,CadMP!$B:$D,3,0),\"\")","v":""},{"$f":"IFERROR(VLOOKUP(AA41,CadMP!$B:$D,3,0),\"\")","v":""},{"$f":"IFERROR(VLOOKUP(AB41,CadMP!$B:$D,3,0),\"\")","v":""},{"$f":"IFERROR(VLOOKUP(AC41,CadMP!$B:$D,3,0),\"\")","v":""},{"$f":"IFERROR(VLOOKUP(AD41,CadMP!$B:$D,3,0),\"\")","v":""},{"$f":"IFERROR(VLOOKUP(AE41,CadMP!$B:$D,3,0),\"\")","v":""},{"$f":"IFERROR(VLOOKUP(AF41,CadMP!$B:$D,3,0),\"\")","v":""},{"$f":"IFERROR(VLOOKUP(AG41,CadMP!$B:$D,3,0),\"\")","v":""},{"$f":"IFERROR(VLOOKUP(AH41,CadMP!$B:$D,3,0),\"\")","v":""},{"$f":"IFERROR(VLOOKUP(AI41,CadMP!$B:$D,3,0),\"\")","v":""},{"$f":"IFERROR(VLOOKUP(AJ41,CadMP!$B:$D,3,0),\"\")","v":""},{"$f":"IFERROR(VLOOKUP(AK41,CadMP!$B:$D,3,0),\"\")","v":""},0,0,0,0,0,0,0,0,0,0,0,0,0,0,0]
[41,null,null,0,0,null,null,null,null,null,null,0,0,null,null,null,null,null,null,null,1,0,null,null,null,null,null,null,null,null,null,null,null,null,null,null,null,null,null,null,null,null,null,null,null,null,null,null,null,null,null,null,{"$f":"IFERROR(VLOOKUP(W42,CadMP!$B:$D,2,0),\"\")","v":""},{"$f":"IFERROR(VLOOKUP(X42,CadMP!$B:$D,2,0),\"\")","v":""},{"$f":"IFERROR(VLOOKUP(Y42,CadMP!$B:$D,2,0),\"\")","v":""},{"$f":"IFERROR(VLOOKUP(Z42,CadMP!$B:$D,2,0),\"\")","v":""},{"$f":"IFERROR(VLOOKUP(AA42,CadMP!$B:$D,2,0),\"\")","v":""},{"$f":"IFERROR(VLOOKUP(AB42,CadMP!$B:$D,2,0),\"\")","v":""},{"$f":"IFERROR(VLOOKUP(AC42,CadMP!$B:$D,2,0),\"\")","v":""},{"$f":"IFERROR(VLOOKUP(AD42,CadMP!$B:$D,2,0),\"\")","v":""},{"$f":"IFERROR(VLOOKUP(AE42,CadMP!$B:$D,2,0),\"\")","v":""},{"$f":"IFERROR(VLOOKUP(AF42,CadMP!$B:$D,2,0),\"\")","v":""},{"$f":"IFERROR(VLOOKUP(AG42,CadMP!$B:$D,2,0),\"\")","v":""},{"$f":"IFERROR(VLOOKUP(AH42,CadMP!$B:$D,2,0),\"\")","v":""},{"$f":"IFERROR(VLOOKUP(AI42,CadMP!$B:$D,2,0),\"\")","v":""},{"$f":"IFERROR(VLOOKUP(AJ42,CadMP!$B:$D,2,0),\"\")","v":""},{"$f":"IFERROR(VLOOKUP(AK42,CadMP!$B:$D,2,0),\"\")","v":""},{"$f":"IFERROR(VLOOKUP(W42,CadMP!$B:$D,3,0),\"\")","v":""},{"$f":"IFERROR(VLOOKUP(X42,CadMP!$B:$D,3,0),\"\")","v":""},{"$f":"IFERROR(VLOOKUP(Y42,CadMP!$B:$D,3,0),\"\")","v":""},{"$f":"IFERROR(VLOOKUP(Z42,CadMP!$B:$D,3,0),\"\")","v":""},{"$f":"IFERROR(VLOOKUP(AA42,CadMP!$B:$D,3,0),\"\")","v":""},{"$f":"IFERROR(VLOOKUP(AB42,CadMP!$B:$D,3,0),\"\")","v":""},{"$f":"IFERROR(VLOOKUP(AC42,CadMP!$B:$D,3,0),\"\")","v":""},{"$f":"IFERROR(VLOOKUP(AD42,CadMP!$B:$D,3,0),\"\")","v":""},{"$f":"IFERROR(VLOOKUP(AE42,CadMP!$B:$D,3,0),\"\")","v":""},{"$f":"IFERROR(VLOOKUP(AF42,CadMP!$B:$D,3,0),\"\")","v":""},{"$f":"IFERROR(VLOOKUP(AG42,CadMP!$B:$D,3,0),\"\")","v":""},{"$f":"IFERROR(VLOOKUP(AH42,CadMP!$B:$D,3,0),\"\")","v":""},{"$f":"IFERROR(VLOOKUP(AI42,CadMP!$B:$D,3,0),\"\")","v":""},{"$f":"IFERROR(VLOOKUP(AJ42,CadMP!$B:$D,3,0),\"\")","v":""},{"$f":"IFERROR(VLOOKUP(AK42,CadMP!$B:$D,3,0),\"\")","v":""},0,0,0,0,0,0,0,0,0,0,0,0,0,0,0]
[42,null,null,0,0,null,null,null,null,null,null,0,0,null,null,null,null,null,null,null,1,0,null,null,null,null,null,null,null,null,null,null,null,null,null,null,null,null,null,null,null,null,null,null,null,null,null,null,null,null,null,null,{"$f":"IFERROR(VLOOKUP(W43,CadMP!$B:$D,2,0),\"\")","v":""},{"$f":"IFERROR(VLOOKUP(X43,CadMP!$B:$D,2,0),\"\")","v":""},{"$f":"IFERROR(VLOOKUP(Y43,CadMP!$B:$D,2,0),\"\")","v":""},{"$f":"IFERROR(VLOOKUP(Z43,CadMP!$B:$D,2,0),\"\")","v":""},{"$f":"IFERROR(VLOOKUP(AA43,CadMP!$B:$D,2,0),\"\")","v":""},{"$f":"IFERROR(VLOOKUP(AB43,CadMP!$B:$D,2,0),\"\")","v":""},{"$f":"IFERROR(VLOOKUP(AC43,CadMP!$B:$D,2,0),\"\")","v":""},{"$f":"IFERROR(VLOOKUP(AD43,CadMP!$B:$D,2,0),\"\")","v":""},{"$f":"IFERROR(VLOOKUP(AE43,CadMP!$B:$D,2,0),\"\")","v":""},{"$f":"IFERROR(VLOOKUP(AF43,CadMP!$B:$D,2,0),\"\")","v":""},{"$f":"IFERROR(VLOOKUP(AG43,CadMP!$B:$D,2,0),\"\")","v":""},{"$f":"IFERROR(VLOOKUP(AH43,CadMP!$B:$D,2,0),\"\")","v":""},{"$f":"IFERROR(VLOOKUP(AI43,CadMP!$B:$D,2,0),\"\")","v":""},{"$f":"IFERROR(VLOOKUP(AJ43,CadMP!$B:$D,2,0),\"\")","v":""},{"$f":"IFERROR(VLOOKUP(AK43,CadMP!$B:$D,2,0),\"\")","v":""},{"$f":"IFERROR(VLOOKUP(W43,CadMP!$B:$D,3,0),\"\")","v":""},{"$f":"IFERROR(VLOOKUP(X43,CadMP!$B:$D,3,0),\"\")","v":""},{"$f":"IFERROR(VLOOKUP(Y43,CadMP!$B:$D,3,0),\"\")","v":""},{"$f":"IFERROR(VLOOKUP(Z43,CadMP!$B:$D,3,0),\"\")","v":""},{"$f":"IFERROR(VLOOKUP(AA43,CadMP!$B:$D,3,0),\"\")","v":""},{"$f":"IFERROR(VLOOKUP(AB43,CadMP!$B:$D,3,0),\"\")","v":""},{"$f":"IFERROR(VLOOKUP(AC43,CadMP!$B:$D,3,0),\"\")","v":""},{"$f":"IFERROR(VLOOKUP(AD43,CadMP!$B:$D,3,0),\"\")","v":""},{"$f":"IFERROR(VLOOKUP(AE43,CadMP!$B:$D,3,0),\"\")","v":""},{"$f":"IFERROR(VLOOKUP(AF43,CadMP!$B:$D,3,0),\"\")","v":""},{"$f":"IFERROR(VLOOKUP(AG43,CadMP!$B:$D,3,0),\"\")","v":""},{"$f":"IFERROR(VLOOKUP(AH43,CadMP!$B:$D,3,0),\"\")","v":""},{"$f":"IFERROR(VLOOKUP(AI43,CadMP!$B:$D,3,0),\"\")","v":""},{"$f":"IFERROR(VLOOKUP(AJ43,CadMP!$B:$D,3,0),\"\")","v":""},{"$f":"IFERROR(VLOOKUP(AK43,CadMP!$B:$D,3,0),\"\")","v":""},0,0,0,0,0,0,0,0,0,0,0,0,0,0,0]
[43,null,null,0,0,null,null,null,null,null,null,0,0,null,null,null,null,null,null,null,1,0,null,null,null,null,null,null,null,null,null,null,null,null,null,null,null,null,null,null,null,null,null,null,null,null,null,null,null,null,null,null,{"$f":"IFERROR(VLOOKUP(W44,CadMP!$B:$D,2,0),\"\")","v":""},{"$f":"IFERROR(VLOOKUP(X44,CadMP!$B:$D,2,0),\"\")","v":""},{"$f":"IFERROR(VLOOKUP(Y44,CadMP!$B:$D,2,0),\"\")","v":""},{"$f":"IFERROR(VLOOKUP(Z44,CadMP!$B:$D,2,0),\"\")","v":""},{"$f":"IFERROR(VLOOKUP(AA44,CadMP!$B:$D,2,0),\"\")","v":""},{"$f":"IFERROR(VLOOKUP(AB44,CadMP!$B:$D,2,0),\"\")","v":""},{"$f":"IFERROR(VLOOKUP(AC44,CadMP!$B:$D,2,0),\"\")","v":""},{"$f":"IFERROR(VLOOKUP(AD44,CadMP!$B:$D,2,0),\"\")","v":""},{"$f":"IFERROR(VLOOKUP(AE44,CadMP!$B:$D,2,0),\"\")","v":""},{"$f":"IFERROR(VLOOKUP(AF44,CadMP!$B:$D,2,0),\"\")","v":""},{"$f":"IFERROR(VLOOKUP(AG44,CadMP!$B:$D,2,0),\"\")","v":""},{"$f":"IFERROR(VLOOKUP(AH44,CadMP!$B:$D,2,0),\"\")","v":""},{"$f":"IFERROR(VLOOKUP(AI44,CadMP!$B:$D,2,0),\"\")","v":""},{"$f":"IFERROR(VLOOKUP(AJ44,CadMP!$B:$D,2,0),\"\")","v":""},{"$f":"IFERROR(VLOOKUP(AK44,CadMP!$B:$D,2,0),\"\")","v":""},{"$f":"IFERROR(VLOOKUP(W44,CadMP!$B:$D,3,0),\"\")","v":""},{"$f":"IFERROR(VLOOKUP(X44,CadMP!$B:$D,3,0),\"\")","v":""},{"$f":"IFERROR(VLOOKUP(Y44,CadMP!$B:$D,3,0),\"\")","v":""},{"$f":"IFERROR(VLOOKUP(Z44,CadMP!$B:$D,3,0),\"\")","v":""},{"$f":"IFERROR(VLOOKUP(AA44,CadMP!$B:$D,3,0),\"\")","v":""},{"$f":"IFERROR(VLOOKUP(AB44,CadMP!$B:$D,3,0),\"\")","v":""},{"$f":"IFERROR(VLOOKUP(AC44,CadMP!$B:$D,3,0),\"\")","v":""},{"$f":"IFERROR(VLOOKUP(AD44,CadMP!$B:$D,3,0),\"\")","v":""},{"$f":"IFERROR(VLOOKUP(AE44,CadMP!$B:$D,3,0),\"\")","v":""},{"$f":"IFERROR(VLOOKUP(AF44,CadMP!$B:$D,3,0),\"\")","v":""},{"$f":"IFERROR(VLOOKUP(AG44,CadMP!$B:$D,3,0),\"\")","v":""},{"$f":"IFERROR(VLOOKUP(AH44,CadMP!$B:$D,3,0),\"\")","v":""},{"$f":"IFERROR(VLOOKUP(AI44,CadMP!$B:$D,3,0),\"\")","v":""},{"$f":"IFERROR(VLOOKUP(AJ44,CadMP!$B:$D,3,0),\"\")","v":""},{"$f":"IFERROR(VLOOKUP(AK44,CadMP!$B:$D,3,0),\"\")","v":""},0,0,0,0,0,0,0,0,0,0,0,0,0,0,0]
[44,null,null,0,0,null,null,null,null,null,null,0,0,null,null,null,null,null,null,null,1,0,null,null,null,null,null,null,null,null,null,null,null,null,null,null,null,null,null,null,null,null,null,null,null,null,null,null,null,null,null,null,{"$f":"IFERROR(VLOOKUP(W45,CadMP!$B:$D,2,0),\"\")","v":""},{"$f":"IFERROR(VLOOKUP(X45,CadMP!$B:$D,2,0),\"\")","v":""},{"$f":"IFERROR(VLOOKUP(Y45,CadMP!$B:$D,2,0),\"\")","v":""},{"$f":"IFERROR(VLOOKUP(Z45,CadMP!$B:$D,2,0),\"\")","v":""},{"$f":"IFERROR(VLOOKUP(AA45,CadMP!$B:$D,2,0),\"\")","v":""},{"$f":"IFERROR(VLOOKUP(AB45,CadMP!$B:$D,2,0),\"\")","v":""},{"$f":"IFERROR(VLOOKUP(AC45,CadMP!$B:$D,2,0),\"\")","v":""},{"$f":"IFERROR(VLOOKUP(AD45,CadMP!$B:$D,2,0),\"\")","v":""},{"$f":"IFERROR(VLOOKUP(AE45,CadMP!$B:$D,2,0),\"\")","v":""},{"$f":"IFERROR(VLOOKUP(AF45,CadMP!$B:$D,2,0),\"\")","v":""},{"$f":"IFERROR(VLOOKUP(AG45,CadMP!$B:$D,2,0),\"\")","v":""},{"$f":"IFERROR(VLOOKUP(AH45,CadMP!$B:$D,2,0),\"\")","v":""},{"$f":"IFERROR(VLOOKUP(AI45,CadMP!$B:$D,2,0),\"\")","v":""},{"$f":"IFERROR(VLOOKUP(AJ45,CadMP!$B:$D,2,0),\"\")","v":""},{"$f":"IFERROR(VLOOKUP(AK45,CadMP!$B:$D,2,0),\"\")","v":""},{"$f":"IFERROR(VLOOKUP(W45,CadMP!$B:$D,3,0),\"\")","v":""},{"$f":"IFERROR(VLOOKUP(X45,CadMP!$B:$D,3,0),\"\")","v":""},{"$f":"IFERROR(VLOOKUP(Y45,CadMP!$B:$D,3,0),\"\")","v":""},{"$f":"IFERROR(VLOOKUP(Z45,CadMP!$B:$D,3,0),\"\")","v":""},{"$f":"IFERROR(VLOOKUP(AA45,CadMP!$B:$D,3,0),\"\")","v":""},{"$f":"IFERROR(VLOOKUP(AB45,CadMP!$B:$D,3,0),\"\")","v":""},{"$f":"IFERROR(VLOOKUP(AC45,CadMP!$B:$D,3,0),\"\")","v":""},{"$f":"IFERROR(VLOOKUP(AD45,CadMP!$B:$D,3,0),\"\")","v":""},{"$f":"IFERROR(VLOOKUP(AE45,CadMP!$B:$D,3,0),\"\")","v":""},{"$f":"IFERROR(VLOOKUP(AF45,CadMP!$B:$D,3,0),\"\")","v":""},{"$f":"IFERROR(VLOOKUP(AG45,CadMP!$B:$D,3,0),\"\")","v":""},{"$f":"IFERROR(VLOOKUP(AH45,CadMP!$B:$D,3,0),\"\")","v":""},{"$f":"IFERROR(VLOOKUP(AI45,CadMP!$B:$D,3,0),\"\")","v":""},{"$f":"IFERROR(VLOOKUP(AJ45,CadMP!$B:$D,3,0),\"\")","v":""},{"$f":"IFERROR(VLOOKUP(AK45,CadMP!$B:$D,3,0),\"\")","v":""},0,0,0,0,0,0,0,0,0,0,0,0,0,0,0]
[45,null,null,0,0,null,null,null,null,null,null,0,0,null,null,null,null,null,null,null,1,0,null,null,null,null,null,null,null,null,null,null,null,null,null,null,null,null,null,null,null,null,null,null,null,null,null,null,null,null,null,null,{"$f":"IFERROR(VLOOKUP(W46,CadMP!$B:$D,2,0),\"\")","v":""},{"$f":"IFERROR(VLOOKUP(X46,CadMP!$B:$D,2,0),\"\")","v":""},{"$f":"IFERROR(VLOOKUP(Y46,CadMP!$B:$D,2,0),\"\")","v":""},{"$f":"IFERROR(VLOOKUP(Z46,CadMP!$B:$D,2,0),\"\")","v":""},{"$f":"IFERROR(VLOOKUP(AA46,CadMP!$B:$D,2,0),\"\")","v":""},{"$f":"IFERROR(VLOOKUP(AB46,CadMP!$B:$D,2,0),\"\")","v":""},{"$f":"IFERROR(VLOOKUP(AC46,CadMP!$B:$D,2,0),\"\")","v":""},{"$f":"IFERROR(VLOOKUP(AD46,CadMP!$B:$D,2,0),\"\")","v":""},{"$f":"IFERROR(VLOOKUP(AE46,CadMP!$B:$D,2,0),\"\")","v":""},{"$f":"IFERROR(VLOOKUP(AF46,CadMP!$B:$D,2,0),\"\")","v":""},{"$f":"IFERROR(VLOOKUP(AG46,CadMP!$B:$D,2,0),\"\")","v":""},{"$f":"IFERROR(VLOOKUP(AH46,CadMP!$B:$D,2,0),\"\")","v":""},{"$f":"IFERROR(VLOOKUP(AI46,CadMP!$B:$D,2,0),\"\")","v":""},{"$f":"IFERROR(VLOOKUP(AJ46,CadMP!$B:$D,2,0),\"\")","v":""},{"$f":"IFERROR(VLOOKUP(AK46,CadMP!$B:$D,2,0),\"\")","v":""},{"$f":"IFERROR(VLOOKUP(W46,CadMP!$B:$D,3,0),\"\")","v":""},{"$f":"IFERROR(VLOOKUP(X46,CadMP!$B:$D,3,0),\"\")","v":""},{"$f":"IFERROR(VLOOKUP(Y46,CadMP!$B:$D,3,0),\"\")","v":""},{"$f":"IFERROR(VLOOKUP(Z46,CadMP!$B:$D,3,0),\"\")","v":""},{"$f":"IFERROR(VLOOKUP(AA46,CadMP!$B:$D,3,0),\"\")","v":""},{"$f":"IFERROR(VLOOKUP(AB46,CadMP!$B:$D,3,0),\"\")","v":""},{"$f":"IFERROR(VLOOKUP(AC46,CadMP!$B:$D,3,0),\"\")","v":""},{"$f":"IFERROR(VLOOKUP(AD46,CadMP!$B:$D,3,0),\"\")","v":""},{"$f":"IFERROR(VLOOKUP(AE46,CadMP!$B:$D,3,0),\"\")","v":""},{"$f":"IFERROR(VLOOKUP(AF46,CadMP!$B:$D,3,0),\"\")","v":""},{"$f":"IFERROR(VLOOKUP(AG46,CadMP!$B:$D,3,0),\"\")","v":""},{"$f":"IFERROR(VLOOKUP(AH46,CadMP!$B:$D,3,0),\"\")","v":""},{"$f":"IFERROR(VLOOKUP(AI46,CadMP!$B:$D,3,0),\"\")","v":""},{"$f":"IFERROR(VLOOKUP(AJ46,CadMP!$B:$D,3,0),\"\")","v":""},{"$f":"IFERROR(VLOOKUP(AK46,CadMP!$B:$D,3,0),\"\")","v":""},0,0,0,0,0,0,0,0,0,0,0,0,0,0,0]
[46,null,null,0,0,null,null,null,null,null,null,0,0,null,null,null,null,null,null,null,1,0,null,null,null,null,null,null,null,null,null,null,null,null,null,null,null,null,null,null,null,null,null,null,null,null,null,null,null,null,null,null,{"$f":"IFERROR(VLOOKUP(W47,CadMP!$B:$D,2,0),\"\")","v":""},{"$f":"IFERROR(VLOOKUP(X47,CadMP!$B:$D,2,0),\"\")","v":""},{"$f":"IFERROR(VLOOKUP(Y47,CadMP!$B:$D,2,0),\"\")","v":""},{"$f":"IFERROR(VLOOKUP(Z47,CadMP!$B:$D,2,0),\"\")","v":""},{"$f":"IFERROR(VLOOKUP(AA47,CadMP!$B:$D,2,0),\"\")","v":""},{"$f":"IFERROR(VLOOKUP(AB47,CadMP!$B:$D,2,0),\"\")","v":""},{"$f":"IFERROR(VLOOKUP(AC47,CadMP!$B:$D,2,0),\"\")","v":""},{"$f":"IFERROR(VLOOKUP(AD47,CadMP!$B:$D,2,0),\"\")","v":""},{"$f":"IFERROR(VLOOKUP(AE47,CadMP!$B:$D,2,0),\"\")","v":""},{"$f":"IFERROR(VLOOKUP(AF47,CadMP!$B:$D,2,0),\"\")","v":""},{"$f":"IFERROR(VLOOKUP(AG47,CadMP!$B:$D,2,0),\"\")","v":""},{"$f":"IFERROR(VLOOKUP(AH47,CadMP!$B:$D,2,0),\"\")","v":""},{"$f":"IFERROR(VLOOKUP(AI47,CadMP!$B:$D,2,0),\"\")","v":""},{"$f":"IFERROR(VLOOKUP(AJ47,CadMP!$B:$D,2,0),\"\")","v":""},{"$f":"IFERROR(VLOOKUP(AK47,CadMP!$B:$D,2,0),\"\")","v":""},{"$f":"IFERROR(VLOOKUP(W47,CadMP!$B:$D,3,0),\"\")","v":""},{"$f":"IFERROR(VLOOKUP(X47,CadMP!$B:$D,3,0),\"\")","v":""},{"$f":"IFERROR(VLOOKUP(Y47,CadMP!$B:$D,3,0),\"\")","v":""},{"$f":"IFERROR(VLOOKUP(Z47,CadMP!$B:$D,3,0),\"\")","v":""},{"$f":"IFERROR(VLOOKUP(AA47,CadMP!$B:$D,3,0),\"\")","v":""},{"$f":"IFERROR(VLOOKUP(AB47,CadMP!$B:$D,3,0),\"\")","v":""},{"$f":"IFERROR(VLOOKUP(AC47,CadMP!$B:$D,3,0),\"\")","v":""},{"$f":"IFERROR(VLOOKUP(AD47,CadMP!$B:$D,3,0),\"\")","v":""},{"$f":"IFERROR(VLOOKUP(AE47,CadMP!$B:$D,3,0),\"\")","v":""},{"$f":"IFERROR(VLOOKUP(AF47,CadMP!$B:$D,3,0),\"\")","v":""},{"$f":"IFERROR(VLOOKUP(AG47,CadMP!$B:$D,3,0),\"\")","v":""},{"$f":"IFERROR(VLOOKUP(AH47,CadMP!$B:$D,3,0),\"\")","v":""},{"$f":"IFERROR(VLOOKUP(AI47,CadMP!$B:$D,3,0),\"\")","v":""},{"$f":"IFERROR(VLOOKUP(AJ47,CadMP!$B:$D,3,0),\"\")","v":""},{"$f":"IFERROR(VLOOKUP(AK47,CadMP!$B:$D,3,0),\"\")","v":""},0,0,0,0,0,0,0,0,0,0,0,0,0,0,0]
[47,null,null,0,0,null,null,null,null,null,null,0,0,null,null,null,null,null,null,null,1,0,null,null,null,null,null,null,null,null,null,null,null,null,null,null,null,null,null,null,null,null,null,null,null,null,null,null,null,null,null,null,{"$f":"IFERROR(VLOOKUP(W48,CadMP!$B:$D,2,0),\"\")","v":""},{"$f":"IFERROR(VLOOKUP(X48,CadMP!$B:$D,2,0),\"\")","v":""},{"$f":"IFERROR(VLOOKUP(Y48,CadMP!$B:$D,2,0),\"\")","v":""},{"$f":"IFERROR(VLOOKUP(Z48,CadMP!$B:$D,2,0),\"\")","v":""},{"$f":"IFERROR(VLOOKUP(AA48,CadMP!$B:$D,2,0),\"\")","v":""},{"$f":"IFERROR(VLOOKUP(AB48,CadMP!$B:$D,2,0),\"\")","v":""},{"$f":"IFERROR(VLOOKUP(AC48,CadMP!$B:$D,2,0),\"\")","v":""},{"$f":"IFERROR(VLOOKUP(AD48,CadMP!$B:$D,2,0),\"\")","v":""},{"$f":"IFERROR(VLOOKUP(AE48,CadMP!$B:$D,2,0),\"\")","v":""},{"$f":"IFERROR(VLOOKUP(AF48,CadMP!$B:$D,2,0),\"\")","v":""},{"$f":"IFERROR(VLOOKUP(AG48,CadMP!$B:$D,2,0),\"\")","v":""},{"$f":"IFERROR(VLOOKUP(AH48,CadMP!$B:$D,2,0),\"\")","v":""},{"$f":"IFERROR(VLOOKUP(AI48,CadMP!$B:$D,2,0),\"\")","v":""},{"$f":"IFERROR(VLOOKUP(AJ48,CadMP!$B:$D,2,0),\"\")","v":""},{"$f":"IFERROR(VLOOKUP(AK48,CadMP!$B:$D,2,0),\"\")","v":""},{"$f":"IFERROR(VLOOKUP(W48,CadMP!$B:$D,3,0),\"\")","v":""},{"$f":"IFERROR(VLOOKUP(X48,CadMP!$B:$D,3,0),\"\")","v":""},{"$f":"IFERROR(VLOOKUP(Y48,CadMP!$B:$D,3,0),\"\")","v":""},{"$f":"IFERROR(VLOOKUP(Z48,CadMP!$B:$D,3,0),\"\")","v":""},{"$f":"IFERROR(VLOOKUP(AA48,CadMP!$B:$D,3,0),\"\")","v":""},{"$f":"IFERROR(VLOOKUP(AB48,CadMP!$B:$D,3,0),\"\")","v":""},{"$f":"IFERROR(VLOOKUP(AC48,CadMP!$B:$D,3,0),\"\")","v":""},{"$f":"IFERROR(VLOOKUP(AD48,CadMP!$B:$D,3,0),\"\")","v":""},{"$f":"IFERROR(VLOOKUP(AE48,CadMP!$B:$D,3,0),\"\")","v":""},{"$f":"IFERROR(VLOOKUP(AF48,CadMP!$B:$D,3,0),\"\")","v":""},{"$f":"IFERROR(VLOOKUP(AG48,CadMP!$B:$D,3,0),\"\")","v":""},{"$f":"IFERROR(VLOOKUP(AH48,CadMP!$B:$D,3,0),\"\")","v":""},{"$f":"IFERROR(VLOOKUP(AI48,CadMP!$B:$D,3,0),\"\")","v":""},{"$f":"IFERROR(VLOOKUP(AJ48,CadMP!$B:$D,3,0),\"\")","v":""},{"$f":"IFERROR(VLOOKUP(AK48,CadMP!$B:$D,3,0),\"\")","v":""},0,0,0,0,0,0,0,0,0,0,0,0,0,0,0]
[48,null,null,0,0,null,null,null,null,null,null,0,0,null,null,null,null,null,null,null,1,0,null,null,null,null,null,null,null,null,null,null,null,null,null,null,null,null,null,null,null,null,null,null,null,null,null,null,null,null,null,null,{"$f":"IFERROR(VLOOKUP(W49,CadMP!$B:$D,2,0),\"\")","v":""},{"$f":"IFERROR(VLOOKUP(X49,CadMP!$B:$D,2,0),\"\")","v":""},{"$f":"IFERROR(VLOOKUP(Y49,CadMP!$B:$D,2,0),\"\")","v":""},{"$f":"IFERROR(VLOOKUP(Z49,CadMP!$B:$D,2,0),\"\")","v":""},{"$f":"IFERROR(VLOOKUP(AA49,CadMP!$B:$D,2,0),\"\")","v":""},{"$f":"IFERROR(VLOOKUP(AB49,CadMP!$B:$D,2,0),\"\")","v":""},{"$f":"IFERROR(VLOOKUP(AC49,CadMP!$B:$D,2,0),\"\")","v":""},{"$f":"IFERROR(VLOOKUP(AD49,CadMP!$B:$D,2,0),\"\")","v":""},{"$f":"IFERROR(VLOOKUP(AE49,CadMP!$B:$D,2,0),\"\")","v":""},{"$f":"IFERROR(VLOOKUP(AF49,CadMP!$B:$D,2,0),\"\")","v":""},{"$f":"IFERROR(VLOOKUP(AG49,CadMP!$B:$D,2,0),\"\")","v":""},{"$f":"IFERROR(VLOOKUP(AH49,CadMP!$B:$D,2,0),\"\")","v":""},{"$f":"IFERROR(VLOOKUP(AI49,CadMP!$B:$D,2,0),\"\")","v":""},{"$f":"IFERROR(VLOOKUP(AJ49,CadMP!$B:$D,2,0),\"\")","v":""},{"$f":"IFERROR(VLOOKUP(AK49,CadMP!$B:$D,2,0),\"\")","v":""},{"$f":"IFERROR(VLOOKUP(W49,CadMP!$B:$D,3,0),\"\")","v":""},{"$f":"IFERROR(VLOOKUP(X49,CadMP!$B:$D,3,0),\"\")","v":""},{"$f":"IFERROR(VLOOKUP(Y49,CadMP!$B:$D,3,0),\"\")","v":""},{"$f":"IFERROR(VLOOKUP(Z49,CadMP!$B:$D,3,0),\"\")","v":""},{"$f":"IFERROR(VLOOKUP(AA49,CadMP!$B:$D,3,0),\"\")","v":""},{"$f":"IFERROR(VLOOKUP(AB49,CadMP!$B:$D,3,0),\"\")","v":""},{"$f":"IFERROR(VLOOKUP(AC49,CadMP!$B:$D,3,0),\"\")","v":""},{"$f":"IFERROR(VLOOKUP(AD49,CadMP!$B:$D,3,0),\"\")","v":""},{"$f":"IFERROR(VLOOKUP(AE49,CadMP!$B:$D,3,0),\"\")","v":""},{"$f":"IFERROR(VLOOKUP(AF49,CadMP!$B:$D,3,0),\"\")","v":""},{"$f":"IFERROR(VLOOKUP(AG49,CadMP!$B:$D,3,0),\"\")","v":""},{"$f":"IFERROR(VLOOKUP(AH49,CadMP!$B:$D,3,0),\"\")","v":""},{"$f":"IFERROR(VLOOKUP(AI49,CadMP!$B:$D,3,0),\"\")","v":""},{"$f":"IFERROR(VLOOKUP(AJ49,CadMP!$B:$D,3,0),\"\")","v":""},{"$f":"IFERROR(VLOOKUP(AK49,CadMP!$B:$D,3,0),\"\")","v":""},0,0,0,0,0,0,0,0,0,0,0,0,0,0,0]
[49,null,null,0,0,null,null,null,null,null,null,0,0,null,null,null,null,null,null,null,1,0,null,null,null,null,null,null,null,null,null,null,null,null,null,null,null,null,null,null,null,null,null,null,null,null,null,null,null,null,null,null,{"$f":"IFERROR(VLOOKUP(W50,CadMP!$B:$D,2,0),\"\")","v":""},{"$f":"IFERROR(VLOOKUP(X50,CadMP!$B:$D,2,0),\"\")","v":""},{"$f":"IFERROR(VLOOKUP(Y50,CadMP!$B:$D,2,0),\"\")","v":""},{"$f":"IFERROR(VLOOKUP(Z50,CadMP!$B:$D,2,0),\"\")","v":""},{"$f":"IFERROR(VLOOKUP(AA50,CadMP!$B:$D,2,0),\"\")","v":""},{"$f":"IFERROR(VLOOKUP(AB50,CadMP!$B:$D,2,0),\"\")","v":""},{"$f":"IFERROR(VLOOKUP(AC50,CadMP!$B:$D,2,0),\"\")","v":""},{"$f":"IFERROR(VLOOKUP(AD50,CadMP!$B:$D,2,0),\"\")","v":""},{"$f":"IFERROR(VLOOKUP(AE50,CadMP!$B:$D,2,0),\"\")","v":""},{"$f":"IFERROR(VLOOKUP(AF50,CadMP!$B:$D,2,0),\"\")","v":""},{"$f":"IFERROR(VLOOKUP(AG50,CadMP!$B:$D,2,0),\"\")","v":""},{"$f":"IFERROR(VLOOKUP(AH50,CadMP!$B:$D,2,0),\"\")","v":""},{"$f":"IFERROR(VLOOKUP(AI50,CadMP!$B:$D,2,0),\"\")","v":""},{"$f":"IFERROR(VLOOKUP(AJ50,CadMP!$B:$D,2,0),\"\")","v":""},{"$f":"IFERROR(VLOOKUP(AK50,CadMP!$B:$D,2,0),\"\")","v":""},{"$f":"IFERROR(VLOOKUP(W50,CadMP!$B:$D,3,0),\"\")","v":""},{"$f":"IFERROR(VLOOKUP(X50,CadMP!$B:$D,3,0),\"\")","v":""},{"$f":"IFERROR(VLOOKUP(Y50,CadMP!$B:$D,3,0),\"\")","v":""},{"$f":"IFERROR(VLOOKUP(Z50,CadMP!$B:$D,3,0),\"\")","v":""},{"$f":"IFERROR(VLOOKUP(AA50,CadMP!$B:$D,3,0),\"\")","v":""},{"$f":"IFERROR(VLOOKUP(AB50,CadMP!$B:$D,3,0),\"\")","v":""},{"$f":"IFERROR(VLOOKUP(AC50,CadMP!$B:$D,3,0),\"\")","v":""},{"$f":"IFERROR(VLOOKUP(AD50,CadMP!$B:$D,3,0),\"\")","v":""},{"$f":"IFERROR(VLOOKUP(AE50,CadMP!$B:$D,3,0),\"\")","v":""},{"$f":"IFERROR(VLOOKUP(AF50,CadMP!$B:$D,3,0),\"\")","v":""},{"$f":"IFERROR(VLOOKUP(AG50,CadMP!$B:$D,3,0),\"\")","v":""},{"$f":"IFERROR(VLOOKUP(AH50,CadMP!$B:$D,3,0),\"\")","v":""},{"$f":"IFERROR(VLOOKUP(AI50,CadMP!$B:$D,3,0),\"\")","v":""},{"$f":"IFERROR(VLOOKUP(AJ50,CadMP!$B:$D,3,0),\"\")","v":""},{"$f":"IFERROR(VLOOKUP(AK50,CadMP!$B:$D,3,0),\"\")","v":""},0,0,0,0,0,0,0,0,0,0,0,0,0,0,0]
[50,null,null,0,0,null,null,null,null,null,null,0,0,null,null,null,null,null,null,null,1,0,null,null,null,null,null,null,null,null,null,null,null,null,null,null,null,null,null,null,null,null,null,null,null,null,null,null,null,null,null,null,{"$f":"IFERROR(VLOOKUP(W51,CadMP!$B:$D,2,0),\"\")","v":""},{"$f":"IFERROR(VLOOKUP(X51,CadMP!$B:$D,2,0),\"\")","v":""},{"$f":"IFERROR(VLOOKUP(Y51,CadMP!$B:$D,2,0),\"\")","v":""},{"$f":"IFERROR(VLOOKUP(Z51,CadMP!$B:$D,2,0),\"\")","v":""},{"$f":"IFERROR(VLOOKUP(AA51,CadMP!$B:$D,2,0),\"\")","v":""},{"$f":"IFERROR(VLOOKUP(AB51,CadMP!$B:$D,2,0),\"\")","v":""},{"$f":"IFERROR(VLOOKUP(AC51,CadMP!$B:$D,2,0),\"\")","v":""},{"$f":"IFERROR(VLOOKUP(AD51,CadMP!$B:$D,2,0),\"\")","v":""},{"$f":"IFERROR(VLOOKUP(AE51,CadMP!$B:$D,2,0),\"\")","v":""},{"$f":"IFERROR(VLOOKUP(AF51,CadMP!$B:$D,2,0),\"\")","v":""},{"$f":"IFERROR(VLOOKUP(AG51,CadMP!$B:$D,2,0),\"\")","v":""},{"$f":"IFERROR(VLOOKUP(AH51,CadMP!$B:$D,2,0),\"\")","v":""},{"$f":"IFERROR(VLOOKUP(AI51,CadMP!$B:$D,2,0),\"\")","v":""},{"$f":"IFERROR(VLOOKUP(AJ51,CadMP!$B:$D,2,0),\"\")","v":""},{"$f":"IFERROR(VLOOKUP(AK51,CadMP!$B:$D,2,0),\"\")","v":""},{"$f":"IFERROR(VLOOKUP(W51,CadMP!$B:$D,3,0),\"\")","v":""},{"$f":"IFERROR(VLOOKUP(X51,CadMP!$B:$D,3,0),\"\")","v":""},{"$f":"IFERROR(VLOOKUP(Y51,CadMP!$B:$D,3,0),\"\")","v":""},{"$f":"IFERROR(VLOOKUP(Z51,CadMP!$B:$D,3,0),\"\")","v":""},{"$f":"IFERROR(VLOOKUP(AA51,CadMP!$B:$D,3,0),\"\")","v":""},{"$f":"IFERROR(VLOOKUP(AB51,CadMP!$B:$D,3,0),\"\")","v":""},{"$f":"IFERROR(VLOOKUP(AC51,CadMP!$B:$D,3,0),\"\")","v":""},{"$f":"IFERROR(VLOOKUP(AD51,CadMP!$B:$D,3,0),\"\")","v":""},{"$f":"IFERROR(VLOOKUP(AE51,CadMP!$B:$D,3,0),\"\")","v":""},{"$f":"IFERROR(VLOOKUP(AF51,CadMP!$B:$D,3,0),\"\")","v":""},{"$f":"IFERROR(VLOOKUP(AG51,CadMP!$B:$D,3,0),\"\")","v":""},{"$f":"IFERROR(VLOOKUP(AH51,CadMP!$B:$D,3,0),\"\")","v":""},{"$f":"IFERROR(VLOOKUP(AI51,CadMP!$B:$D,3,0),\"\")","v":""},{"$f":"IFERROR(VLOOKUP(AJ51,CadMP!$B:$D,3,0),\"\")","v":""},{"$f":"IFERROR(VLOOKUP(AK51,CadMP!$B:$D,3,0),\"\")","v":""},0,0,0,0,0,0,0,0,0,0,0,0,0,0,0]
[51,null,null,0,0,null,null,null,null,null,null,0,0,null,null,null,null,null,null,null,1,0,null,null,null,null,null,null,null,null,null,null,null,null,null,null,null,null,null,null,null,null,null,null,null,null,null,null,null,null,null,null,{"$f":"IFERROR(VLOOKUP(W52,CadMP!$B:$D,2,0),\"\")","v":""},{"$f":"IFERROR(VLOOKUP(X52,CadMP!$B:$D,2,0),\"\")","v":""},{"$f":"IFERROR(VLOOKUP(Y52,CadMP!$B:$D,2,0),\"\")","v":""},{"$f":"IFERROR(VLOOKUP(Z52,CadMP!$B:$D,2,0),\"\")","v":""},{"$f":"IFERROR(VLOOKUP(AA52,CadMP!$B:$D,2,0),\"\")","v":""},{"$f":"IFERROR(VLOOKUP(AB52,CadMP!$B:$D,2,0),\"\")","v":""},{"$f":"IFERROR(VLOOKUP(AC52,CadMP!$B:$D,2,0),\"\")","v":""},{"$f":"IFERROR(VLOOKUP(AD52,CadMP!$B:$D,2,0),\"\")","v":""},{"$f":"IFERROR(VLOOKUP(AE52,CadMP!$B:$D,2,0),\"\")","v":""},{"$f":"IFERROR(VLOOKUP(AF52,CadMP!$B:$D,2,0),\"\")","v":""},{"$f":"IFERROR(VLOOKUP(AG52,CadMP!$B:$D,2,0),\"\")","v":""},{"$f":"IFERROR(VLOOKUP(AH52,CadMP!$B:$D,2,0),\"\")","v":""},{"$f":"IFERROR(VLOOKUP(AI52,CadMP!$B:$D,2,0),\"\")","v":""},{"$f":"IFERROR(VLOOKUP(AJ52,CadMP!$B:$D,2,0),\"\")","v":""},{"$f":"IFERROR(VLOOKUP(AK52,CadMP!$B:$D,2,0),\"\")","v":""},{"$f":"IFERROR(VLOOKUP(W52,CadMP!$B:$D,3,0),\"\")","v":""},{"$f":"IFERROR(VLOOKUP(X52,CadMP!$B:$D,3,0),\"\")","v":""},{"$f":"IFERROR(VLOOKUP(Y52,CadMP!$B:$D,3,0),\"\")","v":""},{"$f":"IFERROR(VLOOKUP(Z52,CadMP!$B:$D,3,0),\"\")","v":""},{"$f":"IFERROR(VLOOKUP(AA52,CadMP!$B:$D,3,0),\"\")","v":""},{"$f":"IFERROR(VLOOKUP(AB52,CadMP!$B:$D,3,0),\"\")","v":""},{"$f":"IFERROR(VLOOKUP(AC52,CadMP!$B:$D,3,0),\"\")","v":""},{"$f":"IFERROR(VLOOKUP(AD52,CadMP!$B:$D,3,0),\"\")","v":""},{"$f":"IFERROR(VLOOKUP(AE52,CadMP!$B:$D,3,0),\"\")","v":""},{"$f":"IFERROR(VLOOKUP(AF52,CadMP!$B:$D,3,0),\"\")","v":""},{"$f":"IFERROR(VLOOKUP(AG52,CadMP!$B:$D,3,0),\"\")","v":""},{"$f":"IFERROR(VLOOKUP(AH52,CadMP!$B:$D,3,0),\"\")","v":""},{"$f":"IFERROR(VLOOKUP(AI52,CadMP!$B:$D,3,0),\"\")","v":""},{"$f":"IFERROR(VLOOKUP(AJ52,CadMP!$B:$D,3,0),\"\")","v":""},{"$f":"IFERROR(VLOOKUP(AK52,CadMP!$B:$D,3,0),\"\")","v":""},0,0,0,0,0,0,0,0,0,0,0,0,0,0,0]
[52,null,null,0,0,null,null,null,null,null,null,0,0,null,null,null,null,null,null,null,1,0,null,null,null,null,null,null,null,null,null,null,null,null,null,null,null,null,null,null,null,null,null,null,null,null,null,null,null,null,null,null,{"$f":"IFERROR(VLOOKUP(W53,CadMP!$B:$D,2,0),\"\")","v":""},{"$f":"IFERROR(VLOOKUP(X53,CadMP!$B:$D,2,0),\"\")","v":""},{"$f":"IFERROR(VLOOKUP(Y53,CadMP!$B:$D,2,0),\"\")","v":""},{"$f":"IFERROR(VLOOKUP(Z53,CadMP!$B:$D,2,0),\"\")","v":""},{"$f":"IFERROR(VLOOKUP(AA53,CadMP!$B:$D,2,0),\"\")","v":""},{"$f":"IFERROR(VLOOKUP(AB53,CadMP!$B:$D,2,0),\"\")","v":""},{"$f":"IFERROR(VLOOKUP(AC53,CadMP!$B:$D,2,0),\"\")","v":""},{"$f":"IFERROR(VLOOKUP(AD53,CadMP!$B:$D,2,0),\"\")","v":""},{"$f":"IFERROR(VLOOKUP(AE53,CadMP!$B:$D,2,0),\"\")","v":""},{"$f":"IFERROR(VLOOKUP(AF53,CadMP!$B:$D,2,0),\"\")","v":""},{"$f":"IFERROR(VLOOKUP(AG53,CadMP!$B:$D,2,0),\"\")","v":""},{"$f":"IFERROR(VLOOKUP(AH53,CadMP!$B:$D,2,0),\"\")","v":""},{"$f":"IFERROR(VLOOKUP(AI53,CadMP!$B:$D,2,0),\"\")","v":""},{"$f":"IFERROR(VLOOKUP(AJ53,CadMP!$B:$D,2,0),\"\")","v":""},{"$f":"IFERROR(VLOOKUP(AK53,CadMP!$B:$D,2,0),\"\")","v":""},{"$f":"IFERROR(VLOOKUP(W53,CadMP!$B:$D,3,0),\"\")","v":""},{"$f":"IFERROR(VLOOKUP(X53,CadMP!$B:$D,3,0),\"\")","v":""},{"$f":"IFERROR(VLOOKUP(Y53,CadMP!$B:$D,3,0),\"\")","v":""},{"$f":"IFERROR(VLOOKUP(Z53,CadMP!$B:$D,3,0),\"\")","v":""},{"$f":"IFERROR(VLOOKUP(AA53,CadMP!$B:$D,3,0),\"\")","v":""},{"$f":"IFERROR(VLOOKUP(AB53,CadMP!$B:$D,3,0),\"\")","v":""},{"$f":"IFERROR(VLOOKUP(AC53,CadMP!$B:$D,3,0),\"\")","v":""},{"$f":"IFERROR(VLOOKUP(AD53,CadMP!$B:$D,3,0),\"\")","v":""},{"$f":"IFERROR(VLOOKUP(AE53,CadMP!$B:$D,3,0),\"\")","v":""},{"$f":"IFERROR(VLOOKUP(AF53,CadMP!$B:$D,3,0),\"\")","v":""},{"$f":"IFERROR(VLOOKUP(AG53,CadMP!$B:$D,3,0),\"\")","v":""},{"$f":"IFERROR(VLOOKUP(AH53,CadMP!$B:$D,3,0),\"\")","v":""},{"$f":"IFERROR(VLOOKUP(AI53,CadMP!$B:$D,3,0),\"\")","v":""},{"$f":"IFERROR(VLOOKUP(AJ53,CadMP!$B:$D,3,0),\"\")","v":""},{"$f":"IFERROR(VLOOKUP(AK53,CadMP!$B:$D,3,0),\"\")","v":""},0,0,0,0,0,0,0,0,0,0,0,0,0,0,0]
[53,null,null,0,0,null,null,null,null,null,null,0,0,null,null,null,null,null,null,null,1,0,null,null,null,null,null,null,null,null,null,null,null,null,null,null,null,null,null,null,null,null,null,null,null,null,null,null,null,null,null,null,{"$f":"IFERROR(VLOOKUP(W54,CadMP!$B:$D,2,0),\"\")","v":""},{"$f":"IFERROR(VLOOKUP(X54,CadMP!$B:$D,2,0),\"\")","v":""},{"$f":"IFERROR(VLOOKUP(Y54,CadMP!$B:$D,2,0),\"\")","v":""},{"$f":"IFERROR(VLOOKUP(Z54,CadMP!$B:$D,2,0),\"\")","v":""},{"$f":"IFERROR(VLOOKUP(AA54,CadMP!$B:$D,2,0),\"\")","v":""},{"$f":"IFERROR(VLOOKUP(AB54,CadMP!$B:$D,2,0),\"\")","v":""},{"$f":"IFERROR(VLOOKUP(AC54,CadMP!$B:$D,2,0),\"\")","v":""},{"$f":"IFERROR(VLOOKUP(AD54,CadMP!$B:$D,2,0),\"\")","v":""},{"$f":"IFERROR(VLOOKUP(AE54,CadMP!$B:$D,2,0),\"\")","v":""},{"$f":"IFERROR(VLOOKUP(AF54,CadMP!$B:$D,2,0),\"\")","v":""},{"$f":"IFERROR(VLOOKUP(AG54,CadMP!$B:$D,2,0),\"\")","v":""},{"$f":"IFERROR(VLOOKUP(AH54,CadMP!$B:$D,2,0),\"\")","v":""},{"$f":"IFERROR(VLOOKUP(AI54,CadMP!$B:$D,2,0),\"\")","v":""},{"$f":"IFERROR(VLOOKUP(AJ54,CadMP!$B:$D,2,0),\"\")","v":""},{"$f":"IFERROR(VLOOKUP(AK54,CadMP!$B:$D,2,0),\"\")","v":""},{"$f":"IFERROR(VLOOKUP(W54,CadMP!$B:$D,3,0),\"\")","v":""},{"$f":"IFERROR(VLOOKUP(X54,CadMP!$B:$D,3,0),\"\")","v":""},{"$f":"IFERROR(VLOOKUP(Y54,CadMP!$B:$D,3,0),\"\")","v":""},{"$f":"IFERROR(VLOOKUP(Z54,CadMP!$B:$D,3,0),\"\")","v":""},{"$f":"IFERROR(VLOOKUP(AA54,CadMP!$B:$D,3,0),\"\")","v":""},{"$f":"IFERROR(VLOOKUP(AB54,CadMP!$B:$D,3,0),\"\")","v":""},{"$f":"IFERROR(VLOOKUP(AC54,CadMP!$B:$D,3,0),\"\")","v":""},{"$f":"IFERROR(VLOOKUP(AD54,CadMP!$B:$D,3,0),\"\")","v":""},{"$f":"IFERROR(VLOOKUP(AE54,CadMP!$B:$D,3,0),\"\")","v":""},{"$f":"IFERROR(VLOOKUP(AF54,CadMP!$B:$D,3,0),\"\")","v":""},{"$f":"IFERROR(VLOOKUP(AG54,CadMP!$B:$D,3,0),\"\")","v":""},{"$f":"IFERROR(VLOOKUP(AH54,CadMP!$B:$D,3,0),\"\")","v":""},{"$f":"IFERROR(VLOOKUP(AI54,CadMP!$B:$D,3,0),\"\")","v":""},{"$f":"IFERROR(VLOOKUP(AJ54,CadMP!$B:$D,3,0),\"\")","v":""},{"$f":"IFERROR(VLOOKUP(AK54,CadMP!$B:$D,3,0),\"\")","v":""},0,0,0,0,0,0,0,0,0,0,0,0,0,0,0]
[54,null,null,0,0,null,null,null,null,null,null,0,0,null,null,null,null,null,null,null,1,0,null,null,null,null,null,null,null,null,null,null,null,null,null,null,null,null,null,null,null,null,null,null,null,null,null,null,null,null,null,null,{"$f":"IFERROR(VLOOKUP(W55,CadMP!$B:$D,2,0),\"\")","v":""},{"$f":"IFERROR(VLOOKUP(X55,CadMP!$B:$D,2,0),\"\")","v":""},{"$f":"IFERROR(VLOOKUP(Y55,CadMP!$B:$D,2,0),\"\")","v":""},{"$f":"IFERROR(VLOOKUP(Z55,CadMP!$B:$D,2,0),\"\")","v":""},{"$f":"IFERROR(VLOOKUP(AA55,CadMP!$B:$D,2,0),\"\")","v":""},{"$f":"IFERROR(VLOOKUP(AB55,CadMP!$B:$D,2,0),\"\")","v":""},{"$f":"IFERROR(VLOOKUP(AC55,CadMP!$B:$D,2,0),\"\")","v":""},{"$f":"IFERROR(VLOOKUP(AD55,CadMP!$B:$D,2,0),\"\")","v":""},{"$f":"IFERROR(VLOOKUP(AE55,CadMP!$B:$D,2,0),\"\")","v":""},{"$f":"IFERROR(VLOOKUP(AF55,CadMP!$B:$D,2,0),\"\")","v":""},{"$f":"IFERROR(VLOOKUP(AG55,CadMP!$B:$D,2,0),\"\")","v":""},{"$f":"IFERROR(VLOOKUP(AH55,CadMP!$B:$D,2,0),\"\")","v":""},{"$f":"IFERROR(VLOOKUP(AI55,CadMP!$B:$D,2,0),\"\")","v":""},{"$f":"IFERROR(VLOOKUP(AJ55,CadMP!$B:$D,2,0),\"\")","v":""},{"$f":"IFERROR(VLOOKUP(AK55,CadMP!$B:$D,2,0),\"\")","v":""},{"$f":"IFERROR(VLOOKUP(W55,CadMP!$B:$D,3,0),\"\")","v":""},{"$f":"IFERROR(VLOOKUP(X55,CadMP!$B:$D,3,0),\"\")","v":""},{"$f":"IFERROR(VLOOKUP(Y55,CadMP!$B:$D,3,0),\"\")","v":""},{"$f":"IFERROR(VLOOKUP(Z55,CadMP!$B:$D,3,0),\"\")","v":""},{"$f":"IFERROR(VLOOKUP(AA55,CadMP!$B:$D,3,0),\"\")","v":""},{"$f":"IFERROR(VLOOKUP(AB55,CadMP!$B:$D,3,0),\"\")","v":""},{"$f":"IFERROR(VLOOKUP(AC55,CadMP!$B:$D,3,0),\"\")","v":""},{"$f":"IFERROR(VLOOKUP(AD55,CadMP!$B:$D,3,0),\"\")","v":""},{"$f":"IFERROR(VLOOKUP(AE55,CadMP!$B:$D,3,0),\"\")","v":""},{"$f":"IFERROR(VLOOKUP(AF55,CadMP!$B:$D,3,0),\"\")","v":""},{"$f":"IFERROR(VLOOKUP(AG55,CadMP!$B:$D,3,0),\"\")","v":""},{"$f":"IFERROR(VLOOKUP(AH55,CadMP!$B:$D,3,0),\"\")","v":""},{"$f":"IFERROR(VLOOKUP(AI55,CadMP!$B:$D,3,0),\"\")","v":""},{"$f":"IFERROR(VLOOKUP(AJ55,CadMP!$B:$D,3,0),\"\")","v":""},{"$f":"IFERROR(VLOOKUP(AK55,CadMP!$B:$D,3,0),\"\")","v":""},0,0,0,0,0,0,0,0,0,0,0,0,0,0,0]
[55,null,null,0,0,null,null,null,null,null,null,0,0,null,null,null,null,null,null,null,1,0,null,null,null,null,null,null,null,null,null,null,null,null,null,null,null,null,null,null,null,null,null,null,null,null,null,null,null,null,null,null,{"$f":"IFERROR(VLOOKUP(W56,CadMP!$B:$D,2,0),\"\")","v":""},{"$f":"IFERROR(VLOOKUP(X56,CadMP!$B:$D,2,0),\"\")","v":""},{"$f":"IFERROR(VLOOKUP(Y56,CadMP!$B:$D,2,0),\"\")","v":""},{"$f":"IFERROR(VLOOKUP(Z56,CadMP!$B:$D,2,0),\"\")","v":""},{"$f":"IFERROR(VLOOKUP(AA56,CadMP!$B:$D,2,0),\"\")","v":""},{"$f":"IFERROR(VLOOKUP(AB56,CadMP!$B:$D,2,0),\"\")","v":""},{"$f":"IFERROR(VLOOKUP(AC56,CadMP!$B:$D,2,0),\"\")","v":""},{"$f":"IFERROR(VLOOKUP(AD56,CadMP!$B:$D,2,0),\"\")","v":""},{"$f":"IFERROR(VLOOKUP(AE56,CadMP!$B:$D,2,0),\"\")","v":""},{"$f":"IFERROR(VLOOKUP(AF56,CadMP!$B:$D,2,0),\"\")","v":""},{"$f":"IFERROR(VLOOKUP(AG56,CadMP!$B:$D,2,0),\"\")","v":""},{"$f":"IFERROR(VLOOKUP(AH56,CadMP!$B:$D,2,0),\"\")","v":""},{"$f":"IFERROR(VLOOKUP(AI56,CadMP!$B:$D,2,0),\"\")","v":""},{"$f":"IFERROR(VLOOKUP(AJ56,CadMP!$B:$D,2,0),\"\")","v":""},{"$f":"IFERROR(VLOOKUP(AK56,CadMP!$B:$D,2,0),\"\")","v":""},{"$f":"IFERROR(VLOOKUP(W56,CadMP!$B:$D,3,0),\"\")","v":""},{"$f":"IFERROR(VLOOKUP(X56,CadMP!$B:$D,3,0),\"\")","v":""},{"$f":"IFERROR(VLOOKUP(Y56,CadMP!$B:$D,3,0),\"\")","v":""},{"$f":"IFERROR(VLOOKUP(Z56,CadMP!$B:$D,3,0),\"\")","v":""},{"$f":"IFERROR(VLOOKUP(AA56,CadMP!$B:$D,3,0),\"\")","v":""},{"$f":"IFERROR(VLOOKUP(AB56,CadMP!$B:$D,3,0),\"\")","v":""},{"$f":"IFERROR(VLOOKUP(AC56,CadMP!$B:$D,3,0),\"\")","v":""},{"$f":"IFERROR(VLOOKUP(AD56,CadMP!$B:$D,3,0),\"\")","v":""},{"$f":"IFERROR(VLOOKUP(AE56,CadMP!$B:$D,3,0),\"\")","v":""},{"$f":"IFERROR(VLOOKUP(AF56,CadMP!$B:$D,3,0),\"\")","v":""},{"$f":"IFERROR(VLOOKUP(AG56,CadMP!$B:$D,3,0),\"\")","v":""},{"$f":"IFERROR(VLOOKUP(AH56,CadMP!$B:$D,3,0),\"\")","v":""},{"$f":"IFERROR(VLOOKUP(AI56,CadMP!$B:$D,3,0),\"\")","v":""},{"$f":"IFERROR(VLOOKUP(AJ56,CadMP!$B:$D,3,0),\"\")","v":""},{"$f":"IFERROR(VLOOKUP(AK56,CadMP!$B:$D,3,0),\"\")","v":""},0,0,0,0,0,0,0,0,0,0,0,0,0,0,0]
[56,null,null,0,0,null,null,null,null,null,null,0,0,null,null,null,null,null,null,null,1,0,null,null,null,null,null,null,null,null,null,null,null,null,null,null,null,null,null,null,null,null,null,null,null,null,null,null,null,null,null,null,{"$f":"IFERROR(VLOOKUP(W57,CadMP!$B:$D,2,0),\"\")","v":""},{"$f":"IFERROR(VLOOKUP(X57,CadMP!$B:$D,2,0),\"\")","v":""},{"$f":"IFERROR(VLOOKUP(Y57,CadMP!$B:$D,2,0),\"\")","v":""},{"$f":"IFERROR(VLOOKUP(Z57,CadMP!$B:$D,2,0),\"\")","v":""},{"$f":"IFERROR(VLOOKUP(AA57,CadMP!$B:$D,2,0),\"\")","v":""},{"$f":"IFERROR(VLOOKUP(AB57,CadMP!$B:$D,2,0),\"\")","v":""},{"$f":"IFERROR(VLOOKUP(AC57,CadMP!$B:$D,2,0),\"\")","v":""},{"$f":"IFERROR(VLOOKUP(AD57,CadMP!$B:$D,2,0),\"\")","v":""},{"$f":"IFERROR(VLOOKUP(AE57,CadMP!$B:$D,2,0),\"\")","v":""},{"$f":"IFERROR(VLOOKUP(AF57,CadMP!$B:$D,2,0),\"\")","v":""},{"$f":"IFERROR(VLOOKUP(AG57,CadMP!$B:$D,2,0),\"\")","v":""},{"$f":"IFERROR(VLOOKUP(AH57,CadMP!$B:$D,2,0),\"\")","v":""},{"$f":"IFERROR(VLOOKUP(AI57,CadMP!$B:$D,2,0),\"\")","v":""},{"$f":"IFERROR(VLOOKUP(AJ57,CadMP!$B:$D,2,0),\"\")","v":""},{"$f":"IFERROR(VLOOKUP(AK57,CadMP!$B:$D,2,0),\"\")","v":""},{"$f":"IFERROR(VLOOKUP(W57,CadMP!$B:$D,3,0),\"\")","v":""},{"$f":"IFERROR(VLOOKUP(X57,CadMP!$B:$D,3,0),\"\")","v":""},{"$f":"IFERROR(VLOOKUP(Y57,CadMP!$B:$D,3,0),\"\")","v":""},{"$f":"IFERROR(VLOOKUP(Z57,CadMP!$B:$D,3,0),\"\")","v":""},{"$f":"IFERROR(VLOOKUP(AA57,CadMP!$B:$D,3,0),\"\")","v":""},{"$f":"IFERROR(VLOOKUP(AB57,CadMP!$B:$D,3,0),\"\")","v":""},{"$f":"IFERROR(VLOOKUP(AC57,CadMP!$B:$D,3,0),\"\")","v":""},{"$f":"IFERROR(VLOOKUP(AD57,CadMP!$B:$D,3,0),\"\")","v":""},{"$f":"IFERROR(VLOOKUP(AE57,CadMP!$B:$D,3,0),\"\")","v":""},{"$f":"IFERROR(VLOOKUP(AF57,CadMP!$B:$D,3,0),\"\")","v":""},{"$f":"IFERROR(VLOOKUP(AG57,CadMP!$B:$D,3,0),\"\")","v":""},{"$f":"IFERROR(VLOOKUP(AH57,CadMP!$B:$D,3,0),\"\")","v":""},{"$f":"IFERROR(VLOOKUP(AI57,CadMP!$B:$D,3,0),\"\")","v":""},{"$f":"IFERROR(VLOOKUP(AJ57,CadMP!$B:$D,3,0),\"\")","v":""},{"$f":"IFERROR(VLOOKUP(AK57,CadMP!$B:$D,3,0),\"\")","v":""},0,0,0,0,0,0,0,0,0,0,0,0,0,0,0]
[57,null,null,0,0,null,null,null,null,null,null,0,0,null,null,null,null,null,null,null,1,0,null,null,null,null,null,null,null,null,null,null,null,null,null,null,null,null,null,null,null,null,null,null,null,null,null,null,null,null,null,null,{"$f":"IFERROR(VLOOKUP(W58,CadMP!$B:$D,2,0),\"\")","v":""},{"$f":"IFERROR(VLOOKUP(X58,CadMP!$B:$D,2,0),\"\")","v":""},{"$f":"IFERROR(VLOOKUP(Y58,CadMP!$B:$D,2,0),\"\")","v":""},{"$f":"IFERROR(VLOOKUP(Z58,CadMP!$B:$D,2,0),\"\")","v":""},{"$f":"IFERROR(VLOOKUP(AA58,CadMP!$B:$D,2,0),\"\")","v":""},{"$f":"IFERROR(VLOOKUP(AB58,CadMP!$B:$D,2,0),\"\")","v":""},{"$f":"IFERROR(VLOOKUP(AC58,CadMP!$B:$D,2,0),\"\")","v":""},{"$f":"IFERROR(VLOOKUP(AD58,CadMP!$B:$D,2,0),\"\")","v":""},{"$f":"IFERROR(VLOOKUP(AE58,CadMP!$B:$D,2,0),\"\")","v":""},{"$f":"IFERROR(VLOOKUP(AF58,CadMP!$B:$D,2,0),\"\")","v":""},{"$f":"IFERROR(VLOOKUP(AG58,CadMP!$B:$D,2,0),\"\")","v":""},{"$f":"IFERROR(VLOOKUP(AH58,CadMP!$B:$D,2,0),\"\")","v":""},{"$f":"IFERROR(VLOOKUP(AI58,CadMP!$B:$D,2,0),\"\")","v":""},{"$f":"IFERROR(VLOOKUP(AJ58,CadMP!$B:$D,2,0),\"\")","v":""},{"$f":"IFERROR(VLOOKUP(AK58,CadMP!$B:$D,2,0),\"\")","v":""},{"$f":"IFERROR(VLOOKUP(W58,CadMP!$B:$D,3,0),\"\")","v":""},{"$f":"IFERROR(VLOOKUP(X58,CadMP!$B:$D,3,0),\"\")","v":""},{"$f":"IFERROR(VLOOKUP(Y58,CadMP!$B:$D,3,0),\"\")","v":""},{"$f":"IFERROR(VLOOKUP(Z58,CadMP!$B:$D,3,0),\"\")","v":""},{"$f":"IFERROR(VLOOKUP(AA58,CadMP!$B:$D,3,0),\"\")","v":""},{"$f":"IFERROR(VLOOKUP(AB58,CadMP!$B:$D,3,0),\"\")","v":""},{"$f":"IFERROR(VLOOKUP(AC58,CadMP!$B:$D,3,0),\"\")","v":""},{"$f":"IFERROR(VLOOKUP(AD58,CadMP!$B:$D,3,0),\"\")","v":""},{"$f":"IFERROR(VLOOKUP(AE58,CadMP!$B:$D,3,0),\"\")","v":""},{"$f":"IFERROR(VLOOKUP(AF58,CadMP!$B:$D,3,0),\"\")","v":""},{"$f":"IFERROR(VLOOKUP(AG58,CadMP!$B:$D,3,0),\"\")","v":""},{"$f":"IFERROR(VLOOKUP(AH58,CadMP!$B:$D,3,0),\"\")","v":""},{"$f":"IFERROR(VLOOKUP(AI58,CadMP!$B:$D,3,0),\"\")","v":""},{"$f":"IFERROR(VLOOKUP(AJ58,CadMP!$B:$D,3,0),\"\")","v":""},{"$f":"IFERROR(VLOOKUP(AK58,CadMP!$B:$D,3,0),\"\")","v":""},0,0,0,0,0,0,0,0,0,0,0,0,0,0,0]
[58,null,null,0,0,null,null,null,null,null,null,0,0,null,null,null,null,null,null,null,1,0,null,null,null,null,null,null,null,null,null,null,null,null,null,null,null,null,null,null,null,null,null,null,null,null,null,null,null,null,null,null,{"$f":"IFERROR(VLOOKUP(W59,CadMP!$B:$D,2,0),\"\")","v":""},{"$f":"IFERROR(VLOOKUP(X59,CadMP!$B:$D,2,0),\"\")","v":""},{"$f":"IFERROR(VLOOKUP(Y59,CadMP!$B:$D,2,0),\"\")","v":""},{"$f":"IFERROR(VLOOKUP(Z59,CadMP!$B:$D,2,0),\"\")","v":""},{"$f":"IFERROR(VLOOKUP(AA59,CadMP!$B:$D,2,0),\"\")","v":""},{"$f":"IFERROR(VLOOKUP(AB59,CadMP!$B:$D,2,0),\"\")","v":""},{"$f":"IFERROR(VLOOKUP(AC59,CadMP!$B:$D,2,0),\"\")","v":""},{"$f":"IFERROR(VLOOKUP(AD59,CadMP!$B:$D,2,0),\"\")","v":""},{"$f":"IFERROR(VLOOKUP(AE59,CadMP!$B:$D,2,0),\"\")","v":""},{"$f":"IFERROR(VLOOKUP(AF59,CadMP!$B:$D,2,0),\"\")","v":""},{"$f":"IFERROR(VLOOKUP(AG59,CadMP!$B:$D,2,0),\"\")","v":""},{"$f":"IFERROR(VLOOKUP(AH59,CadMP!$B:$D,2,0),\"\")","v":""},{"$f":"IFERROR(VLOOKUP(AI59,CadMP!$B:$D,2,0),\"\")","v":""},{"$f":"IFERROR(VLOOKUP(AJ59,CadMP!$B:$D,2,0),\"\")","v":""},{"$f":"IFERROR(VLOOKUP(AK59,CadMP!$B:$D,2,0),\"\")","v":""},{"$f":"IFERROR(VLOOKUP(W59,CadMP!$B:$D,3,0),\"\")","v":""},{"$f":"IFERROR(VLOOKUP(X59,CadMP!$B:$D,3,0),\"\")","v":""},{"$f":"IFERROR(VLOOKUP(Y59,CadMP!$B:$D,3,0),\"\")","v":""},{"$f":"IFERROR(VLOOKUP(Z59,CadMP!$B:$D,3,0),\"\")","v":""},{"$f":"IFERROR(VLOOKUP(AA59,CadMP!$B:$D,3,0),\"\")","v":""},{"$f":"IFERROR(VLOOKUP(AB59,CadMP!$B:$D,3,0),\"\")","v":""},{"$f":"IFERROR(VLOOKUP(AC59,CadMP!$B:$D,3,0),\"\")","v":""},{"$f":"IFERROR(VLOOKUP(AD59,CadMP!$B:$D,3,0),\"\")","v":""},{"$f":"IFERROR(VLOOKUP(AE59,CadMP!$B:$D,3,0),\"\")","v":""},{"$f":"IFERROR(VLOOKUP(AF59,CadMP!$B:$D,3,0),\"\")","v":""},{"$f":"IFERROR(VLOOKUP(AG59,CadMP!$B:$D,3,0),\"\")","v":""},{"$f":"IFERROR(VLOOKUP(AH59,CadMP!$B:$D,3,0),\"\")","v":""},{"$f":"IFERROR(VLOOKUP(AI59,CadMP!$B:$D,3,0),\"\")","v":""},{"$f":"IFERROR(VLOOKUP(AJ59,CadMP!$B:$D,3,0),\"\")","v":""},{"$f":"IFERROR(VLOOKUP(AK59,CadMP!$B:$D,3,0),\"\")","v":""},0,0,0,0,0,0,0,0,0,0,0,0,0,0,0]
[59,null,null,0,0,null,null,null,null,null,null,0,0,null,null,null,null,null,null,null,1,0,null,null,null,null,null,null,null,null,null,null,null,null,null,null,null,null,null,null,null,null,null,null,null,null,null,null,null,null,null,null,{"$f":"IFERROR(VLOOKUP(W60,CadMP!$B:$D,2,0),\"\")","v":""},{"$f":"IFERROR(VLOOKUP(X60,CadMP!$B:$D,2,0),\"\")","v":""},{"$f":"IFERROR(VLOOKUP(Y60,CadMP!$B:$D,2,0),\"\")","v":""},{"$f":"IFERROR(VLOOKUP(Z60,CadMP!$B:$D,2,0),\"\")","v":""},{"$f":"IFERROR(VLOOKUP(AA60,CadMP!$B:$D,2,0),\"\")","v":""},{"$f":"IFERROR(VLOOKUP(AB60,CadMP!$B:$D,2,0),\"\")","v":""},{"$f":"IFERROR(VLOOKUP(AC60,CadMP!$B:$D,2,0),\"\")","v":""},{"$f":"IFERROR(VLOOKUP(AD60,CadMP!$B:$D,2,0),\"\")","v":""},{"$f":"IFERROR(VLOOKUP(AE60,CadMP!$B:$D,2,0),\"\")","v":""},{"$f":"IFERROR(VLOOKUP(AF60,CadMP!$B:$D,2,0),\"\")","v":""},{"$f":"IFERROR(VLOOKUP(AG60,CadMP!$B:$D,2,0),\"\")","v":""},{"$f":"IFERROR(VLOOKUP(AH60,CadMP!$B:$D,2,0),\"\")","v":""},{"$f":"IFERROR(VLOOKUP(AI60,CadMP!$B:$D,2,0),\"\")","v":""},{"$f":"IFERROR(VLOOKUP(AJ60,CadMP!$B:$D,2,0),\"\")","v":""},{"$f":"IFERROR(VLOOKUP(AK60,CadMP!$B:$D,2,0),\"\")","v":""},{"$f":"IFERROR(VLOOKUP(W60,CadMP!$B:$D,3,0),\"\")","v":""},{"$f":"IFERROR(VLOOKUP(X60,CadMP!$B:$D,3,0),\"\")","v":""},{"$f":"IFERROR(VLOOKUP(Y60,CadMP!$B:$D,3,0),\"\")","v":""},{"$f":"IFERROR(VLOOKUP(Z60,CadMP!$B:$D,3,0),\"\")","v":""},{"$f":"IFERROR(VLOOKUP(AA60,CadMP!$B:$D,3,0),\"\")","v":""},{"$f":"IFERROR(VLOOKUP(AB60,CadMP!$B:$D,3,0),\"\")","v":""},{"$f":"IFERROR(VLOOKUP(AC60,CadMP!$B:$D,3,0),\"\")","v":""},{"$f":"IFERROR(VLOOKUP(AD60,CadMP!$B:$D,3,0),\"\")","v":""},{"$f":"IFERROR(VLOOKUP(AE60,CadMP!$B:$D,3,0),\"\")","v":""},{"$f":"IFERROR(VLOOKUP(AF60,CadMP!$B:$D,3,0),\"\")","v":""},{"$f":"IFERROR(VLOOKUP(AG60,CadMP!$B:$D,3,0),\"\")","v":""},{"$f":"IFERROR(VLOOKUP(AH60,CadMP!$B:$D,3,0),\"\")","v":""},{"$f":"IFERROR(VLOOKUP(AI60,CadMP!$B:$D,3,0),\"\")","v":""},{"$f":"IFERROR(VLOOKUP(AJ60,CadMP!$B:$D,3,0),\"\")","v":""},{"$f":"IFERROR(VLOOKUP(AK60,CadMP!$B:$D,3,0),\"\")","v":""},0,0,0,0,0,0,0,0,0,0,0,0,0,0,0]
[60,null,null,0,0,null,null,null,null,null,null,0,0,null,null,null,null,null,null,null,1,0,null,null,null,null,null,null,null,null,null,null,null,null,null,null,null,null,null,null,null,null,null,null,null,null,null,null,null,null,null,null,{"$f":"IFERROR(VLOOKUP(W61,CadMP!$B:$D,2,0),\"\")","v":""},{"$f":"IFERROR(VLOOKUP(X61,CadMP!$B:$D,2,0),\"\")","v":""},{"$f":"IFERROR(VLOOKUP(Y61,CadMP!$B:$D,2,0),\"\")","v":""},{"$f":"IFERROR(VLOOKUP(Z61,CadMP!$B:$D,2,0),\"\")","v":""},{"$f":"IFERROR(VLOOKUP(AA61,CadMP!$B:$D,2,0),\"\")","v":""},{"$f":"IFERROR(VLOOKUP(AB61,CadMP!$B:$D,2,0),\"\")","v":""},{"$f":"IFERROR(VLOOKUP(AC61,CadMP!$B:$D,2,0),\"\")","v":""},{"$f":"IFERROR(VLOOKUP(AD61,CadMP!$B:$D,2,0),\"\")","v":""},{"$f":"IFERROR(VLOOKUP(AE61,CadMP!$B:$D,2,0),\"\")","v":""},{"$f":"IFERROR(VLOOKUP(AF61,CadMP!$B:$D,2,0),\"\")","v":""},{"$f":"IFERROR(VLOOKUP(AG61,CadMP!$B:$D,2,0),\"\")","v":""},{"$f":"IFERROR(VLOOKUP(AH61,CadMP!$B:$D,2,0),\"\")","v":""},{"$f":"IFERROR(VLOOKUP(AI61,CadMP!$B:$D,2,0),\"\")","v":""},{"$f":"IFERROR(VLOOKUP(AJ61,CadMP!$B:$D,2,0),\"\")","v":""},{"$f":"IFERROR(VLOOKUP(AK61,CadMP!$B:$D,2,0),\"\")","v":""},{"$f":"IFERROR(VLOOKUP(W61,CadMP!$B:$D,3,0),\"\")","v":""},{"$f":"IFERROR(VLOOKUP(X61,CadMP!$B:$D,3,0),\"\")","v":""},{"$f":"IFERROR(VLOOKUP(Y61,CadMP!$B:$D,3,0),\"\")","v":""},{"$f":"IFERROR(VLOOKUP(Z61,CadMP!$B:$D,3,0),\"\")","v":""},{"$f":"IFERROR(VLOOKUP(AA61,CadMP!$B:$D,3,0),\"\")","v":""},{"$f":"IFERROR(VLOOKUP(AB61,CadMP!$B:$D,3,0),\"\")","v":""},{"$f":"IFERROR(VLOOKUP(AC61,CadMP!$B:$D,3,0),\"\")","v":""},{"$f":"IFERROR(VLOOKUP(AD61,CadMP!$B:$D,3,0),\"\")","v":""},{"$f":"IFERROR(VLOOKUP(AE61,CadMP!$B:$D,3,0),\"\")","v":""},{"$f":"IFERROR(VLOOKUP(AF61,CadMP!$B:$D,3,0),\"\")","v":""},{"$f":"IFERROR(VLOOKUP(AG61,CadMP!$B:$D,3,0),\"\")","v":""},{"$f":"IFERROR(VLOOKUP(AH61,CadMP!$B:$D,3,0),\"\")","v":""},{"$f":"IFERROR(VLOOKUP(AI61,CadMP!$B:$D,3,0),\"\")","v":""},{"$f":"IFERROR(VLOOKUP(AJ61,CadMP!$B:$D,3,0),\"\")","v":""},{"$f":"IFERROR(VLOOKUP(AK61,CadMP!$B:$D,3,0),\"\")","v":""},0,0,0,0,0,0,0,0,0,0,0,0,0,0,0]
[61,null,null,0,0,null,null,null,null,null,null,0,0,null,null,null,null,null,null,null,1,0,null,null,null,null,null,null,null,null,null,null,null,null,null,null,null,null,null,null,null,null,null,null,null,null,null,null,null,null,null,null,{"$f":"IFERROR(VLOOKUP(W62,CadMP!$B:$D,2,0),\"\")","v":""},{"$f":"IFERROR(VLOOKUP(X62,CadMP!$B:$D,2,0),\"\")","v":""},{"$f":"IFERROR(VLOOKUP(Y62,CadMP!$B:$D,2,0),\"\")","v":""},{"$f":"IFERROR(VLOOKUP(Z62,CadMP!$B:$D,2,0),\"\")","v":""},{"$f":"IFERROR(VLOOKUP(AA62,CadMP!$B:$D,2,0),\"\")","v":""},{"$f":"IFERROR(VLOOKUP(AB62,CadMP!$B:$D,2,0),\"\")","v":""},{"$f":"IFERROR(VLOOKUP(AC62,CadMP!$B:$D,2,0),\"\")","v":""},{"$f":"IFERROR(VLOOKUP(AD62,CadMP!$B:$D,2,0),\"\")","v":""},{"$f":"IFERROR(VLOOKUP(AE62,CadMP!$B:$D,2,0),\"\")","v":""},{"$f":"IFERROR(VLOOKUP(AF62,CadMP!$B:$D,2,0),\"\")","v":""},{"$f":"IFERROR(VLOOKUP(AG62,CadMP!$B:$D,2,0),\"\")","v":""},{"$f":"IFERROR(VLOOKUP(AH62,CadMP!$B:$D,2,0),\"\")","v":""},{"$f":"IFERROR(VLOOKUP(AI62,CadMP!$B:$D,2,0),\"\")","v":""},{"$f":"IFERROR(VLOOKUP(AJ62,CadMP!$B:$D,2,0),\"\")","v":""},{"$f":"IFERROR(VLOOKUP(AK62,CadMP!$B:$D,2,0),\"\")","v":""},{"$f":"IFERROR(VLOOKUP(W62,CadMP!$B:$D,3,0),\"\")","v":""},{"$f":"IFERROR(VLOOKUP(X62,CadMP!$B:$D,3,0),\"\")","v":""},{"$f":"IFERROR(VLOOKUP(Y62,CadMP!$B:$D,3,0),\"\")","v":""},{"$f":"IFERROR(VLOOKUP(Z62,CadMP!$B:$D,3,0),\"\")","v":""},{"$f":"IFERROR(VLOOKUP(AA62,CadMP!$B:$D,3,0),\"\")","v":""},{"$f":"IFERROR(VLOOKUP(AB62,CadMP!$B:$D,3,0),\"\")","v":""},{"$f":"IFERROR(VLOOKUP(AC62,CadMP!$B:$D,3,0),\"\")","v":""},{"$f":"IFERROR(VLOOKUP(AD62,CadMP!$B:$D,3,0),\"\")","v":""},{"$f":"IFERROR(VLOOKUP(AE62,CadMP!$B:$D,3,0),\"\")","v":""},{"$f":"IFERROR(VLOOKUP(AF62,CadMP!$B:$D,3,0),\"\")","v":""},{"$f":"IFERROR(VLOOKUP(AG62,CadMP!$B:$D,3,0),\"\")","v":""},{"$f":"IFERROR(VLOOKUP(AH62,CadMP!$B:$D,3,0),\"\")","v":""},{"$f":"IFERROR(VLOOKUP(AI62,CadMP!$B:$D,3,0),\"\")","v":""},{"$f":"IFERROR(VLOOKUP(AJ62,CadMP!$B:$D,3,0),\"\")","v":""},{"$f":"IFERROR(VLOOKUP(AK62,CadMP!$B:$D,3,0),\"\")","v":""},0,0,0,0,0,0,0,0,0,0,0,0,0,0,0]
[62,null,null,0,0,null,null,null,null,null,null,0,0,null,null,null,null,null,null,null,1,0,null,null,null,null,null,null,null,null,null,null,null,null,null,null,null,null,null,null,null,null,null,null,null,null,null,null,null,null,null,null,{"$f":"IFERROR(VLOOKUP(W63,CadMP!$B:$D,2,0),\"\")","v":""},{"$f":"IFERROR(VLOOKUP(X63,CadMP!$B:$D,2,0),\"\")","v":""},{"$f":"IFERROR(VLOOKUP(Y63,CadMP!$B:$D,2,0),\"\")","v":""},{"$f":"IFERROR(VLOOKUP(Z63,CadMP!$B:$D,2,0),\"\")","v":""},{"$f":"IFERROR(VLOOKUP(AA63,CadMP!$B:$D,2,0),\"\")","v":""},{"$f":"IFERROR(VLOOKUP(AB63,CadMP!$B:$D,2,0),\"\")","v":""},{"$f":"IFERROR(VLOOKUP(AC63,CadMP!$B:$D,2,0),\"\")","v":""},{"$f":"IFERROR(VLOOKUP(AD63,CadMP!$B:$D,2,0),\"\")","v":""},{"$f":"IFERROR(VLOOKUP(AE63,CadMP!$B:$D,2,0),\"\")","v":""},{"$f":"IFERROR(VLOOKUP(AF63,CadMP!$B:$D,2,0),\"\")","v":""},{"$f":"IFERROR(VLOOKUP(AG63,CadMP!$B:$D,2,0),\"\")","v":""},{"$f":"IFERROR(VLOOKUP(AH63,CadMP!$B:$D,2,0),\"\")","v":""},{"$f":"IFERROR(VLOOKUP(AI63,CadMP!$B:$D,2,0),\"\")","v":""},{"$f":"IFERROR(VLOOKUP(AJ63,CadMP!$B:$D,2,0),\"\")","v":""},{"$f":"IFERROR(VLOOKUP(AK63,CadMP!$B:$D,2,0),\"\")","v":""},{"$f":"IFERROR(VLOOKUP(W63,CadMP!$B:$D,3,0),\"\")","v":""},{"$f":"IFERROR(VLOOKUP(X63,CadMP!$B:$D,3,0),\"\")","v":""},{"$f":"IFERROR(VLOOKUP(Y63,CadMP!$B:$D,3,0),\"\")","v":""},{"$f":"IFERROR(VLOOKUP(Z63,CadMP!$B:$D,3,0),\"\")","v":""},{"$f":"IFERROR(VLOOKUP(AA63,CadMP!$B:$D,3,0),\"\")","v":""},{"$f":"IFERROR(VLOOKUP(AB63,CadMP!$B:$D,3,0),\"\")","v":""},{"$f":"IFERROR(VLOOKUP(AC63,CadMP!$B:$D,3,0),\"\")","v":""},{"$f":"IFERROR(VLOOKUP(AD63,CadMP!$B:$D,3,0),\"\")","v":""},{"$f":"IFERROR(VLOOKUP(AE63,CadMP!$B:$D,3,0),\"\")","v":""},{"$f":"IFERROR(VLOOKUP(AF63,CadMP!$B:$D,3,0),\"\")","v":""},{"$f":"IFERROR(VLOOKUP(AG63,CadMP!$B:$D,3,0),\"\")","v":""},{"$f":"IFERROR(VLOOKUP(AH63,CadMP!$B:$D,3,0),\"\")","v":""},{"$f":"IFERROR(VLOOKUP(AI63,CadMP!$B:$D,3,0),\"\")","v":""},{"$f":"IFERROR(VLOOKUP(AJ63,CadMP!$B:$D,3,0),\"\")","v":""},{"$f":"IFERROR(VLOOKUP(AK63,CadMP!$B:$D,3,0),\"\")","v":""},0,0,0,0,0,0,0,0,0,0,0,0,0,0,0]
[63,null,null,0,0,null,null,null,null,null,null,0,0,null,null,null,null,null,null,null,1,0,null,null,null,null,null,null,null,null,null,null,null,null,null,null,null,null,null,null,null,null,null,null,null,null,null,null,null,null,null,null,{"$f":"IFERROR(VLOOKUP(W64,CadMP!$B:$D,2,0),\"\")","v":""},{"$f":"IFERROR(VLOOKUP(X64,CadMP!$B:$D,2,0),\"\")","v":""},{"$f":"IFERROR(VLOOKUP(Y64,CadMP!$B:$D,2,0),\"\")","v":""},{"$f":"IFERROR(VLOOKUP(Z64,CadMP!$B:$D,2,0),\"\")","v":""},{"$f":"IFERROR(VLOOKUP(AA64,CadMP!$B:$D,2,0),\"\")","v":""},{"$f":"IFERROR(VLOOKUP(AB64,CadMP!$B:$D,2,0),\"\")","v":""},{"$f":"IFERROR(VLOOKUP(AC64,CadMP!$B:$D,2,0),\"\")","v":""},{"$f":"IFERROR(VLOOKUP(AD64,CadMP!$B:$D,2,0),\"\")","v":""},{"$f":"IFERROR(VLOOKUP(AE64,CadMP!$B:$D,2,0),\"\")","v":""},{"$f":"IFERROR(VLOOKUP(AF64,CadMP!$B:$D,2,0),\"\")","v":""},{"$f":"IFERROR(VLOOKUP(AG64,CadMP!$B:$D,2,0),\"\")","v":""},{"$f":"IFERROR(VLOOKUP(AH64,CadMP!$B:$D,2,0),\"\")","v":""},{"$f":"IFERROR(VLOOKUP(AI64,CadMP!$B:$D,2,0),\"\")","v":""},{"$f":"IFERROR(VLOOKUP(AJ64,CadMP!$B:$D,2,0),\"\")","v":""},{"$f":"IFERROR(VLOOKUP(AK64,CadMP!$B:$D,2,0),\"\")","v":""},{"$f":"IFERROR(VLOOKUP(W64,CadMP!$B:$D,3,0),\"\")","v":""},{"$f":"IFERROR(VLOOKUP(X64,CadMP!$B:$D,3,0),\"\")","v":""},{"$f":"IFERROR(VLOOKUP(Y64,CadMP!$B:$D,3,0),\"\")","v":""},{"$f":"IFERROR(VLOOKUP(Z64,CadMP!$B:$D,3,0),\"\")","v":""},{"$f":"IFERROR(VLOOKUP(AA64,CadMP!$B:$D,3,0),\"\")","v":""},{"$f":"IFERROR(VLOOKUP(AB64,CadMP!$B:$D,3,0),\"\")","v":""},{"$f":"IFERROR(VLOOKUP(AC64,CadMP!$B:$D,3,0),\"\")","v":""},{"$f":"IFERROR(VLOOKUP(AD64,CadMP!$B:$D,3,0),\"\")","v":""},{"$f":"IFERROR(VLOOKUP(AE64,CadMP!$B:$D,3,0),\"\")","v":""},{"$f":"IFERROR(VLOOKUP(AF64,CadMP!$B:$D,3,0),\"\")","v":""},{"$f":"IFERROR(VLOOKUP(AG64,CadMP!$B:$D,3,0),\"\")","v":""},{"$f":"IFERROR(VLOOKUP(AH64,CadMP!$B:$D,3,0),\"\")","v":""},{"$f":"IFERROR(VLOOKUP(AI64,CadMP!$B:$D,3,0),\"\")","v":""},{"$f":"IFERROR(VLOOKUP(AJ64,CadMP!$B:$D,3,0),\"\")","v":""},{"$f":"IFERROR(VLOOKUP(AK64,CadMP!$B:$D,3,0),\"\")","v":""},0,0,0,0,0,0,0,0,0,0,0,0,0,0,0]
[64,null,null,0,0,null,null,null,null,null,null,0,0,null,null,null,null,null,null,null,1,0,null,null,null,null,null,null,null,null,null,null,null,null,null,null,null,null,null,null,null,null,null,null,null,null,null,null,null,null,null,null,{"$f":"IFERROR(VLOOKUP(W65,CadMP!$B:$D,2,0),\"\")","v":""},{"$f":"IFERROR(VLOOKUP(X65,CadMP!$B:$D,2,0),\"\")","v":""},{"$f":"IFERROR(VLOOKUP(Y65,CadMP!$B:$D,2,0),\"\")","v":""},{"$f":"IFERROR(VLOOKUP(Z65,CadMP!$B:$D,2,0),\"\")","v":""},{"$f":"IFERROR(VLOOKUP(AA65,CadMP!$B:$D,2,0),\"\")","v":""},{"$f":"IFERROR(VLOOKUP(AB65,CadMP!$B:$D,2,0),\"\")","v":""},{"$f":"IFERROR(VLOOKUP(AC65,CadMP!$B:$D,2,0),\"\")","v":""},{"$f":"IFERROR(VLOOKUP(AD65,CadMP!$B:$D,2,0),\"\")","v":""},{"$f":"IFERROR(VLOOKUP(AE65,CadMP!$B:$D,2,0),\"\")","v":""},{"$f":"IFERROR(VLOOKUP(AF65,CadMP!$B:$D,2,0),\"\")","v":""},{"$f":"IFERROR(VLOOKUP(AG65,CadMP!$B:$D,2,0),\"\")","v":""},{"$f":"IFERROR(VLOOKUP(AH65,CadMP!$B:$D,2,0),\"\")","v":""},{"$f":"IFERROR(VLOOKUP(AI65,CadMP!$B:$D,2,0),\"\")","v":""},{"$f":"IFERROR(VLOOKUP(AJ65,CadMP!$B:$D,2,0),\"\")","v":""},{"$f":"IFERROR(VLOOKUP(AK65,CadMP!$B:$D,2,0),\"\")","v":""},{"$f":"IFERROR(VLOOKUP(W65,CadMP!$B:$D,3,0),\"\")","v":""},{"$f":"IFERROR(VLOOKUP(X65,CadMP!$B:$D,3,0),\"\")","v":""},{"$f":"IFERROR(VLOOKUP(Y65,CadMP!$B:$D,3,0),\"\")","v":""},{"$f":"IFERROR(VLOOKUP(Z65,CadMP!$B:$D,3,0),\"\")","v":""},{"$f":"IFERROR(VLOOKUP(AA65,CadMP!$B:$D,3,0),\"\")","v":""},{"$f":"IFERROR(VLOOKUP(AB65,CadMP!$B:$D,3,0),\"\")","v":""},{"$f":"IFERROR(VLOOKUP(AC65,CadMP!$B:$D,3,0),\"\")","v":""},{"$f":"IFERROR(VLOOKUP(AD65,CadMP!$B:$D,3,0),\"\")","v":""},{"$f":"IFERROR(VLOOKUP(AE65,CadMP!$B:$D,3,0),\"\")","v":""},{"$f":"IFERROR(VLOOKUP(AF65,CadMP!$B:$D,3,0),\"\")","v":""},{"$f":"IFERROR(VLOOKUP(AG65,CadMP!$B:$D,3,0),\"\")","v":""},{"$f":"IFERROR(VLOOKUP(AH65,CadMP!$B:$D,3,0),\"\")","v":""},{"$f":"IFERROR(VLOOKUP(AI65,CadMP!$B:$D,3,0),\"\")","v":""},{"$f":"IFERROR(VLOOKUP(AJ65,CadMP!$B:$D,3,0),\"\")","v":""},{"$f":"IFERROR(VLOOKUP(AK65,CadMP!$B:$D,3,0),\"\")","v":""},0,0,0,0,0,0,0,0,0,0,0,0,0,0,0]
[65,null,null,0,0,null,null,null,null,null,null,0,0,null,null,null,null,null,null,null,1,0,null,null,null,null,null,null,null,null,null,null,null,null,null,null,null,null,null,null,null,null,null,null,null,null,null,null,null,null,null,null,{"$f":"IFERROR(VLOOKUP(W66,CadMP!$B:$D,2,0),\"\")","v":""},{"$f":"IFERROR(VLOOKUP(X66,CadMP!$B:$D,2,0),\"\")","v":""},{"$f":"IFERROR(VLOOKUP(Y66,CadMP!$B:$D,2,0),\"\")","v":""},{"$f":"IFERROR(VLOOKUP(Z66,CadMP!$B:$D,2,0),\"\")","v":""},{"$f":"IFERROR(VLOOKUP(AA66,CadMP!$B:$D,2,0),\"\")","v":""},{"$f":"IFERROR(VLOOKUP(AB66,CadMP!$B:$D,2,0),\"\")","v":""},{"$f":"IFERROR(VLOOKUP(AC66,CadMP!$B:$D,2,0),\"\")","v":""},{"$f":"IFERROR(VLOOKUP(AD66,CadMP!$B:$D,2,0),\"\")","v":""},{"$f":"IFERROR(VLOOKUP(AE66,CadMP!$B:$D,2,0),\"\")","v":""},{"$f":"IFERROR(VLOOKUP(AF66,CadMP!$B:$D,2,0),\"\")","v":""},{"$f":"IFERROR(VLOOKUP(AG66,CadMP!$B:$D,2,0),\"\")","v":""},{"$f":"IFERROR(VLOOKUP(AH66,CadMP!$B:$D,2,0),\"\")","v":""},{"$f":"IFERROR(VLOOKUP(AI66,CadMP!$B:$D,2,0),\"\")","v":""},{"$f":"IFERROR(VLOOKUP(AJ66,CadMP!$B:$D,2,0),\"\")","v":""},{"$f":"IFERROR(VLOOKUP(AK66,CadMP!$B:$D,2,0),\"\")","v":""},{"$f":"IFERROR(VLOOKUP(W66,CadMP!$B:$D,3,0),\"\")","v":""},{"$f":"IFERROR(VLOOKUP(X66,CadMP!$B:$D,3,0),\"\")","v":""},{"$f":"IFERROR(VLOOKUP(Y66,CadMP!$B:$D,3,0),\"\")","v":""},{"$f":"IFERROR(VLOOKUP(Z66,CadMP!$B:$D,3,0),\"\")","v":""},{"$f":"IFERROR(VLOOKUP(AA66,CadMP!$B:$D,3,0),\"\")","v":""},{"$f":"IFERROR(VLOOKUP(AB66,CadMP!$B:$D,3,0),\"\")","v":""},{"$f":"IFERROR(VLOOKUP(AC66,CadMP!$B:$D,3,0),\"\")","v":""},{"$f":"IFERROR(VLOOKUP(AD66,CadMP!$B:$D,3,0),\"\")","v":""},{"$f":"IFERROR(VLOOKUP(AE66,CadMP!$B:$D,3,0),\"\")","v":""},{"$f":"IFERROR(VLOOKUP(AF66,CadMP!$B:$D,3,0),\"\")","v":""},{"$f":"IFERROR(VLOOKUP(AG66,CadMP!$B:$D,3,0),\"\")","v":""},{"$f":"IFERROR(VLOOKUP(AH66,CadMP!$B:$D,3,0),\"\")","v":""},{"$f":"IFERROR(VLOOKUP(AI66,CadMP!$B:$D,3,0),\"\")","v":""},{"$f":"IFERROR(VLOOKUP(AJ66,CadMP!$B:$D,3,0),\"\")","v":""},{"$f":"IFERROR(VLOOKUP(AK66,CadMP!$B:$D,3,0),\"\")","v":""},0,0,0,0,0,0,0,0,0,0,0,0,0,0,0]
[66,null,null,{"$f":"SUM(CE67:CS67)","v":0},{"$f":"SUM(F67:K67)","v":0},null,null,null,null,null,null,{"$f":"SUM(D67:E67)","v":0},{"$f":"SUM(N67:T67)","v":0},null,null,null,null,null,null,null,{"$f":"(100)/(100-M67)","v":1},{"$f":"L67*U67","v":0},null,null,null,null,null,null,null,null,null,null,null,null,null,null,null,null,null,null,null,null,null,null,null,null,null,null,null,null,null,null,{"$f":"IFERROR(VLOOKUP(W67,CadMP!$B:$D,2,0),\"\")","v":""},{"$f":"IFERROR(VLOOKUP(X67,CadMP!$B:$D,2,0),\"\")","v":""},{"$f":"IFERROR(VLOOKUP(Y67,CadMP!$B:$D,2,0),\"\")","v":""},{"$f":"IFERROR(VLOOKUP(Z67,CadMP!$B:$D,2,0),\"\")","v":""},{"$f":"IFERROR(VLOOKUP(AA67,CadMP!$B:$D,2,0),\"\")","v":""},{"$f":"IFERROR(VLOOKUP(AB67,CadMP!$B:$D,2,0),\"\")","v":""},{"$f":"IFERROR(VLOOKUP(AC67,CadMP!$B:$D,2,0),\"\")","v":""},{"$f":"IFERROR(VLOOKUP(AD67,CadMP!$B:$D,2,0),\"\")","v":""},{"$f":"IFERROR(VLOOKUP(AE67,CadMP!$B:$D,2,0),\"\")","v":""},{"$f":"IFERROR(VLOOKUP(AF67,CadMP!$B:$D,2,0),\"\")","v":""},{"$f":"IFERROR(VLOOKUP(AG67,CadMP!$B:$D,2,0),\"\")","v":""},{"$f":"IFERROR(VLOOKUP(AH67,CadMP!$B:$D,2,0),\"\")","v":""},{"$f":"IFERROR(VLOOKUP(AI67,CadMP!$B:$D,2,0),\"\")","v":""},{"$f":"IFERROR(VLOOKUP(AJ67,CadMP!$B:$D,2,0),\"\")","v":""},{"$f":"IFERROR(VLOOKUP(AK67,CadMP!$B:$D,2,0),\"\")","v":""},{"$f":"IFERROR(VLOOKUP(W67,CadMP!$B:$D,3,0),\"\")","v":""},{"$f":"IFERROR(VLOOKUP(X67,CadMP!$B:$D,3,0),\"\")","v":""},{"$f":"IFERROR(VLOOKUP(Y67,CadMP!$B:$D,3,0),\"\")","v":""},{"$f":"IFERROR(VLOOKUP(Z67,CadMP!$B:$D,3,0),\"\")","v":""},{"$f":"IFERROR(VLOOKUP(AA67,CadMP!$B:$D,3,0),\"\")","v":""},{"$f":"IFERROR(VLOOKUP(AB67,CadMP!$B:$D,3,0),\"\")","v":""},{"$f":"IFERROR(VLOOKUP(AC67,CadMP!$B:$D,3,0),\"\")","v":""},{"$f":"IFERROR(VLOOKUP(AD67,CadMP!$B:$D,3,0),\"\")","v":""},{"$f":"IFERROR(VLOOKUP(AE67,CadMP!$B:$D,3,0),\"\")","v":""},{"$f":"IFERROR(VLOOKUP(AF67,CadMP!$B:$D,3,0),\"\")","v":""},{"$f":"IFERROR(VLOOKUP(AG67,CadMP!$B:$D,3,0),\"\")","v":""},{"$f":"IFERROR(VLOOKUP(AH67,CadMP!$B:$D,3,0),\"\")","v":""},{"$f":"IFERROR(VLOOKUP(AI67,CadMP!$B:$D,3,0),\"\")","v":""},{"$f":"IFERROR(VLOOKUP(AJ67,CadMP!$B:$D,3,0),\"\")","v":""},{"$f":"IFERROR(VLOOKUP(AK67,CadMP!$B:$D,3,0),\"\")","v":""},{"$f":"IFERROR(AL67*BP67,0)","v":0},{"$f":"IFERROR(AM67*BQ67,0)","v":0},{"$f":"IFERROR(AN67*BR67,0)","v":0},{"$f":"IFERROR(AO67*BS67,0)","v":0},{"$f":"IFERROR(AP67*BT67,0)","v":0},{"$f":"IFERROR(AQ67*BU67,0)","v":0},{"$f":"IFERROR(AR67*BV67,0)","v":0},{"$f":"IFERROR(AS67*BW67,0)","v":0},{"$f":"IFERROR(AT67*BX67,0)","v":0},{"$f":"IFERROR(AU67*BY67,0)","v":0},{"$f":"IFERROR(AV67*BZ67,0)","v":0},{"$f":"IFERROR(AW67*CA67,0)","v":0},{"$f":"IFERROR(AX67*CB67,0)","v":0},{"$f":"IFERROR(AY67*CC67,0)","v":0},{"$f":"IFERROR(AZ67*CD67,0)","v":0}]
[67,null,null,0,0,null,null,null,null,null,null,0,0,null,null,null,null,null,null,null,1,0,null,null,null,null,null,null,null,null,null,null,null,null,null,null,null,null,null,null,null,null,null,null,null,null,null,null,null,null,null,null,{"$f":"IFERROR(VLOOKUP(W68,CadMP!$B:$D,2,0),\"\")","v":""},{"$f":"IFERROR(VLOOKUP(X68,CadMP!$B:$D,2,0),\"\")","v":""},{"$f":"IFERROR(VLOOKUP(Y68,CadMP!$B:$D,2,0),\"\")","v":""},{"$f":"IFERROR(VLOOKUP(Z68,CadMP!$B:$D,2,0),\"\")","v":""},{"$f":"IFERROR(VLOOKUP(AA68,CadMP!$B:$D,2,0),\"\")","v":""},{"$f":"IFERROR(VLOOKUP(AB68,CadMP!$B:$D,2,0),\"\")","v":""},{"$f":"IFERROR(VLOOKUP(AC68,CadMP!$B:$D,2,0),\"\")","v":""},{"$f":"IFERROR(VLOOKUP(AD68,CadMP!$B:$D,2,0),\"\")","v":""},{"$f":"IFERROR(VLOOKUP(AE68,CadMP!$B:$D,2,0),\"\")","v":""},{"$f":"IFERROR(VLOOKUP(AF68,CadMP!$B:$D,2,0),\"\")","v":""},{"$f":"IFERROR(VLOOKUP(AG68,CadMP!$B:$D,2,0),\"\")","v":""},{"$f":"IFERROR(VLOOKUP(AH68,CadMP!$B:$D,2,0),\"\")","v":""},{"$f":"IFERROR(VLOOKUP(AI68,CadMP!$B:$D,2,0),\"\")","v":""},{"$f":"IFERROR(VLOOKUP(AJ68,CadMP!$B:$D,2,0),\"\")","v":""},{"$f":"IFERROR(VLOOKUP(AK68,CadMP!$B:$D,2,0),\"\")","v":""},{"$f":"IFERROR(VLOOKUP(W68,CadMP!$B:$D,3,0),\"\")","v":""},{"$f":"IFERROR(VLOOKUP(X68,CadMP!$B:$D,3,0),\"\")","v":""},{"$f":"IFERROR(VLOOKUP(Y68,CadMP!$B:$D,3,0),\"\")","v":""},{"$f":"IFERROR(VLOOKUP(Z68,CadMP!$B:$D,3,0),\"\")","v":""},{"$f":"IFERROR(VLOOKUP(AA68,CadMP!$B:$D,3,0),\"\")","v":""},{"$f":"IFERROR(VLOOKUP(AB68,CadMP!$B:$D,3,0),\"\")","v":""},{"$f":"IFERROR(VLOOKUP(AC68,CadMP!$B:$D,3,0),\"\")","v":""},{"$f":"IFERROR(VLOOKUP(AD68,CadMP!$B:$D,3,0),\"\")","v":""},{"$f":"IFERROR(VLOOKUP(AE68,CadMP!$B:$D,3,0),\"\")","v":""},{"$f":"IFERROR(VLOOKUP(AF68,CadMP!$B:$D,3,0),\"\")","v":""},{"$f":"IFERROR(VLOOKUP(AG68,CadMP!$B:$D,3,0),\"\")","v":""},{"$f":"IFERROR(VLOOKUP(AH68,CadMP!$B:$D,3,0),\"\")","v":""},{"$f":"IFERROR(VLOOKUP(AI68,CadMP!$B:$D,3,0),\"\")","v":""},{"$f":"IFERROR(VLOOKUP(AJ68,CadMP!$B:$D,3,0),\"\")","v":""},{"$f":"IFERROR(VLOOKUP(AK68,CadMP!$B:$D,3,0),\"\")","v":""},0,0,0,0,0,0,0,0,0,0,0,0,0,0,0]
[68,null,null,0,0,null,null,null,null,null,null,0,0,null,null,null,null,null,null,null,1,0,null,null,null,null,null,null,null,null,null,null,null,null,null,null,null,null,null,null,null,null,null,null,null,null,null,null,null,null,null,null,{"$f":"IFERROR(VLOOKUP(W69,CadMP!$B:$D,2,0),\"\")","v":""},{"$f":"IFERROR(VLOOKUP(X69,CadMP!$B:$D,2,0),\"\")","v":""},{"$f":"IFERROR(VLOOKUP(Y69,CadMP!$B:$D,2,0),\"\")","v":""},{"$f":"IFERROR(VLOOKUP(Z69,CadMP!$B:$D,2,0),\"\")","v":""},{"$f":"IFERROR(VLOOKUP(AA69,CadMP!$B:$D,2,0),\"\")","v":""},{"$f":"IFERROR(VLOOKUP(AB69,CadMP!$B:$D,2,0),\"\")","v":""},{"$f":"IFERROR(VLOOKUP(AC69,CadMP!$B:$D,2,0),\"\")","v":""},{"$f":"IFERROR(VLOOKUP(AD69,CadMP!$B:$D,2,0),\"\")","v":""},{"$f":"IFERROR(VLOOKUP(AE69,CadMP!$B:$D,2,0),\"\")","v":""},{"$f":"IFERROR(VLOOKUP(AF69,CadMP!$B:$D,2,0),\"\")","v":""},{"$f":"IFERROR(VLOOKUP(AG69,CadMP!$B:$D,2,0),\"\")","v":""},{"$f":"IFERROR(VLOOKUP(AH69,CadMP!$B:$D,2,0),\"\")","v":""},{"$f":"IFERROR(VLOOKUP(AI69,CadMP!$B:$D,2,0),\"\")","v":""},{"$f":"IFERROR(VLOOKUP(AJ69,CadMP!$B:$D,2,0),\"\")","v":""},{"$f":"IFERROR(VLOOKUP(AK69,CadMP!$B:$D,2,0),\"\")","v":""},{"$f":"IFERROR(VLOOKUP(W69,CadMP!$B:$D,3,0),\"\")","v":""},{"$f":"IFERROR(VLOOKUP(X69,CadMP!$B:$D,3,0),\"\")","v":""},{"$f":"IFERROR(VLOOKUP(Y69,CadMP!$B:$D,3,0),\"\")","v":""},{"$f":"IFERROR(VLOOKUP(Z69,CadMP!$B:$D,3,0),\"\")","v":""},{"$f":"IFERROR(VLOOKUP(AA69,CadMP!$B:$D,3,0),\"\")","v":""},{"$f":"IFERROR(VLOOKUP(AB69,CadMP!$B:$D,3,0),\"\")","v":""},{"$f":"IFERROR(VLOOKUP(AC69,CadMP!$B:$D,3,0),\"\")","v":""},{"$f":"IFERROR(VLOOKUP(AD69,CadMP!$B:$D,3,0),\"\")","v":""},{"$f":"IFERROR(VLOOKUP(AE69,CadMP!$B:$D,3,0),\"\")","v":""},{"$f":"IFERROR(VLOOKUP(AF69,CadMP!$B:$D,3,0),\"\")","v":""},{"$f":"IFERROR(VLOOKUP(AG69,CadMP!$B:$D,3,0),\"\")","v":""},{"$f":"IFERROR(VLOOKUP(AH69,CadMP!$B:$D,3,0),\"\")","v":""},{"$f":"IFERROR(VLOOKUP(AI69,CadMP!$B:$D,3,0),\"\")","v":""},{"$f":"IFERROR(VLOOKUP(AJ69,CadMP!$B:$D,3,0),\"\")","v":""},{"$f":"IFERROR(VLOOKUP(AK69,CadMP!$B:$D,3,0),\"\")","v":""},0,0,0,0,0,0,0,0,0,0,0,0,0,0,0]
[69,null,null,0,0,null,null,null,null,null,null,0,0,null,null,null,null,null,null,null,1,0,null,null,null,null,null,null,null,null,null,null,null,null,null,null,null,null,null,null,null,null,null,null,null,null,null,null,null,null,null,null,{"$f":"IFERROR(VLOOKUP(W70,CadMP!$B:$D,2,0),\"\")","v":""},{"$f":"IFERROR(VLOOKUP(X70,CadMP!$B:$D,2,0),\"\")","v":""},{"$f":"IFERROR(VLOOKUP(Y70,CadMP!$B:$D,2,0),\"\")","v":""},{"$f":"IFERROR(VLOOKUP(Z70,CadMP!$B:$D,2,0),\"\")","v":""},{"$f":"IFERROR(VLOOKUP(AA70,CadMP!$B:$D,2,0),\"\")","v":""},{"$f":"IFERROR(VLOOKUP(AB70,CadMP!$B:$D,2,0),\"\")","v":""},{"$f":"IFERROR(VLOOKUP(AC70,CadMP!$B:$D,2,0),\"\")","v":""},{"$f":"IFERROR(VLOOKUP(AD70,CadMP!$B:$D,2,0),\"\")","v":""},{"$f":"IFERROR(VLOOKUP(AE70,CadMP!$B:$D,2,0),\"\")","v":""},{"$f":"IFERROR(VLOOKUP(AF70,CadMP!$B:$D,2,0),\"\")","v":""},{"$f":"IFERROR(VLOOKUP(AG70,CadMP!$B:$D,2,0),\"\")","v":""},{"$f":"IFERROR(VLOOKUP(AH70,CadMP!$B:$D,2,0),\"\")","v":""},{"$f":"IFERROR(VLOOKUP(AI70,CadMP!$B:$D,2,0),\"\")","v":""},{"$f":"IFERROR(VLOOKUP(AJ70,CadMP!$B:$D,2,0),\"\")","v":""},{"$f":"IFERROR(VLOOKUP(AK70,CadMP!$B:$D,2,0),\"\")","v":""},{"$f":"IFERROR(VLOOKUP(W70,CadMP!$B:$D,3,0),\"\")","v":""},{"$f":"IFERROR(VLOOKUP(X70,CadMP!$B:$D,3,0),\"\")","v":""},{"$f":"IFERROR(VLOOKUP(Y70,CadMP!$B:$D,3,0),\"\")","v":""},{"$f":"IFERROR(VLOOKUP(Z70,CadMP!$B:$D,3,0),\"\")","v":""},{"$f":"IFERROR(VLOOKUP(AA70,CadMP!$B:$D,3,0),\"\")","v":""},{"$f":"IFERROR(VLOOKUP(AB70,CadMP!$B:$D,3,0),\"\")","v":""},{"$f":"IFERROR(VLOOKUP(AC70,CadMP!$B:$D,3,0),\"\")","v":""},{"$f":"IFERROR(VLOOKUP(AD70,CadMP!$B:$D,3,0),\"\")","v":""},{"$f":"IFERROR(VLOOKUP(AE70,CadMP!$B:$D,3,0),\"\")","v":""},{"$f":"IFERROR(VLOOKUP(AF70,CadMP!$B:$D,3,0),\"\")","v":""},{"$f":"IFERROR(VLOOKUP(AG70,CadMP!$B:$D,3,0),\"\")","v":""},{"$f":"IFERROR(VLOOKUP(AH70,CadMP!$B:$D,3,0),\"\")","v":""},{"$f":"IFERROR(VLOOKUP(AI70,CadMP!$B:$D,3,0),\"\")","v":""},{"$f":"IFERROR(VLOOKUP(AJ70,CadMP!$B:$D,3,0),\"\")","v":""},{"$f":"IFERROR(VLOOKUP(AK70,CadMP!$B:$D,3,0),\"\")","v":""},0,0,0,0,0,0,0,0,0,0,0,0,0,0,0]
[70,null,null,0,0,null,null,null,null,null,null,0,0,null,null,null,null,null,null,null,1,0,null,null,null,null,null,null,null,null,null,null,null,null,null,null,null,null,null,null,null,null,null,null,null,null,null,null,null,null,null,null,{"$f":"IFERROR(VLOOKUP(W71,CadMP!$B:$D,2,0),\"\")","v":""},{"$f":"IFERROR(VLOOKUP(X71,CadMP!$B:$D,2,0),\"\")","v":""},{"$f":"IFERROR(VLOOKUP(Y71,CadMP!$B:$D,2,0),\"\")","v":""},{"$f":"IFERROR(VLOOKUP(Z71,CadMP!$B:$D,2,0),\"\")","v":""},{"$f":"IFERROR(VLOOKUP(AA71,CadMP!$B:$D,2,0),\"\")","v":""},{"$f":"IFERROR(VLOOKUP(AB71,CadMP!$B:$D,2,0),\"\")","v":""},{"$f":"IFERROR(VLOOKUP(AC71,CadMP!$B:$D,2,0),\"\")","v":""},{"$f":"IFERROR(VLOOKUP(AD71,CadMP!$B:$D,2,0),\"\")","v":""},{"$f":"IFERROR(VLOOKUP(AE71,CadMP!$B:$D,2,0),\"\")","v":""},{"$f":"IFERROR(VLOOKUP(AF71,CadMP!$B:$D,2,0),\"\")","v":""},{"$f":"IFERROR(VLOOKUP(AG71,CadMP!$B:$D,2,0),\"\")","v":""},{"$f":"IFERROR(VLOOKUP(AH71,CadMP!$B:$D,2,0),\"\")","v":""},{"$f":"IFERROR(VLOOKUP(AI71,CadMP!$B:$D,2,0),\"\")","v":""},{"$f":"IFERROR(VLOOKUP(AJ71,CadMP!$B:$D,2,0),\"\")","v":""},{"$f":"IFERROR(VLOOKUP(AK71,CadMP!$B:$D,2,0),\"\")","v":""},{"$f":"IFERROR(VLOOKUP(W71,CadMP!$B:$D,3,0),\"\")","v":""},{"$f":"IFERROR(VLOOKUP(X71,CadMP!$B:$D,3,0),\"\")","v":""},{"$f":"IFERROR(VLOOKUP(Y71,CadMP!$B:$D,3,0),\"\")","v":""},{"$f":"IFERROR(VLOOKUP(Z71,CadMP!$B:$D,3,0),\"\")","v":""},{"$f":"IFERROR(VLOOKUP(AA71,CadMP!$B:$D,3,0),\"\")","v":""},{"$f":"IFERROR(VLOOKUP(AB71,CadMP!$B:$D,3,0),\"\")","v":""},{"$f":"IFERROR(VLOOKUP(AC71,CadMP!$B:$D,3,0),\"\")","v":""},{"$f":"IFERROR(VLOOKUP(AD71,CadMP!$B:$D,3,0),\"\")","v":""},{"$f":"IFERROR(VLOOKUP(AE71,CadMP!$B:$D,3,0),\"\")","v":""},{"$f":"IFERROR(VLOOKUP(AF71,CadMP!$B:$D,3,0),\"\")","v":""},{"$f":"IFERROR(VLOOKUP(AG71,CadMP!$B:$D,3,0),\"\")","v":""},{"$f":"IFERROR(VLOOKUP(AH71,CadMP!$B:$D,3,0),\"\")","v":""},{"$f":"IFERROR(VLOOKUP(AI71,CadMP!$B:$D,3,0),\"\")","v":""},{"$f":"IFERROR(VLOOKUP(AJ71,CadMP!$B:$D,3,0),\"\")","v":""},{"$f":"IFERROR(VLOOKUP(AK71,CadMP!$B:$D,3,0),\"\")","v":""},0,0,0,0,0,0,0,0,0,0,0,0,0,0,0]
[71,null,null,0,0,null,null,null,null,null,null,0,0,null,null,null,null,null,null,null,1,0,null,null,null,null,null,null,null,null,null,null,null,null,null,null,null,null,null,null,null,null,null,null,null,null,null,null,null,null,null,null,{"$f":"IFERROR(VLOOKUP(W72,CadMP!$B:$D,2,0),\"\")","v":""},{"$f":"IFERROR(VLOOKUP(X72,CadMP!$B:$D,2,0),\"\")","v":""},{"$f":"IFERROR(VLOOKUP(Y72,CadMP!$B:$D,2,0),\"\")","v":""},{"$f":"IFERROR(VLOOKUP(Z72,CadMP!$B:$D,2,0),\"\")","v":""},{"$f":"IFERROR(VLOOKUP(AA72,CadMP!$B:$D,2,0),\"\")","v":""},{"$f":"IFERROR(VLOOKUP(AB72,CadMP!$B:$D,2,0),\"\")","v":""},{"$f":"IFERROR(VLOOKUP(AC72,CadMP!$B:$D,2,0),\"\")","v":""},{"$f":"IFERROR(VLOOKUP(AD72,CadMP!$B:$D,2,0),\"\")","v":""},{"$f":"IFERROR(VLOOKUP(AE72,CadMP!$B:$D,2,0),\"\")","v":""},{"$f":"IFERROR(VLOOKUP(AF72,CadMP!$B:$D,2,0),\"\")","v":""},{"$f":"IFERROR(VLOOKUP(AG72,CadMP!$B:$D,2,0),\"\")","v":""},{"$f":"IFERROR(VLOOKUP(AH72,CadMP!$B:$D,2,0),\"\")","v":""},{"$f":"IFERROR(VLOOKUP(AI72,CadMP!$B:$D,2,0),\"\")","v":""},{"$f":"IFERROR(VLOOKUP(AJ72,CadMP!$B:$D,2,0),\"\")","v":""},{"$f":"IFERROR(VLOOKUP(AK72,CadMP!$B:$D,2,0),\"\")","v":""},{"$f":"IFERROR(VLOOKUP(W72,CadMP!$B:$D,3,0),\"\")","v":""},{"$f":"IFERROR(VLOOKUP(X72,CadMP!$B:$D,3,0),\"\")","v":""},{"$f":"IFERROR(VLOOKUP(Y72,CadMP!$B:$D,3,0),\"\")","v":""},{"$f":"IFERROR(VLOOKUP(Z72,CadMP!$B:$D,3,0),\"\")","v":""},{"$f":"IFERROR(VLOOKUP(AA72,CadMP!$B:$D,3,0),\"\")","v":""},{"$f":"IFERROR(VLOOKUP(AB72,CadMP!$B:$D,3,0),\"\")","v":""},{"$f":"IFERROR(VLOOKUP(AC72,CadMP!$B:$D,3,0),\"\")","v":""},{"$f":"IFERROR(VLOOKUP(AD72,CadMP!$B:$D,3,0),\"\")","v":""},{"$f":"IFERROR(VLOOKUP(AE72,CadMP!$B:$D,3,0),\"\")","v":""},{"$f":"IFERROR(VLOOKUP(AF72,CadMP!$B:$D,3,0),\"\")","v":""},{"$f":"IFERROR(VLOOKUP(AG72,CadMP!$B:$D,3,0),\"\")","v":""},{"$f":"IFERROR(VLOOKUP(AH72,CadMP!$B:$D,3,0),\"\")","v":""},{"$f":"IFERROR(VLOOKUP(AI72,CadMP!$B:$D,3,0),\"\")","v":""},{"$f":"IFERROR(VLOOKUP(AJ72,CadMP!$B:$D,3,0),\"\")","v":""},{"$f":"IFERROR(VLOOKUP(AK72,CadMP!$B:$D,3,0),\"\")","v":""},0,0,0,0,0,0,0,0,0,0,0,0,0,0,0]
[72,null,null,0,0,null,null,null,null,null,null,0,0,null,null,null,null,null,null,null,1,0,null,null,null,null,null,null,null,null,null,null,null,null,null,null,null,null,null,null,null,null,null,null,null,null,null,null,null,null,null,null,{"$f":"IFERROR(VLOOKUP(W73,CadMP!$B:$D,2,0),\"\")","v":""},{"$f":"IFERROR(VLOOKUP(X73,CadMP!$B:$D,2,0),\"\")","v":""},{"$f":"IFERROR(VLOOKUP(Y73,CadMP!$B:$D,2,0),\"\")","v":""},{"$f":"IFERROR(VLOOKUP(Z73,CadMP!$B:$D,2,0),\"\")","v":""},{"$f":"IFERROR(VLOOKUP(AA73,CadMP!$B:$D,2,0),\"\")","v":""},{"$f":"IFERROR(VLOOKUP(AB73,CadMP!$B:$D,2,0),\"\")","v":""},{"$f":"IFERROR(VLOOKUP(AC73,CadMP!$B:$D,2,0),\"\")","v":""},{"$f":"IFERROR(VLOOKUP(AD73,CadMP!$B:$D,2,0),\"\")","v":""},{"$f":"IFERROR(VLOOKUP(AE73,CadMP!$B:$D,2,0),\"\")","v":""},{"$f":"IFERROR(VLOOKUP(AF73,CadMP!$B:$D,2,0),\"\")","v":""},{"$f":"IFERROR(VLOOKUP(AG73,CadMP!$B:$D,2,0),\"\")","v":""},{"$f":"IFERROR(VLOOKUP(AH73,CadMP!$B:$D,2,0),\"\")","v":""},{"$f":"IFERROR(VLOOKUP(AI73,CadMP!$B:$D,2,0),\"\")","v":""},{"$f":"IFERROR(VLOOKUP(AJ73,CadMP!$B:$D,2,0),\"\")","v":""},{"$f":"IFERROR(VLOOKUP(AK73,CadMP!$B:$D,2,0),\"\")","v":""},{"$f":"IFERROR(VLOOKUP(W73,CadMP!$B:$D,3,0),\"\")","v":""},{"$f":"IFERROR(VLOOKUP(X73,CadMP!$B:$D,3,0),\"\")","v":""},{"$f":"IFERROR(VLOOKUP(Y73,CadMP!$B:$D,3,0),\"\")","v":""},{"$f":"IFERROR(VLOOKUP(Z73,CadMP!$B:$D,3,0),\"\")","v":""},{"$f":"IFERROR(VLOOKUP(AA73,CadMP!$B:$D,3,0),\"\")","v":""},{"$f":"IFERROR(VLOOKUP(AB73,CadMP!$B:$D,3,0),\"\")","v":""},{"$f":"IFERROR(VLOOKUP(AC73,CadMP!$B:$D,3,0),\"\")","v":""},{"$f":"IFERROR(VLOOKUP(AD73,CadMP!$B:$D,3,0),\"\")","v":""},{"$f":"IFERROR(VLOOKUP(AE73,CadMP!$B:$D,3,0),\"\")","v":""},{"$f":"IFERROR(VLOOKUP(AF73,CadMP!$B:$D,3,0),\"\")","v":""},{"$f":"IFERROR(VLOOKUP(AG73,CadMP!$B:$D,3,0),\"\")","v":""},{"$f":"IFERROR(VLOOKUP(AH73,CadMP!$B:$D,3,0),\"\")","v":""},{"$f":"IFERROR(VLOOKUP(AI73,CadMP!$B:$D,3,0),\"\")","v":""},{"$f":"IFERROR(VLOOKUP(AJ73,CadMP!$B:$D,3,0),\"\")","v":""},{"$f":"IFERROR(VLOOKUP(AK73,CadMP!$B:$D,3,0),\"\")","v":""},0,0,0,0,0,0,0,0,0,0,0,0,0,0,0]
[73,null,null,0,0,null,null,null,null,null,null,0,0,null,null,null,null,null,null,null,1,0,null,null,null,null,null,null,null,null,null,null,null,null,null,null,null,null,null,null,null,null,null,null,null,null,null,null,null,null,null,null,{"$f":"IFERROR(VLOOKUP(W74,CadMP!$B:$D,2,0),\"\")","v":""},{"$f":"IFERROR(VLOOKUP(X74,CadMP!$B:$D,2,0),\"\")","v":""},{"$f":"IFERROR(VLOOKUP(Y74,CadMP!$B:$D,2,0),\"\")","v":""},{"$f":"IFERROR(VLOOKUP(Z74,CadMP!$B:$D,2,0),\"\")","v":""},{"$f":"IFERROR(VLOOKUP(AA74,CadMP!$B:$D,2,0),\"\")","v":""},{"$f":"IFERROR(VLOOKUP(AB74,CadMP!$B:$D,2,0),\"\")","v":""},{"$f":"IFERROR(VLOOKUP(AC74,CadMP!$B:$D,2,0),\"\")","v":""},{"$f":"IFERROR(VLOOKUP(AD74,CadMP!$B:$D,2,0),\"\")","v":""},{"$f":"IFERROR(VLOOKUP(AE74,CadMP!$B:$D,2,0),\"\")","v":""},{"$f":"IFERROR(VLOOKUP(AF74,CadMP!$B:$D,2,0),\"\")","v":""},{"$f":"IFERROR(VLOOKUP(AG74,CadMP!$B:$D,2,0),\"\")","v":""},{"$f":"IFERROR(VLOOKUP(AH74,CadMP!$B:$D,2,0),\"\")","v":""},{"$f":"IFERROR(VLOOKUP(AI74,CadMP!$B:$D,2,0),\"\")","v":""},{"$f":"IFERROR(VLOOKUP(AJ74,CadMP!$B:$D,2,0),\"\")","v":""},{"$f":"IFERROR(VLOOKUP(AK74,CadMP!$B:$D,2,0),\"\")","v":""},{"$f":"IFERROR(VLOOKUP(W74,CadMP!$B:$D,3,0),\"\")","v":""},{"$f":"IFERROR(VLOOKUP(X74,CadMP!$B:$D,3,0),\"\")","v":""},{"$f":"IFERROR(VLOOKUP(Y74,CadMP!$B:$D,3,0),\"\")","v":""},{"$f":"IFERROR(VLOOKUP(Z74,CadMP!$B:$D,3,0),\"\")","v":""},{"$f":"IFERROR(VLOOKUP(AA74,CadMP!$B:$D,3,0),\"\")","v":""},{"$f":"IFERROR(VLOOKUP(AB74,CadMP!$B:$D,3,0),\"\")","v":""},{"$f":"IFERROR(VLOOKUP(AC74,CadMP!$B:$D,3,0),\"\")","v":""},{"$f":"IFERROR(VLOOKUP(AD74,CadMP!$B:$D,3,0),\"\")","v":""},{"$f":"IFERROR(VLOOKUP(AE74,CadMP!$B:$D,3,0),\"\")","v":""},{"$f":"IFERROR(VLOOKUP(AF74,CadMP!$B:$D,3,0),\"\")","v":""},{"$f":"IFERROR(VLOOKUP(AG74,CadMP!$B:$D,3,0),\"\")","v":""},{"$f":"IFERROR(VLOOKUP(AH74,CadMP!$B:$D,3,0),\"\")","v":""},{"$f":"IFERROR(VLOOKUP(AI74,CadMP!$B:$D,3,0),\"\")","v":""},{"$f":"IFERROR(VLOOKUP(AJ74,CadMP!$B:$D,3,0),\"\")","v":""},{"$f":"IFERROR(VLOOKUP(AK74,CadMP!$B:$D,3,0),\"\")","v":""},0,0,0,0,0,0,0,0,0,0,0,0,0,0,0]
[74,null,null,0,0,null,null,null,null,null,null,0,0,null,null,null,null,null,null,null,1,0,null,null,null,null,null,null,null,null,null,null,null,null,null,null,null,null,null,null,null,null,null,null,null,null,null,null,null,null,null,null,{"$f":"IFERROR(VLOOKUP(W75,CadMP!$B:$D,2,0),\"\")","v":""},{"$f":"IFERROR(VLOOKUP(X75,CadMP!$B:$D,2,0),\"\")","v":""},{"$f":"IFERROR(VLOOKUP(Y75,CadMP!$B:$D,2,0),\"\")","v":""},{"$f":"IFERROR(VLOOKUP(Z75,CadMP!$B:$D,2,0),\"\")","v":""},{"$f":"IFERROR(VLOOKUP(AA75,CadMP!$B:$D,2,0),\"\")","v":""},{"$f":"IFERROR(VLOOKUP(AB75,CadMP!$B:$D,2,0),\"\")","v":""},{"$f":"IFERROR(VLOOKUP(AC75,CadMP!$B:$D,2,0),\"\")","v":""},{"$f":"IFERROR(VLOOKUP(AD75,CadMP!$B:$D,2,0),\"\")","v":""},{"$f":"IFERROR(VLOOKUP(AE75,CadMP!$B:$D,2,0),\"\")","v":""},{"$f":"IFERROR(VLOOKUP(AF75,CadMP!$B:$D,2,0),\"\")","v":""},{"$f":"IFERROR(VLOOKUP(AG75,CadMP!$B:$D,2,0),\"\")","v":""},{"$f":"IFERROR(VLOOKUP(AH75,CadMP!$B:$D,2,0),\"\")","v":""},{"$f":"IFERROR(VLOOKUP(AI75,CadMP!$B:$D,2,0),\"\")","v":""},{"$f":"IFERROR(VLOOKUP(AJ75,CadMP!$B:$D,2,0),\"\")","v":""},{"$f":"IFERROR(VLOOKUP(AK75,CadMP!$B:$D,2,0),\"\")","v":""},{"$f":"IFERROR(VLOOKUP(W75,CadMP!$B:$D,3,0),\"\")","v":""},{"$f":"IFERROR(VLOOKUP(X75,CadMP!$B:$D,3,0),\"\")","v":""},{"$f":"IFERROR(VLOOKUP(Y75,CadMP!$B:$D,3,0),\"\")","v":""},{"$f":"IFERROR(VLOOKUP(Z75,CadMP!$B:$D,3,0),\"\")","v":""},{"$f":"IFERROR(VLOOKUP(AA75,CadMP!$B:$D,3,0),\"\")","v":""},{"$f":"IFERROR(VLOOKUP(AB75,CadMP!$B:$D,3,0),\"\")","v":""},{"$f":"IFERROR(VLOOKUP(AC75,CadMP!$B:$D,3,0),\"\")","v":""},{"$f":"IFERROR(VLOOKUP(AD75,CadMP!$B:$D,3,0),\"\")","v":""},{"$f":"IFERROR(VLOOKUP(AE75,CadMP!$B:$D,3,0),\"\")","v":""},{"$f":"IFERROR(VLOOKUP(AF75,CadMP!$B:$D,3,0),\"\")","v":""},{"$f":"IFERROR(VLOOKUP(AG75,CadMP!$B:$D,3,0),\"\")","v":""},{"$f":"IFERROR(VLOOKUP(AH75,CadMP!$B:$D,3,0),\"\")","v":""},{"$f":"IFERROR(VLOOKUP(AI75,CadMP!$B:$D,3,0),\"\")","v":""},{"$f":"IFERROR(VLOOKUP(AJ75,CadMP!$B:$D,3,0),\"\")","v":""},{"$f":"IFERROR(VLOOKUP(AK75,CadMP!$B:$D,3,0),\"\")","v":""},0,0,0,0,0,0,0,0,0,0,0,0,0,0,0]
[75,null,null,0,0,null,null,null,null,null,null,0,0,null,null,null,null,null,null,null,1,0,null,null,null,null,null,null,null,null,null,null,null,null,null,null,null,null,null,null,null,null,null,null,null,null,null,null,null,null,null,null,{"$f":"IFERROR(VLOOKUP(W76,CadMP!$B:$D,2,0),\"\")","v":""},{"$f":"IFERROR(VLOOKUP(X76,CadMP!$B:$D,2,0),\"\")","v":""},{"$f":"IFERROR(VLOOKUP(Y76,CadMP!$B:$D,2,0),\"\")","v":""},{"$f":"IFERROR(VLOOKUP(Z76,CadMP!$B:$D,2,0),\"\")","v":""},{"$f":"IFERROR(VLOOKUP(AA76,CadMP!$B:$D,2,0),\"\")","v":""},{"$f":"IFERROR(VLOOKUP(AB76,CadMP!$B:$D,2,0),\"\")","v":""},{"$f":"IFERROR(VLOOKUP(AC76,CadMP!$B:$D,2,0),\"\")","v":""},{"$f":"IFERROR(VLOOKUP(AD76,CadMP!$B:$D,2,0),\"\")","v":""},{"$f":"IFERROR(VLOOKUP(AE76,CadMP!$B:$D,2,0),\"\")","v":""},{"$f":"IFERROR(VLOOKUP(AF76,CadMP!$B:$D,2,0),\"\")","v":""},{"$f":"IFERROR(VLOOKUP(AG76,CadMP!$B:$D,2,0),\"\")","v":""},{"$f":"IFERROR(VLOOKUP(AH76,CadMP!$B:$D,2,0),\"\")","v":""},{"$f":"IFERROR(VLOOKUP(AI76,CadMP!$B:$D,2,0),\"\")","v":""},{"$f":"IFERROR(VLOOKUP(AJ76,CadMP!$B:$D,2,0),\"\")","v":""},{"$f":"IFERROR(VLOOKUP(AK76,CadMP!$B:$D,2,0),\"\")","v":""},{"$f":"IFERROR(VLOOKUP(W76,CadMP!$B:$D,3,0),\"\")","v":""},{"$f":"IFERROR(VLOOKUP(X76,CadMP!$B:$D,3,0),\"\")","v":""},{"$f":"IFERROR(VLOOKUP(Y76,CadMP!$B:$D,3,0),\"\")","v":""},{"$f":"IFERROR(VLOOKUP(Z76,CadMP!$B:$D,3,0),\"\")","v":""},{"$f":"IFERROR(VLOOKUP(AA76,CadMP!$B:$D,3,0),\"\")","v":""},{"$f":"IFERROR(VLOOKUP(AB76,CadMP!$B:$D,3,0),\"\")","v":""},{"$f":"IFERROR(VLOOKUP(AC76,CadMP!$B:$D,3,0),\"\")","v":""},{"$f":"IFERROR(VLOOKUP(AD76,CadMP!$B:$D,3,0),\"\")","v":""},{"$f":"IFERROR(VLOOKUP(AE76,CadMP!$B:$D,3,0),\"\")","v":""},{"$f":"IFERROR(VLOOKUP(AF76,CadMP!$B:$D,3,0),\"\")","v":""},{"$f":"IFERROR(VLOOKUP(AG76,CadMP!$B:$D,3,0),\"\")","v":""},{"$f":"IFERROR(VLOOKUP(AH76,CadMP!$B:$D,3,0),\"\")","v":""},{"$f":"IFERROR(VLOOKUP(AI76,CadMP!$B:$D,3,0),\"\")","v":""},{"$f":"IFERROR(VLOOKUP(AJ76,CadMP!$B:$D,3,0),\"\")","v":""},{"$f":"IFERROR(VLOOKUP(AK76,CadMP!$B:$D,3,0),\"\")","v":""},0,0,0,0,0,0,0,0,0,0,0,0,0,0,0]
[76,null,null,0,0,null,null,null,null,null,null,0,0,null,null,null,null,null,null,null,1,0,null,null,null,null,null,null,null,null,null,null,null,null,null,null,null,null,null,null,null,null,null,null,null,null,null,null,null,null,null,null,{"$f":"IFERROR(VLOOKUP(W77,CadMP!$B:$D,2,0),\"\")","v":""},{"$f":"IFERROR(VLOOKUP(X77,CadMP!$B:$D,2,0),\"\")","v":""},{"$f":"IFERROR(VLOOKUP(Y77,CadMP!$B:$D,2,0),\"\")","v":""},{"$f":"IFERROR(VLOOKUP(Z77,CadMP!$B:$D,2,0),\"\")","v":""},{"$f":"IFERROR(VLOOKUP(AA77,CadMP!$B:$D,2,0),\"\")","v":""},{"$f":"IFERROR(VLOOKUP(AB77,CadMP!$B:$D,2,0),\"\")","v":""},{"$f":"IFERROR(VLOOKUP(AC77,CadMP!$B:$D,2,0),\"\")","v":""},{"$f":"IFERROR(VLOOKUP(AD77,CadMP!$B:$D,2,0),\"\")","v":""},{"$f":"IFERROR(VLOOKUP(AE77,CadMP!$B:$D,2,0),\"\")","v":""},{"$f":"IFERROR(VLOOKUP(AF77,CadMP!$B:$D,2,0),\"\")","v":""},{"$f":"IFERROR(VLOOKUP(AG77,CadMP!$B:$D,2,0),\"\")","v":""},{"$f":"IFERROR(VLOOKUP(AH77,CadMP!$B:$D,2,0),\"\")","v":""},{"$f":"IFERROR(VLOOKUP(AI77,CadMP!$B:$D,2,0),\"\")","v":""},{"$f":"IFERROR(VLOOKUP(AJ77,CadMP!$B:$D,2,0),\"\")","v":""},{"$f":"IFERROR(VLOOKUP(AK77,CadMP!$B:$D,2,0),\"\")","v":""},{"$f":"IFERROR(VLOOKUP(W77,CadMP!$B:$D,3,0),\"\")","v":""},{"$f":"IFERROR(VLOOKUP(X77,CadMP!$B:$D,3,0),\"\")","v":""},{"$f":"IFERROR(VLOOKUP(Y77,CadMP!$B:$D,3,0),\"\")","v":""},{"$f":"IFERROR(VLOOKUP(Z77,CadMP!$B:$D,3,0),\"\")","v":""},{"$f":"IFERROR(VLOOKUP(AA77,CadMP!$B:$D,3,0),\"\")","v":""},{"$f":"IFERROR(VLOOKUP(AB77,CadMP!$B:$D,3,0),\"\")","v":""},{"$f":"IFERROR(VLOOKUP(AC77,CadMP!$B:$D,3,0),\"\")","v":""},{"$f":"IFERROR(VLOOKUP(AD77,CadMP!$B:$D,3,0),\"\")","v":""},{"$f":"IFERROR(VLOOKUP(AE77,CadMP!$B:$D,3,0),\"\")","v":""},{"$f":"IFERROR(VLOOKUP(AF77,CadMP!$B:$D,3,0),\"\")","v":""},{"$f":"IFERROR(VLOOKUP(AG77,CadMP!$B:$D,3,0),\"\")","v":""},{"$f":"IFERROR(VLOOKUP(AH77,CadMP!$B:$D,3,0),\"\")","v":""},{"$f":"IFERROR(VLOOKUP(AI77,CadMP!$B:$D,3,0),\"\")","v":""},{"$f":"IFERROR(VLOOKUP(AJ77,CadMP!$B:$D,3,0),\"\")","v":""},{"$f":"IFERROR(VLOOKUP(AK77,CadMP!$B:$D,3,0),\"\")","v":""},0,0,0,0,0,0,0,0,0,0,0,0,0,0,0]
[77,null,null,0,0,null,null,null,null,null,null,0,0,null,null,null,null,null,null,null,1,0,null,null,null,null,null,null,null,null,null,null,null,null,null,null,null,null,null,null,null,null,null,null,null,null,null,null,null,null,null,null,{"$f":"IFERROR(VLOOKUP(W78,CadMP!$B:$D,2,0),\"\")","v":""},{"$f":"IFERROR(VLOOKUP(X78,CadMP!$B:$D,2,0),\"\")","v":""},{"$f":"IFERROR(VLOOKUP(Y78,CadMP!$B:$D,2,0),\"\")","v":""},{"$f":"IFERROR(VLOOKUP(Z78,CadMP!$B:$D,2,0),\"\")","v":""},{"$f":"IFERROR(VLOOKUP(AA78,CadMP!$B:$D,2,0),\"\")","v":""},{"$f":"IFERROR(VLOOKUP(AB78,CadMP!$B:$D,2,0),\"\")","v":""},{"$f":"IFERROR(VLOOKUP(AC78,CadMP!$B:$D,2,0),\"\")","v":""},{"$f":"IFERROR(VLOOKUP(AD78,CadMP!$B:$D,2,0),\"\")","v":""},{"$f":"IFERROR(VLOOKUP(AE78,CadMP!$B:$D,2,0),\"\")","v":""},{"$f":"IFERROR(VLOOKUP(AF78,CadMP!$B:$D,2,0),\"\")","v":""},{"$f":"IFERROR(VLOOKUP(AG78,CadMP!$B:$D,2,0),\"\")","v":""},{"$f":"IFERROR(VLOOKUP(AH78,CadMP!$B:$D,2,0),\"\")","v":""},{"$f":"IFERROR(VLOOKUP(AI78,CadMP!$B:$D,2,0),\"\")","v":""},{"$f":"IFERROR(VLOOKUP(AJ78,CadMP!$B:$D,2,0),\"\")","v":""},{"$f":"IFERROR(VLOOKUP(AK78,CadMP!$B:$D,2,0),\"\")","v":""},{"$f":"IFERROR(VLOOKUP(W78,CadMP!$B:$D,3,0),\"\")","v":""},{"$f":"IFERROR(VLOOKUP(X78,CadMP!$B:$D,3,0),\"\")","v":""},{"$f":"IFERROR(VLOOKUP(Y78,CadMP!$B:$D,3,0),\"\")","v":""},{"$f":"IFERROR(VLOOKUP(Z78,CadMP!$B:$D,3,0),\"\")","v":""},{"$f":"IFERROR(VLOOKUP(AA78,CadMP!$B:$D,3,0),\"\")","v":""},{"$f":"IFERROR(VLOOKUP(AB78,CadMP!$B:$D,3,0),\"\")","v":""},{"$f":"IFERROR(VLOOKUP(AC78,CadMP!$B:$D,3,0),\"\")","v":""},{"$f":"IFERROR(VLOOKUP(AD78,CadMP!$B:$D,3,0),\"\")","v":""},{"$f":"IFERROR(VLOOKUP(AE78,CadMP!$B:$D,3,0),\"\")","v":""},{"$f":"IFERROR(VLOOKUP(AF78,CadMP!$B:$D,3,0),\"\")","v":""},{"$f":"IFERROR(VLOOKUP(AG78,CadMP!$B:$D,3,0),\"\")","v":""},{"$f":"IFERROR(VLOOKUP(AH78,CadMP!$B:$D,3,0),\"\")","v":""},{"$f":"IFERROR(VLOOKUP(AI78,CadMP!$B:$D,3,0),\"\")","v":""},{"$f":"IFERROR(VLOOKUP(AJ78,CadMP!$B:$D,3,0),\"\")","v":""},{"$f":"IFERROR(VLOOKUP(AK78,CadMP!$B:$D,3,0),\"\")","v":""},0,0,0,0,0,0,0,0,0,0,0,0,0,0,0]
[78,null,null,0,0,null,null,null,null,null,null,0,0,null,null,null,null,null,null,null,1,0,null,null,null,null,null,null,null,null,null,null,null,null,null,null,null,null,null,null,null,null,null,null,null,null,null,null,null,null,null,null,{"$f":"IFERROR(VLOOKUP(W79,CadMP!$B:$D,2,0),\"\")","v":""},{"$f":"IFERROR(VLOOKUP(X79,CadMP!$B:$D,2,0),\"\")","v":""},{"$f":"IFERROR(VLOOKUP(Y79,CadMP!$B:$D,2,0),\"\")","v":""},{"$f":"IFERROR(VLOOKUP(Z79,CadMP!$B:$D,2,0),\"\")","v":""},{"$f":"IFERROR(VLOOKUP(AA79,CadMP!$B:$D,2,0),\"\")","v":""},{"$f":"IFERROR(VLOOKUP(AB79,CadMP!$B:$D,2,0),\"\")","v":""},{"$f":"IFERROR(VLOOKUP(AC79,CadMP!$B:$D,2,0),\"\")","v":""},{"$f":"IFERROR(VLOOKUP(AD79,CadMP!$B:$D,2,0),\"\")","v":""},{"$f":"IFERROR(VLOOKUP(AE79,CadMP!$B:$D,2,0),\"\")","v":""},{"$f":"IFERROR(VLOOKUP(AF79,CadMP!$B:$D,2,0),\"\")","v":""},{"$f":"IFERROR(VLOOKUP(AG79,CadMP!$B:$D,2,0),\"\")","v":""},{"$f":"IFERROR(VLOOKUP(AH79,CadMP!$B:$D,2,0),\"\")","v":""},{"$f":"IFERROR(VLOOKUP(AI79,CadMP!$B:$D,2,0),\"\")","v":""},{"$f":"IFERROR(VLOOKUP(AJ79,CadMP!$B:$D,2,0),\"\")","v":""},{"$f":"IFERROR(VLOOKUP(AK79,CadMP!$B:$D,2,0),\"\")","v":""},{"$f":"IFERROR(VLOOKUP(W79,CadMP!$B:$D,3,0),\"\")","v":""},{"$f":"IFERROR(VLOOKUP(X79,CadMP!$B:$D,3,0),\"\")","v":""},{"$f":"IFERROR(VLOOKUP(Y79,CadMP!$B:$D,3,0),\"\")","v":""},{"$f":"IFERROR(VLOOKUP(Z79,CadMP!$B:$D,3,0),\"\")","v":""},{"$f":"IFERROR(VLOOKUP(AA79,CadMP!$B:$D,3,0),\"\")","v":""},{"$f":"IFERROR(VLOOKUP(AB79,CadMP!$B:$D,3,0),\"\")","v":""},{"$f":"IFERROR(VLOOKUP(AC79,CadMP!$B:$D,3,0),\"\")","v":""},{"$f":"IFERROR(VLOOKUP(AD79,CadMP!$B:$D,3,0),\"\")","v":""},{"$f":"IFERROR(VLOOKUP(AE79,CadMP!$B:$D,3,0),\"\")","v":""},{"$f":"IFERROR(VLOOKUP(AF79,CadMP!$B:$D,3,0),\"\")","v":""},{"$f":"IFERROR(VLOOKUP(AG79,CadMP!$B:$D,3,0),\"\")","v":""},{"$f":"IFERROR(VLOOKUP(AH79,CadMP!$B:$D,3,0),\"\")","v":""},{"$f":"IFERROR(VLOOKUP(AI79,CadMP!$B:$D,3,0),\"\")","v":""},{"$f":"IFERROR(VLOOKUP(AJ79,CadMP!$B:$D,3,0),\"\")","v":""},{"$f":"IFERROR(VLOOKUP(AK79,CadMP!$B:$D,3,0),\"\")","v":""},0,0,0,0,0,0,0,0,0,0,0,0,0,0,0]
[79,null,null,0,0,null,null,null,null,null,null,0,0,null,null,null,null,null,null,null,1,0,null,null,null,null,null,null,null,null,null,null,null,null,null,null,null,null,null,null,null,null,null,null,null,null,null,null,null,null,null,null,{"$f":"IFERROR(VLOOKUP(W80,CadMP!$B:$D,2,0),\"\")","v":""},{"$f":"IFERROR(VLOOKUP(X80,CadMP!$B:$D,2,0),\"\")","v":""},{"$f":"IFERROR(VLOOKUP(Y80,CadMP!$B:$D,2,0),\"\")","v":""},{"$f":"IFERROR(VLOOKUP(Z80,CadMP!$B:$D,2,0),\"\")","v":""},{"$f":"IFERROR(VLOOKUP(AA80,CadMP!$B:$D,2,0),\"\")","v":""},{"$f":"IFERROR(VLOOKUP(AB80,CadMP!$B:$D,2,0),\"\")","v":""},{"$f":"IFERROR(VLOOKUP(AC80,CadMP!$B:$D,2,0),\"\")","v":""},{"$f":"IFERROR(VLOOKUP(AD80,CadMP!$B:$D,2,0),\"\")","v":""},{"$f":"IFERROR(VLOOKUP(AE80,CadMP!$B:$D,2,0),\"\")","v":""},{"$f":"IFERROR(VLOOKUP(AF80,CadMP!$B:$D,2,0),\"\")","v":""},{"$f":"IFERROR(VLOOKUP(AG80,CadMP!$B:$D,2,0),\"\")","v":""},{"$f":"IFERROR(VLOOKUP(AH80,CadMP!$B:$D,2,0),\"\")","v":""},{"$f":"IFERROR(VLOOKUP(AI80,CadMP!$B:$D,2,0),\"\")","v":""},{"$f":"IFERROR(VLOOKUP(AJ80,CadMP!$B:$D,2,0),\"\")","v":""},{"$f":"IFERROR(VLOOKUP(AK80,CadMP!$B:$D,2,0),\"\")","v":""},{"$f":"IFERROR(VLOOKUP(W80,CadMP!$B:$D,3,0),\"\")","v":""},{"$f":"IFERROR(VLOOKUP(X80,CadMP!$B:$D,3,0),\"\")","v":""},{"$f":"IFERROR(VLOOKUP(Y80,CadMP!$B:$D,3,0),\"\")","v":""},{"$f":"IFERROR(VLOOKUP(Z80,CadMP!$B:$D,3,0),\"\")","v":""},{"$f":"IFERROR(VLOOKUP(AA80,CadMP!$B:$D,3,0),\"\")","v":""},{"$f":"IFERROR(VLOOKUP(AB80,CadMP!$B:$D,3,0),\"\")","v":""},{"$f":"IFERROR(VLOOKUP(AC80,CadMP!$B:$D,3,0),\"\")","v":""},{"$f":"IFERROR(VLOOKUP(AD80,CadMP!$B:$D,3,0),\"\")","v":""},{"$f":"IFERROR(VLOOKUP(AE80,CadMP!$B:$D,3,0),\"\")","v":""},{"$f":"IFERROR(VLOOKUP(AF80,CadMP!$B:$D,3,0),\"\")","v":""},{"$f":"IFERROR(VLOOKUP(AG80,CadMP!$B:$D,3,0),\"\")","v":""},{"$f":"IFERROR(VLOOKUP(AH80,CadMP!$B:$D,3,0),\"\")","v":""},{"$f":"IFERROR(VLOOKUP(AI80,CadMP!$B:$D,3,0),\"\")","v":""},{"$f":"IFERROR(VLOOKUP(AJ80,CadMP!$B:$D,3,0),\"\")","v":""},{"$f":"IFERROR(VLOOKUP(AK80,CadMP!$B:$D,3,0),\"\")","v":""},0,0,0,0,0,0,0,0,0,0,0,0,0,0,0]
[80,null,null,0,0,null,null,null,null,null,null,0,0,null,null,null,null,null,null,null,1,0,null,null,null,null,null,null,null,null,null,null,null,null,null,null,null,null,null,null,null,null,null,null,null,null,null,null,null,null,null,null,{"$f":"IFERROR(VLOOKUP(W81,CadMP!$B:$D,2,0),\"\")","v":""},{"$f":"IFERROR(VLOOKUP(X81,CadMP!$B:$D,2,0),\"\")","v":""},{"$f":"IFERROR(VLOOKUP(Y81,CadMP!$B:$D,2,0),\"\")","v":""},{"$f":"IFERROR(VLOOKUP(Z81,CadMP!$B:$D,2,0),\"\")","v":""},{"$f":"IFERROR(VLOOKUP(AA81,CadMP!$B:$D,2,0),\"\")","v":""},{"$f":"IFERROR(VLOOKUP(AB81,CadMP!$B:$D,2,0),\"\")","v":""},{"$f":"IFERROR(VLOOKUP(AC81,CadMP!$B:$D,2,0),\"\")","v":""},{"$f":"IFERROR(VLOOKUP(AD81,CadMP!$B:$D,2,0),\"\")","v":""},{"$f":"IFERROR(VLOOKUP(AE81,CadMP!$B:$D,2,0),\"\")","v":""},{"$f":"IFERROR(VLOOKUP(AF81,CadMP!$B:$D,2,0),\"\")","v":""},{"$f":"IFERROR(VLOOKUP(AG81,CadMP!$B:$D,2,0),\"\")","v":""},{"$f":"IFERROR(VLOOKUP(AH81,CadMP!$B:$D,2,0),\"\")","v":""},{"$f":"IFERROR(VLOOKUP(AI81,CadMP!$B:$D,2,0),\"\")","v":""},{"$f":"IFERROR(VLOOKUP(AJ81,CadMP!$B:$D,2,0),\"\")","v":""},{"$f":"IFERROR(VLOOKUP(AK81,CadMP!$B:$D,2,0),\"\")","v":""},{"$f":"IFERROR(VLOOKUP(W81,CadMP!$B:$D,3,0),\"\")","v":""},{"$f":"IFERROR(VLOOKUP(X81,CadMP!$B:$D,3,0),\"\")","v":""},{"$f":"IFERROR(VLOOKUP(Y81,CadMP!$B:$D,3,0),\"\")","v":""},{"$f":"IFERROR(VLOOKUP(Z81,CadMP!$B:$D,3,0),\"\")","v":""},{"$f":"IFERROR(VLOOKUP(AA81,CadMP!$B:$D,3,0),\"\")","v":""},{"$f":"IFERROR(VLOOKUP(AB81,CadMP!$B:$D,3,0),\"\")","v":""},{"$f":"IFERROR(VLOOKUP(AC81,CadMP!$B:$D,3,0),\"\")","v":""},{"$f":"IFERROR(VLOOKUP(AD81,CadMP!$B:$D,3,0),\"\")","v":""},{"$f":"IFERROR(VLOOKUP(AE81,CadMP!$B:$D,3,0),\"\")","v":""},{"$f":"IFERROR(VLOOKUP(AF81,CadMP!$B:$D,3,0),\"\")","v":""},{"$f":"IFERROR(VLOOKUP(AG81,CadMP!$B:$D,3,0),\"\")","v":""},{"$f":"IFERROR(VLOOKUP(AH81,CadMP!$B:$D,3,0),\"\")","v":""},{"$f":"IFERROR(VLOOKUP(AI81,CadMP!$B:$D,3,0),\"\")","v":""},{"$f":"IFERROR(VLOOKUP(AJ81,CadMP!$B:$D,3,0),\"\")","v":""},{"$f":"IFERROR(VLOOKUP(AK81,CadMP!$B:$D,3,0),\"\")","v":""},0,0,0,0,0,0,0,0,0,0,0,0,0,0,0]
[81,null,null,0,0,null,null,null,null,null,null,0,0,null,null,null,null,null,null,null,1,0,null,null,null,null,null,null,null,null,null,null,null,null,null,null,null,null,null,null,null,null,null,null,null,null,null,null,null,null,null,null,{"$f":"IFERROR(VLOOKUP(W82,CadMP!$B:$D,2,0),\"\")","v":""},{"$f":"IFERROR(VLOOKUP(X82,CadMP!$B:$D,2,0),\"\")","v":""},{"$f":"IFERROR(VLOOKUP(Y82,CadMP!$B:$D,2,0),\"\")","v":""},{"$f":"IFERROR(VLOOKUP(Z82,CadMP!$B:$D,2,0),\"\")","v":""},{"$f":"IFERROR(VLOOKUP(AA82,CadMP!$B:$D,2,0),\"\")","v":""},{"$f":"IFERROR(VLOOKUP(AB82,CadMP!$B:$D,2,0),\"\")","v":""},{"$f":"IFERROR(VLOOKUP(AC82,CadMP!$B:$D,2,0),\"\")","v":""},{"$f":"IFERROR(VLOOKUP(AD82,CadMP!$B:$D,2,0),\"\")","v":""},{"$f":"IFERROR(VLOOKUP(AE82,CadMP!$B:$D,2,0),\"\")","v":""},{"$f":"IFERROR(VLOOKUP(AF82,CadMP!$B:$D,2,0),\"\")","v":""},{"$f":"IFERROR(VLOOKUP(AG82,CadMP!$B:$D,2,0),\"\")","v":""},{"$f":"IFERROR(VLOOKUP(AH82,CadMP!$B:$D,2,0),\"\")","v":""},{"$f":"IFERROR(VLOOKUP(AI82,CadMP!$B:$D,2,0),\"\")","v":""},{"$f":"IFERROR(VLOOKUP(AJ82,CadMP!$B:$D,2,0),\"\")","v":""},{"$f":"IFERROR(VLOOKUP(AK82,CadMP!$B:$D,2,0),\"\")","v":""},{"$f":"IFERROR(VLOOKUP(W82,CadMP!$B:$D,3,0),\"\")","v":""},{"$f":"IFERROR(VLOOKUP(X82,CadMP!$B:$D,3,0),\"\")","v":""},{"$f":"IFERROR(VLOOKUP(Y82,CadMP!$B:$D,3,0),\"\")","v":""},{"$f":"IFERROR(VLOOKUP(Z82,CadMP!$B:$D,3,0),\"\")","v":""},{"$f":"IFERROR(VLOOKUP(AA82,CadMP!$B:$D,3,0),\"\")","v":""},{"$f":"IFERROR(VLOOKUP(AB82,CadMP!$B:$D,3,0),\"\")","v":""},{"$f":"IFERROR(VLOOKUP(AC82,CadMP!$B:$D,3,0),\"\")","v":""},{"$f":"IFERROR(VLOOKUP(AD82,CadMP!$B:$D,3,0),\"\")","v":""},{"$f":"IFERROR(VLOOKUP(AE82,CadMP!$B:$D,3,0),\"\")","v":""},{"$f":"IFERROR(VLOOKUP(AF82,CadMP!$B:$D,3,0),\"\")","v":""},{"$f":"IFERROR(VLOOKUP(AG82,CadMP!$B:$D,3,0),\"\")","v":""},{"$f":"IFERROR(VLOOKUP(AH82,CadMP!$B:$D,3,0),\"\")","v":""},{"$f":"IFERROR(VLOOKUP(AI82,CadMP!$B:$D,3,0),\"\")","v":""},{"$f":"IFERROR(VLOOKUP(AJ82,CadMP!$B:$D,3,0),\"\")","v":""},{"$f":"IFERROR(VLOOKUP(AK82,CadMP!$B:$D,3,0),\"\")","v":""},0,0,0,0,0,0,0,0,0,0,0,0,0,0,0]
[82,null,null,0,0,null,null,null,null,null,null,0,0,null,null,null,null,null,null,null,1,0,null,null,null,null,null,null,null,null,null,null,null,null,null,null,null,null,null,null,null,null,null,null,null,null,null,null,null,null,null,null,{"$f":"IFERROR(VLOOKUP(W83,CadMP!$B:$D,2,0),\"\")","v":""},{"$f":"IFERROR(VLOOKUP(X83,CadMP!$B:$D,2,0),\"\")","v":""},{"$f":"IFERROR(VLOOKUP(Y83,CadMP!$B:$D,2,0),\"\")","v":""},{"$f":"IFERROR(VLOOKUP(Z83,CadMP!$B:$D,2,0),\"\")","v":""},{"$f":"IFERROR(VLOOKUP(AA83,CadMP!$B:$D,2,0),\"\")","v":""},{"$f":"IFERROR(VLOOKUP(AB83,CadMP!$B:$D,2,0),\"\")","v":""},{"$f":"IFERROR(VLOOKUP(AC83,CadMP!$B:$D,2,0),\"\")","v":""},{"$f":"IFERROR(VLOOKUP(AD83,CadMP!$B:$D,2,0),\"\")","v":""},{"$f":"IFERROR(VLOOKUP(AE83,CadMP!$B:$D,2,0),\"\")","v":""},{"$f":"IFERROR(VLOOKUP(AF83,CadMP!$B:$D,2,0),\"\")","v":""},{"$f":"IFERROR(VLOOKUP(AG83,CadMP!$B:$D,2,0),\"\")","v":""},{"$f":"IFERROR(VLOOKUP(AH83,CadMP!$B:$D,2,0),\"\")","v":""},{"$f":"IFERROR(VLOOKUP(AI83,CadMP!$B:$D,2,0),\"\")","v":""},{"$f":"IFERROR(VLOOKUP(AJ83,CadMP!$B:$D,2,0),\"\")","v":""},{"$f":"IFERROR(VLOOKUP(AK83,CadMP!$B:$D,2,0),\"\")","v":""},{"$f":"IFERROR(VLOOKUP(W83,CadMP!$B:$D,3,0),\"\")","v":""},{"$f":"IFERROR(VLOOKUP(X83,CadMP!$B:$D,3,0),\"\")","v":""},{"$f":"IFERROR(VLOOKUP(Y83,CadMP!$B:$D,3,0),\"\")","v":""},{"$f":"IFERROR(VLOOKUP(Z83,CadMP!$B:$D,3,0),\"\")","v":""},{"$f":"IFERROR(VLOOKUP(AA83,CadMP!$B:$D,3,0),\"\")","v":""},{"$f":"IFERROR(VLOOKUP(AB83,CadMP!$B:$D,3,0),\"\")","v":""},{"$f":"IFERROR(VLOOKUP(AC83,CadMP!$B:$D,3,0),\"\")","v":""},{"$f":"IFERROR(VLOOKUP(AD83,CadMP!$B:$D,3,0),\"\")","v":""},{"$f":"IFERROR(VLOOKUP(AE83,CadMP!$B:$D,3,0),\"\")","v":""},{"$f":"IFERROR(VLOOKUP(AF83,CadMP!$B:$D,3,0),\"\")","v":""},{"$f":"IFERROR(VLOOKUP(AG83,CadMP!$B:$D,3,0),\"\")","v":""},{"$f":"IFERROR(VLOOKUP(AH83,CadMP!$B:$D,3,0),\"\")","v":""},{"$f":"IFERROR(VLOOKUP(AI83,CadMP!$B:$D,3,0),\"\")","v":""},{"$f":"IFERROR(VLOOKUP(AJ83,CadMP!$B:$D,3,0),\"\")","v":""},{"$f":"IFERROR(VLOOKUP(AK83,CadMP!$B:$D,3,0),\"\")","v":""},0,0,0,0,0,0,0,0,0,0,0,0,0,0,0]
[83,null,null,0,0,null,null,null,null,null,null,0,0,null,null,null,null,null,null,null,1,0,null,null,null,null,null,null,null,null,null,null,null,null,null,null,null,null,null,null,null,null,null,null,null,null,null,null,null,null,null,null,{"$f":"IFERROR(VLOOKUP(W84,CadMP!$B:$D,2,0),\"\")","v":""},{"$f":"IFERROR(VLOOKUP(X84,CadMP!$B:$D,2,0),\"\")","v":""},{"$f":"IFERROR(VLOOKUP(Y84,CadMP!$B:$D,2,0),\"\")","v":""},{"$f":"IFERROR(VLOOKUP(Z84,CadMP!$B:$D,2,0),\"\")","v":""},{"$f":"IFERROR(VLOOKUP(AA84,CadMP!$B:$D,2,0),\"\")","v":""},{"$f":"IFERROR(VLOOKUP(AB84,CadMP!$B:$D,2,0),\"\")","v":""},{"$f":"IFERROR(VLOOKUP(AC84,CadMP!$B:$D,2,0),\"\")","v":""},{"$f":"IFERROR(VLOOKUP(AD84,CadMP!$B:$D,2,0),\"\")","v":""},{"$f":"IFERROR(VLOOKUP(AE84,CadMP!$B:$D,2,0),\"\")","v":""},{"$f":"IFERROR(VLOOKUP(AF84,CadMP!$B:$D,2,0),\"\")","v":""},{"$f":"IFERROR(VLOOKUP(AG84,CadMP!$B:$D,2,0),\"\")","v":""},{"$f":"IFERROR(VLOOKUP(AH84,CadMP!$B:$D,2,0),\"\")","v":""},{"$f":"IFERROR(VLOOKUP(AI84,CadMP!$B:$D,2,0),\"\")","v":""},{"$f":"IFERROR(VLOOKUP(AJ84,CadMP!$B:$D,2,0),\"\")","v":""},{"$f":"IFERROR(VLOOKUP(AK84,CadMP!$B:$D,2,0),\"\")","v":""},{"$f":"IFERROR(VLOOKUP(W84,CadMP!$B:$D,3,0),\"\")","v":""},{"$f":"IFERROR(VLOOKUP(X84,CadMP!$B:$D,3,0),\"\")","v":""},{"$f":"IFERROR(VLOOKUP(Y84,CadMP!$B:$D,3,0),\"\")","v":""},{"$f":"IFERROR(VLOOKUP(Z84,CadMP!$B:$D,3,0),\"\")","v":""},{"$f":"IFERROR(VLOOKUP(AA84,CadMP!$B:$D,3,0),\"\")","v":""},{"$f":"IFERROR(VLOOKUP(AB84,CadMP!$B:$D,3,0),\"\")","v":""},{"$f":"IFERROR(VLOOKUP(AC84,CadMP!$B:$D,3,0),\"\")","v":""},{"$f":"IFERROR(VLOOKUP(AD84,CadMP!$B:$D,3,0),\"\")","v":""},{"$f":"IFERROR(VLOOKUP(AE84,CadMP!$B:$D,3,0),\"\")","v":""},{"$f":"IFERROR(VLOOKUP(AF84,CadMP!$B:$D,3,0),\"\")","v":""},{"$f":"IFERROR(VLOOKUP(AG84,CadMP!$B:$D,3,0),\"\")","v":""},{"$f":"IFERROR(VLOOKUP(AH84,CadMP!$B:$D,3,0),\"\")","v":""},{"$f":"IFERROR(VLOOKUP(AI84,CadMP!$B:$D,3,0),\"\")","v":""},{"$f":"IFERROR(VLOOKUP(AJ84,CadMP!$B:$D,3,0),\"\")","v":""},{"$f":"IFERROR(VLOOKUP(AK84,CadMP!$B:$D,3,0),\"\")","v":""},0,0,0,0,0,0,0,0,0,0,0,0,0,0,0]
[84,null,null,0,0,null,null,null,null,null,null,0,0,null,null,null,null,null,null,null,1,0,null,null,null,null,null,null,null,null,null,null,null,null,null,null,null,null,null,null,null,null,null,null,null,null,null,null,null,null,null,null,{"$f":"IFERROR(VLOOKUP(W85,CadMP!$B:$D,2,0),\"\")","v":""},{"$f":"IFERROR(VLOOKUP(X85,CadMP!$B:$D,2,0),\"\")","v":""},{"$f":"IFERROR(VLOOKUP(Y85,CadMP!$B:$D,2,0),\"\")","v":""},{"$f":"IFERROR(VLOOKUP(Z85,CadMP!$B:$D,2,0),\"\")","v":""},{"$f":"IFERROR(VLOOKUP(AA85,CadMP!$B:$D,2,0),\"\")","v":""},{"$f":"IFERROR(VLOOKUP(AB85,CadMP!$B:$D,2,0),\"\")","v":""},{"$f":"IFERROR(VLOOKUP(AC85,CadMP!$B:$D,2,0),\"\")","v":""},{"$f":"IFERROR(VLOOKUP(AD85,CadMP!$B:$D,2,0),\"\")","v":""},{"$f":"IFERROR(VLOOKUP(AE85,CadMP!$B:$D,2,0),\"\")","v":""},{"$f":"IFERROR(VLOOKUP(AF85,CadMP!$B:$D,2,0),\"\")","v":""},{"$f":"IFERROR(VLOOKUP(AG85,CadMP!$B:$D,2,0),\"\")","v":""},{"$f":"IFERROR(VLOOKUP(AH85,CadMP!$B:$D,2,0),\"\")","v":""},{"$f":"IFERROR(VLOOKUP(AI85,CadMP!$B:$D,2,0),\"\")","v":""},{"$f":"IFERROR(VLOOKUP(AJ85,CadMP!$B:$D,2,0),\"\")","v":""},{"$f":"IFERROR(VLOOKUP(AK85,CadMP!$B:$D,2,0),\"\")","v":""},{"$f":"IFERROR(VLOOKUP(W85,CadMP!$B:$D,3,0),\"\")","v":""},{"$f":"IFERROR(VLOOKUP(X85,CadMP!$B:$D,3,0),\"\")","v":""},{"$f":"IFERROR(VLOOKUP(Y85,CadMP!$B:$D,3,0),\"\")","v":""},{"$f":"IFERROR(VLOOKUP(Z85,CadMP!$B:$D,3,0),\"\")","v":""},{"$f":"IFERROR(VLOOKUP(AA85,CadMP!$B:$D,3,0),\"\")","v":""},{"$f":"IFERROR(VLOOKUP(AB85,CadMP!$B:$D,3,0),\"\")","v":""},{"$f":"IFERROR(VLOOKUP(AC85,CadMP!$B:$D,3,0),\"\")","v":""},{"$f":"IFERROR(VLOOKUP(AD85,CadMP!$B:$D,3,0),\"\")","v":""},{"$f":"IFERROR(VLOOKUP(AE85,CadMP!$B:$D,3,0),\"\")","v":""},{"$f":"IFERROR(VLOOKUP(AF85,CadMP!$B:$D,3,0),\"\")","v":""},{"$f":"IFERROR(VLOOKUP(AG85,CadMP!$B:$D,3,0),\"\")","v":""},{"$f":"IFERROR(VLOOKUP(AH85,CadMP!$B:$D,3,0),\"\")","v":""},{"$f":"IFERROR(VLOOKUP(AI85,CadMP!$B:$D,3,0),\"\")","v":""},{"$f":"IFERROR(VLOOKUP(AJ85,CadMP!$B:$D,3,0),\"\")","v":""},{"$f":"IFERROR(VLOOKUP(AK85,CadMP!$B:$D,3,0),\"\")","v":""},0,0,0,0,0,0,0,0,0,0,0,0,0,0,0]
[85,null,null,0,0,null,null,null,null,null,null,0,0,null,null,null,null,null,null,null,1,0,null,null,null,null,null,null,null,null,null,null,null,null,null,null,null,null,null,null,null,null,null,null,null,null,null,null,null,null,null,null,{"$f":"IFERROR(VLOOKUP(W86,CadMP!$B:$D,2,0),\"\")","v":""},{"$f":"IFERROR(VLOOKUP(X86,CadMP!$B:$D,2,0),\"\")","v":""},{"$f":"IFERROR(VLOOKUP(Y86,CadMP!$B:$D,2,0),\"\")","v":""},{"$f":"IFERROR(VLOOKUP(Z86,CadMP!$B:$D,2,0),\"\")","v":""},{"$f":"IFERROR(VLOOKUP(AA86,CadMP!$B:$D,2,0),\"\")","v":""},{"$f":"IFERROR(VLOOKUP(AB86,CadMP!$B:$D,2,0),\"\")","v":""},{"$f":"IFERROR(VLOOKUP(AC86,CadMP!$B:$D,2,0),\"\")","v":""},{"$f":"IFERROR(VLOOKUP(AD86,CadMP!$B:$D,2,0),\"\")","v":""},{"$f":"IFERROR(VLOOKUP(AE86,CadMP!$B:$D,2,0),\"\")","v":""},{"$f":"IFERROR(VLOOKUP(AF86,CadMP!$B:$D,2,0),\"\")","v":""},{"$f":"IFERROR(VLOOKUP(AG86,CadMP!$B:$D,2,0),\"\")","v":""},{"$f":"IFERROR(VLOOKUP(AH86,CadMP!$B:$D,2,0),\"\")","v":""},{"$f":"IFERROR(VLOOKUP(AI86,CadMP!$B:$D,2,0),\"\")","v":""},{"$f":"IFERROR(VLOOKUP(AJ86,CadMP!$B:$D,2,0),\"\")","v":""},{"$f":"IFERROR(VLOOKUP(AK86,CadMP!$B:$D,2,0),\"\")","v":""},{"$f":"IFERROR(VLOOKUP(W86,CadMP!$B:$D,3,0),\"\")","v":""},{"$f":"IFERROR(VLOOKUP(X86,CadMP!$B:$D,3,0),\"\")","v":""},{"$f":"IFERROR(VLOOKUP(Y86,CadMP!$B:$D,3,0),\"\")","v":""},{"$f":"IFERROR(VLOOKUP(Z86,CadMP!$B:$D,3,0),\"\")","v":""},{"$f":"IFERROR(VLOOKUP(AA86,CadMP!$B:$D,3,0),\"\")","v":""},{"$f":"IFERROR(VLOOKUP(AB86,CadMP!$B:$D,3,0),\"\")","v":""},{"$f":"IFERROR(VLOOKUP(AC86,CadMP!$B:$D,3,0),\"\")","v":""},{"$f":"IFERROR(VLOOKUP(AD86,CadMP!$B:$D,3,0),\"\")","v":""},{"$f":"IFERROR(VLOOKUP(AE86,CadMP!$B:$D,3,0),\"\")","v":""},{"$f":"IFERROR(VLOOKUP(AF86,CadMP!$B:$D,3,0),\"\")","v":""},{"$f":"IFERROR(VLOOKUP(AG86,CadMP!$B:$D,3,0),\"\")","v":""},{"$f":"IFERROR(VLOOKUP(AH86,CadMP!$B:$D,3,0),\"\")","v":""},{"$f":"IFERROR(VLOOKUP(AI86,CadMP!$B:$D,3,0),\"\")","v":""},{"$f":"IFERROR(VLOOKUP(AJ86,CadMP!$B:$D,3,0),\"\")","v":""},{"$f":"IFERROR(VLOOKUP(AK86,CadMP!$B:$D,3,0),\"\")","v":""},0,0,0,0,0,0,0,0,0,0,0,0,0,0,0]
[86,null,null,0,0,null,null,null,null,null,null,0,0,null,null,null,null,null,null,null,1,0,null,null,null,null,null,null,null,null,null,null,null,null,null,null,null,null,null,null,null,null,null,null,null,null,null,null,null,null,null,null,{"$f":"IFERROR(VLOOKUP(W87,CadMP!$B:$D,2,0),\"\")","v":""},{"$f":"IFERROR(VLOOKUP(X87,CadMP!$B:$D,2,0),\"\")","v":""},{"$f":"IFERROR(VLOOKUP(Y87,CadMP!$B:$D,2,0),\"\")","v":""},{"$f":"IFERROR(VLOOKUP(Z87,CadMP!$B:$D,2,0),\"\")","v":""},{"$f":"IFERROR(VLOOKUP(AA87,CadMP!$B:$D,2,0),\"\")","v":""},{"$f":"IFERROR(VLOOKUP(AB87,CadMP!$B:$D,2,0),\"\")","v":""},{"$f":"IFERROR(VLOOKUP(AC87,CadMP!$B:$D,2,0),\"\")","v":""},{"$f":"IFERROR(VLOOKUP(AD87,CadMP!$B:$D,2,0),\"\")","v":""},{"$f":"IFERROR(VLOOKUP(AE87,CadMP!$B:$D,2,0),\"\")","v":""},{"$f":"IFERROR(VLOOKUP(AF87,CadMP!$B:$D,2,0),\"\")","v":""},{"$f":"IFERROR(VLOOKUP(AG87,CadMP!$B:$D,2,0),\"\")","v":""},{"$f":"IFERROR(VLOOKUP(AH87,CadMP!$B:$D,2,0),\"\")","v":""},{"$f":"IFERROR(VLOOKUP(AI87,CadMP!$B:$D,2,0),\"\")","v":""},{"$f":"IFERROR(VLOOKUP(AJ87,CadMP!$B:$D,2,0),\"\")","v":""},{"$f":"IFERROR(VLOOKUP(AK87,CadMP!$B:$D,2,0),\"\")","v":""},{"$f":"IFERROR(VLOOKUP(W87,CadMP!$B:$D,3,0),\"\")","v":""},{"$f":"IFERROR(VLOOKUP(X87,CadMP!$B:$D,3,0),\"\")","v":""},{"$f":"IFERROR(VLOOKUP(Y87,CadMP!$B:$D,3,0),\"\")","v":""},{"$f":"IFERROR(VLOOKUP(Z87,CadMP!$B:$D,3,0),\"\")","v":""},{"$f":"IFERROR(VLOOKUP(AA87,CadMP!$B:$D,3,0),\"\")","v":""},{"$f":"IFERROR(VLOOKUP(AB87,CadMP!$B:$D,3,0),\"\")","v":""},{"$f":"IFERROR(VLOOKUP(AC87,CadMP!$B:$D,3,0),\"\")","v":""},{"$f":"IFERROR(VLOOKUP(AD87,CadMP!$B:$D,3,0),\"\")","v":""},{"$f":"IFERROR(VLOOKUP(AE87,CadMP!$B:$D,3,0),\"\")","v":""},{"$f":"IFERROR(VLOOKUP(AF87,CadMP!$B:$D,3,0),\"\")","v":""},{"$f":"IFERROR(VLOOKUP(AG87,CadMP!$B:$D,3,0),\"\")","v":""},{"$f":"IFERROR(VLOOKUP(AH87,CadMP!$B:$D,3,0),\"\")","v":""},{"$f":"IFERROR(VLOOKUP(AI87,CadMP!$B:$D,3,0),\"\")","v":""},{"$f":"IFERROR(VLOOKUP(AJ87,CadMP!$B:$D,3,0),\"\")","v":""},{"$f":"IFERROR(VLOOKUP(AK87,CadMP!$B:$D,3,0),\"\")","v":""},0,0,0,0,0,0,0,0,0,0,0,0,0,0,0]
[87,null,null,0,0,null,null,null,null,null,null,0,0,null,null,null,null,null,null,null,1,0,null,null,null,null,null,null,null,null,null,null,null,null,null,null,null,null,null,null,null,null,null,null,null,null,null,null,null,null,null,null,{"$f":"IFERROR(VLOOKUP(W88,CadMP!$B:$D,2,0),\"\")","v":""},{"$f":"IFERROR(VLOOKUP(X88,CadMP!$B:$D,2,0),\"\")","v":""},{"$f":"IFERROR(VLOOKUP(Y88,CadMP!$B:$D,2,0),\"\")","v":""},{"$f":"IFERROR(VLOOKUP(Z88,CadMP!$B:$D,2,0),\"\")","v":""},{"$f":"IFERROR(VLOOKUP(AA88,CadMP!$B:$D,2,0),\"\")","v":""},{"$f":"IFERROR(VLOOKUP(AB88,CadMP!$B:$D,2,0),\"\")","v":""},{"$f":"IFERROR(VLOOKUP(AC88,CadMP!$B:$D,2,0),\"\")","v":""},{"$f":"IFERROR(VLOOKUP(AD88,CadMP!$B:$D,2,0),\"\")","v":""},{"$f":"IFERROR(VLOOKUP(AE88,CadMP!$B:$D,2,0),\"\")","v":""},{"$f":"IFERROR(VLOOKUP(AF88,CadMP!$B:$D,2,0),\"\")","v":""},{"$f":"IFERROR(VLOOKUP(AG88,CadMP!$B:$D,2,0),\"\")","v":""},{"$f":"IFERROR(VLOOKUP(AH88,CadMP!$B:$D,2,0),\"\")","v":""},{"$f":"IFERROR(VLOOKUP(AI88,CadMP!$B:$D,2,0),\"\")","v":""},{"$f":"IFERROR(VLOOKUP(AJ88,CadMP!$B:$D,2,0),\"\")","v":""},{"$f":"IFERROR(VLOOKUP(AK88,CadMP!$B:$D,2,0),\"\")","v":""},{"$f":"IFERROR(VLOOKUP(W88,CadMP!$B:$D,3,0),\"\")","v":""},{"$f":"IFERROR(VLOOKUP(X88,CadMP!$B:$D,3,0),\"\")","v":""},{"$f":"IFERROR(VLOOKUP(Y88,CadMP!$B:$D,3,0),\"\")","v":""},{"$f":"IFERROR(VLOOKUP(Z88,CadMP!$B:$D,3,0),\"\")","v":""},{"$f":"IFERROR(VLOOKUP(AA88,CadMP!$B:$D,3,0),\"\")","v":""},{"$f":"IFERROR(VLOOKUP(AB88,CadMP!$B:$D,3,0),\"\")","v":""},{"$f":"IFERROR(VLOOKUP(AC88,CadMP!$B:$D,3,0),\"\")","v":""},{"$f":"IFERROR(VLOOKUP(AD88,CadMP!$B:$D,3,0),\"\")","v":""},{"$f":"IFERROR(VLOOKUP(AE88,CadMP!$B:$D,3,0),\"\")","v":""},{"$f":"IFERROR(VLOOKUP(AF88,CadMP!$B:$D,3,0),\"\")","v":""},{"$f":"IFERROR(VLOOKUP(AG88,CadMP!$B:$D,3,0),\"\")","v":""},{"$f":"IFERROR(VLOOKUP(AH88,CadMP!$B:$D,3,0),\"\")","v":""},{"$f":"IFERROR(VLOOKUP(AI88,CadMP!$B:$D,3,0),\"\")","v":""},{"$f":"IFERROR(VLOOKUP(AJ88,CadMP!$B:$D,3,0),\"\")","v":""},{"$f":"IFERROR(VLOOKUP(AK88,CadMP!$B:$D,3,0),\"\")","v":""},0,0,0,0,0,0,0,0,0,0,0,0,0,0,0]
[88,null,null,0,0,null,null,null,null,null,null,0,0,null,null,null,null,null,null,null,1,0,null,null,null,null,null,null,null,null,null,null,null,null,null,null,null,null,null,null,null,null,null,null,null,null,null,null,null,null,null,null,{"$f":"IFERROR(VLOOKUP(W89,CadMP!$B:$D,2,0),\"\")","v":""},{"$f":"IFERROR(VLOOKUP(X89,CadMP!$B:$D,2,0),\"\")","v":""},{"$f":"IFERROR(VLOOKUP(Y89,CadMP!$B:$D,2,0),\"\")","v":""},{"$f":"IFERROR(VLOOKUP(Z89,CadMP!$B:$D,2,0),\"\")","v":""},{"$f":"IFERROR(VLOOKUP(AA89,CadMP!$B:$D,2,0),\"\")","v":""},{"$f":"IFERROR(VLOOKUP(AB89,CadMP!$B:$D,2,0),\"\")","v":""},{"$f":"IFERROR(VLOOKUP(AC89,CadMP!$B:$D,2,0),\"\")","v":""},{"$f":"IFERROR(VLOOKUP(AD89,CadMP!$B:$D,2,0),\"\")","v":""},{"$f":"IFERROR(VLOOKUP(AE89,CadMP!$B:$D,2,0),\"\")","v":""},{"$f":"IFERROR(VLOOKUP(AF89,CadMP!$B:$D,2,0),\"\")","v":""},{"$f":"IFERROR(VLOOKUP(AG89,CadMP!$B:$D,2,0),\"\")","v":""},{"$f":"IFERROR(VLOOKUP(AH89,CadMP!$B:$D,2,0),\"\")","v":""},{"$f":"IFERROR(VLOOKUP(AI89,CadMP!$B:$D,2,0),\"\")","v":""},{"$f":"IFERROR(VLOOKUP(AJ89,CadMP!$B:$D,2,0),\"\")","v":""},{"$f":"IFERROR(VLOOKUP(AK89,CadMP!$B:$D,2,0),\"\")","v":""},{"$f":"IFERROR(VLOOKUP(W89,CadMP!$B:$D,3,0),\"\")","v":""},{"$f":"IFERROR(VLOOKUP(X89,CadMP!$B:$D,3,0),\"\")","v":""},{"$f":"IFERROR(VLOOKUP(Y89,CadMP!$B:$D,3,0),\"\")","v":""},{"$f":"IFERROR(VLOOKUP(Z89,CadMP!$B:$D,3,0),\"\")","v":""},{"$f":"IFERROR(VLOOKUP(AA89,CadMP!$B:$D,3,0),\"\")","v":""},{"$f":"IFERROR(VLOOKUP(AB89,CadMP!$B:$D,3,0),\"\")","v":""},{"$f":"IFERROR(VLOOKUP(AC89,CadMP!$B:$D,3,0),\"\")","v":""},{"$f":"IFERROR(VLOOKUP(AD89,CadMP!$B:$D,3,0),\"\")","v":""},{"$f":"IFERROR(VLOOKUP(AE89,CadMP!$B:$D,3,0),\"\")","v":""},{"$f":"IFERROR(VLOOKUP(AF89,CadMP!$B:$D,3,0),\"\")","v":""},{"$f":"IFERROR(VLOOKUP(AG89,CadMP!$B:$D,3,0),\"\")","v":""},{"$f":"IFERROR(VLOOKUP(AH89,CadMP!$B:$D,3,0),\"\")","v":""},{"$f":"IFERROR(VLOOKUP(AI89,CadMP!$B:$D,3,0),\"\")","v":""},{"$f":"IFERROR(VLOOKUP(AJ89,CadMP!$B:$D,3,0),\"\")","v":""},{"$f":"IFERROR(VLOOKUP(AK89,CadMP!$B:$D,3,0),\"\")","v":""},0,0,0,0,0,0,0,0,0,0,0,0,0,0,0]
[89,null,null,0,0,null,null,null,null,null,null,0,0,null,null,null,null,null,null,null,1,0,null,null,null,null,null,null,null,null,null,null,null,null,null,null,null,null,null,null,null,null,null,null,null,null,null,null,null,null,null,null,{"$f":"IFERROR(VLOOKUP(W90,CadMP!$B:$D,2,0),\"\")","v":""},{"$f":"IFERROR(VLOOKUP(X90,CadMP!$B:$D,2,0),\"\")","v":""},{"$f":"IFERROR(VLOOKUP(Y90,CadMP!$B:$D,2,0),\"\")","v":""},{"$f":"IFERROR(VLOOKUP(Z90,CadMP!$B:$D,2,0),\"\")","v":""},{"$f":"IFERROR(VLOOKUP(AA90,CadMP!$B:$D,2,0),\"\")","v":""},{"$f":"IFERROR(VLOOKUP(AB90,CadMP!$B:$D,2,0),\"\")","v":""},{"$f":"IFERROR(VLOOKUP(AC90,CadMP!$B:$D,2,0),\"\")","v":""},{"$f":"IFERROR(VLOOKUP(AD90,CadMP!$B:$D,2,0),\"\")","v":""},{"$f":"IFERROR(VLOOKUP(AE90,CadMP!$B:$D,2,0),\"\")","v":""},{"$f":"IFERROR(VLOOKUP(AF90,CadMP!$B:$D,2,0),\"\")","v":""},{"$f":"IFERROR(VLOOKUP(AG90,CadMP!$B:$D,2,0),\"\")","v":""},{"$f":"IFERROR(VLOOKUP(AH90,CadMP!$B:$D,2,0),\"\")","v":""},{"$f":"IFERROR(VLOOKUP(AI90,CadMP!$B:$D,2,0),\"\")","v":""},{"$f":"IFERROR(VLOOKUP(AJ90,CadMP!$B:$D,2,0),\"\")","v":""},{"$f":"IFERROR(VLOOKUP(AK90,CadMP!$B:$D,2,0),\"\")","v":""},{"$f":"IFERROR(VLOOKUP(W90,CadMP!$B:$D,3,0),\"\")","v":""},{"$f":"IFERROR(VLOOKUP(X90,CadMP!$B:$D,3,0),\"\")","v":""},{"$f":"IFERROR(VLOOKUP(Y90,CadMP!$B:$D,3,0),\"\")","v":""},{"$f":"IFERROR(VLOOKUP(Z90,CadMP!$B:$D,3,0),\"\")","v":""},{"$f":"IFERROR(VLOOKUP(AA90,CadMP!$B:$D,3,0),\"\")","v":""},{"$f":"IFERROR(VLOOKUP(AB90,CadMP!$B:$D,3,0),\"\")","v":""},{"$f":"IFERROR(VLOOKUP(AC90,CadMP!$B:$D,3,0),\"\")","v":""},{"$f":"IFERROR(VLOOKUP(AD90,CadMP!$B:$D,3,0),\"\")","v":""},{"$f":"IFERROR(VLOOKUP(AE90,CadMP!$B:$D,3,0),\"\")","v":""},{"$f":"IFERROR(VLOOKUP(AF90,CadMP!$B:$D,3,0),\"\")","v":""},{"$f":"IFERROR(VLOOKUP(AG90,CadMP!$B:$D,3,0),\"\")","v":""},{"$f":"IFERROR(VLOOKUP(AH90,CadMP!$B:$D,3,0),\"\")","v":""},{"$f":"IFERROR(VLOOKUP(AI90,CadMP!$B:$D,3,0),\"\")","v":""},{"$f":"IFERROR(VLOOKUP(AJ90,CadMP!$B:$D,3,0),\"\")","v":""},{"$f":"IFERROR(VLOOKUP(AK90,CadMP!$B:$D,3,0),\"\")","v":""},0,0,0,0,0,0,0,0,0,0,0,0,0,0,0]
[90,null,null,0,0,null,null,null,null,null,null,0,0,null,null,null,null,null,null,null,1,0,null,null,null,null,null,null,null,null,null,null,null,null,null,null,null,null,null,null,null,null,null,null,null,null,null,null,null,null,null,null,{"$f":"IFERROR(VLOOKUP(W91,CadMP!$B:$D,2,0),\"\")","v":""},{"$f":"IFERROR(VLOOKUP(X91,CadMP!$B:$D,2,0),\"\")","v":""},{"$f":"IFERROR(VLOOKUP(Y91,CadMP!$B:$D,2,0),\"\")","v":""},{"$f":"IFERROR(VLOOKUP(Z91,CadMP!$B:$D,2,0),\"\")","v":""},{"$f":"IFERROR(VLOOKUP(AA91,CadMP!$B:$D,2,0),\"\")","v":""},{"$f":"IFERROR(VLOOKUP(AB91,CadMP!$B:$D,2,0),\"\")","v":""},{"$f":"IFERROR(VLOOKUP(AC91,CadMP!$B:$D,2,0),\"\")","v":""},{"$f":"IFERROR(VLOOKUP(AD91,CadMP!$B:$D,2,0),\"\")","v":""},{"$f":"IFERROR(VLOOKUP(AE91,CadMP!$B:$D,2,0),\"\")","v":""},{"$f":"IFERROR(VLOOKUP(AF91,CadMP!$B:$D,2,0),\"\")","v":""},{"$f":"IFERROR(VLOOKUP(AG91,CadMP!$B:$D,2,0),\"\")","v":""},{"$f":"IFERROR(VLOOKUP(AH91,CadMP!$B:$D,2,0),\"\")","v":""},{"$f":"IFERROR(VLOOKUP(AI91,CadMP!$B:$D,2,0),\"\")","v":""},{"$f":"IFERROR(VLOOKUP(AJ91,CadMP!$B:$D,2,0),\"\")","v":""},{"$f":"IFERROR(VLOOKUP(AK91,CadMP!$B:$D,2,0),\"\")","v":""},{"$f":"IFERROR(VLOOKUP(W91,CadMP!$B:$D,3,0),\"\")","v":""},{"$f":"IFERROR(VLOOKUP(X91,CadMP!$B:$D,3,0),\"\")","v":""},{"$f":"IFERROR(VLOOKUP(Y91,CadMP!$B:$D,3,0),\"\")","v":""},{"$f":"IFERROR(VLOOKUP(Z91,CadMP!$B:$D,3,0),\"\")","v":""},{"$f":"IFERROR(VLOOKUP(AA91,CadMP!$B:$D,3,0),\"\")","v":""},{"$f":"IFERROR(VLOOKUP(AB91,CadMP!$B:$D,3,0),\"\")","v":""},{"$f":"IFERROR(VLOOKUP(AC91,CadMP!$B:$D,3,0),\"\")","v":""},{"$f":"IFERROR(VLOOKUP(AD91,CadMP!$B:$D,3,0),\"\")","v":""},{"$f":"IFERROR(VLOOKUP(AE91,CadMP!$B:$D,3,0),\"\")","v":""},{"$f":"IFERROR(VLOOKUP(AF91,CadMP!$B:$D,3,0),\"\")","v":""},{"$f":"IFERROR(VLOOKUP(AG91,CadMP!$B:$D,3,0),\"\")","v":""},{"$f":"IFERROR(VLOOKUP(AH91,CadMP!$B:$D,3,0),\"\")","v":""},{"$f":"IFERROR(VLOOKUP(AI91,CadMP!$B:$D,3,0),\"\")","v":""},{"$f":"IFERROR(VLOOKUP(AJ91,CadMP!$B:$D,3,0),\"\")","v":""},{"$f":"IFERROR(VLOOKUP(AK91,CadMP!$B:$D,3,0),\"\")","v":""},0,0,0,0,0,0,0,0,0,0,0,0,0,0,0]
[91,null,null,0,0,null,null,null,null,null,null,0,0,null,null,null,null,null,null,null,1,0,null,null,null,null,null,null,null,null,null,null,null,null,null,null,null,null,null,null,null,null,null,null,null,null,null,null,null,null,null,null,{"$f":"IFERROR(VLOOKUP(W92,CadMP!$B:$D,2,0),\"\")","v":""},{"$f":"IFERROR(VLOOKUP(X92,CadMP!$B:$D,2,0),\"\")","v":""},{"$f":"IFERROR(VLOOKUP(Y92,CadMP!$B:$D,2,0),\"\")","v":""},{"$f":"IFERROR(VLOOKUP(Z92,CadMP!$B:$D,2,0),\"\")","v":""},{"$f":"IFERROR(VLOOKUP(AA92,CadMP!$B:$D,2,0),\"\")","v":""},{"$f":"IFERROR(VLOOKUP(AB92,CadMP!$B:$D,2,0),\"\")","v":""},{"$f":"IFERROR(VLOOKUP(AC92,CadMP!$B:$D,2,0),\"\")","v":""},{"$f":"IFERROR(VLOOKUP(AD92,CadMP!$B:$D,2,0),\"\")","v":""},{"$f":"IFERROR(VLOOKUP(AE92,CadMP!$B:$D,2,0),\"\")","v":""},{"$f":"IFERROR(VLOOKUP(AF92,CadMP!$B:$D,2,0),\"\")","v":""},{"$f":"IFERROR(VLOOKUP(AG92,CadMP!$B:$D,2,0),\"\")","v":""},{"$f":"IFERROR(VLOOKUP(AH92,CadMP!$B:$D,2,0),\"\")","v":""},{"$f":"IFERROR(VLOOKUP(AI92,CadMP!$B:$D,2,0),\"\")","v":""},{"$f":"IFERROR(VLOOKUP(AJ92,CadMP!$B:$D,2,0),\"\")","v":""},{"$f":"IFERROR(VLOOKUP(AK92,CadMP!$B:$D,2,0),\"\")","v":""},{"$f":"IFERROR(VLOOKUP(W92,CadMP!$B:$D,3,0),\"\")","v":""},{"$f":"IFERROR(VLOOKUP(X92,CadMP!$B:$D,3,0),\"\")","v":""},{"$f":"IFERROR(VLOOKUP(Y92,CadMP!$B:$D,3,0),\"\")","v":""},{"$f":"IFERROR(VLOOKUP(Z92,CadMP!$B:$D,3,0),\"\")","v":""},{"$f":"IFERROR(VLOOKUP(AA92,CadMP!$B:$D,3,0),\"\")","v":""},{"$f":"IFERROR(VLOOKUP(AB92,CadMP!$B:$D,3,0),\"\")","v":""},{"$f":"IFERROR(VLOOKUP(AC92,CadMP!$B:$D,3,0),\"\")","v":""},{"$f":"IFERROR(VLOOKUP(AD92,CadMP!$B:$D,3,0),\"\")","v":""},{"$f":"IFERROR(VLOOKUP(AE92,CadMP!$B:$D,3,0),\"\")","v":""},{"$f":"IFERROR(VLOOKUP(AF92,CadMP!$B:$D,3,0),\"\")","v":""},{"$f":"IFERROR(VLOOKUP(AG92,CadMP!$B:$D,3,0),\"\")","v":""},{"$f":"IFERROR(VLOOKUP(AH92,CadMP!$B:$D,3,0),\"\")","v":""},{"$f":"IFERROR(VLOOKUP(AI92,CadMP!$B:$D,3,0),\"\")","v":""},{"$f":"IFERROR(VLOOKUP(AJ92,CadMP!$B:$D,3,0),\"\")","v":""},{"$f":"IFERROR(VLOOKUP(AK92,CadMP!$B:$D,3,0),\"\")","v":""},0,0,0,0,0,0,0,0,0,0,0,0,0,0,0]
[92,null,null,0,0,null,null,null,null,null,null,0,0,null,null,null,null,null,null,null,1,0,null,null,null,null,null,null,null,null,null,null,null,null,null,null,null,null,null,null,null,null,null,null,null,null,null,null,null,null,null,null,{"$f":"IFERROR(VLOOKUP(W93,CadMP!$B:$D,2,0),\"\")","v":""},{"$f":"IFERROR(VLOOKUP(X93,CadMP!$B:$D,2,0),\"\")","v":""},{"$f":"IFERROR(VLOOKUP(Y93,CadMP!$B:$D,2,0),\"\")","v":""},{"$f":"IFERROR(VLOOKUP(Z93,CadMP!$B:$D,2,0),\"\")","v":""},{"$f":"IFERROR(VLOOKUP(AA93,CadMP!$B:$D,2,0),\"\")","v":""},{"$f":"IFERROR(VLOOKUP(AB93,CadMP!$B:$D,2,0),\"\")","v":""},{"$f":"IFERROR(VLOOKUP(AC93,CadMP!$B:$D,2,0),\"\")","v":""},{"$f":"IFERROR(VLOOKUP(AD93,CadMP!$B:$D,2,0),\"\")","v":""},{"$f":"IFERROR(VLOOKUP(AE93,CadMP!$B:$D,2,0),\"\")","v":""},{"$f":"IFERROR(VLOOKUP(AF93,CadMP!$B:$D,2,0),\"\")","v":""},{"$f":"IFERROR(VLOOKUP(AG93,CadMP!$B:$D,2,0),\"\")","v":""},{"$f":"IFERROR(VLOOKUP(AH93,CadMP!$B:$D,2,0),\"\")","v":""},{"$f":"IFERROR(VLOOKUP(AI93,CadMP!$B:$D,2,0),\"\")","v":""},{"$f":"IFERROR(VLOOKUP(AJ93,CadMP!$B:$D,2,0),\"\")","v":""},{"$f":"IFERROR(VLOOKUP(AK93,CadMP!$B:$D,2,0),\"\")","v":""},{"$f":"IFERROR(VLOOKUP(W93,CadMP!$B:$D,3,0),\"\")","v":""},{"$f":"IFERROR(VLOOKUP(X93,CadMP!$B:$D,3,0),\"\")","v":""},{"$f":"IFERROR(VLOOKUP(Y93,CadMP!$B:$D,3,0),\"\")","v":""},{"$f":"IFERROR(VLOOKUP(Z93,CadMP!$B:$D,3,0),\"\")","v":""},{"$f":"IFERROR(VLOOKUP(AA93,CadMP!$B:$D,3,0),\"\")","v":""},{"$f":"IFERROR(VLOOKUP(AB93,CadMP!$B:$D,3,0),\"\")","v":""},{"$f":"IFERROR(VLOOKUP(AC93,CadMP!$B:$D,3,0),\"\")","v":""},{"$f":"IFERROR(VLOOKUP(AD93,CadMP!$B:$D,3,0),\"\")","v":""},{"$f":"IFERROR(VLOOKUP(AE93,CadMP!$B:$D,3,0),\"\")","v":""},{"$f":"IFERROR(VLOOKUP(AF93,CadMP!$B:$D,3,0),\"\")","v":""},{"$f":"IFERROR(VLOOKUP(AG93,CadMP!$B:$D,3,0),\"\")","v":""},{"$f":"IFERROR(VLOOKUP(AH93,CadMP!$B:$D,3,0),\"\")","v":""},{"$f":"IFERROR(VLOOKUP(AI93,CadMP!$B:$D,3,0),\"\")","v":""},{"$f":"IFERROR(VLOOKUP(AJ93,CadMP!$B:$D,3,0),\"\")","v":""},{"$f":"IFERROR(VLOOKUP(AK93,CadMP!$B:$D,3,0),\"\")","v":""},0,0,0,0,0,0,0,0,0,0,0,0,0,0,0]
[93,null,null,0,0,null,null,null,null,null,null,0,0,null,null,null,null,null,null,null,1,0,null,null,null,null,null,null,null,null,null,null,null,null,null,null,null,null,null,null,null,null,null,null,null,null,null,null,null,null,null,null,{"$f":"IFERROR(VLOOKUP(W94,CadMP!$B:$D,2,0),\"\")","v":""},{"$f":"IFERROR(VLOOKUP(X94,CadMP!$B:$D,2,0),\"\")","v":""},{"$f":"IFERROR(VLOOKUP(Y94,CadMP!$B:$D,2,0),\"\")","v":""},{"$f":"IFERROR(VLOOKUP(Z94,CadMP!$B:$D,2,0),\"\")","v":""},{"$f":"IFERROR(VLOOKUP(AA94,CadMP!$B:$D,2,0),\"\")","v":""},{"$f":"IFERROR(VLOOKUP(AB94,CadMP!$B:$D,2,0),\"\")","v":""},{"$f":"IFERROR(VLOOKUP(AC94,CadMP!$B:$D,2,0),\"\")","v":""},{"$f":"IFERROR(VLOOKUP(AD94,CadMP!$B:$D,2,0),\"\")","v":""},{"$f":"IFERROR(VLOOKUP(AE94,CadMP!$B:$D,2,0),\"\")","v":""},{"$f":"IFERROR(VLOOKUP(AF94,CadMP!$B:$D,2,0),\"\")","v":""},{"$f":"IFERROR(VLOOKUP(AG94,CadMP!$B:$D,2,0),\"\")","v":""},{"$f":"IFERROR(VLOOKUP(AH94,CadMP!$B:$D,2,0),\"\")","v":""},{"$f":"IFERROR(VLOOKUP(AI94,CadMP!$B:$D,2,0),\"\")","v":""},{"$f":"IFERROR(VLOOKUP(AJ94,CadMP!$B:$D,2,0),\"\")","v":""},{"$f":"IFERROR(VLOOKUP(AK94,CadMP!$B:$D,2,0),\"\")","v":""},{"$f":"IFERROR(VLOOKUP(W94,CadMP!$B:$D,3,0),\"\")","v":""},{"$f":"IFERROR(VLOOKUP(X94,CadMP!$B:$D,3,0),\"\")","v":""},{"$f":"IFERROR(VLOOKUP(Y94,CadMP!$B:$D,3,0),\"\")","v":""},{"$f":"IFERROR(VLOOKUP(Z94,CadMP!$B:$D,3,0),\"\")","v":""},{"$f":"IFERROR(VLOOKUP(AA94,CadMP!$B:$D,3,0),\"\")","v":""},{"$f":"IFERROR(VLOOKUP(AB94,CadMP!$B:$D,3,0),\"\")","v":""},{"$f":"IFERROR(VLOOKUP(AC94,CadMP!$B:$D,3,0),\"\")","v":""},{"$f":"IFERROR(VLOOKUP(AD94,CadMP!$B:$D,3,0),\"\")","v":""},{"$f":"IFERROR(VLOOKUP(AE94,CadMP!$B:$D,3,0),\"\")","v":""},{"$f":"IFERROR(VLOOKUP(AF94,CadMP!$B:$D,3,0),\"\")","v":""},{"$f":"IFERROR(VLOOKUP(AG94,CadMP!$B:$D,3,0),\"\")","v":""},{"$f":"IFERROR(VLOOKUP(AH94,CadMP!$B:$D,3,0),\"\")","v":""},{"$f":"IFERROR(VLOOKUP(AI94,CadMP!$B:$D,3,0),\"\")","v":""},{"$f":"IFERROR(VLOOKUP(AJ94,CadMP!$B:$D,3,0),\"\")","v":""},{"$f":"IFERROR(VLOOKUP(AK94,CadMP!$B:$D,3,0),\"\")","v":""},0,0,0,0,0,0,0,0,0,0,0,0,0,0,0]
[94,null,null,0,0,null,null,null,null,null,null,0,0,null,null,null,null,null,null,null,1,0,null,null,null,null,null,null,null,null,null,null,null,null,null,null,null,null,null,null,null,null,null,null,null,null,null,null,null,null,null,null,{"$f":"IFERROR(VLOOKUP(W95,CadMP!$B:$D,2,0),\"\")","v":""},{"$f":"IFERROR(VLOOKUP(X95,CadMP!$B:$D,2,0),\"\")","v":""},{"$f":"IFERROR(VLOOKUP(Y95,CadMP!$B:$D,2,0),\"\")","v":""},{"$f":"IFERROR(VLOOKUP(Z95,CadMP!$B:$D,2,0),\"\")","v":""},{"$f":"IFERROR(VLOOKUP(AA95,CadMP!$B:$D,2,0),\"\")","v":""},{"$f":"IFERROR(VLOOKUP(AB95,CadMP!$B:$D,2,0),\"\")","v":""},{"$f":"IFERROR(VLOOKUP(AC95,CadMP!$B:$D,2,0),\"\")","v":""},{"$f":"IFERROR(VLOOKUP(AD95,CadMP!$B:$D,2,0),\"\")","v":""},{"$f":"IFERROR(VLOOKUP(AE95,CadMP!$B:$D,2,0),\"\")","v":""},{"$f":"IFERROR(VLOOKUP(AF95,CadMP!$B:$D,2,0),\"\")","v":""},{"$f":"IFERROR(VLOOKUP(AG95,CadMP!$B:$D,2,0),\"\")","v":""},{"$f":"IFERROR(VLOOKUP(AH95,CadMP!$B:$D,2,0),\"\")","v":""},{"$f":"IFERROR(VLOOKUP(AI95,CadMP!$B:$D,2,0),\"\")","v":""},{"$f":"IFERROR(VLOOKUP(AJ95,CadMP!$B:$D,2,0),\"\")","v":""},{"$f":"IFERROR(VLOOKUP(AK95,CadMP!$B:$D,2,0),\"\")","v":""},{"$f":"IFERROR(VLOOKUP(W95,CadMP!$B:$D,3,0),\"\")","v":""},{"$f":"IFERROR(VLOOKUP(X95,CadMP!$B:$D,3,0),\"\")","v":""},{"$f":"IFERROR(VLOOKUP(Y95,CadMP!$B:$D,3,0),\"\")","v":""},{"$f":"IFERROR(VLOOKUP(Z95,CadMP!$B:$D,3,0),\"\")","v":""},{"$f":"IFERROR(VLOOKUP(AA95,CadMP!$B:$D,3,0),\"\")","v":""},{"$f":"IFERROR(VLOOKUP(AB95,CadMP!$B:$D,3,0),\"\")","v":""},{"$f":"IFERROR(VLOOKUP(AC95,CadMP!$B:$D,3,0),\"\")","v":""},{"$f":"IFERROR(VLOOKUP(AD95,CadMP!$B:$D,3,0),\"\")","v":""},{"$f":"IFERROR(VLOOKUP(AE95,CadMP!$B:$D,3,0),\"\")","v":""},{"$f":"IFERROR(VLOOKUP(AF95,CadMP!$B:$D,3,0),\"\")","v":""},{"$f":"IFERROR(VLOOKUP(AG95,CadMP!$B:$D,3,0),\"\")","v":""},{"$f":"IFERROR(VLOOKUP(AH95,CadMP!$B:$D,3,0),\"\")","v":""},{"$f":"IFERROR(VLOOKUP(AI95,CadMP!$B:$D,3,0),\"\")","v":""},{"$f":"IFERROR(VLOOKUP(AJ95,CadMP!$B:$D,3,0),\"\")","v":""},{"$f":"IFERROR(VLOOKUP(AK95,CadMP!$B:$D,3,0),\"\")","v":""},0,0,0,0,0,0,0,0,0,0,0,0,0,0,0]
[95,null,null,0,0,null,null,null,null,null,null,0,0,null,null,null,null,null,null,null,1,0,null,null,null,null,null,null,null,null,null,null,null,null,null,null,null,null,null,null,null,null,null,null,null,null,null,null,null,null,null,null,{"$f":"IFERROR(VLOOKUP(W96,CadMP!$B:$D,2,0),\"\")","v":""},{"$f":"IFERROR(VLOOKUP(X96,CadMP!$B:$D,2,0),\"\")","v":""},{"$f":"IFERROR(VLOOKUP(Y96,CadMP!$B:$D,2,0),\"\")","v":""},{"$f":"IFERROR(VLOOKUP(Z96,CadMP!$B:$D,2,0),\"\")","v":""},{"$f":"IFERROR(VLOOKUP(AA96,CadMP!$B:$D,2,0),\"\")","v":""},{"$f":"IFERROR(VLOOKUP(AB96,CadMP!$B:$D,2,0),\"\")","v":""},{"$f":"IFERROR(VLOOKUP(AC96,CadMP!$B:$D,2,0),\"\")","v":""},{"$f":"IFERROR(VLOOKUP(AD96,CadMP!$B:$D,2,0),\"\")","v":""},{"$f":"IFERROR(VLOOKUP(AE96,CadMP!$B:$D,2,0),\"\")","v":""},{"$f":"IFERROR(VLOOKUP(AF96,CadMP!$B:$D,2,0),\"\")","v":""},{"$f":"IFERROR(VLOOKUP(AG96,CadMP!$B:$D,2,0),\"\")","v":""},{"$f":"IFERROR(VLOOKUP(AH96,CadMP!$B:$D,2,0),\"\")","v":""},{"$f":"IFERROR(VLOOKUP(AI96,CadMP!$B:$D,2,0),\"\")","v":""},{"$f":"IFERROR(VLOOKUP(AJ96,CadMP!$B:$D,2,0),\"\")","v":""},{"$f":"IFERROR(VLOOKUP(AK96,CadMP!$B:$D,2,0),\"\")","v":""},{"$f":"IFERROR(VLOOKUP(W96,CadMP!$B:$D,3,0),\"\")","v":""},{"$f":"IFERROR(VLOOKUP(X96,CadMP!$B:$D,3,0),\"\")","v":""},{"$f":"IFERROR(VLOOKUP(Y96,CadMP!$B:$D,3,0),\"\")","v":""},{"$f":"IFERROR(VLOOKUP(Z96,CadMP!$B:$D,3,0),\"\")","v":""},{"$f":"IFERROR(VLOOKUP(AA96,CadMP!$B:$D,3,0),\"\")","v":""},{"$f":"IFERROR(VLOOKUP(AB96,CadMP!$B:$D,3,0),\"\")","v":""},{"$f":"IFERROR(VLOOKUP(AC96,CadMP!$B:$D,3,0),\"\")","v":""},{"$f":"IFERROR(VLOOKUP(AD96,CadMP!$B:$D,3,0),\"\")","v":""},{"$f":"IFERROR(VLOOKUP(AE96,CadMP!$B:$D,3,0),\"\")","v":""},{"$f":"IFERROR(VLOOKUP(AF96,CadMP!$B:$D,3,0),\"\")","v":""},{"$f":"IFERROR(VLOOKUP(AG96,CadMP!$B:$D,3,0),\"\")","v":""},{"$f":"IFERROR(VLOOKUP(AH96,CadMP!$B:$D,3,0),\"\")","v":""},{"$f":"IFERROR(VLOOKUP(AI96,CadMP!$B:$D,3,0),\"\")","v":""},{"$f":"IFERROR(VLOOKUP(AJ96,CadMP!$B:$D,3,0),\"\")","v":""},{"$f":"IFERROR(VLOOKUP(AK96,CadMP!$B:$D,3,0),\"\")","v":""},0,0,0,0,0,0,0,0,0,0,0,0,0,0,0]
[96,null,null,0,0,null,null,null,null,null,null,0,0,null,null,null,null,null,null,null,1,0,null,null,null,null,null,null,null,null,null,null,null,null,null,null,null,null,null,null,null,null,null,null,null,null,null,null,null,null,null,null,{"$f":"IFERROR(VLOOKUP(W97,CadMP!$B:$D,2,0),\"\")","v":""},{"$f":"IFERROR(VLOOKUP(X97,CadMP!$B:$D,2,0),\"\")","v":""},{"$f":"IFERROR(VLOOKUP(Y97,CadMP!$B:$D,2,0),\"\")","v":""},{"$f":"IFERROR(VLOOKUP(Z97,CadMP!$B:$D,2,0),\"\")","v":""},{"$f":"IFERROR(VLOOKUP(AA97,CadMP!$B:$D,2,0),\"\")","v":""},{"$f":"IFERROR(VLOOKUP(AB97,CadMP!$B:$D,2,0),\"\")","v":""},{"$f":"IFERROR(VLOOKUP(AC97,CadMP!$B:$D,2,0),\"\")","v":""},{"$f":"IFERROR(VLOOKUP(AD97,CadMP!$B:$D,2,0),\"\")","v":""},{"$f":"IFERROR(VLOOKUP(AE97,CadMP!$B:$D,2,0),\"\")","v":""},{"$f":"IFERROR(VLOOKUP(AF97,CadMP!$B:$D,2,0),\"\")","v":""},{"$f":"IFERROR(VLOOKUP(AG97,CadMP!$B:$D,2,0),\"\")","v":""},{"$f":"IFERROR(VLOOKUP(AH97,CadMP!$B:$D,2,0),\"\")","v":""},{"$f":"IFERROR(VLOOKUP(AI97,CadMP!$B:$D,2,0),\"\")","v":""},{"$f":"IFERROR(VLOOKUP(AJ97,CadMP!$B:$D,2,0),\"\")","v":""},{"$f":"IFERROR(VLOOKUP(AK97,CadMP!$B:$D,2,0),\"\")","v":""},{"$f":"IFERROR(VLOOKUP(W97,CadMP!$B:$D,3,0),\"\")","v":""},{"$f":"IFERROR(VLOOKUP(X97,CadMP!$B:$D,3,0),\"\")","v":""},{"$f":"IFERROR(VLOOKUP(Y97,CadMP!$B:$D,3,0),\"\")","v":""},{"$f":"IFERROR(VLOOKUP(Z97,CadMP!$B:$D,3,0),\"\")","v":""},{"$f":"IFERROR(VLOOKUP(AA97,CadMP!$B:$D,3,0),\"\")","v":""},{"$f":"IFERROR(VLOOKUP(AB97,CadMP!$B:$D,3,0),\"\")","v":""},{"$f":"IFERROR(VLOOKUP(AC97,CadMP!$B:$D,3,0),\"\")","v":""},{"$f":"IFERROR(VLOOKUP(AD97,CadMP!$B:$D,3,0),\"\")","v":""},{"$f":"IFERROR(VLOOKUP(AE97,CadMP!$B:$D,3,0),\"\")","v":""},{"$f":"IFERROR(VLOOKUP(AF97,CadMP!$B:$D,3,0),\"\")","v":""},{"$f":"IFERROR(VLOOKUP(AG97,CadMP!$B:$D,3,0),\"\")","v":""},{"$f":"IFERROR(VLOOKUP(AH97,CadMP!$B:$D,3,0),\"\")","v":""},{"$f":"IFERROR(VLOOKUP(AI97,CadMP!$B:$D,3,0),\"\")","v":""},{"$f":"IFERROR(VLOOKUP(AJ97,CadMP!$B:$D,3,0),\"\")","v":""},{"$f":"IFERROR(VLOOKUP(AK97,CadMP!$B:$D,3,0),\"\")","v":""},0,0,0,0,0,0,0,0,0,0,0,0,0,0,0]
[97,null,null,0,0,null,null,null,null,null,null,0,0,null,null,null,null,null,null,null,1,0,null,null,null,null,null,null,null,null,null,null,null,null,null,null,null,null,null,null,null,null,null,null,null,null,null,null,null,null,null,null,{"$f":"IFERROR(VLOOKUP(W98,CadMP!$B:$D,2,0),\"\")","v":""},{"$f":"IFERROR(VLOOKUP(X98,CadMP!$B:$D,2,0),\"\")","v":""},{"$f":"IFERROR(VLOOKUP(Y98,CadMP!$B:$D,2,0),\"\")","v":""},{"$f":"IFERROR(VLOOKUP(Z98,CadMP!$B:$D,2,0),\"\")","v":""},{"$f":"IFERROR(VLOOKUP(AA98,CadMP!$B:$D,2,0),\"\")","v":""},{"$f":"IFERROR(VLOOKUP(AB98,CadMP!$B:$D,2,0),\"\")","v":""},{"$f":"IFERROR(VLOOKUP(AC98,CadMP!$B:$D,2,0),\"\")","v":""},{"$f":"IFERROR(VLOOKUP(AD98,CadMP!$B:$D,2,0),\"\")","v":""},{"$f":"IFERROR(VLOOKUP(AE98,CadMP!$B:$D,2,0),\"\")","v":""},{"$f":"IFERROR(VLOOKUP(AF98,CadMP!$B:$D,2,0),\"\")","v":""},{"$f":"IFERROR(VLOOKUP(AG98,CadMP!$B:$D,2,0),\"\")","v":""},{"$f":"IFERROR(VLOOKUP(AH98,CadMP!$B:$D,2,0),\"\")","v":""},{"$f":"IFERROR(VLOOKUP(AI98,CadMP!$B:$D,2,0),\"\")","v":""},{"$f":"IFERROR(VLOOKUP(AJ98,CadMP!$B:$D,2,0),\"\")","v":""},{"$f":"IFERROR(VLOOKUP(AK98,CadMP!$B:$D,2,0),\"\")","v":""},{"$f":"IFERROR(VLOOKUP(W98,CadMP!$B:$D,3,0),\"\")","v":""},{"$f":"IFERROR(VLOOKUP(X98,CadMP!$B:$D,3,0),\"\")","v":""},{"$f":"IFERROR(VLOOKUP(Y98,CadMP!$B:$D,3,0),\"\")","v":""},{"$f":"IFERROR(VLOOKUP(Z98,CadMP!$B:$D,3,0),\"\")","v":""},{"$f":"IFERROR(VLOOKUP(AA98,CadMP!$B:$D,3,0),\"\")","v":""},{"$f":"IFERROR(VLOOKUP(AB98,CadMP!$B:$D,3,0),\"\")","v":""},{"$f":"IFERROR(VLOOKUP(AC98,CadMP!$B:$D,3,0),\"\")","v":""},{"$f":"IFERROR(VLOOKUP(AD98,CadMP!$B:$D,3,0),\"\")","v":""},{"$f":"IFERROR(VLOOKUP(AE98,CadMP!$B:$D,3,0),\"\")","v":""},{"$f":"IFERROR(VLOOKUP(AF98,CadMP!$B:$D,3,0),\"\")","v":""},{"$f":"IFERROR(VLOOKUP(AG98,CadMP!$B:$D,3,0),\"\")","v":""},{"$f":"IFERROR(VLOOKUP(AH98,CadMP!$B:$D,3,0),\"\")","v":""},{"$f":"IFERROR(VLOOKUP(AI98,CadMP!$B:$D,3,0),\"\")","v":""},{"$f":"IFERROR(VLOOKUP(AJ98,CadMP!$B:$D,3,0),\"\")","v":""},{"$f":"IFERROR(VLOOKUP(AK98,CadMP!$B:$D,3,0),\"\")","v":""},0,0,0,0,0,0,0,0,0,0,0,0,0,0,0]
[98,null,null,0,0,null,null,null,null,null,null,0,0,null,null,null,null,null,null,null,1,0,null,null,null,null,null,null,null,null,null,null,null,null,null,null,null,null,null,null,null,null,null,null,null,null,null,null,null,null,null,null,{"$f":"IFERROR(VLOOKUP(W99,CadMP!$B:$D,2,0),\"\")","v":""},{"$f":"IFERROR(VLOOKUP(X99,CadMP!$B:$D,2,0),\"\")","v":""},{"$f":"IFERROR(VLOOKUP(Y99,CadMP!$B:$D,2,0),\"\")","v":""},{"$f":"IFERROR(VLOOKUP(Z99,CadMP!$B:$D,2,0),\"\")","v":""},{"$f":"IFERROR(VLOOKUP(AA99,CadMP!$B:$D,2,0),\"\")","v":""},{"$f":"IFERROR(VLOOKUP(AB99,CadMP!$B:$D,2,0),\"\")","v":""},{"$f":"IFERROR(VLOOKUP(AC99,CadMP!$B:$D,2,0),\"\")","v":""},{"$f":"IFERROR(VLOOKUP(AD99,CadMP!$B:$D,2,0),\"\")","v":""},{"$f":"IFERROR(VLOOKUP(AE99,CadMP!$B:$D,2,0),\"\")","v":""},{"$f":"IFERROR(VLOOKUP(AF99,CadMP!$B:$D,2,0),\"\")","v":""},{"$f":"IFERROR(VLOOKUP(AG99,CadMP!$B:$D,2,0),\"\")","v":""},{"$f":"IFERROR(VLOOKUP(AH99,CadMP!$B:$D,2,0),\"\")","v":""},{"$f":"IFERROR(VLOOKUP(AI99,CadMP!$B:$D,2,0),\"\")","v":""},{"$f":"IFERROR(VLOOKUP(AJ99,CadMP!$B:$D,2,0),\"\")","v":""},{"$f":"IFERROR(VLOOKUP(AK99,CadMP!$B:$D,2,0),\"\")","v":""},{"$f":"IFERROR(VLOOKUP(W99,CadMP!$B:$D,3,0),\"\")","v":""},{"$f":"IFERROR(VLOOKUP(X99,CadMP!$B:$D,3,0),\"\")","v":""},{"$f":"IFERROR(VLOOKUP(Y99,CadMP!$B:$D,3,0),\"\")","v":""},{"$f":"IFERROR(VLOOKUP(Z99,CadMP!$B:$D,3,0),\"\")","v":""},{"$f":"IFERROR(VLOOKUP(AA99,CadMP!$B:$D,3,0),\"\")","v":""},{"$f":"IFERROR(VLOOKUP(AB99,CadMP!$B:$D,3,0),\"\")","v":""},{"$f":"IFERROR(VLOOKUP(AC99,CadMP!$B:$D,3,0),\"\")","v":""},{"$f":"IFERROR(VLOOKUP(AD99,CadMP!$B:$D,3,0),\"\")","v":""},{"$f":"IFERROR(VLOOKUP(AE99,CadMP!$B:$D,3,0),\"\")","v":""},{"$f":"IFERROR(VLOOKUP(AF99,CadMP!$B:$D,3,0),\"\")","v":""},{"$f":"IFERROR(VLOOKUP(AG99,CadMP!$B:$D,3,0),\"\")","v":""},{"$f":"IFERROR(VLOOKUP(AH99,CadMP!$B:$D,3,0),\"\")","v":""},{"$f":"IFERROR(VLOOKUP(AI99,CadMP!$B:$D,3,0),\"\")","v":""},{"$f":"IFERROR(VLOOKUP(AJ99,CadMP!$B:$D,3,0),\"\")","v":""},{"$f":"IFERROR(VLOOKUP(AK99,CadMP!$B:$D,3,0),\"\")","v":""},0,0,0,0,0,0,0,0,0,0,0,0,0,0,0]
[99,null,null,0,0,null,null,null,null,null,null,0,0,null,null,null,null,null,null,null,1,0,null,null,null,null,null,null,null,null,null,null,null,null,null,null,null,null,null,null,null,null,null,null,null,null,null,null,null,null,null,null,{"$f":"IFERROR(VLOOKUP(W100,CadMP!$B:$D,2,0),\"\")","v":""},{"$f":"IFERROR(VLOOKUP(X100,CadMP!$B:$D,2,0),\"\")","v":""},{"$f":"IFERROR(VLOOKUP(Y100,CadMP!$B:$D,2,0),\"\")","v":""},{"$f":"IFERROR(VLOOKUP(Z100,CadMP!$B:$D,2,0),\"\")","v":""},{"$f":"IFERROR(VLOOKUP(AA100,CadMP!$B:$D,2,0),\"\")","v":""},{"$f":"IFERROR(VLOOKUP(AB100,CadMP!$B:$D,2,0),\"\")","v":""},{"$f":"IFERROR(VLOOKUP(AC100,CadMP!$B:$D,2,0),\"\")","v":""},{"$f":"IFERROR(VLOOKUP(AD100,CadMP!$B:$D,2,0),\"\")","v":""},{"$f":"IFERROR(VLOOKUP(AE100,CadMP!$B:$D,2,0),\"\")","v":""},{"$f":"IFERROR(VLOOKUP(AF100,CadMP!$B:$D,2,0),\"\")","v":""},{"$f":"IFERROR(VLOOKUP(AG100,CadMP!$B:$D,2,0),\"\")","v":""},{"$f":"IFERROR(VLOOKUP(AH100,CadMP!$B:$D,2,0),\"\")","v":""},{"$f":"IFERROR(VLOOKUP(AI100,CadMP!$B:$D,2,0),\"\")","v":""},{"$f":"IFERROR(VLOOKUP(AJ100,CadMP!$B:$D,2,0),\"\")","v":""},{"$f":"IFERROR(VLOOKUP(AK100,CadMP!$B:$D,2,0),\"\")","v":""},{"$f":"IFERROR(VLOOKUP(W100,CadMP!$B:$D,3,0),\"\")","v":""},{"$f":"IFERROR(VLOOKUP(X100,CadMP!$B:$D,3,0),\"\")","v":""},{"$f":"IFERROR(VLOOKUP(Y100,CadMP!$B:$D,3,0),\"\")","v":""},{"$f":"IFERROR(VLOOKUP(Z100,CadMP!$B:$D,3,0),\"\")","v":""},{"$f":"IFERROR(VLOOKUP(AA100,CadMP!$B:$D,3,0),\"\")","v":""},{"$f":"IFERROR(VLOOKUP(AB100,CadMP!$B:$D,3,0),\"\")","v":""},{"$f":"IFERROR(VLOOKUP(AC100,CadMP!$B:$D,3,0),\"\")","v":""},{"$f":"IFERROR(VLOOKUP(AD100,CadMP!$B:$D,3,0),\"\")","v":""},{"$f":"IFERROR(VLOOKUP(AE100,CadMP!$B:$D,3,0),\"\")","v":""},{"$f":"IFERROR(VLOOKUP(AF100,CadMP!$B:$D,3,0),\"\")","v":""},{"$f":"IFERROR(VLOOKUP(AG100,CadMP!$B:$D,3,0),\"\")","v":""},{"$f":"IFERROR(VLOOKUP(AH100,CadMP!$B:$D,3,0),\"\")","v":""},{"$f":"IFERROR(VLOOKUP(AI100,CadMP!$B:$D,3,0),\"\")","v":""},{"$f":"IFERROR(VLOOKUP(AJ100,CadMP!$B:$D,3,0),\"\")","v":""},{"$f":"IFERROR(VLOOKUP(AK100,CadMP!$B:$D,3,0),\"\")","v":""},0,0,0,0,0,0,0,0,0,0,0,0,0,0,0]
[100,null,null,0,0,null,null,null,null,null,null,0,0,null,null,null,null,null,null,null,1,0,null,null,null,null,null,null,null,null,null,null,null,null,null,null,null,null,null,null,null,null,null,null,null,null,null,null,null,null,null,null,{"$f":"IFERROR(VLOOKUP(W101,CadMP!$B:$D,2,0),\"\")","v":""},{"$f":"IFERROR(VLOOKUP(X101,CadMP!$B:$D,2,0),\"\")","v":""},{"$f":"IFERROR(VLOOKUP(Y101,CadMP!$B:$D,2,0),\"\")","v":""},{"$f":"IFERROR(VLOOKUP(Z101,CadMP!$B:$D,2,0),\"\")","v":""},{"$f":"IFERROR(VLOOKUP(AA101,CadMP!$B:$D,2,0),\"\")","v":""},{"$f":"IFERROR(VLOOKUP(AB101,CadMP!$B:$D,2,0),\"\")","v":""},{"$f":"IFERROR(VLOOKUP(AC101,CadMP!$B:$D,2,0),\"\")","v":""},{"$f":"IFERROR(VLOOKUP(AD101,CadMP!$B:$D,2,0),\"\")","v":""},{"$f":"IFERROR(VLOOKUP(AE101,CadMP!$B:$D,2,0),\"\")","v":""},{"$f":"IFERROR(VLOOKUP(AF101,CadMP!$B:$D,2,0),\"\")","v":""},{"$f":"IFERROR(VLOOKUP(AG101,CadMP!$B:$D,2,0),\"\")","v":""},{"$f":"IFERROR(VLOOKUP(AH101,CadMP!$B:$D,2,0),\"\")","v":""},{"$f":"IFERROR(VLOOKUP(AI101,CadMP!$B:$D,2,0),\"\")","v":""},{"$f":"IFERROR(VLOOKUP(AJ101,CadMP!$B:$D,2,0),\"\")","v":""},{"$f":"IFERROR(VLOOKUP(AK101,CadMP!$B:$D,2,0),\"\")","v":""},{"$f":"IFERROR(VLOOKUP(W101,CadMP!$B:$D,3,0),\"\")","v":""},{"$f":"IFERROR(VLOOKUP(X101,CadMP!$B:$D,3,0),\"\")","v":""},{"$f":"IFERROR(VLOOKUP(Y101,CadMP!$B:$D,3,0),\"\")","v":""},{"$f":"IFERROR(VLOOKUP(Z101,CadMP!$B:$D,3,0),\"\")","v":""},{"$f":"IFERROR(VLOOKUP(AA101,CadMP!$B:$D,3,0),\"\")","v":""},{"$f":"IFERROR(VLOOKUP(AB101,CadMP!$B:$D,3,0),\"\")","v":""},{"$f":"IFERROR(VLOOKUP(AC101,CadMP!$B:$D,3,0),\"\")","v":""},{"$f":"IFERROR(VLOOKUP(AD101,CadMP!$B:$D,3,0),\"\")","v":""},{"$f":"IFERROR(VLOOKUP(AE101,CadMP!$B:$D,3,0),\"\")","v":""},{"$f":"IFERROR(VLOOKUP(AF101,CadMP!$B:$D,3,0),\"\")","v":""},{"$f":"IFERROR(VLOOKUP(AG101,CadMP!$B:$D,3,0),\"\")","v":""},{"$f":"IFERROR(VLOOKUP(AH101,CadMP!$B:$D,3,0),\"\")","v":""},{"$f":"IFERROR(VLOOKUP(AI101,CadMP!$B:$D,3,0),\"\")","v":""},{"$f":"IFERROR(VLOOKUP(AJ101,CadMP!$B:$D,3,0),\"\")","v":""},{"$f":"IFERROR(VLOOKUP(AK101,CadMP!$B:$D,3,0),\"\")","v":""},0,0,0,0,0,0,0,0,0,0,0,0,0,0,0]
[101,null,null,0,0,null,null,null,null,null,null,0,0,null,null,null,null,null,null,null,1,0,null,null,null,null,null,null,null,null,null,null,null,null,null,null,null,null,null,null,null,null,null,null,null,null,null,null,null,null,null,null,{"$f":"IFERROR(VLOOKUP(W102,CadMP!$B:$D,2,0),\"\")","v":""},{"$f":"IFERROR(VLOOKUP(X102,CadMP!$B:$D,2,0),\"\")","v":""},{"$f":"IFERROR(VLOOKUP(Y102,CadMP!$B:$D,2,0),\"\")","v":""},{"$f":"IFERROR(VLOOKUP(Z102,CadMP!$B:$D,2,0),\"\")","v":""},{"$f":"IFERROR(VLOOKUP(AA102,CadMP!$B:$D,2,0),\"\")","v":""},{"$f":"IFERROR(VLOOKUP(AB102,CadMP!$B:$D,2,0),\"\")","v":""},{"$f":"IFERROR(VLOOKUP(AC102,CadMP!$B:$D,2,0),\"\")","v":""},{"$f":"IFERROR(VLOOKUP(AD102,CadMP!$B:$D,2,0),\"\")","v":""},{"$f":"IFERROR(VLOOKUP(AE102,CadMP!$B:$D,2,0),\"\")","v":""},{"$f":"IFERROR(VLOOKUP(AF102,CadMP!$B:$D,2,0),\"\")","v":""},{"$f":"IFERROR(VLOOKUP(AG102,CadMP!$B:$D,2,0),\"\")","v":""},{"$f":"IFERROR(VLOOKUP(AH102,CadMP!$B:$D,2,0),\"\")","v":""},{"$f":"IFERROR(VLOOKUP(AI102,CadMP!$B:$D,2,0),\"\")","v":""},{"$f":"IFERROR(VLOOKUP(AJ102,CadMP!$B:$D,2,0),\"\")","v":""},{"$f":"IFERROR(VLOOKUP(AK102,CadMP!$B:$D,2,0),\"\")","v":""},{"$f":"IFERROR(VLOOKUP(W102,CadMP!$B:$D,3,0),\"\")","v":""},{"$f":"IFERROR(VLOOKUP(X102,CadMP!$B:$D,3,0),\"\")","v":""},{"$f":"IFERROR(VLOOKUP(Y102,CadMP!$B:$D,3,0),\"\")","v":""},{"$f":"IFERROR(VLOOKUP(Z102,CadMP!$B:$D,3,0),\"\")","v":""},{"$f":"IFERROR(VLOOKUP(AA102,CadMP!$B:$D,3,0),\"\")","v":""},{"$f":"IFERROR(VLOOKUP(AB102,CadMP!$B:$D,3,0),\"\")","v":""},{"$f":"IFERROR(VLOOKUP(AC102,CadMP!$B:$D,3,0),\"\")","v":""},{"$f":"IFERROR(VLOOKUP(AD102,CadMP!$B:$D,3,0),\"\")","v":""},{"$f":"IFERROR(VLOOKUP(AE102,CadMP!$B:$D,3,0),\"\")","v":""},{"$f":"IFERROR(VLOOKUP(AF102,CadMP!$B:$D,3,0),\"\")","v":""},{"$f":"IFERROR(VLOOKUP(AG102,CadMP!$B:$D,3,0),\"\")","v":""},{"$f":"IFERROR(VLOOKUP(AH102,CadMP!$B:$D,3,0),\"\")","v":""},{"$f":"IFERROR(VLOOKUP(AI102,CadMP!$B:$D,3,0),\"\")","v":""},{"$f":"IFERROR(VLOOKUP(AJ102,CadMP!$B:$D,3,0),\"\")","v":""},{"$f":"IFERROR(VLOOKUP(AK102,CadMP!$B:$D,3,0),\"\")","v":""},0,0,0,0,0,0,0,0,0,0,0,0,0,0,0]
[102,null,null,0,0,null,null,null,null,null,null,0,0,null,null,null,null,null,null,null,1,0,null,null,null,null,null,null,null,null,null,null,null,null,null,null,null,null,null,null,null,null,null,null,null,null,null,null,null,null,null,null,{"$f":"IFERROR(VLOOKUP(W103,CadMP!$B:$D,2,0),\"\")","v":""},{"$f":"IFERROR(VLOOKUP(X103,CadMP!$B:$D,2,0),\"\")","v":""},{"$f":"IFERROR(VLOOKUP(Y103,CadMP!$B:$D,2,0),\"\")","v":""},{"$f":"IFERROR(VLOOKUP(Z103,CadMP!$B:$D,2,0),\"\")","v":""},{"$f":"IFERROR(VLOOKUP(AA103,CadMP!$B:$D,2,0),\"\")","v":""},{"$f":"IFERROR(VLOOKUP(AB103,CadMP!$B:$D,2,0),\"\")","v":""},{"$f":"IFERROR(VLOOKUP(AC103,CadMP!$B:$D,2,0),\"\")","v":""},{"$f":"IFERROR(VLOOKUP(AD103,CadMP!$B:$D,2,0),\"\")","v":""},{"$f":"IFERROR(VLOOKUP(AE103,CadMP!$B:$D,2,0),\"\")","v":""},{"$f":"IFERROR(VLOOKUP(AF103,CadMP!$B:$D,2,0),\"\")","v":""},{"$f":"IFERROR(VLOOKUP(AG103,CadMP!$B:$D,2,0),\"\")","v":""},{"$f":"IFERROR(VLOOKUP(AH103,CadMP!$B:$D,2,0),\"\")","v":""},{"$f":"IFERROR(VLOOKUP(AI103,CadMP!$B:$D,2,0),\"\")","v":""},{"$f":"IFERROR(VLOOKUP(AJ103,CadMP!$B:$D,2,0),\"\")","v":""},{"$f":"IFERROR(VLOOKUP(AK103,CadMP!$B:$D,2,0),\"\")","v":""},{"$f":"IFERROR(VLOOKUP(W103,CadMP!$B:$D,3,0),\"\")","v":""},{"$f":"IFERROR(VLOOKUP(X103,CadMP!$B:$D,3,0),\"\")","v":""},{"$f":"IFERROR(VLOOKUP(Y103,CadMP!$B:$D,3,0),\"\")","v":""},{"$f":"IFERROR(VLOOKUP(Z103,CadMP!$B:$D,3,0),\"\")","v":""},{"$f":"IFERROR(VLOOKUP(AA103,CadMP!$B:$D,3,0),\"\")","v":""},{"$f":"IFERROR(VLOOKUP(AB103,CadMP!$B:$D,3,0),\"\")","v":""},{"$f":"IFERROR(VLOOKUP(AC103,CadMP!$B:$D,3,0),\"\")","v":""},{"$f":"IFERROR(VLOOKUP(AD103,CadMP!$B:$D,3,0),\"\")","v":""},{"$f":"IFERROR(VLOOKUP(AE103,CadMP!$B:$D,3,0),\"\")","v":""},{"$f":"IFERROR(VLOOKUP(AF103,CadMP!$B:$D,3,0),\"\")","v":""},{"$f":"IFERROR(VLOOKUP(AG103,CadMP!$B:$D,3,0),\"\")","v":""},{"$f":"IFERROR(VLOOKUP(AH103,CadMP!$B:$D,3,0),\"\")","v":""},{"$f":"IFERROR(VLOOKUP(AI103,CadMP!$B:$D,3,0),\"\")","v":""},{"$f":"IFERROR(VLOOKUP(AJ103,CadMP!$B:$D,3,0),\"\")","v":""},{"$f":"IFERROR(VLOOKUP(AK103,CadMP!$B:$D,3,0),\"\")","v":""},0,0,0,0,0,0,0,0,0,0,0,0,0,0,0]
[103,null,null,0,0,null,null,null,null,null,null,0,0,null,null,null,null,null,null,null,1,0,null,null,null,null,null,null,null,null,null,null,null,null,null,null,null,null,null,null,null,null,null,null,null,null,null,null,null,null,null,null,{"$f":"IFERROR(VLOOKUP(W104,CadMP!$B:$D,2,0),\"\")","v":""},{"$f":"IFERROR(VLOOKUP(X104,CadMP!$B:$D,2,0),\"\")","v":""},{"$f":"IFERROR(VLOOKUP(Y104,CadMP!$B:$D,2,0),\"\")","v":""},{"$f":"IFERROR(VLOOKUP(Z104,CadMP!$B:$D,2,0),\"\")","v":""},{"$f":"IFERROR(VLOOKUP(AA104,CadMP!$B:$D,2,0),\"\")","v":""},{"$f":"IFERROR(VLOOKUP(AB104,CadMP!$B:$D,2,0),\"\")","v":""},{"$f":"IFERROR(VLOOKUP(AC104,CadMP!$B:$D,2,0),\"\")","v":""},{"$f":"IFERROR(VLOOKUP(AD104,CadMP!$B:$D,2,0),\"\")","v":""},{"$f":"IFERROR(VLOOKUP(AE104,CadMP!$B:$D,2,0),\"\")","v":""},{"$f":"IFERROR(VLOOKUP(AF104,CadMP!$B:$D,2,0),\"\")","v":""},{"$f":"IFERROR(VLOOKUP(AG104,CadMP!$B:$D,2,0),\"\")","v":""},{"$f":"IFERROR(VLOOKUP(AH104,CadMP!$B:$D,2,0),\"\")","v":""},{"$f":"IFERROR(VLOOKUP(AI104,CadMP!$B:$D,2,0),\"\")","v":""},{"$f":"IFERROR(VLOOKUP(AJ104,CadMP!$B:$D,2,0),\"\")","v":""},{"$f":"IFERROR(VLOOKUP(AK104,CadMP!$B:$D,2,0),\"\")","v":""},{"$f":"IFERROR(VLOOKUP(W104,CadMP!$B:$D,3,0),\"\")","v":""},{"$f":"IFERROR(VLOOKUP(X104,CadMP!$B:$D,3,0),\"\")","v":""},{"$f":"IFERROR(VLOOKUP(Y104,CadMP!$B:$D,3,0),\"\")","v":""},{"$f":"IFERROR(VLOOKUP(Z104,CadMP!$B:$D,3,0),\"\")","v":""},{"$f":"IFERROR(VLOOKUP(AA104,CadMP!$B:$D,3,0),\"\")","v":""},{"$f":"IFERROR(VLOOKUP(AB104,CadMP!$B:$D,3,0),\"\")","v":""},{"$f":"IFERROR(VLOOKUP(AC104,CadMP!$B:$D,3,0),\"\")","v":""},{"$f":"IFERROR(VLOOKUP(AD104,CadMP!$B:$D,3,0),\"\")","v":""},{"$f":"IFERROR(VLOOKUP(AE104,CadMP!$B:$D,3,0),\"\")","v":""},{"$f":"IFERROR(VLOOKUP(AF104,CadMP!$B:$D,3,0),\"\")","v":""},{"$f":"IFERROR(VLOOKUP(AG104,CadMP!$B:$D,3,0),\"\")","v":""},{"$f":"IFERROR(VLOOKUP(AH104,CadMP!$B:$D,3,0),\"\")","v":""},{"$f":"IFERROR(VLOOKUP(AI104,CadMP!$B:$D,3,0),\"\")","v":""},{"$f":"IFERROR(VLOOKUP(AJ104,CadMP!$B:$D,3,0),\"\")","v":""},{"$f":"IFERROR(VLOOKUP(AK104,CadMP!$B:$D,3,0),\"\")","v":""},0,0,0,0,0,0,0,0,0,0,0,0,0,0,0]
[104,null,null,0,0,null,null,null,null,null,null,0,0,null,null,null,null,null,null,null,1,0,null,null,null,null,null,null,null,null,null,null,null,null,null,null,null,null,null,null,null,null,null,null,null,null,null,null,null,null,null,null,{"$f":"IFERROR(VLOOKUP(W105,CadMP!$B:$D,2,0),\"\")","v":""},{"$f":"IFERROR(VLOOKUP(X105,CadMP!$B:$D,2,0),\"\")","v":""},{"$f":"IFERROR(VLOOKUP(Y105,CadMP!$B:$D,2,0),\"\")","v":""},{"$f":"IFERROR(VLOOKUP(Z105,CadMP!$B:$D,2,0),\"\")","v":""},{"$f":"IFERROR(VLOOKUP(AA105,CadMP!$B:$D,2,0),\"\")","v":""},{"$f":"IFERROR(VLOOKUP(AB105,CadMP!$B:$D,2,0),\"\")","v":""},{"$f":"IFERROR(VLOOKUP(AC105,CadMP!$B:$D,2,0),\"\")","v":""},{"$f":"IFERROR(VLOOKUP(AD105,CadMP!$B:$D,2,0),\"\")","v":""},{"$f":"IFERROR(VLOOKUP(AE105,CadMP!$B:$D,2,0),\"\")","v":""},{"$f":"IFERROR(VLOOKUP(AF105,CadMP!$B:$D,2,0),\"\")","v":""},{"$f":"IFERROR(VLOOKUP(AG105,CadMP!$B:$D,2,0),\"\")","v":""},{"$f":"IFERROR(VLOOKUP(AH105,CadMP!$B:$D,2,0),\"\")","v":""},{"$f":"IFERROR(VLOOKUP(AI105,CadMP!$B:$D,2,0),\"\")","v":""},{"$f":"IFERROR(VLOOKUP(AJ105,CadMP!$B:$D,2,0),\"\")","v":""},{"$f":"IFERROR(VLOOKUP(AK105,CadMP!$B:$D,2,0),\"\")","v":""},{"$f":"IFERROR(VLOOKUP(W105,CadMP!$B:$D,3,0),\"\")","v":""},{"$f":"IFERROR(VLOOKUP(X105,CadMP!$B:$D,3,0),\"\")","v":""},{"$f":"IFERROR(VLOOKUP(Y105,CadMP!$B:$D,3,0),\"\")","v":""},{"$f":"IFERROR(VLOOKUP(Z105,CadMP!$B:$D,3,0),\"\")","v":""},{"$f":"IFERROR(VLOOKUP(AA105,CadMP!$B:$D,3,0),\"\")","v":""},{"$f":"IFERROR(VLOOKUP(AB105,CadMP!$B:$D,3,0),\"\")","v":""},{"$f":"IFERROR(VLOOKUP(AC105,CadMP!$B:$D,3,0),\"\")","v":""},{"$f":"IFERROR(VLOOKUP(AD105,CadMP!$B:$D,3,0),\"\")","v":""},{"$f":"IFERROR(VLOOKUP(AE105,CadMP!$B:$D,3,0),\"\")","v":""},{"$f":"IFERROR(VLOOKUP(AF105,CadMP!$B:$D,3,0),\"\")","v":""},{"$f":"IFERROR(VLOOKUP(AG105,CadMP!$B:$D,3,0),\"\")","v":""},{"$f":"IFERROR(VLOOKUP(AH105,CadMP!$B:$D,3,0),\"\")","v":""},{"$f":"IFERROR(VLOOKUP(AI105,CadMP!$B:$D,3,0),\"\")","v":""},{"$f":"IFERROR(VLOOKUP(AJ105,CadMP!$B:$D,3,0),\"\")","v":""},{"$f":"IFERROR(VLOOKUP(AK105,CadMP!$B:$D,3,0),\"\")","v":""},0,0,0,0,0,0,0,0,0,0,0,0,0,0,0]
[105,null,null,0,0,null,null,null,null,null,null,0,0,null,null,null,null,null,null,null,1,0,null,null,null,null,null,null,null,null,null,null,null,null,null,null,null,null,null,null,null,null,null,null,null,null,null,null,null,null,null,null,{"$f":"IFERROR(VLOOKUP(W106,CadMP!$B:$D,2,0),\"\")","v":""},{"$f":"IFERROR(VLOOKUP(X106,CadMP!$B:$D,2,0),\"\")","v":""},{"$f":"IFERROR(VLOOKUP(Y106,CadMP!$B:$D,2,0),\"\")","v":""},{"$f":"IFERROR(VLOOKUP(Z106,CadMP!$B:$D,2,0),\"\")","v":""},{"$f":"IFERROR(VLOOKUP(AA106,CadMP!$B:$D,2,0),\"\")","v":""},{"$f":"IFERROR(VLOOKUP(AB106,CadMP!$B:$D,2,0),\"\")","v":""},{"$f":"IFERROR(VLOOKUP(AC106,CadMP!$B:$D,2,0),\"\")","v":""},{"$f":"IFERROR(VLOOKUP(AD106,CadMP!$B:$D,2,0),\"\")","v":""},{"$f":"IFERROR(VLOOKUP(AE106,CadMP!$B:$D,2,0),\"\")","v":""},{"$f":"IFERROR(VLOOKUP(AF106,CadMP!$B:$D,2,0),\"\")","v":""},{"$f":"IFERROR(VLOOKUP(AG106,CadMP!$B:$D,2,0),\"\")","v":""},{"$f":"IFERROR(VLOOKUP(AH106,CadMP!$B:$D,2,0),\"\")","v":""},{"$f":"IFERROR(VLOOKUP(AI106,CadMP!$B:$D,2,0),\"\")","v":""},{"$f":"IFERROR(VLOOKUP(AJ106,CadMP!$B:$D,2,0),\"\")","v":""},{"$f":"IFERROR(VLOOKUP(AK106,CadMP!$B:$D,2,0),\"\")","v":""},{"$f":"IFERROR(VLOOKUP(W106,CadMP!$B:$D,3,0),\"\")","v":""},{"$f":"IFERROR(VLOOKUP(X106,CadMP!$B:$D,3,0),\"\")","v":""},{"$f":"IFERROR(VLOOKUP(Y106,CadMP!$B:$D,3,0),\"\")","v":""},{"$f":"IFERROR(VLOOKUP(Z106,CadMP!$B:$D,3,0),\"\")","v":""},{"$f":"IFERROR(VLOOKUP(AA106,CadMP!$B:$D,3,0),\"\")","v":""},{"$f":"IFERROR(VLOOKUP(AB106,CadMP!$B:$D,3,0),\"\")","v":""},{"$f":"IFERROR(VLOOKUP(AC106,CadMP!$B:$D,3,0),\"\")","v":""},{"$f":"IFERROR(VLOOKUP(AD106,CadMP!$B:$D,3,0),\"\")","v":""},{"$f":"IFERROR(VLOOKUP(AE106,CadMP!$B:$D,3,0),\"\")","v":""},{"$f":"IFERROR(VLOOKUP(AF106,CadMP!$B:$D,3,0),\"\")","v":""},{"$f":"IFERROR(VLOOKUP(AG106,CadMP!$B:$D,3,0),\"\")","v":""},{"$f":"IFERROR(VLOOKUP(AH106,CadMP!$B:$D,3,0),\"\")","v":""},{"$f":"IFERROR(VLOOKUP(AI106,CadMP!$B:$D,3,0),\"\")","v":""},{"$f":"IFERROR(VLOOKUP(AJ106,CadMP!$B:$D,3,0),\"\")","v":""},{"$f":"IFERROR(VLOOKUP(AK106,CadMP!$B:$D,3,0),\"\")","v":""},0,0,0,0,0,0,0,0,0,0,0,0,0,0,0]
[106,null,null,0,0,null,null,null,null,null,null,0,0,null,null,null,null,null,null,null,1,0,null,null,null,null,null,null,null,null,null,null,null,null,null,null,null,null,null,null,null,null,null,null,null,null,null,null,null,null,null,null,{"$f":"IFERROR(VLOOKUP(W107,CadMP!$B:$D,2,0),\"\")","v":""},{"$f":"IFERROR(VLOOKUP(X107,CadMP!$B:$D,2,0),\"\")","v":""},{"$f":"IFERROR(VLOOKUP(Y107,CadMP!$B:$D,2,0),\"\")","v":""},{"$f":"IFERROR(VLOOKUP(Z107,CadMP!$B:$D,2,0),\"\")","v":""},{"$f":"IFERROR(VLOOKUP(AA107,CadMP!$B:$D,2,0),\"\")","v":""},{"$f":"IFERROR(VLOOKUP(AB107,CadMP!$B:$D,2,0),\"\")","v":""},{"$f":"IFERROR(VLOOKUP(AC107,CadMP!$B:$D,2,0),\"\")","v":""},{"$f":"IFERROR(VLOOKUP(AD107,CadMP!$B:$D,2,0),\"\")","v":""},{"$f":"IFERROR(VLOOKUP(AE107,CadMP!$B:$D,2,0),\"\")","v":""},{"$f":"IFERROR(VLOOKUP(AF107,CadMP!$B:$D,2,0),\"\")","v":""},{"$f":"IFERROR(VLOOKUP(AG107,CadMP!$B:$D,2,0),\"\")","v":""},{"$f":"IFERROR(VLOOKUP(AH107,CadMP!$B:$D,2,0),\"\")","v":""},{"$f":"IFERROR(VLOOKUP(AI107,CadMP!$B:$D,2,0),\"\")","v":""},{"$f":"IFERROR(VLOOKUP(AJ107,CadMP!$B:$D,2,0),\"\")","v":""},{"$f":"IFERROR(VLOOKUP(AK107,CadMP!$B:$D,2,0),\"\")","v":""},{"$f":"IFERROR(VLOOKUP(W107,CadMP!$B:$D,3,0),\"\")","v":""},{"$f":"IFERROR(VLOOKUP(X107,CadMP!$B:$D,3,0),\"\")","v":""},{"$f":"IFERROR(VLOOKUP(Y107,CadMP!$B:$D,3,0),\"\")","v":""},{"$f":"IFERROR(VLOOKUP(Z107,CadMP!$B:$D,3,0),\"\")","v":""},{"$f":"IFERROR(VLOOKUP(AA107,CadMP!$B:$D,3,0),\"\")","v":""},{"$f":"IFERROR(VLOOKUP(AB107,CadMP!$B:$D,3,0),\"\")","v":""},{"$f":"IFERROR(VLOOKUP(AC107,CadMP!$B:$D,3,0),\"\")","v":""},{"$f":"IFERROR(VLOOKUP(AD107,CadMP!$B:$D,3,0),\"\")","v":""},{"$f":"IFERROR(VLOOKUP(AE107,CadMP!$B:$D,3,0),\"\")","v":""},{"$f":"IFERROR(VLOOKUP(AF107,CadMP!$B:$D,3,0),\"\")","v":""},{"$f":"IFERROR(VLOOKUP(AG107,CadMP!$B:$D,3,0),\"\")","v":""},{"$f":"IFERROR(VLOOKUP(AH107,CadMP!$B:$D,3,0),\"\")","v":""},{"$f":"IFERROR(VLOOKUP(AI107,CadMP!$B:$D,3,0),\"\")","v":""},{"$f":"IFERROR(VLOOKUP(AJ107,CadMP!$B:$D,3,0),\"\")","v":""},{"$f":"IFERROR(VLOOKUP(AK107,CadMP!$B:$D,3,0),\"\")","v":""},0,0,0,0,0,0,0,0,0,0,0,0,0,0,0]
[107,null,null,0,0,null,null,null,null,null,null,0,0,null,null,null,null,null,null,null,1,0,null,null,null,null,null,null,null,null,null,null,null,null,null,null,null,null,null,null,null,null,null,null,null,null,null,null,null,null,null,null,{"$f":"IFERROR(VLOOKUP(W108,CadMP!$B:$D,2,0),\"\")","v":""},{"$f":"IFERROR(VLOOKUP(X108,CadMP!$B:$D,2,0),\"\")","v":""},{"$f":"IFERROR(VLOOKUP(Y108,CadMP!$B:$D,2,0),\"\")","v":""},{"$f":"IFERROR(VLOOKUP(Z108,CadMP!$B:$D,2,0),\"\")","v":""},{"$f":"IFERROR(VLOOKUP(AA108,CadMP!$B:$D,2,0),\"\")","v":""},{"$f":"IFERROR(VLOOKUP(AB108,CadMP!$B:$D,2,0),\"\")","v":""},{"$f":"IFERROR(VLOOKUP(AC108,CadMP!$B:$D,2,0),\"\")","v":""},{"$f":"IFERROR(VLOOKUP(AD108,CadMP!$B:$D,2,0),\"\")","v":""},{"$f":"IFERROR(VLOOKUP(AE108,CadMP!$B:$D,2,0),\"\")","v":""},{"$f":"IFERROR(VLOOKUP(AF108,CadMP!$B:$D,2,0),\"\")","v":""},{"$f":"IFERROR(VLOOKUP(AG108,CadMP!$B:$D,2,0),\"\")","v":""},{"$f":"IFERROR(VLOOKUP(AH108,CadMP!$B:$D,2,0),\"\")","v":""},{"$f":"IFERROR(VLOOKUP(AI108,CadMP!$B:$D,2,0),\"\")","v":""},{"$f":"IFERROR(VLOOKUP(AJ108,CadMP!$B:$D,2,0),\"\")","v":""},{"$f":"IFERROR(VLOOKUP(AK108,CadMP!$B:$D,2,0),\"\")","v":""},{"$f":"IFERROR(VLOOKUP(W108,CadMP!$B:$D,3,0),\"\")","v":""},{"$f":"IFERROR(VLOOKUP(X108,CadMP!$B:$D,3,0),\"\")","v":""},{"$f":"IFERROR(VLOOKUP(Y108,CadMP!$B:$D,3,0),\"\")","v":""},{"$f":"IFERROR(VLOOKUP(Z108,CadMP!$B:$D,3,0),\"\")","v":""},{"$f":"IFERROR(VLOOKUP(AA108,CadMP!$B:$D,3,0),\"\")","v":""},{"$f":"IFERROR(VLOOKUP(AB108,CadMP!$B:$D,3,0),\"\")","v":""},{"$f":"IFERROR(VLOOKUP(AC108,CadMP!$B:$D,3,0),\"\")","v":""},{"$f":"IFERROR(VLOOKUP(AD108,CadMP!$B:$D,3,0),\"\")","v":""},{"$f":"IFERROR(VLOOKUP(AE108,CadMP!$B:$D,3,0),\"\")","v":""},{"$f":"IFERROR(VLOOKUP(AF108,CadMP!$B:$D,3,0),\"\")","v":""},{"$f":"IFERROR(VLOOKUP(AG108,CadMP!$B:$D,3,0),\"\")","v":""},{"$f":"IFERROR(VLOOKUP(AH108,CadMP!$B:$D,3,0),\"\")","v":""},{"$f":"IFERROR(VLOOKUP(AI108,CadMP!$B:$D,3,0),\"\")","v":""},{"$f":"IFERROR(VLOOKUP(AJ108,CadMP!$B:$D,3,0),\"\")","v":""},{"$f":"IFERROR(VLOOKUP(AK108,CadMP!$B:$D,3,0),\"\")","v":""},0,0,0,0,0,0,0,0,0,0,0,0,0,0,0]
[108,null,null,0,0,null,null,null,null,null,null,0,0,null,null,null,null,null,null,null,1,0,null,null,null,null,null,null,null,null,null,null,null,null,null,null,null,null,null,null,null,null,null,null,null,null,null,null,null,null,null,null,{"$f":"IFERROR(VLOOKUP(W109,CadMP!$B:$D,2,0),\"\")","v":""},{"$f":"IFERROR(VLOOKUP(X109,CadMP!$B:$D,2,0),\"\")","v":""},{"$f":"IFERROR(VLOOKUP(Y109,CadMP!$B:$D,2,0),\"\")","v":""},{"$f":"IFERROR(VLOOKUP(Z109,CadMP!$B:$D,2,0),\"\")","v":""},{"$f":"IFERROR(VLOOKUP(AA109,CadMP!$B:$D,2,0),\"\")","v":""},{"$f":"IFERROR(VLOOKUP(AB109,CadMP!$B:$D,2,0),\"\")","v":""},{"$f":"IFERROR(VLOOKUP(AC109,CadMP!$B:$D,2,0),\"\")","v":""},{"$f":"IFERROR(VLOOKUP(AD109,CadMP!$B:$D,2,0),\"\")","v":""},{"$f":"IFERROR(VLOOKUP(AE109,CadMP!$B:$D,2,0),\"\")","v":""},{"$f":"IFERROR(VLOOKUP(AF109,CadMP!$B:$D,2,0),\"\")","v":""},{"$f":"IFERROR(VLOOKUP(AG109,CadMP!$B:$D,2,0),\"\")","v":""},{"$f":"IFERROR(VLOOKUP(AH109,CadMP!$B:$D,2,0),\"\")","v":""},{"$f":"IFERROR(VLOOKUP(AI109,CadMP!$B:$D,2,0),\"\")","v":""},{"$f":"IFERROR(VLOOKUP(AJ109,CadMP!$B:$D,2,0),\"\")","v":""},{"$f":"IFERROR(VLOOKUP(AK109,CadMP!$B:$D,2,0),\"\")","v":""},{"$f":"IFERROR(VLOOKUP(W109,CadMP!$B:$D,3,0),\"\")","v":""},{"$f":"IFERROR(VLOOKUP(X109,CadMP!$B:$D,3,0),\"\")","v":""},{"$f":"IFERROR(VLOOKUP(Y109,CadMP!$B:$D,3,0),\"\")","v":""},{"$f":"IFERROR(VLOOKUP(Z109,CadMP!$B:$D,3,0),\"\")","v":""},{"$f":"IFERROR(VLOOKUP(AA109,CadMP!$B:$D,3,0),\"\")","v":""},{"$f":"IFERROR(VLOOKUP(AB109,CadMP!$B:$D,3,0),\"\")","v":""},{"$f":"IFERROR(VLOOKUP(AC109,CadMP!$B:$D,3,0),\"\")","v":""},{"$f":"IFERROR(VLOOKUP(AD109,CadMP!$B:$D,3,0),\"\")","v":""},{"$f":"IFERROR(VLOOKUP(AE109,CadMP!$B:$D,3,0),\"\")","v":""},{"$f":"IFERROR(VLOOKUP(AF109,CadMP!$B:$D,3,0),\"\")","v":""},{"$f":"IFERROR(VLOOKUP(AG109,CadMP!$B:$D,3,0),\"\")","v":""},{"$f":"IFERROR(VLOOKUP(AH109,CadMP!$B:$D,3,0),\"\")","v":""},{"$f":"IFERROR(VLOOKUP(AI109,CadMP!$B:$D,3,0),\"\")","v":""},{"$f":"IFERROR(VLOOKUP(AJ109,CadMP!$B:$D,3,0),\"\")","v":""},{"$f":"IFERROR(VLOOKUP(AK109,CadMP!$B:$D,3,0),\"\")","v":""},0,0,0,0,0,0,0,0,0,0,0,0,0,0,0]
[109,null,null,0,0,null,null,null,null,null,null,0,0,null,null,null,null,null,null,null,1,0,null,null,null,null,null,null,null,null,null,null,null,null,null,null,null,null,null,null,null,null,null,null,null,null,null,null,null,null,null,null,{"$f":"IFERROR(VLOOKUP(W110,CadMP!$B:$D,2,0),\"\")","v":""},{"$f":"IFERROR(VLOOKUP(X110,CadMP!$B:$D,2,0),\"\")","v":""},{"$f":"IFERROR(VLOOKUP(Y110,CadMP!$B:$D,2,0),\"\")","v":""},{"$f":"IFERROR(VLOOKUP(Z110,CadMP!$B:$D,2,0),\"\")","v":""},{"$f":"IFERROR(VLOOKUP(AA110,CadMP!$B:$D,2,0),\"\")","v":""},{"$f":"IFERROR(VLOOKUP(AB110,CadMP!$B:$D,2,0),\"\")","v":""},{"$f":"IFERROR(VLOOKUP(AC110,CadMP!$B:$D,2,0),\"\")","v":""},{"$f":"IFERROR(VLOOKUP(AD110,CadMP!$B:$D,2,0),\"\")","v":""},{"$f":"IFERROR(VLOOKUP(AE110,CadMP!$B:$D,2,0),\"\")","v":""},{"$f":"IFERROR(VLOOKUP(AF110,CadMP!$B:$D,2,0),\"\")","v":""},{"$f":"IFERROR(VLOOKUP(AG110,CadMP!$B:$D,2,0),\"\")","v":""},{"$f":"IFERROR(VLOOKUP(AH110,CadMP!$B:$D,2,0),\"\")","v":""},{"$f":"IFERROR(VLOOKUP(AI110,CadMP!$B:$D,2,0),\"\")","v":""},{"$f":"IFERROR(VLOOKUP(AJ110,CadMP!$B:$D,2,0),\"\")","v":""},{"$f":"IFERROR(VLOOKUP(AK110,CadMP!$B:$D,2,0),\"\")","v":""},{"$f":"IFERROR(VLOOKUP(W110,CadMP!$B:$D,3,0),\"\")","v":""},{"$f":"IFERROR(VLOOKUP(X110,CadMP!$B:$D,3,0),\"\")","v":""},{"$f":"IFERROR(VLOOKUP(Y110,CadMP!$B:$D,3,0),\"\")","v":""},{"$f":"IFERROR(VLOOKUP(Z110,CadMP!$B:$D,3,0),\"\")","v":""},{"$f":"IFERROR(VLOOKUP(AA110,CadMP!$B:$D,3,0),\"\")","v":""},{"$f":"IFERROR(VLOOKUP(AB110,CadMP!$B:$D,3,0),\"\")","v":""},{"$f":"IFERROR(VLOOKUP(AC110,CadMP!$B:$D,3,0),\"\")","v":""},{"$f":"IFERROR(VLOOKUP(AD110,CadMP!$B:$D,3,0),\"\")","v":""},{"$f":"IFERROR(VLOOKUP(AE110,CadMP!$B:$D,3,0),\"\")","v":""},{"$f":"IFERROR(VLOOKUP(AF110,CadMP!$B:$D,3,0),\"\")","v":""},{"$f":"IFERROR(VLOOKUP(AG110,CadMP!$B:$D,3,0),\"\")","v":""},{"$f":"IFERROR(VLOOKUP(AH110,CadMP!$B:$D,3,0),\"\")","v":""},{"$f":"IFERROR(VLOOKUP(AI110,CadMP!$B:$D,3,0),\"\")","v":""},{"$f":"IFERROR(VLOOKUP(AJ110,CadMP!$B:$D,3,0),\"\")","v":""},{"$f":"IFERROR(VLOOKUP(AK110,CadMP!$B:$D,3,0),\"\")","v":""},0,0,0,0,0,0,0,0,0,0,0,0,0,0,0]
[110,null,null,0,0,null,null,null,null,null,null,0,0,null,null,null,null,null,null,null,1,0,null,null,null,null,null,null,null,null,null,null,null,null,null,null,null,null,null,null,null,null,null,null,null,null,null,null,null,null,null,null,{"$f":"IFERROR(VLOOKUP(W111,CadMP!$B:$D,2,0),\"\")","v":""},{"$f":"IFERROR(VLOOKUP(X111,CadMP!$B:$D,2,0),\"\")","v":""},{"$f":"IFERROR(VLOOKUP(Y111,CadMP!$B:$D,2,0),\"\")","v":""},{"$f":"IFERROR(VLOOKUP(Z111,CadMP!$B:$D,2,0),\"\")","v":""},{"$f":"IFERROR(VLOOKUP(AA111,CadMP!$B:$D,2,0),\"\")","v":""},{"$f":"IFERROR(VLOOKUP(AB111,CadMP!$B:$D,2,0),\"\")","v":""},{"$f":"IFERROR(VLOOKUP(AC111,CadMP!$B:$D,2,0),\"\")","v":""},{"$f":"IFERROR(VLOOKUP(AD111,CadMP!$B:$D,2,0),\"\")","v":""},{"$f":"IFERROR(VLOOKUP(AE111,CadMP!$B:$D,2,0),\"\")","v":""},{"$f":"IFERROR(VLOOKUP(AF111,CadMP!$B:$D,2,0),\"\")","v":""},{"$f":"IFERROR(VLOOKUP(AG111,CadMP!$B:$D,2,0),\"\")","v":""},{"$f":"IFERROR(VLOOKUP(AH111,CadMP!$B:$D,2,0),\"\")","v":""},{"$f":"IFERROR(VLOOKUP(AI111,CadMP!$B:$D,2,0),\"\")","v":""},{"$f":"IFERROR(VLOOKUP(AJ111,CadMP!$B:$D,2,0),\"\")","v":""},{"$f":"IFERROR(VLOOKUP(AK111,CadMP!$B:$D,2,0),\"\")","v":""},{"$f":"IFERROR(VLOOKUP(W111,CadMP!$B:$D,3,0),\"\")","v":""},{"$f":"IFERROR(VLOOKUP(X111,CadMP!$B:$D,3,0),\"\")","v":""},{"$f":"IFERROR(VLOOKUP(Y111,CadMP!$B:$D,3,0),\"\")","v":""},{"$f":"IFERROR(VLOOKUP(Z111,CadMP!$B:$D,3,0),\"\")","v":""},{"$f":"IFERROR(VLOOKUP(AA111,CadMP!$B:$D,3,0),\"\")","v":""},{"$f":"IFERROR(VLOOKUP(AB111,CadMP!$B:$D,3,0),\"\")","v":""},{"$f":"IFERROR(VLOOKUP(AC111,CadMP!$B:$D,3,0),\"\")","v":""},{"$f":"IFERROR(VLOOKUP(AD111,CadMP!$B:$D,3,0),\"\")","v":""},{"$f":"IFERROR(VLOOKUP(AE111,CadMP!$B:$D,3,0),\"\")","v":""},{"$f":"IFERROR(VLOOKUP(AF111,CadMP!$B:$D,3,0),\"\")","v":""},{"$f":"IFERROR(VLOOKUP(AG111,CadMP!$B:$D,3,0),\"\")","v":""},{"$f":"IFERROR(VLOOKUP(AH111,CadMP!$B:$D,3,0),\"\")","v":""},{"$f":"IFERROR(VLOOKUP(AI111,CadMP!$B:$D,3,0),\"\")","v":""},{"$f":"IFERROR(VLOOKUP(AJ111,CadMP!$B:$D,3,0),\"\")","v":""},{"$f":"IFERROR(VLOOKUP(AK111,CadMP!$B:$D,3,0),\"\")","v":""},0,0,0,0,0,0,0,0,0,0,0,0,0,0,0]
[111,null,null,0,0,null,null,null,null,null,null,0,0,null,null,null,null,null,null,null,1,0,null,null,null,null,null,null,null,null,null,null,null,null,null,null,null,null,null,null,null,null,null,null,null,null,null,null,null,null,null,null,{"$f":"IFERROR(VLOOKUP(W112,CadMP!$B:$D,2,0),\"\")","v":""},{"$f":"IFERROR(VLOOKUP(X112,CadMP!$B:$D,2,0),\"\")","v":""},{"$f":"IFERROR(VLOOKUP(Y112,CadMP!$B:$D,2,0),\"\")","v":""},{"$f":"IFERROR(VLOOKUP(Z112,CadMP!$B:$D,2,0),\"\")","v":""},{"$f":"IFERROR(VLOOKUP(AA112,CadMP!$B:$D,2,0),\"\")","v":""},{"$f":"IFERROR(VLOOKUP(AB112,CadMP!$B:$D,2,0),\"\")","v":""},{"$f":"IFERROR(VLOOKUP(AC112,CadMP!$B:$D,2,0),\"\")","v":""},{"$f":"IFERROR(VLOOKUP(AD112,CadMP!$B:$D,2,0),\"\")","v":""},{"$f":"IFERROR(VLOOKUP(AE112,CadMP!$B:$D,2,0),\"\")","v":""},{"$f":"IFERROR(VLOOKUP(AF112,CadMP!$B:$D,2,0),\"\")","v":""},{"$f":"IFERROR(VLOOKUP(AG112,CadMP!$B:$D,2,0),\"\")","v":""},{"$f":"IFERROR(VLOOKUP(AH112,CadMP!$B:$D,2,0),\"\")","v":""},{"$f":"IFERROR(VLOOKUP(AI112,CadMP!$B:$D,2,0),\"\")","v":""},{"$f":"IFERROR(VLOOKUP(AJ112,CadMP!$B:$D,2,0),\"\")","v":""},{"$f":"IFERROR(VLOOKUP(AK112,CadMP!$B:$D,2,0),\"\")","v":""},{"$f":"IFERROR(VLOOKUP(W112,CadMP!$B:$D,3,0),\"\")","v":""},{"$f":"IFERROR(VLOOKUP(X112,CadMP!$B:$D,3,0),\"\")","v":""},{"$f":"IFERROR(VLOOKUP(Y112,CadMP!$B:$D,3,0),\"\")","v":""},{"$f":"IFERROR(VLOOKUP(Z112,CadMP!$B:$D,3,0),\"\")","v":""},{"$f":"IFERROR(VLOOKUP(AA112,CadMP!$B:$D,3,0),\"\")","v":""},{"$f":"IFERROR(VLOOKUP(AB112,CadMP!$B:$D,3,0),\"\")","v":""},{"$f":"IFERROR(VLOOKUP(AC112,CadMP!$B:$D,3,0),\"\")","v":""},{"$f":"IFERROR(VLOOKUP(AD112,CadMP!$B:$D,3,0),\"\")","v":""},{"$f":"IFERROR(VLOOKUP(AE112,CadMP!$B:$D,3,0),\"\")","v":""},{"$f":"IFERROR(VLOOKUP(AF112,CadMP!$B:$D,3,0),\"\")","v":""},{"$f":"IFERROR(VLOOKUP(AG112,CadMP!$B:$D,3,0),\"\")","v":""},{"$f":"IFERROR(VLOOKUP(AH112,CadMP!$B:$D,3,0),\"\")","v":""},{"$f":"IFERROR(VLOOKUP(AI112,CadMP!$B:$D,3,0),\"\")","v":""},{"$f":"IFERROR(VLOOKUP(AJ112,CadMP!$B:$D,3,0),\"\")","v":""},{"$f":"IFERROR(VLOOKUP(AK112,CadMP!$B:$D,3,0),\"\")","v":""},0,0,0,0,0,0,0,0,0,0,0,0,0,0,0]
[112,null,null,0,0,null,null,null,null,null,null,0,0,null,null,null,null,null,null,null,1,0,null,null,null,null,null,null,null,null,null,null,null,null,null,null,null,null,null,null,null,null,null,null,null,null,null,null,null,null,null,null,{"$f":"IFERROR(VLOOKUP(W113,CadMP!$B:$D,2,0),\"\")","v":""},{"$f":"IFERROR(VLOOKUP(X113,CadMP!$B:$D,2,0),\"\")","v":""},{"$f":"IFERROR(VLOOKUP(Y113,CadMP!$B:$D,2,0),\"\")","v":""},{"$f":"IFERROR(VLOOKUP(Z113,CadMP!$B:$D,2,0),\"\")","v":""},{"$f":"IFERROR(VLOOKUP(AA113,CadMP!$B:$D,2,0),\"\")","v":""},{"$f":"IFERROR(VLOOKUP(AB113,CadMP!$B:$D,2,0),\"\")","v":""},{"$f":"IFERROR(VLOOKUP(AC113,CadMP!$B:$D,2,0),\"\")","v":""},{"$f":"IFERROR(VLOOKUP(AD113,CadMP!$B:$D,2,0),\"\")","v":""},{"$f":"IFERROR(VLOOKUP(AE113,CadMP!$B:$D,2,0),\"\")","v":""},{"$f":"IFERROR(VLOOKUP(AF113,CadMP!$B:$D,2,0),\"\")","v":""},{"$f":"IFERROR(VLOOKUP(AG113,CadMP!$B:$D,2,0),\"\")","v":""},{"$f":"IFERROR(VLOOKUP(AH113,CadMP!$B:$D,2,0),\"\")","v":""},{"$f":"IFERROR(VLOOKUP(AI113,CadMP!$B:$D,2,0),\"\")","v":""},{"$f":"IFERROR(VLOOKUP(AJ113,CadMP!$B:$D,2,0),\"\")","v":""},{"$f":"IFERROR(VLOOKUP(AK113,CadMP!$B:$D,2,0),\"\")","v":""},{"$f":"IFERROR(VLOOKUP(W113,CadMP!$B:$D,3,0),\"\")","v":""},{"$f":"IFERROR(VLOOKUP(X113,CadMP!$B:$D,3,0),\"\")","v":""},{"$f":"IFERROR(VLOOKUP(Y113,CadMP!$B:$D,3,0),\"\")","v":""},{"$f":"IFERROR(VLOOKUP(Z113,CadMP!$B:$D,3,0),\"\")","v":""},{"$f":"IFERROR(VLOOKUP(AA113,CadMP!$B:$D,3,0),\"\")","v":""},{"$f":"IFERROR(VLOOKUP(AB113,CadMP!$B:$D,3,0),\"\")","v":""},{"$f":"IFERROR(VLOOKUP(AC113,CadMP!$B:$D,3,0),\"\")","v":""},{"$f":"IFERROR(VLOOKUP(AD113,CadMP!$B:$D,3,0),\"\")","v":""},{"$f":"IFERROR(VLOOKUP(AE113,CadMP!$B:$D,3,0),\"\")","v":""},{"$f":"IFERROR(VLOOKUP(AF113,CadMP!$B:$D,3,0),\"\")","v":""},{"$f":"IFERROR(VLOOKUP(AG113,CadMP!$B:$D,3,0),\"\")","v":""},{"$f":"IFERROR(VLOOKUP(AH113,CadMP!$B:$D,3,0),\"\")","v":""},{"$f":"IFERROR(VLOOKUP(AI113,CadMP!$B:$D,3,0),\"\")","v":""},{"$f":"IFERROR(VLOOKUP(AJ113,CadMP!$B:$D,3,0),\"\")","v":""},{"$f":"IFERROR(VLOOKUP(AK113,CadMP!$B:$D,3,0),\"\")","v":""},0,0,0,0,0,0,0,0,0,0,0,0,0,0,0]
[113,null,null,0,0,null,null,null,null,null,null,0,0,null,null,null,null,null,null,null,1,0,null,null,null,null,null,null,null,null,null,null,null,null,null,null,null,null,null,null,null,null,null,null,null,null,null,null,null,null,null,null,{"$f":"IFERROR(VLOOKUP(W114,CadMP!$B:$D,2,0),\"\")","v":""},{"$f":"IFERROR(VLOOKUP(X114,CadMP!$B:$D,2,0),\"\")","v":""},{"$f":"IFERROR(VLOOKUP(Y114,CadMP!$B:$D,2,0),\"\")","v":""},{"$f":"IFERROR(VLOOKUP(Z114,CadMP!$B:$D,2,0),\"\")","v":""},{"$f":"IFERROR(VLOOKUP(AA114,CadMP!$B:$D,2,0),\"\")","v":""},{"$f":"IFERROR(VLOOKUP(AB114,CadMP!$B:$D,2,0),\"\")","v":""},{"$f":"IFERROR(VLOOKUP(AC114,CadMP!$B:$D,2,0),\"\")","v":""},{"$f":"IFERROR(VLOOKUP(AD114,CadMP!$B:$D,2,0),\"\")","v":""},{"$f":"IFERROR(VLOOKUP(AE114,CadMP!$B:$D,2,0),\"\")","v":""},{"$f":"IFERROR(VLOOKUP(AF114,CadMP!$B:$D,2,0),\"\")","v":""},{"$f":"IFERROR(VLOOKUP(AG114,CadMP!$B:$D,2,0),\"\")","v":""},{"$f":"IFERROR(VLOOKUP(AH114,CadMP!$B:$D,2,0),\"\")","v":""},{"$f":"IFERROR(VLOOKUP(AI114,CadMP!$B:$D,2,0),\"\")","v":""},{"$f":"IFERROR(VLOOKUP(AJ114,CadMP!$B:$D,2,0),\"\")","v":""},{"$f":"IFERROR(VLOOKUP(AK114,CadMP!$B:$D,2,0),\"\")","v":""},{"$f":"IFERROR(VLOOKUP(W114,CadMP!$B:$D,3,0),\"\")","v":""},{"$f":"IFERROR(VLOOKUP(X114,CadMP!$B:$D,3,0),\"\")","v":""},{"$f":"IFERROR(VLOOKUP(Y114,CadMP!$B:$D,3,0),\"\")","v":""},{"$f":"IFERROR(VLOOKUP(Z114,CadMP!$B:$D,3,0),\"\")","v":""},{"$f":"IFERROR(VLOOKUP(AA114,CadMP!$B:$D,3,0),\"\")","v":""},{"$f":"IFERROR(VLOOKUP(AB114,CadMP!$B:$D,3,0),\"\")","v":""},{"$f":"IFERROR(VLOOKUP(AC114,CadMP!$B:$D,3,0),\"\")","v":""},{"$f":"IFERROR(VLOOKUP(AD114,CadMP!$B:$D,3,0),\"\")","v":""},{"$f":"IFERROR(VLOOKUP(AE114,CadMP!$B:$D,3,0),\"\")","v":""},{"$f":"IFERROR(VLOOKUP(AF114,CadMP!$B:$D,3,0),\"\")","v":""},{"$f":"IFERROR(VLOOKUP(AG114,CadMP!$B:$D,3,0),\"\")","v":""},{"$f":"IFERROR(VLOOKUP(AH114,CadMP!$B:$D,3,0),\"\")","v":""},{"$f":"IFERROR(VLOOKUP(AI114,CadMP!$B:$D,3,0),\"\")","v":""},{"$f":"IFERROR(VLOOKUP(AJ114,CadMP!$B:$D,3,0),\"\")","v":""},{"$f":"IFERROR(VLOOKUP(AK114,CadMP!$B:$D,3,0),\"\")","v":""},0,0,0,0,0,0,0,0,0,0,0,0,0,0,0]
[114,null,null,0,0,null,null,null,null,null,null,0,0,null,null,null,null,null,null,null,1,0,null,null,null,null,null,null,null,null,null,null,null,null,null,null,null,null,null,null,null,null,null,null,null,null,null,null,null,null,null,null,{"$f":"IFERROR(VLOOKUP(W115,CadMP!$B:$D,2,0),\"\")","v":""},{"$f":"IFERROR(VLOOKUP(X115,CadMP!$B:$D,2,0),\"\")","v":""},{"$f":"IFERROR(VLOOKUP(Y115,CadMP!$B:$D,2,0),\"\")","v":""},{"$f":"IFERROR(VLOOKUP(Z115,CadMP!$B:$D,2,0),\"\")","v":""},{"$f":"IFERROR(VLOOKUP(AA115,CadMP!$B:$D,2,0),\"\")","v":""},{"$f":"IFERROR(VLOOKUP(AB115,CadMP!$B:$D,2,0),\"\")","v":""},{"$f":"IFERROR(VLOOKUP(AC115,CadMP!$B:$D,2,0),\"\")","v":""},{"$f":"IFERROR(VLOOKUP(AD115,CadMP!$B:$D,2,0),\"\")","v":""},{"$f":"IFERROR(VLOOKUP(AE115,CadMP!$B:$D,2,0),\"\")","v":""},{"$f":"IFERROR(VLOOKUP(AF115,CadMP!$B:$D,2,0),\"\")","v":""},{"$f":"IFERROR(VLOOKUP(AG115,CadMP!$B:$D,2,0),\"\")","v":""},{"$f":"IFERROR(VLOOKUP(AH115,CadMP!$B:$D,2,0),\"\")","v":""},{"$f":"IFERROR(VLOOKUP(AI115,CadMP!$B:$D,2,0),\"\")","v":""},{"$f":"IFERROR(VLOOKUP(AJ115,CadMP!$B:$D,2,0),\"\")","v":""},{"$f":"IFERROR(VLOOKUP(AK115,CadMP!$B:$D,2,0),\"\")","v":""},{"$f":"IFERROR(VLOOKUP(W115,CadMP!$B:$D,3,0),\"\")","v":""},{"$f":"IFERROR(VLOOKUP(X115,CadMP!$B:$D,3,0),\"\")","v":""},{"$f":"IFERROR(VLOOKUP(Y115,CadMP!$B:$D,3,0),\"\")","v":""},{"$f":"IFERROR(VLOOKUP(Z115,CadMP!$B:$D,3,0),\"\")","v":""},{"$f":"IFERROR(VLOOKUP(AA115,CadMP!$B:$D,3,0),\"\")","v":""},{"$f":"IFERROR(VLOOKUP(AB115,CadMP!$B:$D,3,0),\"\")","v":""},{"$f":"IFERROR(VLOOKUP(AC115,CadMP!$B:$D,3,0),\"\")","v":""},{"$f":"IFERROR(VLOOKUP(AD115,CadMP!$B:$D,3,0),\"\")","v":""},{"$f":"IFERROR(VLOOKUP(AE115,CadMP!$B:$D,3,0),\"\")","v":""},{"$f":"IFERROR(VLOOKUP(AF115,CadMP!$B:$D,3,0),\"\")","v":""},{"$f":"IFERROR(VLOOKUP(AG115,CadMP!$B:$D,3,0),\"\")","v":""},{"$f":"IFERROR(VLOOKUP(AH115,CadMP!$B:$D,3,0),\"\")","v":""},{"$f":"IFERROR(VLOOKUP(AI115,CadMP!$B:$D,3,0),\"\")","v":""},{"$f":"IFERROR(VLOOKUP(AJ115,CadMP!$B:$D,3,0),\"\")","v":""},{"$f":"IFERROR(VLOOKUP(AK115,CadMP!$B:$D,3,0),\"\")","v":""},0,0,0,0,0,0,0,0,0,0,0,0,0,0,0]
[115,null,null,0,0,null,null,null,null,null,null,0,0,null,null,null,null,null,null,null,1,0,null,null,null,null,null,null,null,null,null,null,null,null,null,null,null,null,null,null,null,null,null,null,null,null,null,null,null,null,null,null,{"$f":"IFERROR(VLOOKUP(W116,CadMP!$B:$D,2,0),\"\")","v":""},{"$f":"IFERROR(VLOOKUP(X116,CadMP!$B:$D,2,0),\"\")","v":""},{"$f":"IFERROR(VLOOKUP(Y116,CadMP!$B:$D,2,0),\"\")","v":""},{"$f":"IFERROR(VLOOKUP(Z116,CadMP!$B:$D,2,0),\"\")","v":""},{"$f":"IFERROR(VLOOKUP(AA116,CadMP!$B:$D,2,0),\"\")","v":""},{"$f":"IFERROR(VLOOKUP(AB116,CadMP!$B:$D,2,0),\"\")","v":""},{"$f":"IFERROR(VLOOKUP(AC116,CadMP!$B:$D,2,0),\"\")","v":""},{"$f":"IFERROR(VLOOKUP(AD116,CadMP!$B:$D,2,0),\"\")","v":""},{"$f":"IFERROR(VLOOKUP(AE116,CadMP!$B:$D,2,0),\"\")","v":""},{"$f":"IFERROR(VLOOKUP(AF116,CadMP!$B:$D,2,0),\"\")","v":""},{"$f":"IFERROR(VLOOKUP(AG116,CadMP!$B:$D,2,0),\"\")","v":""},{"$f":"IFERROR(VLOOKUP(AH116,CadMP!$B:$D,2,0),\"\")","v":""},{"$f":"IFERROR(VLOOKUP(AI116,CadMP!$B:$D,2,0),\"\")","v":""},{"$f":"IFERROR(VLOOKUP(AJ116,CadMP!$B:$D,2,0),\"\")","v":""},{"$f":"IFERROR(VLOOKUP(AK116,CadMP!$B:$D,2,0),\"\")","v":""},{"$f":"IFERROR(VLOOKUP(W116,CadMP!$B:$D,3,0),\"\")","v":""},{"$f":"IFERROR(VLOOKUP(X116,CadMP!$B:$D,3,0),\"\")","v":""},{"$f":"IFERROR(VLOOKUP(Y116,CadMP!$B:$D,3,0),\"\")","v":""},{"$f":"IFERROR(VLOOKUP(Z116,CadMP!$B:$D,3,0),\"\")","v":""},{"$f":"IFERROR(VLOOKUP(AA116,CadMP!$B:$D,3,0),\"\")","v":""},{"$f":"IFERROR(VLOOKUP(AB116,CadMP!$B:$D,3,0),\"\")","v":""},{"$f":"IFERROR(VLOOKUP(AC116,CadMP!$B:$D,3,0),\"\")","v":""},{"$f":"IFERROR(VLOOKUP(AD116,CadMP!$B:$D,3,0),\"\")","v":""},{"$f":"IFERROR(VLOOKUP(AE116,CadMP!$B:$D,3,0),\"\")","v":""},{"$f":"IFERROR(VLOOKUP(AF116,CadMP!$B:$D,3,0),\"\")","v":""},{"$f":"IFERROR(VLOOKUP(AG116,CadMP!$B:$D,3,0),\"\")","v":""},{"$f":"IFERROR(VLOOKUP(AH116,CadMP!$B:$D,3,0),\"\")","v":""},{"$f":"IFERROR(VLOOKUP(AI116,CadMP!$B:$D,3,0),\"\")","v":""},{"$f":"IFERROR(VLOOKUP(AJ116,CadMP!$B:$D,3,0),\"\")","v":""},{"$f":"IFERROR(VLOOKUP(AK116,CadMP!$B:$D,3,0),\"\")","v":""},0,0,0,0,0,0,0,0,0,0,0,0,0,0,0]
[116,null,null,0,0,null,null,null,null,null,null,0,0,null,null,null,null,null,null,null,1,0,null,null,null,null,null,null,null,null,null,null,null,null,null,null,null,null,null,null,null,null,null,null,null,null,null,null,null,null,null,null,{"$f":"IFERROR(VLOOKUP(W117,CadMP!$B:$D,2,0),\"\")","v":""},{"$f":"IFERROR(VLOOKUP(X117,CadMP!$B:$D,2,0),\"\")","v":""},{"$f":"IFERROR(VLOOKUP(Y117,CadMP!$B:$D,2,0),\"\")","v":""},{"$f":"IFERROR(VLOOKUP(Z117,CadMP!$B:$D,2,0),\"\")","v":""},{"$f":"IFERROR(VLOOKUP(AA117,CadMP!$B:$D,2,0),\"\")","v":""},{"$f":"IFERROR(VLOOKUP(AB117,CadMP!$B:$D,2,0),\"\")","v":""},{"$f":"IFERROR(VLOOKUP(AC117,CadMP!$B:$D,2,0),\"\")","v":""},{"$f":"IFERROR(VLOOKUP(AD117,CadMP!$B:$D,2,0),\"\")","v":""},{"$f":"IFERROR(VLOOKUP(AE117,CadMP!$B:$D,2,0),\"\")","v":""},{"$f":"IFERROR(VLOOKUP(AF117,CadMP!$B:$D,2,0),\"\")","v":""},{"$f":"IFERROR(VLOOKUP(AG117,CadMP!$B:$D,2,0),\"\")","v":""},{"$f":"IFERROR(VLOOKUP(AH117,CadMP!$B:$D,2,0),\"\")","v":""},{"$f":"IFERROR(VLOOKUP(AI117,CadMP!$B:$D,2,0),\"\")","v":""},{"$f":"IFERROR(VLOOKUP(AJ117,CadMP!$B:$D,2,0),\"\")","v":""},{"$f":"IFERROR(VLOOKUP(AK117,CadMP!$B:$D,2,0),\"\")","v":""},{"$f":"IFERROR(VLOOKUP(W117,CadMP!$B:$D,3,0),\"\")","v":""},{"$f":"IFERROR(VLOOKUP(X117,CadMP!$B:$D,3,0),\"\")","v":""},{"$f":"IFERROR(VLOOKUP(Y117,CadMP!$B:$D,3,0),\"\")","v":""},{"$f":"IFERROR(VLOOKUP(Z117,CadMP!$B:$D,3,0),\"\")","v":""},{"$f":"IFERROR(VLOOKUP(AA117,CadMP!$B:$D,3,0),\"\")","v":""},{"$f":"IFERROR(VLOOKUP(AB117,CadMP!$B:$D,3,0),\"\")","v":""},{"$f":"IFERROR(VLOOKUP(AC117,CadMP!$B:$D,3,0),\"\")","v":""},{"$f":"IFERROR(VLOOKUP(AD117,CadMP!$B:$D,3,0),\"\")","v":""},{"$f":"IFERROR(VLOOKUP(AE117,CadMP!$B:$D,3,0),\"\")","v":""},{"$f":"IFERROR(VLOOKUP(AF117,CadMP!$B:$D,3,0),\"\")","v":""},{"$f":"IFERROR(VLOOKUP(AG117,CadMP!$B:$D,3,0),\"\")","v":""},{"$f":"IFERROR(VLOOKUP(AH117,CadMP!$B:$D,3,0),\"\")","v":""},{"$f":"IFERROR(VLOOKUP(AI117,CadMP!$B:$D,3,0),\"\")","v":""},{"$f":"IFERROR(VLOOKUP(AJ117,CadMP!$B:$D,3,0),\"\")","v":""},{"$f":"IFERROR(VLOOKUP(AK117,CadMP!$B:$D,3,0),\"\")","v":""},0,0,0,0,0,0,0,0,0,0,0,0,0,0,0]
[117,null,null,0,0,null,null,null,null,null,null,0,0,null,null,null,null,null,null,null,1,0,null,null,null,null,null,null,null,null,null,null,null,null,null,null,null,null,null,null,null,null,null,null,null,null,null,null,null,null,null,null,{"$f":"IFERROR(VLOOKUP(W118,CadMP!$B:$D,2,0),\"\")","v":""},{"$f":"IFERROR(VLOOKUP(X118,CadMP!$B:$D,2,0),\"\")","v":""},{"$f":"IFERROR(VLOOKUP(Y118,CadMP!$B:$D,2,0),\"\")","v":""},{"$f":"IFERROR(VLOOKUP(Z118,CadMP!$B:$D,2,0),\"\")","v":""},{"$f":"IFERROR(VLOOKUP(AA118,CadMP!$B:$D,2,0),\"\")","v":""},{"$f":"IFERROR(VLOOKUP(AB118,CadMP!$B:$D,2,0),\"\")","v":""},{"$f":"IFERROR(VLOOKUP(AC118,CadMP!$B:$D,2,0),\"\")","v":""},{"$f":"IFERROR(VLOOKUP(AD118,CadMP!$B:$D,2,0),\"\")","v":""},{"$f":"IFERROR(VLOOKUP(AE118,CadMP!$B:$D,2,0),\"\")","v":""},{"$f":"IFERROR(VLOOKUP(AF118,CadMP!$B:$D,2,0),\"\")","v":""},{"$f":"IFERROR(VLOOKUP(AG118,CadMP!$B:$D,2,0),\"\")","v":""},{"$f":"IFERROR(VLOOKUP(AH118,CadMP!$B:$D,2,0),\"\")","v":""},{"$f":"IFERROR(VLOOKUP(AI118,CadMP!$B:$D,2,0),\"\")","v":""},{"$f":"IFERROR(VLOOKUP(AJ118,CadMP!$B:$D,2,0),\"\")","v":""},{"$f":"IFERROR(VLOOKUP(AK118,CadMP!$B:$D,2,0),\"\")","v":""},{"$f":"IFERROR(VLOOKUP(W118,CadMP!$B:$D,3,0),\"\")","v":""},{"$f":"IFERROR(VLOOKUP(X118,CadMP!$B:$D,3,0),\"\")","v":""},{"$f":"IFERROR(VLOOKUP(Y118,CadMP!$B:$D,3,0),\"\")","v":""},{"$f":"IFERROR(VLOOKUP(Z118,CadMP!$B:$D,3,0),\"\")","v":""},{"$f":"IFERROR(VLOOKUP(AA118,CadMP!$B:$D,3,0),\"\")","v":""},{"$f":"IFERROR(VLOOKUP(AB118,CadMP!$B:$D,3,0),\"\")","v":""},{"$f":"IFERROR(VLOOKUP(AC118,CadMP!$B:$D,3,0),\"\")","v":""},{"$f":"IFERROR(VLOOKUP(AD118,CadMP!$B:$D,3,0),\"\")","v":""},{"$f":"IFERROR(VLOOKUP(AE118,CadMP!$B:$D,3,0),\"\")","v":""},{"$f":"IFERROR(VLOOKUP(AF118,CadMP!$B:$D,3,0),\"\")","v":""},{"$f":"IFERROR(VLOOKUP(AG118,CadMP!$B:$D,3,0),\"\")","v":""},{"$f":"IFERROR(VLOOKUP(AH118,CadMP!$B:$D,3,0),\"\")","v":""},{"$f":"IFERROR(VLOOKUP(AI118,CadMP!$B:$D,3,0),\"\")","v":""},{"$f":"IFERROR(VLOOKUP(AJ118,CadMP!$B:$D,3,0),\"\")","v":""},{"$f":"IFERROR(VLOOKUP(AK118,CadMP!$B:$D,3,0),\"\")","v":""},0,0,0,0,0,0,0,0,0,0,0,0,0,0,0]
[118,null,null,0,0,null,null,null,null,null,null,0,0,null,null,null,null,null,null,null,1,0,null,null,null,null,null,null,null,null,null,null,null,null,null,null,null,null,null,null,null,null,null,null,null,null,null,null,null,null,null,null,{"$f":"IFERROR(VLOOKUP(W119,CadMP!$B:$D,2,0),\"\")","v":""},{"$f":"IFERROR(VLOOKUP(X119,CadMP!$B:$D,2,0),\"\")","v":""},{"$f":"IFERROR(VLOOKUP(Y119,CadMP!$B:$D,2,0),\"\")","v":""},{"$f":"IFERROR(VLOOKUP(Z119,CadMP!$B:$D,2,0),\"\")","v":""},{"$f":"IFERROR(VLOOKUP(AA119,CadMP!$B:$D,2,0),\"\")","v":""},{"$f":"IFERROR(VLOOKUP(AB119,CadMP!$B:$D,2,0),\"\")","v":""},{"$f":"IFERROR(VLOOKUP(AC119,CadMP!$B:$D,2,0),\"\")","v":""},{"$f":"IFERROR(VLOOKUP(AD119,CadMP!$B:$D,2,0),\"\")","v":""},{"$f":"IFERROR(VLOOKUP(AE119,CadMP!$B:$D,2,0),\"\")","v":""},{"$f":"IFERROR(VLOOKUP(AF119,CadMP!$B:$D,2,0),\"\")","v":""},{"$f":"IFERROR(VLOOKUP(AG119,CadMP!$B:$D,2,0),\"\")","v":""},{"$f":"IFERROR(VLOOKUP(AH119,CadMP!$B:$D,2,0),\"\")","v":""},{"$f":"IFERROR(VLOOKUP(AI119,CadMP!$B:$D,2,0),\"\")","v":""},{"$f":"IFERROR(VLOOKUP(AJ119,CadMP!$B:$D,2,0),\"\")","v":""},{"$f":"IFERROR(VLOOKUP(AK119,CadMP!$B:$D,2,0),\"\")","v":""},{"$f":"IFERROR(VLOOKUP(W119,CadMP!$B:$D,3,0),\"\")","v":""},{"$f":"IFERROR(VLOOKUP(X119,CadMP!$B:$D,3,0),\"\")","v":""},{"$f":"IFERROR(VLOOKUP(Y119,CadMP!$B:$D,3,0),\"\")","v":""},{"$f":"IFERROR(VLOOKUP(Z119,CadMP!$B:$D,3,0),\"\")","v":""},{"$f":"IFERROR(VLOOKUP(AA119,CadMP!$B:$D,3,0),\"\")","v":""},{"$f":"IFERROR(VLOOKUP(AB119,CadMP!$B:$D,3,0),\"\")","v":""},{"$f":"IFERROR(VLOOKUP(AC119,CadMP!$B:$D,3,0),\"\")","v":""},{"$f":"IFERROR(VLOOKUP(AD119,CadMP!$B:$D,3,0),\"\")","v":""},{"$f":"IFERROR(VLOOKUP(AE119,CadMP!$B:$D,3,0),\"\")","v":""},{"$f":"IFERROR(VLOOKUP(AF119,CadMP!$B:$D,3,0),\"\")","v":""},{"$f":"IFERROR(VLOOKUP(AG119,CadMP!$B:$D,3,0),\"\")","v":""},{"$f":"IFERROR(VLOOKUP(AH119,CadMP!$B:$D,3,0),\"\")","v":""},{"$f":"IFERROR(VLOOKUP(AI119,CadMP!$B:$D,3,0),\"\")","v":""},{"$f":"IFERROR(VLOOKUP(AJ119,CadMP!$B:$D,3,0),\"\")","v":""},{"$f":"IFERROR(VLOOKUP(AK119,CadMP!$B:$D,3,0),\"\")","v":""},0,0,0,0,0,0,0,0,0,0,0,0,0,0,0]
[119,null,null,0,0,null,null,null,null,null,null,0,0,null,null,null,null,null,null,null,1,0,null,null,null,null,null,null,null,null,null,null,null,null,null,null,null,null,null,null,null,null,null,null,null,null,null,null,null,null,null,null,{"$f":"IFERROR(VLOOKUP(W120,CadMP!$B:$D,2,0),\"\")","v":""},{"$f":"IFERROR(VLOOKUP(X120,CadMP!$B:$D,2,0),\"\")","v":""},{"$f":"IFERROR(VLOOKUP(Y120,CadMP!$B:$D,2,0),\"\")","v":""},{"$f":"IFERROR(VLOOKUP(Z120,CadMP!$B:$D,2,0),\"\")","v":""},{"$f":"IFERROR(VLOOKUP(AA120,CadMP!$B:$D,2,0),\"\")","v":""},{"$f":"IFERROR(VLOOKUP(AB120,CadMP!$B:$D,2,0),\"\")","v":""},{"$f":"IFERROR(VLOOKUP(AC120,CadMP!$B:$D,2,0),\"\")","v":""},{"$f":"IFERROR(VLOOKUP(AD120,CadMP!$B:$D,2,0),\"\")","v":""},{"$f":"IFERROR(VLOOKUP(AE120,CadMP!$B:$D,2,0),\"\")","v":""},{"$f":"IFERROR(VLOOKUP(AF120,CadMP!$B:$D,2,0),\"\")","v":""},{"$f":"IFERROR(VLOOKUP(AG120,CadMP!$B:$D,2,0),\"\")","v":""},{"$f":"IFERROR(VLOOKUP(AH120,CadMP!$B:$D,2,0),\"\")","v":""},{"$f":"IFERROR(VLOOKUP(AI120,CadMP!$B:$D,2,0),\"\")","v":""},{"$f":"IFERROR(VLOOKUP(AJ120,CadMP!$B:$D,2,0),\"\")","v":""},{"$f":"IFERROR(VLOOKUP(AK120,CadMP!$B:$D,2,0),\"\")","v":""},{"$f":"IFERROR(VLOOKUP(W120,CadMP!$B:$D,3,0),\"\")","v":""},{"$f":"IFERROR(VLOOKUP(X120,CadMP!$B:$D,3,0),\"\")","v":""},{"$f":"IFERROR(VLOOKUP(Y120,CadMP!$B:$D,3,0),\"\")","v":""},{"$f":"IFERROR(VLOOKUP(Z120,CadMP!$B:$D,3,0),\"\")","v":""},{"$f":"IFERROR(VLOOKUP(AA120,CadMP!$B:$D,3,0),\"\")","v":""},{"$f":"IFERROR(VLOOKUP(AB120,CadMP!$B:$D,3,0),\"\")","v":""},{"$f":"IFERROR(VLOOKUP(AC120,CadMP!$B:$D,3,0),\"\")","v":""},{"$f":"IFERROR(VLOOKUP(AD120,CadMP!$B:$D,3,0),\"\")","v":""},{"$f":"IFERROR(VLOOKUP(AE120,CadMP!$B:$D,3,0),\"\")","v":""},{"$f":"IFERROR(VLOOKUP(AF120,CadMP!$B:$D,3,0),\"\")","v":""},{"$f":"IFERROR(VLOOKUP(AG120,CadMP!$B:$D,3,0),\"\")","v":""},{"$f":"IFERROR(VLOOKUP(AH120,CadMP!$B:$D,3,0),\"\")","v":""},{"$f":"IFERROR(VLOOKUP(AI120,CadMP!$B:$D,3,0),\"\")","v":""},{"$f":"IFERROR(VLOOKUP(AJ120,CadMP!$B:$D,3,0),\"\")","v":""},{"$f":"IFERROR(VLOOKUP(AK120,CadMP!$B:$D,3,0),\"\")","v":""},0,0,0,0,0,0,0,0,0,0,0,0,0,0,0]
[120,null,null,0,0,null,null,null,null,null,null,0,0,null,null,null,null,null,null,null,1,0,null,null,null,null,null,null,null,null,null,null,null,null,null,null,null,null,null,null,null,null,null,null,null,null,null,null,null,null,null,null,{"$f":"IFERROR(VLOOKUP(W121,CadMP!$B:$D,2,0),\"\")","v":""},{"$f":"IFERROR(VLOOKUP(X121,CadMP!$B:$D,2,0),\"\")","v":""},{"$f":"IFERROR(VLOOKUP(Y121,CadMP!$B:$D,2,0),\"\")","v":""},{"$f":"IFERROR(VLOOKUP(Z121,CadMP!$B:$D,2,0),\"\")","v":""},{"$f":"IFERROR(VLOOKUP(AA121,CadMP!$B:$D,2,0),\"\")","v":""},{"$f":"IFERROR(VLOOKUP(AB121,CadMP!$B:$D,2,0),\"\")","v":""},{"$f":"IFERROR(VLOOKUP(AC121,CadMP!$B:$D,2,0),\"\")","v":""},{"$f":"IFERROR(VLOOKUP(AD121,CadMP!$B:$D,2,0),\"\")","v":""},{"$f":"IFERROR(VLOOKUP(AE121,CadMP!$B:$D,2,0),\"\")","v":""},{"$f":"IFERROR(VLOOKUP(AF121,CadMP!$B:$D,2,0),\"\")","v":""},{"$f":"IFERROR(VLOOKUP(AG121,CadMP!$B:$D,2,0),\"\")","v":""},{"$f":"IFERROR(VLOOKUP(AH121,CadMP!$B:$D,2,0),\"\")","v":""},{"$f":"IFERROR(VLOOKUP(AI121,CadMP!$B:$D,2,0),\"\")","v":""},{"$f":"IFERROR(VLOOKUP(AJ121,CadMP!$B:$D,2,0),\"\")","v":""},{"$f":"IFERROR(VLOOKUP(AK121,CadMP!$B:$D,2,0),\"\")","v":""},{"$f":"IFERROR(VLOOKUP(W121,CadMP!$B:$D,3,0),\"\")","v":""},{"$f":"IFERROR(VLOOKUP(X121,CadMP!$B:$D,3,0),\"\")","v":""},{"$f":"IFERROR(VLOOKUP(Y121,CadMP!$B:$D,3,0),\"\")","v":""},{"$f":"IFERROR(VLOOKUP(Z121,CadMP!$B:$D,3,0),\"\")","v":""},{"$f":"IFERROR(VLOOKUP(AA121,CadMP!$B:$D,3,0),\"\")","v":""},{"$f":"IFERROR(VLOOKUP(AB121,CadMP!$B:$D,3,0),\"\")","v":""},{"$f":"IFERROR(VLOOKUP(AC121,CadMP!$B:$D,3,0),\"\")","v":""},{"$f":"IFERROR(VLOOKUP(AD121,CadMP!$B:$D,3,0),\"\")","v":""},{"$f":"IFERROR(VLOOKUP(AE121,CadMP!$B:$D,3,0),\"\")","v":""},{"$f":"IFERROR(VLOOKUP(AF121,CadMP!$B:$D,3,0),\"\")","v":""},{"$f":"IFERROR(VLOOKUP(AG121,CadMP!$B:$D,3,0),\"\")","v":""},{"$f":"IFERROR(VLOOKUP(AH121,CadMP!$B:$D,3,0),\"\")","v":""},{"$f":"IFERROR(VLOOKUP(AI121,CadMP!$B:$D,3,0),\"\")","v":""},{"$f":"IFERROR(VLOOKUP(AJ121,CadMP!$B:$D,3,0),\"\")","v":""},{"$f":"IFERROR(VLOOKUP(AK121,CadMP!$B:$D,3,0),\"\")","v":""},0,0,0,0,0,0,0,0,0,0,0,0,0,0,0]
[121,null,null,0,0,null,null,null,null,null,null,0,0,null,null,null,null,null,null,null,1,0,null,null,null,null,null,null,null,null,null,null,null,null,null,null,null,null,null,null,null,null,null,null,null,null,null,null,null,null,null,null,{"$f":"IFERROR(VLOOKUP(W122,CadMP!$B:$D,2,0),\"\")","v":""},{"$f":"IFERROR(VLOOKUP(X122,CadMP!$B:$D,2,0),\"\")","v":""},{"$f":"IFERROR(VLOOKUP(Y122,CadMP!$B:$D,2,0),\"\")","v":""},{"$f":"IFERROR(VLOOKUP(Z122,CadMP!$B:$D,2,0),\"\")","v":""},{"$f":"IFERROR(VLOOKUP(AA122,CadMP!$B:$D,2,0),\"\")","v":""},{"$f":"IFERROR(VLOOKUP(AB122,CadMP!$B:$D,2,0),\"\")","v":""},{"$f":"IFERROR(VLOOKUP(AC122,CadMP!$B:$D,2,0),\"\")","v":""},{"$f":"IFERROR(VLOOKUP(AD122,CadMP!$B:$D,2,0),\"\")","v":""},{"$f":"IFERROR(VLOOKUP(AE122,CadMP!$B:$D,2,0),\"\")","v":""},{"$f":"IFERROR(VLOOKUP(AF122,CadMP!$B:$D,2,0),\"\")","v":""},{"$f":"IFERROR(VLOOKUP(AG122,CadMP!$B:$D,2,0),\"\")","v":""},{"$f":"IFERROR(VLOOKUP(AH122,CadMP!$B:$D,2,0),\"\")","v":""},{"$f":"IFERROR(VLOOKUP(AI122,CadMP!$B:$D,2,0),\"\")","v":""},{"$f":"IFERROR(VLOOKUP(AJ122,CadMP!$B:$D,2,0),\"\")","v":""},{"$f":"IFERROR(VLOOKUP(AK122,CadMP!$B:$D,2,0),\"\")","v":""},{"$f":"IFERROR(VLOOKUP(W122,CadMP!$B:$D,3,0),\"\")","v":""},{"$f":"IFERROR(VLOOKUP(X122,CadMP!$B:$D,3,0),\"\")","v":""},{"$f":"IFERROR(VLOOKUP(Y122,CadMP!$B:$D,3,0),\"\")","v":""},{"$f":"IFERROR(VLOOKUP(Z122,CadMP!$B:$D,3,0),\"\")","v":""},{"$f":"IFERROR(VLOOKUP(AA122,CadMP!$B:$D,3,0),\"\")","v":""},{"$f":"IFERROR(VLOOKUP(AB122,CadMP!$B:$D,3,0),\"\")","v":""},{"$f":"IFERROR(VLOOKUP(AC122,CadMP!$B:$D,3,0),\"\")","v":""},{"$f":"IFERROR(VLOOKUP(AD122,CadMP!$B:$D,3,0),\"\")","v":""},{"$f":"IFERROR(VLOOKUP(AE122,CadMP!$B:$D,3,0),\"\")","v":""},{"$f":"IFERROR(VLOOKUP(AF122,CadMP!$B:$D,3,0),\"\")","v":""},{"$f":"IFERROR(VLOOKUP(AG122,CadMP!$B:$D,3,0),\"\")","v":""},{"$f":"IFERROR(VLOOKUP(AH122,CadMP!$B:$D,3,0),\"\")","v":""},{"$f":"IFERROR(VLOOKUP(AI122,CadMP!$B:$D,3,0),\"\")","v":""},{"$f":"IFERROR(VLOOKUP(AJ122,CadMP!$B:$D,3,0),\"\")","v":""},{"$f":"IFERROR(VLOOKUP(AK122,CadMP!$B:$D,3,0),\"\")","v":""},0,0,0,0,0,0,0,0,0,0,0,0,0,0,0]
[122,null,null,0,0,null,null,null,null,null,null,0,0,null,null,null,null,null,null,null,1,0,null,null,null,null,null,null,null,null,null,null,null,null,null,null,null,null,null,null,null,null,null,null,null,null,null,null,null,null,null,null,{"$f":"IFERROR(VLOOKUP(W123,CadMP!$B:$D,2,0),\"\")","v":""},{"$f":"IFERROR(VLOOKUP(X123,CadMP!$B:$D,2,0),\"\")","v":""},{"$f":"IFERROR(VLOOKUP(Y123,CadMP!$B:$D,2,0),\"\")","v":""},{"$f":"IFERROR(VLOOKUP(Z123,CadMP!$B:$D,2,0),\"\")","v":""},{"$f":"IFERROR(VLOOKUP(AA123,CadMP!$B:$D,2,0),\"\")","v":""},{"$f":"IFERROR(VLOOKUP(AB123,CadMP!$B:$D,2,0),\"\")","v":""},{"$f":"IFERROR(VLOOKUP(AC123,CadMP!$B:$D,2,0),\"\")","v":""},{"$f":"IFERROR(VLOOKUP(AD123,CadMP!$B:$D,2,0),\"\")","v":""},{"$f":"IFERROR(VLOOKUP(AE123,CadMP!$B:$D,2,0),\"\")","v":""},{"$f":"IFERROR(VLOOKUP(AF123,CadMP!$B:$D,2,0),\"\")","v":""},{"$f":"IFERROR(VLOOKUP(AG123,CadMP!$B:$D,2,0),\"\")","v":""},{"$f":"IFERROR(VLOOKUP(AH123,CadMP!$B:$D,2,0),\"\")","v":""},{"$f":"IFERROR(VLOOKUP(AI123,CadMP!$B:$D,2,0),\"\")","v":""},{"$f":"IFERROR(VLOOKUP(AJ123,CadMP!$B:$D,2,0),\"\")","v":""},{"$f":"IFERROR(VLOOKUP(AK123,CadMP!$B:$D,2,0),\"\")","v":""},{"$f":"IFERROR(VLOOKUP(W123,CadMP!$B:$D,3,0),\"\")","v":""},{"$f":"IFERROR(VLOOKUP(X123,CadMP!$B:$D,3,0),\"\")","v":""},{"$f":"IFERROR(VLOOKUP(Y123,CadMP!$B:$D,3,0),\"\")","v":""},{"$f":"IFERROR(VLOOKUP(Z123,CadMP!$B:$D,3,0),\"\")","v":""},{"$f":"IFERROR(VLOOKUP(AA123,CadMP!$B:$D,3,0),\"\")","v":""},{"$f":"IFERROR(VLOOKUP(AB123,CadMP!$B:$D,3,0),\"\")","v":""},{"$f":"IFERROR(VLOOKUP(AC123,CadMP!$B:$D,3,0),\"\")","v":""},{"$f":"IFERROR(VLOOKUP(AD123,CadMP!$B:$D,3,0),\"\")","v":""},{"$f":"IFERROR(VLOOKUP(AE123,CadMP!$B:$D,3,0),\"\")","v":""},{"$f":"IFERROR(VLOOKUP(AF123,CadMP!$B:$D,3,0),\"\")","v":""},{"$f":"IFERROR(VLOOKUP(AG123,CadMP!$B:$D,3,0),\"\")","v":""},{"$f":"IFERROR(VLOOKUP(AH123,CadMP!$B:$D,3,0),\"\")","v":""},{"$f":"IFERROR(VLOOKUP(AI123,CadMP!$B:$D,3,0),\"\")","v":""},{"$f":"IFERROR(VLOOKUP(AJ123,CadMP!$B:$D,3,0),\"\")","v":""},{"$f":"IFERROR(VLOOKUP(AK123,CadMP!$B:$D,3,0),\"\")","v":""},0,0,0,0,0,0,0,0,0,0,0,0,0,0,0]
[123,null,null,0,0,null,null,null,null,null,null,0,0,null,null,null,null,null,null,null,1,0,null,null,null,null,null,null,null,null,null,null,null,null,null,null,null,null,null,null,null,null,null,null,null,null,null,null,null,null,null,null,{"$f":"IFERROR(VLOOKUP(W124,CadMP!$B:$D,2,0),\"\")","v":""},{"$f":"IFERROR(VLOOKUP(X124,CadMP!$B:$D,2,0),\"\")","v":""},{"$f":"IFERROR(VLOOKUP(Y124,CadMP!$B:$D,2,0),\"\")","v":""},{"$f":"IFERROR(VLOOKUP(Z124,CadMP!$B:$D,2,0),\"\")","v":""},{"$f":"IFERROR(VLOOKUP(AA124,CadMP!$B:$D,2,0),\"\")","v":""},{"$f":"IFERROR(VLOOKUP(AB124,CadMP!$B:$D,2,0),\"\")","v":""},{"$f":"IFERROR(VLOOKUP(AC124,CadMP!$B:$D,2,0),\"\")","v":""},{"$f":"IFERROR(VLOOKUP(AD124,CadMP!$B:$D,2,0),\"\")","v":""},{"$f":"IFERROR(VLOOKUP(AE124,CadMP!$B:$D,2,0),\"\")","v":""},{"$f":"IFERROR(VLOOKUP(AF124,CadMP!$B:$D,2,0),\"\")","v":""},{"$f":"IFERROR(VLOOKUP(AG124,CadMP!$B:$D,2,0),\"\")","v":""},{"$f":"IFERROR(VLOOKUP(AH124,CadMP!$B:$D,2,0),\"\")","v":""},{"$f":"IFERROR(VLOOKUP(AI124,CadMP!$B:$D,2,0),\"\")","v":""},{"$f":"IFERROR(VLOOKUP(AJ124,CadMP!$B:$D,2,0),\"\")","v":""},{"$f":"IFERROR(VLOOKUP(AK124,CadMP!$B:$D,2,0),\"\")","v":""},{"$f":"IFERROR(VLOOKUP(W124,CadMP!$B:$D,3,0),\"\")","v":""},{"$f":"IFERROR(VLOOKUP(X124,CadMP!$B:$D,3,0),\"\")","v":""},{"$f":"IFERROR(VLOOKUP(Y124,CadMP!$B:$D,3,0),\"\")","v":""},{"$f":"IFERROR(VLOOKUP(Z124,CadMP!$B:$D,3,0),\"\")","v":""},{"$f":"IFERROR(VLOOKUP(AA124,CadMP!$B:$D,3,0),\"\")","v":""},{"$f":"IFERROR(VLOOKUP(AB124,CadMP!$B:$D,3,0),\"\")","v":""},{"$f":"IFERROR(VLOOKUP(AC124,CadMP!$B:$D,3,0),\"\")","v":""},{"$f":"IFERROR(VLOOKUP(AD124,CadMP!$B:$D,3,0),\"\")","v":""},{"$f":"IFERROR(VLOOKUP(AE124,CadMP!$B:$D,3,0),\"\")","v":""},{"$f":"IFERROR(VLOOKUP(AF124,CadMP!$B:$D,3,0),\"\")","v":""},{"$f":"IFERROR(VLOOKUP(AG124,CadMP!$B:$D,3,0),\"\")","v":""},{"$f":"IFERROR(VLOOKUP(AH124,CadMP!$B:$D,3,0),\"\")","v":""},{"$f":"IFERROR(VLOOKUP(AI124,CadMP!$B:$D,3,0),\"\")","v":""},{"$f":"IFERROR(VLOOKUP(AJ124,CadMP!$B:$D,3,0),\"\")","v":""},{"$f":"IFERROR(VLOOKUP(AK124,CadMP!$B:$D,3,0),\"\")","v":""},0,0,0,0,0,0,0,0,0,0,0,0,0,0,0]
[124,null,null,0,0,null,null,null,null,null,null,0,0,null,null,null,null,null,null,null,1,0,null,null,null,null,null,null,null,null,null,null,null,null,null,null,null,null,null,null,null,null,null,null,null,null,null,null,null,null,null,null,{"$f":"IFERROR(VLOOKUP(W125,CadMP!$B:$D,2,0),\"\")","v":""},{"$f":"IFERROR(VLOOKUP(X125,CadMP!$B:$D,2,0),\"\")","v":""},{"$f":"IFERROR(VLOOKUP(Y125,CadMP!$B:$D,2,0),\"\")","v":""},{"$f":"IFERROR(VLOOKUP(Z125,CadMP!$B:$D,2,0),\"\")","v":""},{"$f":"IFERROR(VLOOKUP(AA125,CadMP!$B:$D,2,0),\"\")","v":""},{"$f":"IFERROR(VLOOKUP(AB125,CadMP!$B:$D,2,0),\"\")","v":""},{"$f":"IFERROR(VLOOKUP(AC125,CadMP!$B:$D,2,0),\"\")","v":""},{"$f":"IFERROR(VLOOKUP(AD125,CadMP!$B:$D,2,0),\"\")","v":""},{"$f":"IFERROR(VLOOKUP(AE125,CadMP!$B:$D,2,0),\"\")","v":""},{"$f":"IFERROR(VLOOKUP(AF125,CadMP!$B:$D,2,0),\"\")","v":""},{"$f":"IFERROR(VLOOKUP(AG125,CadMP!$B:$D,2,0),\"\")","v":""},{"$f":"IFERROR(VLOOKUP(AH125,CadMP!$B:$D,2,0),\"\")","v":""},{"$f":"IFERROR(VLOOKUP(AI125,CadMP!$B:$D,2,0),\"\")","v":""},{"$f":"IFERROR(VLOOKUP(AJ125,CadMP!$B:$D,2,0),\"\")","v":""},{"$f":"IFERROR(VLOOKUP(AK125,CadMP!$B:$D,2,0),\"\")","v":""},{"$f":"IFERROR(VLOOKUP(W125,CadMP!$B:$D,3,0),\"\")","v":""},{"$f":"IFERROR(VLOOKUP(X125,CadMP!$B:$D,3,0),\"\")","v":""},{"$f":"IFERROR(VLOOKUP(Y125,CadMP!$B:$D,3,0),\"\")","v":""},{"$f":"IFERROR(VLOOKUP(Z125,CadMP!$B:$D,3,0),\"\")","v":""},{"$f":"IFERROR(VLOOKUP(AA125,CadMP!$B:$D,3,0),\"\")","v":""},{"$f":"IFERROR(VLOOKUP(AB125,CadMP!$B:$D,3,0),\"\")","v":""},{"$f":"IFERROR(VLOOKUP(AC125,CadMP!$B:$D,3,0),\"\")","v":""},{"$f":"IFERROR(VLOOKUP(AD125,CadMP!$B:$D,3,0),\"\")","v":""},{"$f":"IFERROR(VLOOKUP(AE125,CadMP!$B:$D,3,0),\"\")","v":""},{"$f":"IFERROR(VLOOKUP(AF125,CadMP!$B:$D,3,0),\"\")","v":""},{"$f":"IFERROR(VLOOKUP(AG125,CadMP!$B:$D,3,0),\"\")","v":""},{"$f":"IFERROR(VLOOKUP(AH125,CadMP!$B:$D,3,0),\"\")","v":""},{"$f":"IFERROR(VLOOKUP(AI125,CadMP!$B:$D,3,0),\"\")","v":""},{"$f":"IFERROR(VLOOKUP(AJ125,CadMP!$B:$D,3,0),\"\")","v":""},{"$f":"IFERROR(VLOOKUP(AK125,CadMP!$B:$D,3,0),\"\")","v":""},0,0,0,0,0,0,0,0,0,0,0,0,0,0,0]
[125,null,null,0,0,null,null,null,null,null,null,0,0,null,null,null,null,null,null,null,1,0,null,null,null,null,null,null,null,null,null,null,null,null,null,null,null,null,null,null,null,null,null,null,null,null,null,null,null,null,null,null,{"$f":"IFERROR(VLOOKUP(W126,CadMP!$B:$D,2,0),\"\")","v":""},{"$f":"IFERROR(VLOOKUP(X126,CadMP!$B:$D,2,0),\"\")","v":""},{"$f":"IFERROR(VLOOKUP(Y126,CadMP!$B:$D,2,0),\"\")","v":""},{"$f":"IFERROR(VLOOKUP(Z126,CadMP!$B:$D,2,0),\"\")","v":""},{"$f":"IFERROR(VLOOKUP(AA126,CadMP!$B:$D,2,0),\"\")","v":""},{"$f":"IFERROR(VLOOKUP(AB126,CadMP!$B:$D,2,0),\"\")","v":""},{"$f":"IFERROR(VLOOKUP(AC126,CadMP!$B:$D,2,0),\"\")","v":""},{"$f":"IFERROR(VLOOKUP(AD126,CadMP!$B:$D,2,0),\"\")","v":""},{"$f":"IFERROR(VLOOKUP(AE126,CadMP!$B:$D,2,0),\"\")","v":""},{"$f":"IFERROR(VLOOKUP(AF126,CadMP!$B:$D,2,0),\"\")","v":""},{"$f":"IFERROR(VLOOKUP(AG126,CadMP!$B:$D,2,0),\"\")","v":""},{"$f":"IFERROR(VLOOKUP(AH126,CadMP!$B:$D,2,0),\"\")","v":""},{"$f":"IFERROR(VLOOKUP(AI126,CadMP!$B:$D,2,0),\"\")","v":""},{"$f":"IFERROR(VLOOKUP(AJ126,CadMP!$B:$D,2,0),\"\")","v":""},{"$f":"IFERROR(VLOOKUP(AK126,CadMP!$B:$D,2,0),\"\")","v":""},{"$f":"IFERROR(VLOOKUP(W126,CadMP!$B:$D,3,0),\"\")","v":""},{"$f":"IFERROR(VLOOKUP(X126,CadMP!$B:$D,3,0),\"\")","v":""},{"$f":"IFERROR(VLOOKUP(Y126,CadMP!$B:$D,3,0),\"\")","v":""},{"$f":"IFERROR(VLOOKUP(Z126,CadMP!$B:$D,3,0),\"\")","v":""},{"$f":"IFERROR(VLOOKUP(AA126,CadMP!$B:$D,3,0),\"\")","v":""},{"$f":"IFERROR(VLOOKUP(AB126,CadMP!$B:$D,3,0),\"\")","v":""},{"$f":"IFERROR(VLOOKUP(AC126,CadMP!$B:$D,3,0),\"\")","v":""},{"$f":"IFERROR(VLOOKUP(AD126,CadMP!$B:$D,3,0),\"\")","v":""},{"$f":"IFERROR(VLOOKUP(AE126,CadMP!$B:$D,3,0),\"\")","v":""},{"$f":"IFERROR(VLOOKUP(AF126,CadMP!$B:$D,3,0),\"\")","v":""},{"$f":"IFERROR(VLOOKUP(AG126,CadMP!$B:$D,3,0),\"\")","v":""},{"$f":"IFERROR(VLOOKUP(AH126,CadMP!$B:$D,3,0),\"\")","v":""},{"$f":"IFERROR(VLOOKUP(AI126,CadMP!$B:$D,3,0),\"\")","v":""},{"$f":"IFERROR(VLOOKUP(AJ126,CadMP!$B:$D,3,0),\"\")","v":""},{"$f":"IFERROR(VLOOKUP(AK126,CadMP!$B:$D,3,0),\"\")","v":""},0,0,0,0,0,0,0,0,0,0,0,0,0,0,0]
[126,null,null,0,0,null,null,null,null,null,null,0,0,null,null,null,null,null,null,null,1,0,null,null,null,null,null,null,null,null,null,null,null,null,null,null,null,null,null,null,null,null,null,null,null,null,null,null,null,null,null,null,{"$f":"IFERROR(VLOOKUP(W127,CadMP!$B:$D,2,0),\"\")","v":""},{"$f":"IFERROR(VLOOKUP(X127,CadMP!$B:$D,2,0),\"\")","v":""},{"$f":"IFERROR(VLOOKUP(Y127,CadMP!$B:$D,2,0),\"\")","v":""},{"$f":"IFERROR(VLOOKUP(Z127,CadMP!$B:$D,2,0),\"\")","v":""},{"$f":"IFERROR(VLOOKUP(AA127,CadMP!$B:$D,2,0),\"\")","v":""},{"$f":"IFERROR(VLOOKUP(AB127,CadMP!$B:$D,2,0),\"\")","v":""},{"$f":"IFERROR(VLOOKUP(AC127,CadMP!$B:$D,2,0),\"\")","v":""},{"$f":"IFERROR(VLOOKUP(AD127,CadMP!$B:$D,2,0),\"\")","v":""},{"$f":"IFERROR(VLOOKUP(AE127,CadMP!$B:$D,2,0),\"\")","v":""},{"$f":"IFERROR(VLOOKUP(AF127,CadMP!$B:$D,2,0),\"\")","v":""},{"$f":"IFERROR(VLOOKUP(AG127,CadMP!$B:$D,2,0),\"\")","v":""},{"$f":"IFERROR(VLOOKUP(AH127,CadMP!$B:$D,2,0),\"\")","v":""},{"$f":"IFERROR(VLOOKUP(AI127,CadMP!$B:$D,2,0),\"\")","v":""},{"$f":"IFERROR(VLOOKUP(AJ127,CadMP!$B:$D,2,0),\"\")","v":""},{"$f":"IFERROR(VLOOKUP(AK127,CadMP!$B:$D,2,0),\"\")","v":""},{"$f":"IFERROR(VLOOKUP(W127,CadMP!$B:$D,3,0),\"\")","v":""},{"$f":"IFERROR(VLOOKUP(X127,CadMP!$B:$D,3,0),\"\")","v":""},{"$f":"IFERROR(VLOOKUP(Y127,CadMP!$B:$D,3,0),\"\")","v":""},{"$f":"IFERROR(VLOOKUP(Z127,CadMP!$B:$D,3,0),\"\")","v":""},{"$f":"IFERROR(VLOOKUP(AA127,CadMP!$B:$D,3,0),\"\")","v":""},{"$f":"IFERROR(VLOOKUP(AB127,CadMP!$B:$D,3,0),\"\")","v":""},{"$f":"IFERROR(VLOOKUP(AC127,CadMP!$B:$D,3,0),\"\")","v":""},{"$f":"IFERROR(VLOOKUP(AD127,CadMP!$B:$D,3,0),\"\")","v":""},{"$f":"IFERROR(VLOOKUP(AE127,CadMP!$B:$D,3,0),\"\")","v":""},{"$f":"IFERROR(VLOOKUP(AF127,CadMP!$B:$D,3,0),\"\")","v":""},{"$f":"IFERROR(VLOOKUP(AG127,CadMP!$B:$D,3,0),\"\")","v":""},{"$f":"IFERROR(VLOOKUP(AH127,CadMP!$B:$D,3,0),\"\")","v":""},{"$f":"IFERROR(VLOOKUP(AI127,CadMP!$B:$D,3,0),\"\")","v":""},{"$f":"IFERROR(VLOOKUP(AJ127,CadMP!$B:$D,3,0),\"\")","v":""},{"$f":"IFERROR(VLOOKUP(AK127,CadMP!$B:$D,3,0),\"\")","v":""},0,0,0,0,0,0,0,0,0,0,0,0,0,0,0]
[127,null,null,0,0,null,null,null,null,null,null,0,0,null,null,null,null,null,null,null,1,0,null,null,null,null,null,null,null,null,null,null,null,null,null,null,null,null,null,null,null,null,null,null,null,null,null,null,null,null,null,null,{"$f":"IFERROR(VLOOKUP(W128,CadMP!$B:$D,2,0),\"\")","v":""},{"$f":"IFERROR(VLOOKUP(X128,CadMP!$B:$D,2,0),\"\")","v":""},{"$f":"IFERROR(VLOOKUP(Y128,CadMP!$B:$D,2,0),\"\")","v":""},{"$f":"IFERROR(VLOOKUP(Z128,CadMP!$B:$D,2,0),\"\")","v":""},{"$f":"IFERROR(VLOOKUP(AA128,CadMP!$B:$D,2,0),\"\")","v":""},{"$f":"IFERROR(VLOOKUP(AB128,CadMP!$B:$D,2,0),\"\")","v":""},{"$f":"IFERROR(VLOOKUP(AC128,CadMP!$B:$D,2,0),\"\")","v":""},{"$f":"IFERROR(VLOOKUP(AD128,CadMP!$B:$D,2,0),\"\")","v":""},{"$f":"IFERROR(VLOOKUP(AE128,CadMP!$B:$D,2,0),\"\")","v":""},{"$f":"IFERROR(VLOOKUP(AF128,CadMP!$B:$D,2,0),\"\")","v":""},{"$f":"IFERROR(VLOOKUP(AG128,CadMP!$B:$D,2,0),\"\")","v":""},{"$f":"IFERROR(VLOOKUP(AH128,CadMP!$B:$D,2,0),\"\")","v":""},{"$f":"IFERROR(VLOOKUP(AI128,CadMP!$B:$D,2,0),\"\")","v":""},{"$f":"IFERROR(VLOOKUP(AJ128,CadMP!$B:$D,2,0),\"\")","v":""},{"$f":"IFERROR(VLOOKUP(AK128,CadMP!$B:$D,2,0),\"\")","v":""},{"$f":"IFERROR(VLOOKUP(W128,CadMP!$B:$D,3,0),\"\")","v":""},{"$f":"IFERROR(VLOOKUP(X128,CadMP!$B:$D,3,0),\"\")","v":""},{"$f":"IFERROR(VLOOKUP(Y128,CadMP!$B:$D,3,0),\"\")","v":""},{"$f":"IFERROR(VLOOKUP(Z128,CadMP!$B:$D,3,0),\"\")","v":""},{"$f":"IFERROR(VLOOKUP(AA128,CadMP!$B:$D,3,0),\"\")","v":""},{"$f":"IFERROR(VLOOKUP(AB128,CadMP!$B:$D,3,0),\"\")","v":""},{"$f":"IFERROR(VLOOKUP(AC128,CadMP!$B:$D,3,0),\"\")","v":""},{"$f":"IFERROR(VLOOKUP(AD128,CadMP!$B:$D,3,0),\"\")","v":""},{"$f":"IFERROR(VLOOKUP(AE128,CadMP!$B:$D,3,0),\"\")","v":""},{"$f":"IFERROR(VLOOKUP(AF128,CadMP!$B:$D,3,0),\"\")","v":""},{"$f":"IFERROR(VLOOKUP(AG128,CadMP!$B:$D,3,0),\"\")","v":""},{"$f":"IFERROR(VLOOKUP(AH128,CadMP!$B:$D,3,0),\"\")","v":""},{"$f":"IFERROR(VLOOKUP(AI128,CadMP!$B:$D,3,0),\"\")","v":""},{"$f":"IFERROR(VLOOKUP(AJ128,CadMP!$B:$D,3,0),\"\")","v":""},{"$f":"IFERROR(VLOOKUP(AK128,CadMP!$B:$D,3,0),\"\")","v":""},0,0,0,0,0,0,0,0,0,0,0,0,0,0,0]
[128,null,null,0,0,null,null,null,null,null,null,0,0,null,null,null,null,null,null,null,1,0,null,null,null,null,null,null,null,null,null,null,null,null,null,null,null,null,null,null,null,null,null,null,null,null,null,null,null,null,null,null,{"$f":"IFERROR(VLOOKUP(W129,CadMP!$B:$D,2,0),\"\")","v":""},{"$f":"IFERROR(VLOOKUP(X129,CadMP!$B:$D,2,0),\"\")","v":""},{"$f":"IFERROR(VLOOKUP(Y129,CadMP!$B:$D,2,0),\"\")","v":""},{"$f":"IFERROR(VLOOKUP(Z129,CadMP!$B:$D,2,0),\"\")","v":""},{"$f":"IFERROR(VLOOKUP(AA129,CadMP!$B:$D,2,0),\"\")","v":""},{"$f":"IFERROR(VLOOKUP(AB129,CadMP!$B:$D,2,0),\"\")","v":""},{"$f":"IFERROR(VLOOKUP(AC129,CadMP!$B:$D,2,0),\"\")","v":""},{"$f":"IFERROR(VLOOKUP(AD129,CadMP!$B:$D,2,0),\"\")","v":""},{"$f":"IFERROR(VLOOKUP(AE129,CadMP!$B:$D,2,0),\"\")","v":""},{"$f":"IFERROR(VLOOKUP(AF129,CadMP!$B:$D,2,0),\"\")","v":""},{"$f":"IFERROR(VLOOKUP(AG129,CadMP!$B:$D,2,0),\"\")","v":""},{"$f":"IFERROR(VLOOKUP(AH129,CadMP!$B:$D,2,0),\"\")","v":""},{"$f":"IFERROR(VLOOKUP(AI129,CadMP!$B:$D,2,0),\"\")","v":""},{"$f":"IFERROR(VLOOKUP(AJ129,CadMP!$B:$D,2,0),\"\")","v":""},{"$f":"IFERROR(VLOOKUP(AK129,CadMP!$B:$D,2,0),\"\")","v":""},{"$f":"IFERROR(VLOOKUP(W129,CadMP!$B:$D,3,0),\"\")","v":""},{"$f":"IFERROR(VLOOKUP(X129,CadMP!$B:$D,3,0),\"\")","v":""},{"$f":"IFERROR(VLOOKUP(Y129,CadMP!$B:$D,3,0),\"\")","v":""},{"$f":"IFERROR(VLOOKUP(Z129,CadMP!$B:$D,3,0),\"\")","v":""},{"$f":"IFERROR(VLOOKUP(AA129,CadMP!$B:$D,3,0),\"\")","v":""},{"$f":"IFERROR(VLOOKUP(AB129,CadMP!$B:$D,3,0),\"\")","v":""},{"$f":"IFERROR(VLOOKUP(AC129,CadMP!$B:$D,3,0),\"\")","v":""},{"$f":"IFERROR(VLOOKUP(AD129,CadMP!$B:$D,3,0),\"\")","v":""},{"$f":"IFERROR(VLOOKUP(AE129,CadMP!$B:$D,3,0),\"\")","v":""},{"$f":"IFERROR(VLOOKUP(AF129,CadMP!$B:$D,3,0),\"\")","v":""},{"$f":"IFERROR(VLOOKUP(AG129,CadMP!$B:$D,3,0),\"\")","v":""},{"$f":"IFERROR(VLOOKUP(AH129,CadMP!$B:$D,3,0),\"\")","v":""},{"$f":"IFERROR(VLOOKUP(AI129,CadMP!$B:$D,3,0),\"\")","v":""},{"$f":"IFERROR(VLOOKUP(AJ129,CadMP!$B:$D,3,0),\"\")","v":""},{"$f":"IFERROR(VLOOKUP(AK129,CadMP!$B:$D,3,0),\"\")","v":""},0,0,0,0,0,0,0,0,0,0,0,0,0,0,0]
[129,null,null,0,0,null,null,null,null,null,null,0,0,null,null,null,null,null,null,null,1,0,null,null,null,null,null,null,null,null,null,null,null,null,null,null,null,null,null,null,null,null,null,null,null,null,null,null,null,null,null,null,{"$f":"IFERROR(VLOOKUP(W130,CadMP!$B:$D,2,0),\"\")","v":""},{"$f":"IFERROR(VLOOKUP(X130,CadMP!$B:$D,2,0),\"\")","v":""},{"$f":"IFERROR(VLOOKUP(Y130,CadMP!$B:$D,2,0),\"\")","v":""},{"$f":"IFERROR(VLOOKUP(Z130,CadMP!$B:$D,2,0),\"\")","v":""},{"$f":"IFERROR(VLOOKUP(AA130,CadMP!$B:$D,2,0),\"\")","v":""},{"$f":"IFERROR(VLOOKUP(AB130,CadMP!$B:$D,2,0),\"\")","v":""},{"$f":"IFERROR(VLOOKUP(AC130,CadMP!$B:$D,2,0),\"\")","v":""},{"$f":"IFERROR(VLOOKUP(AD130,CadMP!$B:$D,2,0),\"\")","v":""},{"$f":"IFERROR(VLOOKUP(AE130,CadMP!$B:$D,2,0),\"\")","v":""},{"$f":"IFERROR(VLOOKUP(AF130,CadMP!$B:$D,2,0),\"\")","v":""},{"$f":"IFERROR(VLOOKUP(AG130,CadMP!$B:$D,2,0),\"\")","v":""},{"$f":"IFERROR(VLOOKUP(AH130,CadMP!$B:$D,2,0),\"\")","v":""},{"$f":"IFERROR(VLOOKUP(AI130,CadMP!$B:$D,2,0),\"\")","v":""},{"$f":"IFERROR(VLOOKUP(AJ130,CadMP!$B:$D,2,0),\"\")","v":""},{"$f":"IFERROR(VLOOKUP(AK130,CadMP!$B:$D,2,0),\"\")","v":""},{"$f":"IFERROR(VLOOKUP(W130,CadMP!$B:$D,3,0),\"\")","v":""},{"$f":"IFERROR(VLOOKUP(X130,CadMP!$B:$D,3,0),\"\")","v":""},{"$f":"IFERROR(VLOOKUP(Y130,CadMP!$B:$D,3,0),\"\")","v":""},{"$f":"IFERROR(VLOOKUP(Z130,CadMP!$B:$D,3,0),\"\")","v":""},{"$f":"IFERROR(VLOOKUP(AA130,CadMP!$B:$D,3,0),\"\")","v":""},{"$f":"IFERROR(VLOOKUP(AB130,CadMP!$B:$D,3,0),\"\")","v":""},{"$f":"IFERROR(VLOOKUP(AC130,CadMP!$B:$D,3,0),\"\")","v":""},{"$f":"IFERROR(VLOOKUP(AD130,CadMP!$B:$D,3,0),\"\")","v":""},{"$f":"IFERROR(VLOOKUP(AE130,CadMP!$B:$D,3,0),\"\")","v":""},{"$f":"IFERROR(VLOOKUP(AF130,CadMP!$B:$D,3,0),\"\")","v":""},{"$f":"IFERROR(VLOOKUP(AG130,CadMP!$B:$D,3,0),\"\")","v":""},{"$f":"IFERROR(VLOOKUP(AH130,CadMP!$B:$D,3,0),\"\")","v":""},{"$f":"IFERROR(VLOOKUP(AI130,CadMP!$B:$D,3,0),\"\")","v":""},{"$f":"IFERROR(VLOOKUP(AJ130,CadMP!$B:$D,3,0),\"\")","v":""},{"$f":"IFERROR(VLOOKUP(AK130,CadMP!$B:$D,3,0),\"\")","v":""},0,0,0,0,0,0,0,0,0,0,0,0,0,0,0]
[130,null,null,{"$f":"SUM(CE131:CS131)","v":0},{"$f":"SUM(F131:K131)","v":0},null,null,null,null,null,null,{"$f":"SUM(D131:E131)","v":0},{"$f":"SUM(N131:T131)","v":0},null,null,null,null,null,null,null,{"$f":"(100)/(100-M131)","v":1},{"$f":"L131*U131","v":0},null,null,null,null,null,null,null,null,null,null,null,null,null,null,null,null,null,null,null,null,null,null,null,null,null,null,null,null,null,null,{"$f":"IFERROR(VLOOKUP(W131,CadMP!$B:$D,2,0),\"\")","v":""},{"$f":"IFERROR(VLOOKUP(X131,CadMP!$B:$D,2,0),\"\")","v":""},{"$f":"IFERROR(VLOOKUP(Y131,CadMP!$B:$D,2,0),\"\")","v":""},{"$f":"IFERROR(VLOOKUP(Z131,CadMP!$B:$D,2,0),\"\")","v":""},{"$f":"IFERROR(VLOOKUP(AA131,CadMP!$B:$D,2,0),\"\")","v":""},{"$f":"IFERROR(VLOOKUP(AB131,CadMP!$B:$D,2,0),\"\")","v":""},{"$f":"IFERROR(VLOOKUP(AC131,CadMP!$B:$D,2,0),\"\")","v":""},{"$f":"IFERROR(VLOOKUP(AD131,CadMP!$B:$D,2,0),\"\")","v":""},{"$f":"IFERROR(VLOOKUP(AE131,CadMP!$B:$D,2,0),\"\")","v":""},{"$f":"IFERROR(VLOOKUP(AF131,CadMP!$B:$D,2,0),\"\")","v":""},{"$f":"IFERROR(VLOOKUP(AG131,CadMP!$B:$D,2,0),\"\")","v":""},{"$f":"IFERROR(VLOOKUP(AH131,CadMP!$B:$D,2,0),\"\")","v":""},{"$f":"IFERROR(VLOOKUP(AI131,CadMP!$B:$D,2,0),\"\")","v":""},{"$f":"IFERROR(VLOOKUP(AJ131,CadMP!$B:$D,2,0),\"\")","v":""},{"$f":"IFERROR(VLOOKUP(AK131,CadMP!$B:$D,2,0),\"\")","v":""},{"$f":"IFERROR(VLOOKUP(W131,CadMP!$B:$D,3,0),\"\")","v":""},{"$f":"IFERROR(VLOOKUP(X131,CadMP!$B:$D,3,0),\"\")","v":""},{"$f":"IFERROR(VLOOKUP(Y131,CadMP!$B:$D,3,0),\"\")","v":""},{"$f":"IFERROR(VLOOKUP(Z131,CadMP!$B:$D,3,0),\"\")","v":""},{"$f":"IFERROR(VLOOKUP(AA131,CadMP!$B:$D,3,0),\"\")","v":""},{"$f":"IFERROR(VLOOKUP(AB131,CadMP!$B:$D,3,0),\"\")","v":""},{"$f":"IFERROR(VLOOKUP(AC131,CadMP!$B:$D,3,0),\"\")","v":""},{"$f":"IFERROR(VLOOKUP(AD131,CadMP!$B:$D,3,0),\"\")","v":""},{"$f":"IFERROR(VLOOKUP(AE131,CadMP!$B:$D,3,0),\"\")","v":""},{"$f":"IFERROR(VLOOKUP(AF131,CadMP!$B:$D,3,0),\"\")","v":""},{"$f":"IFERROR(VLOOKUP(AG131,CadMP!$B:$D,3,0),\"\")","v":""},{"$f":"IFERROR(VLOOKUP(AH131,CadMP!$B:$D,3,0),\"\")","v":""},{"$f":"IFERROR(VLOOKUP(AI131,CadMP!$B:$D,3,0),\"\")","v":""},{"$f":"IFERROR(VLOOKUP(AJ131,CadMP!$B:$D,3,0),\"\")","v":""},{"$f":"IFERROR(VLOOKUP(AK131,CadMP!$B:$D,3,0),\"\")","v":""},{"$f":"IFERROR(AL131*BP131,0)","v":0},{"$f":"IFERROR(AM131*BQ131,0)","v":0},{"$f":"IFERROR(AN131*BR131,0)","v":0},{"$f":"IFERROR(AO131*BS131,0)","v":0},{"$f":"IFERROR(AP131*BT131,0)","v":0},{"$f":"IFERROR(AQ131*BU131,0)","v":0},{"$f":"IFERROR(AR131*BV131,0)","v":0},{"$f":"IFERROR(AS131*BW131,0)","v":0},{"$f":"IFERROR(AT131*BX131,0)","v":0},{"$f":"IFERROR(AU131*BY131,0)","v":0},{"$f":"IFERROR(AV131*BZ131,0)","v":0},{"$f":"IFERROR(AW131*CA131,0)","v":0},{"$f":"IFERROR(AX131*CB131,0)","v":0},{"$f":"IFERROR(AY131*CC131,0)","v":0},{"$f":"IFERROR(AZ131*CD131,0)","v":0}]
[131,null,null,0,0,null,null,null,null,null,null,0,0,null,null,null,null,null,null,null,1,0,null,null,null,null,null,null,null,null,null,null,null,null,null,null,null,null,null,null,null,null,null,null,null,null,null,null,null,null,null,null,{"$f":"IFERROR(VLOOKUP(W132,CadMP!$B:$D,2,0),\"\")","v":""},{"$f":"IFERROR(VLOOKUP(X132,CadMP!$B:$D,2,0),\"\")","v":""},{"$f":"IFERROR(VLOOKUP(Y132,CadMP!$B:$D,2,0),\"\")","v":""},{"$f":"IFERROR(VLOOKUP(Z132,CadMP!$B:$D,2,0),\"\")","v":""},{"$f":"IFERROR(VLOOKUP(AA132,CadMP!$B:$D,2,0),\"\")","v":""},{"$f":"IFERROR(VLOOKUP(AB132,CadMP!$B:$D,2,0),\"\")","v":""},{"$f":"IFERROR(VLOOKUP(AC132,CadMP!$B:$D,2,0),\"\")","v":""},{"$f":"IFERROR(VLOOKUP(AD132,CadMP!$B:$D,2,0),\"\")","v":""},{"$f":"IFERROR(VLOOKUP(AE132,CadMP!$B:$D,2,0),\"\")","v":""},{"$f":"IFERROR(VLOOKUP(AF132,CadMP!$B:$D,2,0),\"\")","v":""},{"$f":"IFERROR(VLOOKUP(AG132,CadMP!$B:$D,2,0),\"\")","v":""},{"$f":"IFERROR(VLOOKUP(AH132,CadMP!$B:$D,2,0),\"\")","v":""},{"$f":"IFERROR(VLOOKUP(AI132,CadMP!$B:$D,2,0),\"\")","v":""},{"$f":"IFERROR(VLOOKUP(AJ132,CadMP!$B:$D,2,0),\"\")","v":""},{"$f":"IFERROR(VLOOKUP(AK132,CadMP!$B:$D,2,0),\"\")","v":""},{"$f":"IFERROR(VLOOKUP(W132,CadMP!$B:$D,3,0),\"\")","v":""},{"$f":"IFERROR(VLOOKUP(X132,CadMP!$B:$D,3,0),\"\")","v":""},{"$f":"IFERROR(VLOOKUP(Y132,CadMP!$B:$D,3,0),\"\")","v":""},{"$f":"IFERROR(VLOOKUP(Z132,CadMP!$B:$D,3,0),\"\")","v":""},{"$f":"IFERROR(VLOOKUP(AA132,CadMP!$B:$D,3,0),\"\")","v":""},{"$f":"IFERROR(VLOOKUP(AB132,CadMP!$B:$D,3,0),\"\")","v":""},{"$f":"IFERROR(VLOOKUP(AC132,CadMP!$B:$D,3,0),\"\")","v":""},{"$f":"IFERROR(VLOOKUP(AD132,CadMP!$B:$D,3,0),\"\")","v":""},{"$f":"IFERROR(VLOOKUP(AE132,CadMP!$B:$D,3,0),\"\")","v":""},{"$f":"IFERROR(VLOOKUP(AF132,CadMP!$B:$D,3,0),\"\")","v":""},{"$f":"IFERROR(VLOOKUP(AG132,CadMP!$B:$D,3,0),\"\")","v":""},{"$f":"IFERROR(VLOOKUP(AH132,CadMP!$B:$D,3,0),\"\")","v":""},{"$f":"IFERROR(VLOOKUP(AI132,CadMP!$B:$D,3,0),\"\")","v":""},{"$f":"IFERROR(VLOOKUP(AJ132,CadMP!$B:$D,3,0),\"\")","v":""},{"$f":"IFERROR(VLOOKUP(AK132,CadMP!$B:$D,3,0),\"\")","v":""},0,0,0,0,0,0,0,0,0,0,0,0,0,0,0]
[132,null,null,0,0,null,null,null,null,null,null,0,0,null,null,null,null,null,null,null,1,0,null,null,null,null,null,null,null,null,null,null,null,null,null,null,null,null,null,null,null,null,null,null,null,null,null,null,null,null,null,null,{"$f":"IFERROR(VLOOKUP(W133,CadMP!$B:$D,2,0),\"\")","v":""},{"$f":"IFERROR(VLOOKUP(X133,CadMP!$B:$D,2,0),\"\")","v":""},{"$f":"IFERROR(VLOOKUP(Y133,CadMP!$B:$D,2,0),\"\")","v":""},{"$f":"IFERROR(VLOOKUP(Z133,CadMP!$B:$D,2,0),\"\")","v":""},{"$f":"IFERROR(VLOOKUP(AA133,CadMP!$B:$D,2,0),\"\")","v":""},{"$f":"IFERROR(VLOOKUP(AB133,CadMP!$B:$D,2,0),\"\")","v":""},{"$f":"IFERROR(VLOOKUP(AC133,CadMP!$B:$D,2,0),\"\")","v":""},{"$f":"IFERROR(VLOOKUP(AD133,CadMP!$B:$D,2,0),\"\")","v":""},{"$f":"IFERROR(VLOOKUP(AE133,CadMP!$B:$D,2,0),\"\")","v":""},{"$f":"IFERROR(VLOOKUP(AF133,CadMP!$B:$D,2,0),\"\")","v":""},{"$f":"IFERROR(VLOOKUP(AG133,CadMP!$B:$D,2,0),\"\")","v":""},{"$f":"IFERROR(VLOOKUP(AH133,CadMP!$B:$D,2,0),\"\")","v":""},{"$f":"IFERROR(VLOOKUP(AI133,CadMP!$B:$D,2,0),\"\")","v":""},{"$f":"IFERROR(VLOOKUP(AJ133,CadMP!$B:$D,2,0),\"\")","v":""},{"$f":"IFERROR(VLOOKUP(AK133,CadMP!$B:$D,2,0),\"\")","v":""},{"$f":"IFERROR(VLOOKUP(W133,CadMP!$B:$D,3,0),\"\")","v":""},{"$f":"IFERROR(VLOOKUP(X133,CadMP!$B:$D,3,0),\"\")","v":""},{"$f":"IFERROR(VLOOKUP(Y133,CadMP!$B:$D,3,0),\"\")","v":""},{"$f":"IFERROR(VLOOKUP(Z133,CadMP!$B:$D,3,0),\"\")","v":""},{"$f":"IFERROR(VLOOKUP(AA133,CadMP!$B:$D,3,0),\"\")","v":""},{"$f":"IFERROR(VLOOKUP(AB133,CadMP!$B:$D,3,0),\"\")","v":""},{"$f":"IFERROR(VLOOKUP(AC133,CadMP!$B:$D,3,0),\"\")","v":""},{"$f":"IFERROR(VLOOKUP(AD133,CadMP!$B:$D,3,0),\"\")","v":""},{"$f":"IFERROR(VLOOKUP(AE133,CadMP!$B:$D,3,0),\"\")","v":""},{"$f":"IFERROR(VLOOKUP(AF133,CadMP!$B:$D,3,0),\"\")","v":""},{"$f":"IFERROR(VLOOKUP(AG133,CadMP!$B:$D,3,0),\"\")","v":""},{"$f":"IFERROR(VLOOKUP(AH133,CadMP!$B:$D,3,0),\"\")","v":""},{"$f":"IFERROR(VLOOKUP(AI133,CadMP!$B:$D,3,0),\"\")","v":""},{"$f":"IFERROR(VLOOKUP(AJ133,CadMP!$B:$D,3,0),\"\")","v":""},{"$f":"IFERROR(VLOOKUP(AK133,CadMP!$B:$D,3,0),\"\")","v":""},0,0,0,0,0,0,0,0,0,0,0,0,0,0,0]
[133,null,null,0,0,null,null,null,null,null,null,0,0,null,null,null,null,null,null,null,1,0,null,null,null,null,null,null,null,null,null,null,null,null,null,null,null,null,null,null,null,null,null,null,null,null,null,null,null,null,null,null,{"$f":"IFERROR(VLOOKUP(W134,CadMP!$B:$D,2,0),\"\")","v":""},{"$f":"IFERROR(VLOOKUP(X134,CadMP!$B:$D,2,0),\"\")","v":""},{"$f":"IFERROR(VLOOKUP(Y134,CadMP!$B:$D,2,0),\"\")","v":""},{"$f":"IFERROR(VLOOKUP(Z134,CadMP!$B:$D,2,0),\"\")","v":""},{"$f":"IFERROR(VLOOKUP(AA134,CadMP!$B:$D,2,0),\"\")","v":""},{"$f":"IFERROR(VLOOKUP(AB134,CadMP!$B:$D,2,0),\"\")","v":""},{"$f":"IFERROR(VLOOKUP(AC134,CadMP!$B:$D,2,0),\"\")","v":""},{"$f":"IFERROR(VLOOKUP(AD134,CadMP!$B:$D,2,0),\"\")","v":""},{"$f":"IFERROR(VLOOKUP(AE134,CadMP!$B:$D,2,0),\"\")","v":""},{"$f":"IFERROR(VLOOKUP(AF134,CadMP!$B:$D,2,0),\"\")","v":""},{"$f":"IFERROR(VLOOKUP(AG134,CadMP!$B:$D,2,0),\"\")","v":""},{"$f":"IFERROR(VLOOKUP(AH134,CadMP!$B:$D,2,0),\"\")","v":""},{"$f":"IFERROR(VLOOKUP(AI134,CadMP!$B:$D,2,0),\"\")","v":""},{"$f":"IFERROR(VLOOKUP(AJ134,CadMP!$B:$D,2,0),\"\")","v":""},{"$f":"IFERROR(VLOOKUP(AK134,CadMP!$B:$D,2,0),\"\")","v":""},{"$f":"IFERROR(VLOOKUP(W134,CadMP!$B:$D,3,0),\"\")","v":""},{"$f":"IFERROR(VLOOKUP(X134,CadMP!$B:$D,3,0),\"\")","v":""},{"$f":"IFERROR(VLOOKUP(Y134,CadMP!$B:$D,3,0),\"\")","v":""},{"$f":"IFERROR(VLOOKUP(Z134,CadMP!$B:$D,3,0),\"\")","v":""},{"$f":"IFERROR(VLOOKUP(AA134,CadMP!$B:$D,3,0),\"\")","v":""},{"$f":"IFERROR(VLOOKUP(AB134,CadMP!$B:$D,3,0),\"\")","v":""},{"$f":"IFERROR(VLOOKUP(AC134,CadMP!$B:$D,3,0),\"\")","v":""},{"$f":"IFERROR(VLOOKUP(AD134,CadMP!$B:$D,3,0),\"\")","v":""},{"$f":"IFERROR(VLOOKUP(AE134,CadMP!$B:$D,3,0),\"\")","v":""},{"$f":"IFERROR(VLOOKUP(AF134,CadMP!$B:$D,3,0),\"\")","v":""},{"$f":"IFERROR(VLOOKUP(AG134,CadMP!$B:$D,3,0),\"\")","v":""},{"$f":"IFERROR(VLOOKUP(AH134,CadMP!$B:$D,3,0),\"\")","v":""},{"$f":"IFERROR(VLOOKUP(AI134,CadMP!$B:$D,3,0),\"\")","v":""},{"$f":"IFERROR(VLOOKUP(AJ134,CadMP!$B:$D,3,0),\"\")","v":""},{"$f":"IFERROR(VLOOKUP(AK134,CadMP!$B:$D,3,0),\"\")","v":""},0,0,0,0,0,0,0,0,0,0,0,0,0,0,0]
[134,null,null,0,0,null,null,null,null,null,null,0,0,null,null,null,null,null,null,null,1,0,null,null,null,null,null,null,null,null,null,null,null,null,null,null,null,null,null,null,null,null,null,null,null,null,null,null,null,null,null,null,{"$f":"IFERROR(VLOOKUP(W135,CadMP!$B:$D,2,0),\"\")","v":""},{"$f":"IFERROR(VLOOKUP(X135,CadMP!$B:$D,2,0),\"\")","v":""},{"$f":"IFERROR(VLOOKUP(Y135,CadMP!$B:$D,2,0),\"\")","v":""},{"$f":"IFERROR(VLOOKUP(Z135,CadMP!$B:$D,2,0),\"\")","v":""},{"$f":"IFERROR(VLOOKUP(AA135,CadMP!$B:$D,2,0),\"\")","v":""},{"$f":"IFERROR(VLOOKUP(AB135,CadMP!$B:$D,2,0),\"\")","v":""},{"$f":"IFERROR(VLOOKUP(AC135,CadMP!$B:$D,2,0),\"\")","v":""},{"$f":"IFERROR(VLOOKUP(AD135,CadMP!$B:$D,2,0),\"\")","v":""},{"$f":"IFERROR(VLOOKUP(AE135,CadMP!$B:$D,2,0),\"\")","v":""},{"$f":"IFERROR(VLOOKUP(AF135,CadMP!$B:$D,2,0),\"\")","v":""},{"$f":"IFERROR(VLOOKUP(AG135,CadMP!$B:$D,2,0),\"\")","v":""},{"$f":"IFERROR(VLOOKUP(AH135,CadMP!$B:$D,2,0),\"\")","v":""},{"$f":"IFERROR(VLOOKUP(AI135,CadMP!$B:$D,2,0),\"\")","v":""},{"$f":"IFERROR(VLOOKUP(AJ135,CadMP!$B:$D,2,0),\"\")","v":""},{"$f":"IFERROR(VLOOKUP(AK135,CadMP!$B:$D,2,0),\"\")","v":""},{"$f":"IFERROR(VLOOKUP(W135,CadMP!$B:$D,3,0),\"\")","v":""},{"$f":"IFERROR(VLOOKUP(X135,CadMP!$B:$D,3,0),\"\")","v":""},{"$f":"IFERROR(VLOOKUP(Y135,CadMP!$B:$D,3,0),\"\")","v":""},{"$f":"IFERROR(VLOOKUP(Z135,CadMP!$B:$D,3,0),\"\")","v":""},{"$f":"IFERROR(VLOOKUP(AA135,CadMP!$B:$D,3,0),\"\")","v":""},{"$f":"IFERROR(VLOOKUP(AB135,CadMP!$B:$D,3,0),\"\")","v":""},{"$f":"IFERROR(VLOOKUP(AC135,CadMP!$B:$D,3,0),\"\")","v":""},{"$f":"IFERROR(VLOOKUP(AD135,CadMP!$B:$D,3,0),\"\")","v":""},{"$f":"IFERROR(VLOOKUP(AE135,CadMP!$B:$D,3,0),\"\")","v":""},{"$f":"IFERROR(VLOOKUP(AF135,CadMP!$B:$D,3,0),\"\")","v":""},{"$f":"IFERROR(VLOOKUP(AG135,CadMP!$B:$D,3,0),\"\")","v":""},{"$f":"IFERROR(VLOOKUP(AH135,CadMP!$B:$D,3,0),\"\")","v":""},{"$f":"IFERROR(VLOOKUP(AI135,CadMP!$B:$D,3,0),\"\")","v":""},{"$f":"IFERROR(VLOOKUP(AJ135,CadMP!$B:$D,3,0),\"\")","v":""},{"$f":"IFERROR(VLOOKUP(AK135,CadMP!$B:$D,3,0),\"\")","v":""},0,0,0,0,0,0,0,0,0,0,0,0,0,0,0]
[135,null,null,0,0,null,null,null,null,null,null,0,0,null,null,null,null,null,null,null,1,0,null,null,null,null,null,null,null,null,null,null,null,null,null,null,null,null,null,null,null,null,null,null,null,null,null,null,null,null,null,null,{"$f":"IFERROR(VLOOKUP(W136,CadMP!$B:$D,2,0),\"\")","v":""},{"$f":"IFERROR(VLOOKUP(X136,CadMP!$B:$D,2,0),\"\")","v":""},{"$f":"IFERROR(VLOOKUP(Y136,CadMP!$B:$D,2,0),\"\")","v":""},{"$f":"IFERROR(VLOOKUP(Z136,CadMP!$B:$D,2,0),\"\")","v":""},{"$f":"IFERROR(VLOOKUP(AA136,CadMP!$B:$D,2,0),\"\")","v":""},{"$f":"IFERROR(VLOOKUP(AB136,CadMP!$B:$D,2,0),\"\")","v":""},{"$f":"IFERROR(VLOOKUP(AC136,CadMP!$B:$D,2,0),\"\")","v":""},{"$f":"IFERROR(VLOOKUP(AD136,CadMP!$B:$D,2,0),\"\")","v":""},{"$f":"IFERROR(VLOOKUP(AE136,CadMP!$B:$D,2,0),\"\")","v":""},{"$f":"IFERROR(VLOOKUP(AF136,CadMP!$B:$D,2,0),\"\")","v":""},{"$f":"IFERROR(VLOOKUP(AG136,CadMP!$B:$D,2,0),\"\")","v":""},{"$f":"IFERROR(VLOOKUP(AH136,CadMP!$B:$D,2,0),\"\")","v":""},{"$f":"IFERROR(VLOOKUP(AI136,CadMP!$B:$D,2,0),\"\")","v":""},{"$f":"IFERROR(VLOOKUP(AJ136,CadMP!$B:$D,2,0),\"\")","v":""},{"$f":"IFERROR(VLOOKUP(AK136,CadMP!$B:$D,2,0),\"\")","v":""},{"$f":"IFERROR(VLOOKUP(W136,CadMP!$B:$D,3,0),\"\")","v":""},{"$f":"IFERROR(VLOOKUP(X136,CadMP!$B:$D,3,0),\"\")","v":""},{"$f":"IFERROR(VLOOKUP(Y136,CadMP!$B:$D,3,0),\"\")","v":""},{"$f":"IFERROR(VLOOKUP(Z136,CadMP!$B:$D,3,0),\"\")","v":""},{"$f":"IFERROR(VLOOKUP(AA136,CadMP!$B:$D,3,0),\"\")","v":""},{"$f":"IFERROR(VLOOKUP(AB136,CadMP!$B:$D,3,0),\"\")","v":""},{"$f":"IFERROR(VLOOKUP(AC136,CadMP!$B:$D,3,0),\"\")","v":""},{"$f":"IFERROR(VLOOKUP(AD136,CadMP!$B:$D,3,0),\"\")","v":""},{"$f":"IFERROR(VLOOKUP(AE136,CadMP!$B:$D,3,0),\"\")","v":""},{"$f":"IFERROR(VLOOKUP(AF136,CadMP!$B:$D,3,0),\"\")","v":""},{"$f":"IFERROR(VLOOKUP(AG136,CadMP!$B:$D,3,0),\"\")","v":""},{"$f":"IFERROR(VLOOKUP(AH136,CadMP!$B:$D,3,0),\"\")","v":""},{"$f":"IFERROR(VLOOKUP(AI136,CadMP!$B:$D,3,0),\"\")","v":""},{"$f":"IFERROR(VLOOKUP(AJ136,CadMP!$B:$D,3,0),\"\")","v":""},{"$f":"IFERROR(VLOOKUP(AK136,CadMP!$B:$D,3,0),\"\")","v":""},0,0,0,0,0,0,0,0,0,0,0,0,0,0,0]
[136,null,null,0,0,null,null,null,null,null,null,0,0,null,null,null,null,null,null,null,1,0,null,null,null,null,null,null,null,null,null,null,null,null,null,null,null,null,null,null,null,null,null,null,null,null,null,null,null,null,null,null,{"$f":"IFERROR(VLOOKUP(W137,CadMP!$B:$D,2,0),\"\")","v":""},{"$f":"IFERROR(VLOOKUP(X137,CadMP!$B:$D,2,0),\"\")","v":""},{"$f":"IFERROR(VLOOKUP(Y137,CadMP!$B:$D,2,0),\"\")","v":""},{"$f":"IFERROR(VLOOKUP(Z137,CadMP!$B:$D,2,0),\"\")","v":""},{"$f":"IFERROR(VLOOKUP(AA137,CadMP!$B:$D,2,0),\"\")","v":""},{"$f":"IFERROR(VLOOKUP(AB137,CadMP!$B:$D,2,0),\"\")","v":""},{"$f":"IFERROR(VLOOKUP(AC137,CadMP!$B:$D,2,0),\"\")","v":""},{"$f":"IFERROR(VLOOKUP(AD137,CadMP!$B:$D,2,0),\"\")","v":""},{"$f":"IFERROR(VLOOKUP(AE137,CadMP!$B:$D,2,0),\"\")","v":""},{"$f":"IFERROR(VLOOKUP(AF137,CadMP!$B:$D,2,0),\"\")","v":""},{"$f":"IFERROR(VLOOKUP(AG137,CadMP!$B:$D,2,0),\"\")","v":""},{"$f":"IFERROR(VLOOKUP(AH137,CadMP!$B:$D,2,0),\"\")","v":""},{"$f":"IFERROR(VLOOKUP(AI137,CadMP!$B:$D,2,0),\"\")","v":""},{"$f":"IFERROR(VLOOKUP(AJ137,CadMP!$B:$D,2,0),\"\")","v":""},{"$f":"IFERROR(VLOOKUP(AK137,CadMP!$B:$D,2,0),\"\")","v":""},{"$f":"IFERROR(VLOOKUP(W137,CadMP!$B:$D,3,0),\"\")","v":""},{"$f":"IFERROR(VLOOKUP(X137,CadMP!$B:$D,3,0),\"\")","v":""},{"$f":"IFERROR(VLOOKUP(Y137,CadMP!$B:$D,3,0),\"\")","v":""},{"$f":"IFERROR(VLOOKUP(Z137,CadMP!$B:$D,3,0),\"\")","v":""},{"$f":"IFERROR(VLOOKUP(AA137,CadMP!$B:$D,3,0),\"\")","v":""},{"$f":"IFERROR(VLOOKUP(AB137,CadMP!$B:$D,3,0),\"\")","v":""},{"$f":"IFERROR(VLOOKUP(AC137,CadMP!$B:$D,3,0),\"\")","v":""},{"$f":"IFERROR(VLOOKUP(AD137,CadMP!$B:$D,3,0),\"\")","v":""},{"$f":"IFERROR(VLOOKUP(AE137,CadMP!$B:$D,3,0),\"\")","v":""},{"$f":"IFERROR(VLOOKUP(AF137,CadMP!$B:$D,3,0),\"\")","v":""},{"$f":"IFERROR(VLOOKUP(AG137,CadMP!$B:$D,3,0),\"\")","v":""},{"$f":"IFERROR(VLOOKUP(AH137,CadMP!$B:$D,3,0),\"\")","v":""},{"$f":"IFERROR(VLOOKUP(AI137,CadMP!$B:$D,3,0),\"\")","v":""},{"$f":"IFERROR(VLOOKUP(AJ137,CadMP!$B:$D,3,0),\"\")","v":""},{"$f":"IFERROR(VLOOKUP(AK137,CadMP!$B:$D,3,0),\"\")","v":""},0,0,0,0,0,0,0,0,0,0,0,0,0,0,0]
[137,null,null,0,0,null,null,null,null,null,null,0,0,null,null,null,null,null,null,null,1,0,null,null,null,null,null,null,null,null,null,null,null,null,null,null,null,null,null,null,null,null,null,null,null,null,null,null,null,null,null,null,{"$f":"IFERROR(VLOOKUP(W138,CadMP!$B:$D,2,0),\"\")","v":""},{"$f":"IFERROR(VLOOKUP(X138,CadMP!$B:$D,2,0),\"\")","v":""},{"$f":"IFERROR(VLOOKUP(Y138,CadMP!$B:$D,2,0),\"\")","v":""},{"$f":"IFERROR(VLOOKUP(Z138,CadMP!$B:$D,2,0),\"\")","v":""},{"$f":"IFERROR(VLOOKUP(AA138,CadMP!$B:$D,2,0),\"\")","v":""},{"$f":"IFERROR(VLOOKUP(AB138,CadMP!$B:$D,2,0),\"\")","v":""},{"$f":"IFERROR(VLOOKUP(AC138,CadMP!$B:$D,2,0),\"\")","v":""},{"$f":"IFERROR(VLOOKUP(AD138,CadMP!$B:$D,2,0),\"\")","v":""},{"$f":"IFERROR(VLOOKUP(AE138,CadMP!$B:$D,2,0),\"\")","v":""},{"$f":"IFERROR(VLOOKUP(AF138,CadMP!$B:$D,2,0),\"\")","v":""},{"$f":"IFERROR(VLOOKUP(AG138,CadMP!$B:$D,2,0),\"\")","v":""},{"$f":"IFERROR(VLOOKUP(AH138,CadMP!$B:$D,2,0),\"\")","v":""},{"$f":"IFERROR(VLOOKUP(AI138,CadMP!$B:$D,2,0),\"\")","v":""},{"$f":"IFERROR(VLOOKUP(AJ138,CadMP!$B:$D,2,0),\"\")","v":""},{"$f":"IFERROR(VLOOKUP(AK138,CadMP!$B:$D,2,0),\"\")","v":""},{"$f":"IFERROR(VLOOKUP(W138,CadMP!$B:$D,3,0),\"\")","v":""},{"$f":"IFERROR(VLOOKUP(X138,CadMP!$B:$D,3,0),\"\")","v":""},{"$f":"IFERROR(VLOOKUP(Y138,CadMP!$B:$D,3,0),\"\")","v":""},{"$f":"IFERROR(VLOOKUP(Z138,CadMP!$B:$D,3,0),\"\")","v":""},{"$f":"IFERROR(VLOOKUP(AA138,CadMP!$B:$D,3,0),\"\")","v":""},{"$f":"IFERROR(VLOOKUP(AB138,CadMP!$B:$D,3,0),\"\")","v":""},{"$f":"IFERROR(VLOOKUP(AC138,CadMP!$B:$D,3,0),\"\")","v":""},{"$f":"IFERROR(VLOOKUP(AD138,CadMP!$B:$D,3,0),\"\")","v":""},{"$f":"IFERROR(VLOOKUP(AE138,CadMP!$B:$D,3,0),\"\")","v":""},{"$f":"IFERROR(VLOOKUP(AF138,CadMP!$B:$D,3,0),\"\")","v":""},{"$f":"IFERROR(VLOOKUP(AG138,CadMP!$B:$D,3,0),\"\")","v":""},{"$f":"IFERROR(VLOOKUP(AH138,CadMP!$B:$D,3,0),\"\")","v":""},{"$f":"IFERROR(VLOOKUP(AI138,CadMP!$B:$D,3,0),\"\")","v":""},{"$f":"IFERROR(VLOOKUP(AJ138,CadMP!$B:$D,3,0),\"\")","v":""},{"$f":"IFERROR(VLOOKUP(AK138,CadMP!$B:$D,3,0),\"\")","v":""},0,0,0,0,0,0,0,0,0,0,0,0,0,0,0]
[138,null,null,0,0,null,null,null,null,null,null,0,0,null,null,null,null,null,null,null,1,0,null,null,null,null,null,null,null,null,null,null,null,null,null,null,null,null,null,null,null,null,null,null,null,null,null,null,null,null,null,null,{"$f":"IFERROR(VLOOKUP(W139,CadMP!$B:$D,2,0),\"\")","v":""},{"$f":"IFERROR(VLOOKUP(X139,CadMP!$B:$D,2,0),\"\")","v":""},{"$f":"IFERROR(VLOOKUP(Y139,CadMP!$B:$D,2,0),\"\")","v":""},{"$f":"IFERROR(VLOOKUP(Z139,CadMP!$B:$D,2,0),\"\")","v":""},{"$f":"IFERROR(VLOOKUP(AA139,CadMP!$B:$D,2,0),\"\")","v":""},{"$f":"IFERROR(VLOOKUP(AB139,CadMP!$B:$D,2,0),\"\")","v":""},{"$f":"IFERROR(VLOOKUP(AC139,CadMP!$B:$D,2,0),\"\")","v":""},{"$f":"IFERROR(VLOOKUP(AD139,CadMP!$B:$D,2,0),\"\")","v":""},{"$f":"IFERROR(VLOOKUP(AE139,CadMP!$B:$D,2,0),\"\")","v":""},{"$f":"IFERROR(VLOOKUP(AF139,CadMP!$B:$D,2,0),\"\")","v":""},{"$f":"IFERROR(VLOOKUP(AG139,CadMP!$B:$D,2,0),\"\")","v":""},{"$f":"IFERROR(VLOOKUP(AH139,CadMP!$B:$D,2,0),\"\")","v":""},{"$f":"IFERROR(VLOOKUP(AI139,CadMP!$B:$D,2,0),\"\")","v":""},{"$f":"IFERROR(VLOOKUP(AJ139,CadMP!$B:$D,2,0),\"\")","v":""},{"$f":"IFERROR(VLOOKUP(AK139,CadMP!$B:$D,2,0),\"\")","v":""},{"$f":"IFERROR(VLOOKUP(W139,CadMP!$B:$D,3,0),\"\")","v":""},{"$f":"IFERROR(VLOOKUP(X139,CadMP!$B:$D,3,0),\"\")","v":""},{"$f":"IFERROR(VLOOKUP(Y139,CadMP!$B:$D,3,0),\"\")","v":""},{"$f":"IFERROR(VLOOKUP(Z139,CadMP!$B:$D,3,0),\"\")","v":""},{"$f":"IFERROR(VLOOKUP(AA139,CadMP!$B:$D,3,0),\"\")","v":""},{"$f":"IFERROR(VLOOKUP(AB139,CadMP!$B:$D,3,0),\"\")","v":""},{"$f":"IFERROR(VLOOKUP(AC139,CadMP!$B:$D,3,0),\"\")","v":""},{"$f":"IFERROR(VLOOKUP(AD139,CadMP!$B:$D,3,0),\"\")","v":""},{"$f":"IFERROR(VLOOKUP(AE139,CadMP!$B:$D,3,0),\"\")","v":""},{"$f":"IFERROR(VLOOKUP(AF139,CadMP!$B:$D,3,0),\"\")","v":""},{"$f":"IFERROR(VLOOKUP(AG139,CadMP!$B:$D,3,0),\"\")","v":""},{"$f":"IFERROR(VLOOKUP(AH139,CadMP!$B:$D,3,0),\"\")","v":""},{"$f":"IFERROR(VLOOKUP(AI139,CadMP!$B:$D,3,0),\"\")","v":""},{"$f":"IFERROR(VLOOKUP(AJ139,CadMP!$B:$D,3,0),\"\")","v":""},{"$f":"IFERROR(VLOOKUP(AK139,CadMP!$B:$D,3,0),\"\")","v":""},0,0,0,0,0,0,0,0,0,0,0,0,0,0,0]
[139,null,null,0,0,null,null,null,null,null,null,0,0,null,null,null,null,null,null,null,1,0,null,null,null,null,null,null,null,null,null,null,null,null,null,null,null,null,null,null,null,null,null,null,null,null,null,null,null,null,null,null,{"$f":"IFERROR(VLOOKUP(W140,CadMP!$B:$D,2,0),\"\")","v":""},{"$f":"IFERROR(VLOOKUP(X140,CadMP!$B:$D,2,0),\"\")","v":""},{"$f":"IFERROR(VLOOKUP(Y140,CadMP!$B:$D,2,0),\"\")","v":""},{"$f":"IFERROR(VLOOKUP(Z140,CadMP!$B:$D,2,0),\"\")","v":""},{"$f":"IFERROR(VLOOKUP(AA140,CadMP!$B:$D,2,0),\"\")","v":""},{"$f":"IFERROR(VLOOKUP(AB140,CadMP!$B:$D,2,0),\"\")","v":""},{"$f":"IFERROR(VLOOKUP(AC140,CadMP!$B:$D,2,0),\"\")","v":""},{"$f":"IFERROR(VLOOKUP(AD140,CadMP!$B:$D,2,0),\"\")","v":""},{"$f":"IFERROR(VLOOKUP(AE140,CadMP!$B:$D,2,0),\"\")","v":""},{"$f":"IFERROR(VLOOKUP(AF140,CadMP!$B:$D,2,0),\"\")","v":""},{"$f":"IFERROR(VLOOKUP(AG140,CadMP!$B:$D,2,0),\"\")","v":""},{"$f":"IFERROR(VLOOKUP(AH140,CadMP!$B:$D,2,0),\"\")","v":""},{"$f":"IFERROR(VLOOKUP(AI140,CadMP!$B:$D,2,0),\"\")","v":""},{"$f":"IFERROR(VLOOKUP(AJ140,CadMP!$B:$D,2,0),\"\")","v":""},{"$f":"IFERROR(VLOOKUP(AK140,CadMP!$B:$D,2,0),\"\")","v":""},{"$f":"IFERROR(VLOOKUP(W140,CadMP!$B:$D,3,0),\"\")","v":""},{"$f":"IFERROR(VLOOKUP(X140,CadMP!$B:$D,3,0),\"\")","v":""},{"$f":"IFERROR(VLOOKUP(Y140,CadMP!$B:$D,3,0),\"\")","v":""},{"$f":"IFERROR(VLOOKUP(Z140,CadMP!$B:$D,3,0),\"\")","v":""},{"$f":"IFERROR(VLOOKUP(AA140,CadMP!$B:$D,3,0),\"\")","v":""},{"$f":"IFERROR(VLOOKUP(AB140,CadMP!$B:$D,3,0),\"\")","v":""},{"$f":"IFERROR(VLOOKUP(AC140,CadMP!$B:$D,3,0),\"\")","v":""},{"$f":"IFERROR(VLOOKUP(AD140,CadMP!$B:$D,3,0),\"\")","v":""},{"$f":"IFERROR(VLOOKUP(AE140,CadMP!$B:$D,3,0),\"\")","v":""},{"$f":"IFERROR(VLOOKUP(AF140,CadMP!$B:$D,3,0),\"\")","v":""},{"$f":"IFERROR(VLOOKUP(AG140,CadMP!$B:$D,3,0),\"\")","v":""},{"$f":"IFERROR(VLOOKUP(AH140,CadMP!$B:$D,3,0),\"\")","v":""},{"$f":"IFERROR(VLOOKUP(AI140,CadMP!$B:$D,3,0),\"\")","v":""},{"$f":"IFERROR(VLOOKUP(AJ140,CadMP!$B:$D,3,0),\"\")","v":""},{"$f":"IFERROR(VLOOKUP(AK140,CadMP!$B:$D,3,0),\"\")","v":""},0,0,0,0,0,0,0,0,0,0,0,0,0,0,0]
[140,null,null,0,0,null,null,null,null,null,null,0,0,null,null,null,null,null,null,null,1,0,null,null,null,null,null,null,null,null,null,null,null,null,null,null,null,null,null,null,null,null,null,null,null,null,null,null,null,null,null,null,{"$f":"IFERROR(VLOOKUP(W141,CadMP!$B:$D,2,0),\"\")","v":""},{"$f":"IFERROR(VLOOKUP(X141,CadMP!$B:$D,2,0),\"\")","v":""},{"$f":"IFERROR(VLOOKUP(Y141,CadMP!$B:$D,2,0),\"\")","v":""},{"$f":"IFERROR(VLOOKUP(Z141,CadMP!$B:$D,2,0),\"\")","v":""},{"$f":"IFERROR(VLOOKUP(AA141,CadMP!$B:$D,2,0),\"\")","v":""},{"$f":"IFERROR(VLOOKUP(AB141,CadMP!$B:$D,2,0),\"\")","v":""},{"$f":"IFERROR(VLOOKUP(AC141,CadMP!$B:$D,2,0),\"\")","v":""},{"$f":"IFERROR(VLOOKUP(AD141,CadMP!$B:$D,2,0),\"\")","v":""},{"$f":"IFERROR(VLOOKUP(AE141,CadMP!$B:$D,2,0),\"\")","v":""},{"$f":"IFERROR(VLOOKUP(AF141,CadMP!$B:$D,2,0),\"\")","v":""},{"$f":"IFERROR(VLOOKUP(AG141,CadMP!$B:$D,2,0),\"\")","v":""},{"$f":"IFERROR(VLOOKUP(AH141,CadMP!$B:$D,2,0),\"\")","v":""},{"$f":"IFERROR(VLOOKUP(AI141,CadMP!$B:$D,2,0),\"\")","v":""},{"$f":"IFERROR(VLOOKUP(AJ141,CadMP!$B:$D,2,0),\"\")","v":""},{"$f":"IFERROR(VLOOKUP(AK141,CadMP!$B:$D,2,0),\"\")","v":""},{"$f":"IFERROR(VLOOKUP(W141,CadMP!$B:$D,3,0),\"\")","v":""},{"$f":"IFERROR(VLOOKUP(X141,CadMP!$B:$D,3,0),\"\")","v":""},{"$f":"IFERROR(VLOOKUP(Y141,CadMP!$B:$D,3,0),\"\")","v":""},{"$f":"IFERROR(VLOOKUP(Z141,CadMP!$B:$D,3,0),\"\")","v":""},{"$f":"IFERROR(VLOOKUP(AA141,CadMP!$B:$D,3,0),\"\")","v":""},{"$f":"IFERROR(VLOOKUP(AB141,CadMP!$B:$D,3,0),\"\")","v":""},{"$f":"IFERROR(VLOOKUP(AC141,CadMP!$B:$D,3,0),\"\")","v":""},{"$f":"IFERROR(VLOOKUP(AD141,CadMP!$B:$D,3,0),\"\")","v":""},{"$f":"IFERROR(VLOOKUP(AE141,CadMP!$B:$D,3,0),\"\")","v":""},{"$f":"IFERROR(VLOOKUP(AF141,CadMP!$B:$D,3,0),\"\")","v":""},{"$f":"IFERROR(VLOOKUP(AG141,CadMP!$B:$D,3,0),\"\")","v":""},{"$f":"IFERROR(VLOOKUP(AH141,CadMP!$B:$D,3,0),\"\")","v":""},{"$f":"IFERROR(VLOOKUP(AI141,CadMP!$B:$D,3,0),\"\")","v":""},{"$f":"IFERROR(VLOOKUP(AJ141,CadMP!$B:$D,3,0),\"\")","v":""},{"$f":"IFERROR(VLOOKUP(AK141,CadMP!$B:$D,3,0),\"\")","v":""},0,0,0,0,0,0,0,0,0,0,0,0,0,0,0]
[141,null,null,0,0,null,null,null,null,null,null,0,0,null,null,null,null,null,null,null,1,0,null,null,null,null,null,null,null,null,null,null,null,null,null,null,null,null,null,null,null,null,null,null,null,null,null,null,null,null,null,null,{"$f":"IFERROR(VLOOKUP(W142,CadMP!$B:$D,2,0),\"\")","v":""},{"$f":"IFERROR(VLOOKUP(X142,CadMP!$B:$D,2,0),\"\")","v":""},{"$f":"IFERROR(VLOOKUP(Y142,CadMP!$B:$D,2,0),\"\")","v":""},{"$f":"IFERROR(VLOOKUP(Z142,CadMP!$B:$D,2,0),\"\")","v":""},{"$f":"IFERROR(VLOOKUP(AA142,CadMP!$B:$D,2,0),\"\")","v":""},{"$f":"IFERROR(VLOOKUP(AB142,CadMP!$B:$D,2,0),\"\")","v":""},{"$f":"IFERROR(VLOOKUP(AC142,CadMP!$B:$D,2,0),\"\")","v":""},{"$f":"IFERROR(VLOOKUP(AD142,CadMP!$B:$D,2,0),\"\")","v":""},{"$f":"IFERROR(VLOOKUP(AE142,CadMP!$B:$D,2,0),\"\")","v":""},{"$f":"IFERROR(VLOOKUP(AF142,CadMP!$B:$D,2,0),\"\")","v":""},{"$f":"IFERROR(VLOOKUP(AG142,CadMP!$B:$D,2,0),\"\")","v":""},{"$f":"IFERROR(VLOOKUP(AH142,CadMP!$B:$D,2,0),\"\")","v":""},{"$f":"IFERROR(VLOOKUP(AI142,CadMP!$B:$D,2,0),\"\")","v":""},{"$f":"IFERROR(VLOOKUP(AJ142,CadMP!$B:$D,2,0),\"\")","v":""},{"$f":"IFERROR(VLOOKUP(AK142,CadMP!$B:$D,2,0),\"\")","v":""},{"$f":"IFERROR(VLOOKUP(W142,CadMP!$B:$D,3,0),\"\")","v":""},{"$f":"IFERROR(VLOOKUP(X142,CadMP!$B:$D,3,0),\"\")","v":""},{"$f":"IFERROR(VLOOKUP(Y142,CadMP!$B:$D,3,0),\"\")","v":""},{"$f":"IFERROR(VLOOKUP(Z142,CadMP!$B:$D,3,0),\"\")","v":""},{"$f":"IFERROR(VLOOKUP(AA142,CadMP!$B:$D,3,0),\"\")","v":""},{"$f":"IFERROR(VLOOKUP(AB142,CadMP!$B:$D,3,0),\"\")","v":""},{"$f":"IFERROR(VLOOKUP(AC142,CadMP!$B:$D,3,0),\"\")","v":""},{"$f":"IFERROR(VLOOKUP(AD142,CadMP!$B:$D,3,0),\"\")","v":""},{"$f":"IFERROR(VLOOKUP(AE142,CadMP!$B:$D,3,0),\"\")","v":""},{"$f":"IFERROR(VLOOKUP(AF142,CadMP!$B:$D,3,0),\"\")","v":""},{"$f":"IFERROR(VLOOKUP(AG142,CadMP!$B:$D,3,0),\"\")","v":""},{"$f":"IFERROR(VLOOKUP(AH142,CadMP!$B:$D,3,0),\"\")","v":""},{"$f":"IFERROR(VLOOKUP(AI142,CadMP!$B:$D,3,0),\"\")","v":""},{"$f":"IFERROR(VLOOKUP(AJ142,CadMP!$B:$D,3,0),\"\")","v":""},{"$f":"IFERROR(VLOOKUP(AK142,CadMP!$B:$D,3,0),\"\")","v":""},0,0,0,0,0,0,0,0,0,0,0,0,0,0,0]
[142,null,null,0,0,null,null,null,null,null,null,0,0,null,null,null,null,null,null,null,1,0,null,null,null,null,null,null,null,null,null,null,null,null,null,null,null,null,null,null,null,null,null,null,null,null,null,null,null,null,null,null,{"$f":"IFERROR(VLOOKUP(W143,CadMP!$B:$D,2,0),\"\")","v":""},{"$f":"IFERROR(VLOOKUP(X143,CadMP!$B:$D,2,0),\"\")","v":""},{"$f":"IFERROR(VLOOKUP(Y143,CadMP!$B:$D,2,0),\"\")","v":""},{"$f":"IFERROR(VLOOKUP(Z143,CadMP!$B:$D,2,0),\"\")","v":""},{"$f":"IFERROR(VLOOKUP(AA143,CadMP!$B:$D,2,0),\"\")","v":""},{"$f":"IFERROR(VLOOKUP(AB143,CadMP!$B:$D,2,0),\"\")","v":""},{"$f":"IFERROR(VLOOKUP(AC143,CadMP!$B:$D,2,0),\"\")","v":""},{"$f":"IFERROR(VLOOKUP(AD143,CadMP!$B:$D,2,0),\"\")","v":""},{"$f":"IFERROR(VLOOKUP(AE143,CadMP!$B:$D,2,0),\"\")","v":""},{"$f":"IFERROR(VLOOKUP(AF143,CadMP!$B:$D,2,0),\"\")","v":""},{"$f":"IFERROR(VLOOKUP(AG143,CadMP!$B:$D,2,0),\"\")","v":""},{"$f":"IFERROR(VLOOKUP(AH143,CadMP!$B:$D,2,0),\"\")","v":""},{"$f":"IFERROR(VLOOKUP(AI143,CadMP!$B:$D,2,0),\"\")","v":""},{"$f":"IFERROR(VLOOKUP(AJ143,CadMP!$B:$D,2,0),\"\")","v":""},{"$f":"IFERROR(VLOOKUP(AK143,CadMP!$B:$D,2,0),\"\")","v":""},{"$f":"IFERROR(VLOOKUP(W143,CadMP!$B:$D,3,0),\"\")","v":""},{"$f":"IFERROR(VLOOKUP(X143,CadMP!$B:$D,3,0),\"\")","v":""},{"$f":"IFERROR(VLOOKUP(Y143,CadMP!$B:$D,3,0),\"\")","v":""},{"$f":"IFERROR(VLOOKUP(Z143,CadMP!$B:$D,3,0),\"\")","v":""},{"$f":"IFERROR(VLOOKUP(AA143,CadMP!$B:$D,3,0),\"\")","v":""},{"$f":"IFERROR(VLOOKUP(AB143,CadMP!$B:$D,3,0),\"\")","v":""},{"$f":"IFERROR(VLOOKUP(AC143,CadMP!$B:$D,3,0),\"\")","v":""},{"$f":"IFERROR(VLOOKUP(AD143,CadMP!$B:$D,3,0),\"\")","v":""},{"$f":"IFERROR(VLOOKUP(AE143,CadMP!$B:$D,3,0),\"\")","v":""},{"$f":"IFERROR(VLOOKUP(AF143,CadMP!$B:$D,3,0),\"\")","v":""},{"$f":"IFERROR(VLOOKUP(AG143,CadMP!$B:$D,3,0),\"\")","v":""},{"$f":"IFERROR(VLOOKUP(AH143,CadMP!$B:$D,3,0),\"\")","v":""},{"$f":"IFERROR(VLOOKUP(AI143,CadMP!$B:$D,3,0),\"\")","v":""},{"$f":"IFERROR(VLOOKUP(AJ143,CadMP!$B:$D,3,0),\"\")","v":""},{"$f":"IFERROR(VLOOKUP(AK143,CadMP!$B:$D,3,0),\"\")","v":""},0,0,0,0,0,0,0,0,0,0,0,0,0,0,0]
[143,null,null,0,0,null,null,null,null,null,null,0,0,null,null,null,null,null,null,null,1,0,null,null,null,null,null,null,null,null,null,null,null,null,null,null,null,null,null,null,null,null,null,null,null,null,null,null,null,null,null,null,{"$f":"IFERROR(VLOOKUP(W144,CadMP!$B:$D,2,0),\"\")","v":""},{"$f":"IFERROR(VLOOKUP(X144,CadMP!$B:$D,2,0),\"\")","v":""},{"$f":"IFERROR(VLOOKUP(Y144,CadMP!$B:$D,2,0),\"\")","v":""},{"$f":"IFERROR(VLOOKUP(Z144,CadMP!$B:$D,2,0),\"\")","v":""},{"$f":"IFERROR(VLOOKUP(AA144,CadMP!$B:$D,2,0),\"\")","v":""},{"$f":"IFERROR(VLOOKUP(AB144,CadMP!$B:$D,2,0),\"\")","v":""},{"$f":"IFERROR(VLOOKUP(AC144,CadMP!$B:$D,2,0),\"\")","v":""},{"$f":"IFERROR(VLOOKUP(AD144,CadMP!$B:$D,2,0),\"\")","v":""},{"$f":"IFERROR(VLOOKUP(AE144,CadMP!$B:$D,2,0),\"\")","v":""},{"$f":"IFERROR(VLOOKUP(AF144,CadMP!$B:$D,2,0),\"\")","v":""},{"$f":"IFERROR(VLOOKUP(AG144,CadMP!$B:$D,2,0),\"\")","v":""},{"$f":"IFERROR(VLOOKUP(AH144,CadMP!$B:$D,2,0),\"\")","v":""},{"$f":"IFERROR(VLOOKUP(AI144,CadMP!$B:$D,2,0),\"\")","v":""},{"$f":"IFERROR(VLOOKUP(AJ144,CadMP!$B:$D,2,0),\"\")","v":""},{"$f":"IFERROR(VLOOKUP(AK144,CadMP!$B:$D,2,0),\"\")","v":""},{"$f":"IFERROR(VLOOKUP(W144,CadMP!$B:$D,3,0),\"\")","v":""},{"$f":"IFERROR(VLOOKUP(X144,CadMP!$B:$D,3,0),\"\")","v":""},{"$f":"IFERROR(VLOOKUP(Y144,CadMP!$B:$D,3,0),\"\")","v":""},{"$f":"IFERROR(VLOOKUP(Z144,CadMP!$B:$D,3,0),\"\")","v":""},{"$f":"IFERROR(VLOOKUP(AA144,CadMP!$B:$D,3,0),\"\")","v":""},{"$f":"IFERROR(VLOOKUP(AB144,CadMP!$B:$D,3,0),\"\")","v":""},{"$f":"IFERROR(VLOOKUP(AC144,CadMP!$B:$D,3,0),\"\")","v":""},{"$f":"IFERROR(VLOOKUP(AD144,CadMP!$B:$D,3,0),\"\")","v":""},{"$f":"IFERROR(VLOOKUP(AE144,CadMP!$B:$D,3,0),\"\")","v":""},{"$f":"IFERROR(VLOOKUP(AF144,CadMP!$B:$D,3,0),\"\")","v":""},{"$f":"IFERROR(VLOOKUP(AG144,CadMP!$B:$D,3,0),\"\")","v":""},{"$f":"IFERROR(VLOOKUP(AH144,CadMP!$B:$D,3,0),\"\")","v":""},{"$f":"IFERROR(VLOOKUP(AI144,CadMP!$B:$D,3,0),\"\")","v":""},{"$f":"IFERROR(VLOOKUP(AJ144,CadMP!$B:$D,3,0),\"\")","v":""},{"$f":"IFERROR(VLOOKUP(AK144,CadMP!$B:$D,3,0),\"\")","v":""},0,0,0,0,0,0,0,0,0,0,0,0,0,0,0]
[144,null,null,0,0,null,null,null,null,null,null,0,0,null,null,null,null,null,null,null,1,0,null,null,null,null,null,null,null,null,null,null,null,null,null,null,null,null,null,null,null,null,null,null,null,null,null,null,null,null,null,null,{"$f":"IFERROR(VLOOKUP(W145,CadMP!$B:$D,2,0),\"\")","v":""},{"$f":"IFERROR(VLOOKUP(X145,CadMP!$B:$D,2,0),\"\")","v":""},{"$f":"IFERROR(VLOOKUP(Y145,CadMP!$B:$D,2,0),\"\")","v":""},{"$f":"IFERROR(VLOOKUP(Z145,CadMP!$B:$D,2,0),\"\")","v":""},{"$f":"IFERROR(VLOOKUP(AA145,CadMP!$B:$D,2,0),\"\")","v":""},{"$f":"IFERROR(VLOOKUP(AB145,CadMP!$B:$D,2,0),\"\")","v":""},{"$f":"IFERROR(VLOOKUP(AC145,CadMP!$B:$D,2,0),\"\")","v":""},{"$f":"IFERROR(VLOOKUP(AD145,CadMP!$B:$D,2,0),\"\")","v":""},{"$f":"IFERROR(VLOOKUP(AE145,CadMP!$B:$D,2,0),\"\")","v":""},{"$f":"IFERROR(VLOOKUP(AF145,CadMP!$B:$D,2,0),\"\")","v":""},{"$f":"IFERROR(VLOOKUP(AG145,CadMP!$B:$D,2,0),\"\")","v":""},{"$f":"IFERROR(VLOOKUP(AH145,CadMP!$B:$D,2,0),\"\")","v":""},{"$f":"IFERROR(VLOOKUP(AI145,CadMP!$B:$D,2,0),\"\")","v":""},{"$f":"IFERROR(VLOOKUP(AJ145,CadMP!$B:$D,2,0),\"\")","v":""},{"$f":"IFERROR(VLOOKUP(AK145,CadMP!$B:$D,2,0),\"\")","v":""},{"$f":"IFERROR(VLOOKUP(W145,CadMP!$B:$D,3,0),\"\")","v":""},{"$f":"IFERROR(VLOOKUP(X145,CadMP!$B:$D,3,0),\"\")","v":""},{"$f":"IFERROR(VLOOKUP(Y145,CadMP!$B:$D,3,0),\"\")","v":""},{"$f":"IFERROR(VLOOKUP(Z145,CadMP!$B:$D,3,0),\"\")","v":""},{"$f":"IFERROR(VLOOKUP(AA145,CadMP!$B:$D,3,0),\"\")","v":""},{"$f":"IFERROR(VLOOKUP(AB145,CadMP!$B:$D,3,0),\"\")","v":""},{"$f":"IFERROR(VLOOKUP(AC145,CadMP!$B:$D,3,0),\"\")","v":""},{"$f":"IFERROR(VLOOKUP(AD145,CadMP!$B:$D,3,0),\"\")","v":""},{"$f":"IFERROR(VLOOKUP(AE145,CadMP!$B:$D,3,0),\"\")","v":""},{"$f":"IFERROR(VLOOKUP(AF145,CadMP!$B:$D,3,0),\"\")","v":""},{"$f":"IFERROR(VLOOKUP(AG145,CadMP!$B:$D,3,0),\"\")","v":""},{"$f":"IFERROR(VLOOKUP(AH145,CadMP!$B:$D,3,0),\"\")","v":""},{"$f":"IFERROR(VLOOKUP(AI145,CadMP!$B:$D,3,0),\"\")","v":""},{"$f":"IFERROR(VLOOKUP(AJ145,CadMP!$B:$D,3,0),\"\")","v":""},{"$f":"IFERROR(VLOOKUP(AK145,CadMP!$B:$D,3,0),\"\")","v":""},0,0,0,0,0,0,0,0,0,0,0,0,0,0,0]
[145,null,null,0,0,null,null,null,null,null,null,0,0,null,null,null,null,null,null,null,1,0,null,null,null,null,null,null,null,null,null,null,null,null,null,null,null,null,null,null,null,null,null,null,null,null,null,null,null,null,null,null,{"$f":"IFERROR(VLOOKUP(W146,CadMP!$B:$D,2,0),\"\")","v":""},{"$f":"IFERROR(VLOOKUP(X146,CadMP!$B:$D,2,0),\"\")","v":""},{"$f":"IFERROR(VLOOKUP(Y146,CadMP!$B:$D,2,0),\"\")","v":""},{"$f":"IFERROR(VLOOKUP(Z146,CadMP!$B:$D,2,0),\"\")","v":""},{"$f":"IFERROR(VLOOKUP(AA146,CadMP!$B:$D,2,0),\"\")","v":""},{"$f":"IFERROR(VLOOKUP(AB146,CadMP!$B:$D,2,0),\"\")","v":""},{"$f":"IFERROR(VLOOKUP(AC146,CadMP!$B:$D,2,0),\"\")","v":""},{"$f":"IFERROR(VLOOKUP(AD146,CadMP!$B:$D,2,0),\"\")","v":""},{"$f":"IFERROR(VLOOKUP(AE146,CadMP!$B:$D,2,0),\"\")","v":""},{"$f":"IFERROR(VLOOKUP(AF146,CadMP!$B:$D,2,0),\"\")","v":""},{"$f":"IFERROR(VLOOKUP(AG146,CadMP!$B:$D,2,0),\"\")","v":""},{"$f":"IFERROR(VLOOKUP(AH146,CadMP!$B:$D,2,0),\"\")","v":""},{"$f":"IFERROR(VLOOKUP(AI146,CadMP!$B:$D,2,0),\"\")","v":""},{"$f":"IFERROR(VLOOKUP(AJ146,CadMP!$B:$D,2,0),\"\")","v":""},{"$f":"IFERROR(VLOOKUP(AK146,CadMP!$B:$D,2,0),\"\")","v":""},{"$f":"IFERROR(VLOOKUP(W146,CadMP!$B:$D,3,0),\"\")","v":""},{"$f":"IFERROR(VLOOKUP(X146,CadMP!$B:$D,3,0),\"\")","v":""},{"$f":"IFERROR(VLOOKUP(Y146,CadMP!$B:$D,3,0),\"\")","v":""},{"$f":"IFERROR(VLOOKUP(Z146,CadMP!$B:$D,3,0),\"\")","v":""},{"$f":"IFERROR(VLOOKUP(AA146,CadMP!$B:$D,3,0),\"\")","v":""},{"$f":"IFERROR(VLOOKUP(AB146,CadMP!$B:$D,3,0),\"\")","v":""},{"$f":"IFERROR(VLOOKUP(AC146,CadMP!$B:$D,3,0),\"\")","v":""},{"$f":"IFERROR(VLOOKUP(AD146,CadMP!$B:$D,3,0),\"\")","v":""},{"$f":"IFERROR(VLOOKUP(AE146,CadMP!$B:$D,3,0),\"\")","v":""},{"$f":"IFERROR(VLOOKUP(AF146,CadMP!$B:$D,3,0),\"\")","v":""},{"$f":"IFERROR(VLOOKUP(AG146,CadMP!$B:$D,3,0),\"\")","v":""},{"$f":"IFERROR(VLOOKUP(AH146,CadMP!$B:$D,3,0),\"\")","v":""},{"$f":"IFERROR(VLOOKUP(AI146,CadMP!$B:$D,3,0),\"\")","v":""},{"$f":"IFERROR(VLOOKUP(AJ146,CadMP!$B:$D,3,0),\"\")","v":""},{"$f":"IFERROR(VLOOKUP(AK146,CadMP!$B:$D,3,0),\"\")","v":""},0,0,0,0,0,0,0,0,0,0,0,0,0,0,0]
[146,null,null,0,0,null,null,null,null,null,null,0,0,null,null,null,null,null,null,null,1,0,null,null,null,null,null,null,null,null,null,null,null,null,null,null,null,null,null,null,null,null,null,null,null,null,null,null,null,null,null,null,{"$f":"IFERROR(VLOOKUP(W147,CadMP!$B:$D,2,0),\"\")","v":""},{"$f":"IFERROR(VLOOKUP(X147,CadMP!$B:$D,2,0),\"\")","v":""},{"$f":"IFERROR(VLOOKUP(Y147,CadMP!$B:$D,2,0),\"\")","v":""},{"$f":"IFERROR(VLOOKUP(Z147,CadMP!$B:$D,2,0),\"\")","v":""},{"$f":"IFERROR(VLOOKUP(AA147,CadMP!$B:$D,2,0),\"\")","v":""},{"$f":"IFERROR(VLOOKUP(AB147,CadMP!$B:$D,2,0),\"\")","v":""},{"$f":"IFERROR(VLOOKUP(AC147,CadMP!$B:$D,2,0),\"\")","v":""},{"$f":"IFERROR(VLOOKUP(AD147,CadMP!$B:$D,2,0),\"\")","v":""},{"$f":"IFERROR(VLOOKUP(AE147,CadMP!$B:$D,2,0),\"\")","v":""},{"$f":"IFERROR(VLOOKUP(AF147,CadMP!$B:$D,2,0),\"\")","v":""},{"$f":"IFERROR(VLOOKUP(AG147,CadMP!$B:$D,2,0),\"\")","v":""},{"$f":"IFERROR(VLOOKUP(AH147,CadMP!$B:$D,2,0),\"\")","v":""},{"$f":"IFERROR(VLOOKUP(AI147,CadMP!$B:$D,2,0),\"\")","v":""},{"$f":"IFERROR(VLOOKUP(AJ147,CadMP!$B:$D,2,0),\"\")","v":""},{"$f":"IFERROR(VLOOKUP(AK147,CadMP!$B:$D,2,0),\"\")","v":""},{"$f":"IFERROR(VLOOKUP(W147,CadMP!$B:$D,3,0),\"\")","v":""},{"$f":"IFERROR(VLOOKUP(X147,CadMP!$B:$D,3,0),\"\")","v":""},{"$f":"IFERROR(VLOOKUP(Y147,CadMP!$B:$D,3,0),\"\")","v":""},{"$f":"IFERROR(VLOOKUP(Z147,CadMP!$B:$D,3,0),\"\")","v":""},{"$f":"IFERROR(VLOOKUP(AA147,CadMP!$B:$D,3,0),\"\")","v":""},{"$f":"IFERROR(VLOOKUP(AB147,CadMP!$B:$D,3,0),\"\")","v":""},{"$f":"IFERROR(VLOOKUP(AC147,CadMP!$B:$D,3,0),\"\")","v":""},{"$f":"IFERROR(VLOOKUP(AD147,CadMP!$B:$D,3,0),\"\")","v":""},{"$f":"IFERROR(VLOOKUP(AE147,CadMP!$B:$D,3,0),\"\")","v":""},{"$f":"IFERROR(VLOOKUP(AF147,CadMP!$B:$D,3,0),\"\")","v":""},{"$f":"IFERROR(VLOOKUP(AG147,CadMP!$B:$D,3,0),\"\")","v":""},{"$f":"IFERROR(VLOOKUP(AH147,CadMP!$B:$D,3,0),\"\")","v":""},{"$f":"IFERROR(VLOOKUP(AI147,CadMP!$B:$D,3,0),\"\")","v":""},{"$f":"IFERROR(VLOOKUP(AJ147,CadMP!$B:$D,3,0),\"\")","v":""},{"$f":"IFERROR(VLOOKUP(AK147,CadMP!$B:$D,3,0),\"\")","v":""},0,0,0,0,0,0,0,0,0,0,0,0,0,0,0]
[147,null,null,0,0,null,null,null,null,null,null,0,0,null,null,null,null,null,null,null,1,0,null,null,null,null,null,null,null,null,null,null,null,null,null,null,null,null,null,null,null,null,null,null,null,null,null,null,null,null,null,null,{"$f":"IFERROR(VLOOKUP(W148,CadMP!$B:$D,2,0),\"\")","v":""},{"$f":"IFERROR(VLOOKUP(X148,CadMP!$B:$D,2,0),\"\")","v":""},{"$f":"IFERROR(VLOOKUP(Y148,CadMP!$B:$D,2,0),\"\")","v":""},{"$f":"IFERROR(VLOOKUP(Z148,CadMP!$B:$D,2,0),\"\")","v":""},{"$f":"IFERROR(VLOOKUP(AA148,CadMP!$B:$D,2,0),\"\")","v":""},{"$f":"IFERROR(VLOOKUP(AB148,CadMP!$B:$D,2,0),\"\")","v":""},{"$f":"IFERROR(VLOOKUP(AC148,CadMP!$B:$D,2,0),\"\")","v":""},{"$f":"IFERROR(VLOOKUP(AD148,CadMP!$B:$D,2,0),\"\")","v":""},{"$f":"IFERROR(VLOOKUP(AE148,CadMP!$B:$D,2,0),\"\")","v":""},{"$f":"IFERROR(VLOOKUP(AF148,CadMP!$B:$D,2,0),\"\")","v":""},{"$f":"IFERROR(VLOOKUP(AG148,CadMP!$B:$D,2,0),\"\")","v":""},{"$f":"IFERROR(VLOOKUP(AH148,CadMP!$B:$D,2,0),\"\")","v":""},{"$f":"IFERROR(VLOOKUP(AI148,CadMP!$B:$D,2,0),\"\")","v":""},{"$f":"IFERROR(VLOOKUP(AJ148,CadMP!$B:$D,2,0),\"\")","v":""},{"$f":"IFERROR(VLOOKUP(AK148,CadMP!$B:$D,2,0),\"\")","v":""},{"$f":"IFERROR(VLOOKUP(W148,CadMP!$B:$D,3,0),\"\")","v":""},{"$f":"IFERROR(VLOOKUP(X148,CadMP!$B:$D,3,0),\"\")","v":""},{"$f":"IFERROR(VLOOKUP(Y148,CadMP!$B:$D,3,0),\"\")","v":""},{"$f":"IFERROR(VLOOKUP(Z148,CadMP!$B:$D,3,0),\"\")","v":""},{"$f":"IFERROR(VLOOKUP(AA148,CadMP!$B:$D,3,0),\"\")","v":""},{"$f":"IFERROR(VLOOKUP(AB148,CadMP!$B:$D,3,0),\"\")","v":""},{"$f":"IFERROR(VLOOKUP(AC148,CadMP!$B:$D,3,0),\"\")","v":""},{"$f":"IFERROR(VLOOKUP(AD148,CadMP!$B:$D,3,0),\"\")","v":""},{"$f":"IFERROR(VLOOKUP(AE148,CadMP!$B:$D,3,0),\"\")","v":""},{"$f":"IFERROR(VLOOKUP(AF148,CadMP!$B:$D,3,0),\"\")","v":""},{"$f":"IFERROR(VLOOKUP(AG148,CadMP!$B:$D,3,0),\"\")","v":""},{"$f":"IFERROR(VLOOKUP(AH148,CadMP!$B:$D,3,0),\"\")","v":""},{"$f":"IFERROR(VLOOKUP(AI148,CadMP!$B:$D,3,0),\"\")","v":""},{"$f":"IFERROR(VLOOKUP(AJ148,CadMP!$B:$D,3,0),\"\")","v":""},{"$f":"IFERROR(VLOOKUP(AK148,CadMP!$B:$D,3,0),\"\")","v":""},0,0,0,0,0,0,0,0,0,0,0,0,0,0,0]
[148,null,null,0,0,null,null,null,null,null,null,0,0,null,null,null,null,null,null,null,1,0,null,null,null,null,null,null,null,null,null,null,null,null,null,null,null,null,null,null,null,null,null,null,null,null,null,null,null,null,null,null,{"$f":"IFERROR(VLOOKUP(W149,CadMP!$B:$D,2,0),\"\")","v":""},{"$f":"IFERROR(VLOOKUP(X149,CadMP!$B:$D,2,0),\"\")","v":""},{"$f":"IFERROR(VLOOKUP(Y149,CadMP!$B:$D,2,0),\"\")","v":""},{"$f":"IFERROR(VLOOKUP(Z149,CadMP!$B:$D,2,0),\"\")","v":""},{"$f":"IFERROR(VLOOKUP(AA149,CadMP!$B:$D,2,0),\"\")","v":""},{"$f":"IFERROR(VLOOKUP(AB149,CadMP!$B:$D,2,0),\"\")","v":""},{"$f":"IFERROR(VLOOKUP(AC149,CadMP!$B:$D,2,0),\"\")","v":""},{"$f":"IFERROR(VLOOKUP(AD149,CadMP!$B:$D,2,0),\"\")","v":""},{"$f":"IFERROR(VLOOKUP(AE149,CadMP!$B:$D,2,0),\"\")","v":""},{"$f":"IFERROR(VLOOKUP(AF149,CadMP!$B:$D,2,0),\"\")","v":""},{"$f":"IFERROR(VLOOKUP(AG149,CadMP!$B:$D,2,0),\"\")","v":""},{"$f":"IFERROR(VLOOKUP(AH149,CadMP!$B:$D,2,0),\"\")","v":""},{"$f":"IFERROR(VLOOKUP(AI149,CadMP!$B:$D,2,0),\"\")","v":""},{"$f":"IFERROR(VLOOKUP(AJ149,CadMP!$B:$D,2,0),\"\")","v":""},{"$f":"IFERROR(VLOOKUP(AK149,CadMP!$B:$D,2,0),\"\")","v":""},{"$f":"IFERROR(VLOOKUP(W149,CadMP!$B:$D,3,0),\"\")","v":""},{"$f":"IFERROR(VLOOKUP(X149,CadMP!$B:$D,3,0),\"\")","v":""},{"$f":"IFERROR(VLOOKUP(Y149,CadMP!$B:$D,3,0),\"\")","v":""},{"$f":"IFERROR(VLOOKUP(Z149,CadMP!$B:$D,3,0),\"\")","v":""},{"$f":"IFERROR(VLOOKUP(AA149,CadMP!$B:$D,3,0),\"\")","v":""},{"$f":"IFERROR(VLOOKUP(AB149,CadMP!$B:$D,3,0),\"\")","v":""},{"$f":"IFERROR(VLOOKUP(AC149,CadMP!$B:$D,3,0),\"\")","v":""},{"$f":"IFERROR(VLOOKUP(AD149,CadMP!$B:$D,3,0),\"\")","v":""},{"$f":"IFERROR(VLOOKUP(AE149,CadMP!$B:$D,3,0),\"\")","v":""},{"$f":"IFERROR(VLOOKUP(AF149,CadMP!$B:$D,3,0),\"\")","v":""},{"$f":"IFERROR(VLOOKUP(AG149,CadMP!$B:$D,3,0),\"\")","v":""},{"$f":"IFERROR(VLOOKUP(AH149,CadMP!$B:$D,3,0),\"\")","v":""},{"$f":"IFERROR(VLOOKUP(AI149,CadMP!$B:$D,3,0),\"\")","v":""},{"$f":"IFERROR(VLOOKUP(AJ149,CadMP!$B:$D,3,0),\"\")","v":""},{"$f":"IFERROR(VLOOKUP(AK149,CadMP!$B:$D,3,0),\"\")","v":""},0,0,0,0,0,0,0,0,0,0,0,0,0,0,0]
[149,null,null,0,0,null,null,null,null,null,null,0,0,null,null,null,null,null,null,null,1,0,null,null,null,null,null,null,null,null,null,null,null,null,null,null,null,null,null,null,null,null,null,null,null,null,null,null,null,null,null,null,{"$f":"IFERROR(VLOOKUP(W150,CadMP!$B:$D,2,0),\"\")","v":""},{"$f":"IFERROR(VLOOKUP(X150,CadMP!$B:$D,2,0),\"\")","v":""},{"$f":"IFERROR(VLOOKUP(Y150,CadMP!$B:$D,2,0),\"\")","v":""},{"$f":"IFERROR(VLOOKUP(Z150,CadMP!$B:$D,2,0),\"\")","v":""},{"$f":"IFERROR(VLOOKUP(AA150,CadMP!$B:$D,2,0),\"\")","v":""},{"$f":"IFERROR(VLOOKUP(AB150,CadMP!$B:$D,2,0),\"\")","v":""},{"$f":"IFERROR(VLOOKUP(AC150,CadMP!$B:$D,2,0),\"\")","v":""},{"$f":"IFERROR(VLOOKUP(AD150,CadMP!$B:$D,2,0),\"\")","v":""},{"$f":"IFERROR(VLOOKUP(AE150,CadMP!$B:$D,2,0),\"\")","v":""},{"$f":"IFERROR(VLOOKUP(AF150,CadMP!$B:$D,2,0),\"\")","v":""},{"$f":"IFERROR(VLOOKUP(AG150,CadMP!$B:$D,2,0),\"\")","v":""},{"$f":"IFERROR(VLOOKUP(AH150,CadMP!$B:$D,2,0),\"\")","v":""},{"$f":"IFERROR(VLOOKUP(AI150,CadMP!$B:$D,2,0),\"\")","v":""},{"$f":"IFERROR(VLOOKUP(AJ150,CadMP!$B:$D,2,0),\"\")","v":""},{"$f":"IFERROR(VLOOKUP(AK150,CadMP!$B:$D,2,0),\"\")","v":""},{"$f":"IFERROR(VLOOKUP(W150,CadMP!$B:$D,3,0),\"\")","v":""},{"$f":"IFERROR(VLOOKUP(X150,CadMP!$B:$D,3,0),\"\")","v":""},{"$f":"IFERROR(VLOOKUP(Y150,CadMP!$B:$D,3,0),\"\")","v":""},{"$f":"IFERROR(VLOOKUP(Z150,CadMP!$B:$D,3,0),\"\")","v":""},{"$f":"IFERROR(VLOOKUP(AA150,CadMP!$B:$D,3,0),\"\")","v":""},{"$f":"IFERROR(VLOOKUP(AB150,CadMP!$B:$D,3,0),\"\")","v":""},{"$f":"IFERROR(VLOOKUP(AC150,CadMP!$B:$D,3,0),\"\")","v":""},{"$f":"IFERROR(VLOOKUP(AD150,CadMP!$B:$D,3,0),\"\")","v":""},{"$f":"IFERROR(VLOOKUP(AE150,CadMP!$B:$D,3,0),\"\")","v":""},{"$f":"IFERROR(VLOOKUP(AF150,CadMP!$B:$D,3,0),\"\")","v":""},{"$f":"IFERROR(VLOOKUP(AG150,CadMP!$B:$D,3,0),\"\")","v":""},{"$f":"IFERROR(VLOOKUP(AH150,CadMP!$B:$D,3,0),\"\")","v":""},{"$f":"IFERROR(VLOOKUP(AI150,CadMP!$B:$D,3,0),\"\")","v":""},{"$f":"IFERROR(VLOOKUP(AJ150,CadMP!$B:$D,3,0),\"\")","v":""},{"$f":"IFERROR(VLOOKUP(AK150,CadMP!$B:$D,3,0),\"\")","v":""},0,0,0,0,0,0,0,0,0,0,0,0,0,0,0]
[150,null,null,0,0,null,null,null,null,null,null,0,0,null,null,null,null,null,null,null,1,0,null,null,null,null,null,null,null,null,null,null,null,null,null,null,null,null,null,null,null,null,null,null,null,null,null,null,null,null,null,null,{"$f":"IFERROR(VLOOKUP(W151,CadMP!$B:$D,2,0),\"\")","v":""},{"$f":"IFERROR(VLOOKUP(X151,CadMP!$B:$D,2,0),\"\")","v":""},{"$f":"IFERROR(VLOOKUP(Y151,CadMP!$B:$D,2,0),\"\")","v":""},{"$f":"IFERROR(VLOOKUP(Z151,CadMP!$B:$D,2,0),\"\")","v":""},{"$f":"IFERROR(VLOOKUP(AA151,CadMP!$B:$D,2,0),\"\")","v":""},{"$f":"IFERROR(VLOOKUP(AB151,CadMP!$B:$D,2,0),\"\")","v":""},{"$f":"IFERROR(VLOOKUP(AC151,CadMP!$B:$D,2,0),\"\")","v":""},{"$f":"IFERROR(VLOOKUP(AD151,CadMP!$B:$D,2,0),\"\")","v":""},{"$f":"IFERROR(VLOOKUP(AE151,CadMP!$B:$D,2,0),\"\")","v":""},{"$f":"IFERROR(VLOOKUP(AF151,CadMP!$B:$D,2,0),\"\")","v":""},{"$f":"IFERROR(VLOOKUP(AG151,CadMP!$B:$D,2,0),\"\")","v":""},{"$f":"IFERROR(VLOOKUP(AH151,CadMP!$B:$D,2,0),\"\")","v":""},{"$f":"IFERROR(VLOOKUP(AI151,CadMP!$B:$D,2,0),\"\")","v":""},{"$f":"IFERROR(VLOOKUP(AJ151,CadMP!$B:$D,2,0),\"\")","v":""},{"$f":"IFERROR(VLOOKUP(AK151,CadMP!$B:$D,2,0),\"\")","v":""},{"$f":"IFERROR(VLOOKUP(W151,CadMP!$B:$D,3,0),\"\")","v":""},{"$f":"IFERROR(VLOOKUP(X151,CadMP!$B:$D,3,0),\"\")","v":""},{"$f":"IFERROR(VLOOKUP(Y151,CadMP!$B:$D,3,0),\"\")","v":""},{"$f":"IFERROR(VLOOKUP(Z151,CadMP!$B:$D,3,0),\"\")","v":""},{"$f":"IFERROR(VLOOKUP(AA151,CadMP!$B:$D,3,0),\"\")","v":""},{"$f":"IFERROR(VLOOKUP(AB151,CadMP!$B:$D,3,0),\"\")","v":""},{"$f":"IFERROR(VLOOKUP(AC151,CadMP!$B:$D,3,0),\"\")","v":""},{"$f":"IFERROR(VLOOKUP(AD151,CadMP!$B:$D,3,0),\"\")","v":""},{"$f":"IFERROR(VLOOKUP(AE151,CadMP!$B:$D,3,0),\"\")","v":""},{"$f":"IFERROR(VLOOKUP(AF151,CadMP!$B:$D,3,0),\"\")","v":""},{"$f":"IFERROR(VLOOKUP(AG151,CadMP!$B:$D,3,0),\"\")","v":""},{"$f":"IFERROR(VLOOKUP(AH151,CadMP!$B:$D,3,0),\"\")","v":""},{"$f":"IFERROR(VLOOKUP(AI151,CadMP!$B:$D,3,0),\"\")","v":""},{"$f":"IFERROR(VLOOKUP(AJ151,CadMP!$B:$D,3,0),\"\")","v":""},{"$f":"IFERROR(VLOOKUP(AK151,CadMP!$B:$D,3,0),\"\")","v":""},0,0,0,0,0,0,0,0,0,0,0,0,0,0,0]
[151,null,null,0,0,null,null,null,null,null,null,0,0,null,null,null,null,null,null,null,1,0,null,null,null,null,null,null,null,null,null,null,null,null,null,null,null,null,null,null,null,null,null,null,null,null,null,null,null,null,null,null,{"$f":"IFERROR(VLOOKUP(W152,CadMP!$B:$D,2,0),\"\")","v":""},{"$f":"IFERROR(VLOOKUP(X152,CadMP!$B:$D,2,0),\"\")","v":""},{"$f":"IFERROR(VLOOKUP(Y152,CadMP!$B:$D,2,0),\"\")","v":""},{"$f":"IFERROR(VLOOKUP(Z152,CadMP!$B:$D,2,0),\"\")","v":""},{"$f":"IFERROR(VLOOKUP(AA152,CadMP!$B:$D,2,0),\"\")","v":""},{"$f":"IFERROR(VLOOKUP(AB152,CadMP!$B:$D,2,0),\"\")","v":""},{"$f":"IFERROR(VLOOKUP(AC152,CadMP!$B:$D,2,0),\"\")","v":""},{"$f":"IFERROR(VLOOKUP(AD152,CadMP!$B:$D,2,0),\"\")","v":""},{"$f":"IFERROR(VLOOKUP(AE152,CadMP!$B:$D,2,0),\"\")","v":""},{"$f":"IFERROR(VLOOKUP(AF152,CadMP!$B:$D,2,0),\"\")","v":""},{"$f":"IFERROR(VLOOKUP(AG152,CadMP!$B:$D,2,0),\"\")","v":""},{"$f":"IFERROR(VLOOKUP(AH152,CadMP!$B:$D,2,0),\"\")","v":""},{"$f":"IFERROR(VLOOKUP(AI152,CadMP!$B:$D,2,0),\"\")","v":""},{"$f":"IFERROR(VLOOKUP(AJ152,CadMP!$B:$D,2,0),\"\")","v":""},{"$f":"IFERROR(VLOOKUP(AK152,CadMP!$B:$D,2,0),\"\")","v":""},{"$f":"IFERROR(VLOOKUP(W152,CadMP!$B:$D,3,0),\"\")","v":""},{"$f":"IFERROR(VLOOKUP(X152,CadMP!$B:$D,3,0),\"\")","v":""},{"$f":"IFERROR(VLOOKUP(Y152,CadMP!$B:$D,3,0),\"\")","v":""},{"$f":"IFERROR(VLOOKUP(Z152,CadMP!$B:$D,3,0),\"\")","v":""},{"$f":"IFERROR(VLOOKUP(AA152,CadMP!$B:$D,3,0),\"\")","v":""},{"$f":"IFERROR(VLOOKUP(AB152,CadMP!$B:$D,3,0),\"\")","v":""},{"$f":"IFERROR(VLOOKUP(AC152,CadMP!$B:$D,3,0),\"\")","v":""},{"$f":"IFERROR(VLOOKUP(AD152,CadMP!$B:$D,3,0),\"\")","v":""},{"$f":"IFERROR(VLOOKUP(AE152,CadMP!$B:$D,3,0),\"\")","v":""},{"$f":"IFERROR(VLOOKUP(AF152,CadMP!$B:$D,3,0),\"\")","v":""},{"$f":"IFERROR(VLOOKUP(AG152,CadMP!$B:$D,3,0),\"\")","v":""},{"$f":"IFERROR(VLOOKUP(AH152,CadMP!$B:$D,3,0),\"\")","v":""},{"$f":"IFERROR(VLOOKUP(AI152,CadMP!$B:$D,3,0),\"\")","v":""},{"$f":"IFERROR(VLOOKUP(AJ152,CadMP!$B:$D,3,0),\"\")","v":""},{"$f":"IFERROR(VLOOKUP(AK152,CadMP!$B:$D,3,0),\"\")","v":""},0,0,0,0,0,0,0,0,0,0,0,0,0,0,0]
[152,null,null,0,0,null,null,null,null,null,null,0,0,null,null,null,null,null,null,null,1,0,null,null,null,null,null,null,null,null,null,null,null,null,null,null,null,null,null,null,null,null,null,null,null,null,null,null,null,null,null,null,{"$f":"IFERROR(VLOOKUP(W153,CadMP!$B:$D,2,0),\"\")","v":""},{"$f":"IFERROR(VLOOKUP(X153,CadMP!$B:$D,2,0),\"\")","v":""},{"$f":"IFERROR(VLOOKUP(Y153,CadMP!$B:$D,2,0),\"\")","v":""},{"$f":"IFERROR(VLOOKUP(Z153,CadMP!$B:$D,2,0),\"\")","v":""},{"$f":"IFERROR(VLOOKUP(AA153,CadMP!$B:$D,2,0),\"\")","v":""},{"$f":"IFERROR(VLOOKUP(AB153,CadMP!$B:$D,2,0),\"\")","v":""},{"$f":"IFERROR(VLOOKUP(AC153,CadMP!$B:$D,2,0),\"\")","v":""},{"$f":"IFERROR(VLOOKUP(AD153,CadMP!$B:$D,2,0),\"\")","v":""},{"$f":"IFERROR(VLOOKUP(AE153,CadMP!$B:$D,2,0),\"\")","v":""},{"$f":"IFERROR(VLOOKUP(AF153,CadMP!$B:$D,2,0),\"\")","v":""},{"$f":"IFERROR(VLOOKUP(AG153,CadMP!$B:$D,2,0),\"\")","v":""},{"$f":"IFERROR(VLOOKUP(AH153,CadMP!$B:$D,2,0),\"\")","v":""},{"$f":"IFERROR(VLOOKUP(AI153,CadMP!$B:$D,2,0),\"\")","v":""},{"$f":"IFERROR(VLOOKUP(AJ153,CadMP!$B:$D,2,0),\"\")","v":""},{"$f":"IFERROR(VLOOKUP(AK153,CadMP!$B:$D,2,0),\"\")","v":""},{"$f":"IFERROR(VLOOKUP(W153,CadMP!$B:$D,3,0),\"\")","v":""},{"$f":"IFERROR(VLOOKUP(X153,CadMP!$B:$D,3,0),\"\")","v":""},{"$f":"IFERROR(VLOOKUP(Y153,CadMP!$B:$D,3,0),\"\")","v":""},{"$f":"IFERROR(VLOOKUP(Z153,CadMP!$B:$D,3,0),\"\")","v":""},{"$f":"IFERROR(VLOOKUP(AA153,CadMP!$B:$D,3,0),\"\")","v":""},{"$f":"IFERROR(VLOOKUP(AB153,CadMP!$B:$D,3,0),\"\")","v":""},{"$f":"IFERROR(VLOOKUP(AC153,CadMP!$B:$D,3,0),\"\")","v":""},{"$f":"IFERROR(VLOOKUP(AD153,CadMP!$B:$D,3,0),\"\")","v":""},{"$f":"IFERROR(VLOOKUP(AE153,CadMP!$B:$D,3,0),\"\")","v":""},{"$f":"IFERROR(VLOOKUP(AF153,CadMP!$B:$D,3,0),\"\")","v":""},{"$f":"IFERROR(VLOOKUP(AG153,CadMP!$B:$D,3,0),\"\")","v":""},{"$f":"IFERROR(VLOOKUP(AH153,CadMP!$B:$D,3,0),\"\")","v":""},{"$f":"IFERROR(VLOOKUP(AI153,CadMP!$B:$D,3,0),\"\")","v":""},{"$f":"IFERROR(VLOOKUP(AJ153,CadMP!$B:$D,3,0),\"\")","v":""},{"$f":"IFERROR(VLOOKUP(AK153,CadMP!$B:$D,3,0),\"\")","v":""},0,0,0,0,0,0,0,0,0,0,0,0,0,0,0]
[153,null,null,0,0,null,null,null,null,null,null,0,0,null,null,null,null,null,null,null,1,0,null,null,null,null,null,null,null,null,null,null,null,null,null,null,null,null,null,null,null,null,null,null,null,null,null,null,null,null,null,null,{"$f":"IFERROR(VLOOKUP(W154,CadMP!$B:$D,2,0),\"\")","v":""},{"$f":"IFERROR(VLOOKUP(X154,CadMP!$B:$D,2,0),\"\")","v":""},{"$f":"IFERROR(VLOOKUP(Y154,CadMP!$B:$D,2,0),\"\")","v":""},{"$f":"IFERROR(VLOOKUP(Z154,CadMP!$B:$D,2,0),\"\")","v":""},{"$f":"IFERROR(VLOOKUP(AA154,CadMP!$B:$D,2,0),\"\")","v":""},{"$f":"IFERROR(VLOOKUP(AB154,CadMP!$B:$D,2,0),\"\")","v":""},{"$f":"IFERROR(VLOOKUP(AC154,CadMP!$B:$D,2,0),\"\")","v":""},{"$f":"IFERROR(VLOOKUP(AD154,CadMP!$B:$D,2,0),\"\")","v":""},{"$f":"IFERROR(VLOOKUP(AE154,CadMP!$B:$D,2,0),\"\")","v":""},{"$f":"IFERROR(VLOOKUP(AF154,CadMP!$B:$D,2,0),\"\")","v":""},{"$f":"IFERROR(VLOOKUP(AG154,CadMP!$B:$D,2,0),\"\")","v":""},{"$f":"IFERROR(VLOOKUP(AH154,CadMP!$B:$D,2,0),\"\")","v":""},{"$f":"IFERROR(VLOOKUP(AI154,CadMP!$B:$D,2,0),\"\")","v":""},{"$f":"IFERROR(VLOOKUP(AJ154,CadMP!$B:$D,2,0),\"\")","v":""},{"$f":"IFERROR(VLOOKUP(AK154,CadMP!$B:$D,2,0),\"\")","v":""},{"$f":"IFERROR(VLOOKUP(W154,CadMP!$B:$D,3,0),\"\")","v":""},{"$f":"IFERROR(VLOOKUP(X154,CadMP!$B:$D,3,0),\"\")","v":""},{"$f":"IFERROR(VLOOKUP(Y154,CadMP!$B:$D,3,0),\"\")","v":""},{"$f":"IFERROR(VLOOKUP(Z154,CadMP!$B:$D,3,0),\"\")","v":""},{"$f":"IFERROR(VLOOKUP(AA154,CadMP!$B:$D,3,0),\"\")","v":""},{"$f":"IFERROR(VLOOKUP(AB154,CadMP!$B:$D,3,0),\"\")","v":""},{"$f":"IFERROR(VLOOKUP(AC154,CadMP!$B:$D,3,0),\"\")","v":""},{"$f":"IFERROR(VLOOKUP(AD154,CadMP!$B:$D,3,0),\"\")","v":""},{"$f":"IFERROR(VLOOKUP(AE154,CadMP!$B:$D,3,0),\"\")","v":""},{"$f":"IFERROR(VLOOKUP(AF154,CadMP!$B:$D,3,0),\"\")","v":""},{"$f":"IFERROR(VLOOKUP(AG154,CadMP!$B:$D,3,0),\"\")","v":""},{"$f":"IFERROR(VLOOKUP(AH154,CadMP!$B:$D,3,0),\"\")","v":""},{"$f":"IFERROR(VLOOKUP(AI154,CadMP!$B:$D,3,0),\"\")","v":""},{"$f":"IFERROR(VLOOKUP(AJ154,CadMP!$B:$D,3,0),\"\")","v":""},{"$f":"IFERROR(VLOOKUP(AK154,CadMP!$B:$D,3,0),\"\")","v":""},0,0,0,0,0,0,0,0,0,0,0,0,0,0,0]
[154,null,null,0,0,null,null,null,null,null,null,0,0,null,null,null,null,null,null,null,1,0,null,null,null,null,null,null,null,null,null,null,null,null,null,null,null,null,null,null,null,null,null,null,null,null,null,null,null,null,null,null,{"$f":"IFERROR(VLOOKUP(W155,CadMP!$B:$D,2,0),\"\")","v":""},{"$f":"IFERROR(VLOOKUP(X155,CadMP!$B:$D,2,0),\"\")","v":""},{"$f":"IFERROR(VLOOKUP(Y155,CadMP!$B:$D,2,0),\"\")","v":""},{"$f":"IFERROR(VLOOKUP(Z155,CadMP!$B:$D,2,0),\"\")","v":""},{"$f":"IFERROR(VLOOKUP(AA155,CadMP!$B:$D,2,0),\"\")","v":""},{"$f":"IFERROR(VLOOKUP(AB155,CadMP!$B:$D,2,0),\"\")","v":""},{"$f":"IFERROR(VLOOKUP(AC155,CadMP!$B:$D,2,0),\"\")","v":""},{"$f":"IFERROR(VLOOKUP(AD155,CadMP!$B:$D,2,0),\"\")","v":""},{"$f":"IFERROR(VLOOKUP(AE155,CadMP!$B:$D,2,0),\"\")","v":""},{"$f":"IFERROR(VLOOKUP(AF155,CadMP!$B:$D,2,0),\"\")","v":""},{"$f":"IFERROR(VLOOKUP(AG155,CadMP!$B:$D,2,0),\"\")","v":""},{"$f":"IFERROR(VLOOKUP(AH155,CadMP!$B:$D,2,0),\"\")","v":""},{"$f":"IFERROR(VLOOKUP(AI155,CadMP!$B:$D,2,0),\"\")","v":""},{"$f":"IFERROR(VLOOKUP(AJ155,CadMP!$B:$D,2,0),\"\")","v":""},{"$f":"IFERROR(VLOOKUP(AK155,CadMP!$B:$D,2,0),\"\")","v":""},{"$f":"IFERROR(VLOOKUP(W155,CadMP!$B:$D,3,0),\"\")","v":""},{"$f":"IFERROR(VLOOKUP(X155,CadMP!$B:$D,3,0),\"\")","v":""},{"$f":"IFERROR(VLOOKUP(Y155,CadMP!$B:$D,3,0),\"\")","v":""},{"$f":"IFERROR(VLOOKUP(Z155,CadMP!$B:$D,3,0),\"\")","v":""},{"$f":"IFERROR(VLOOKUP(AA155,CadMP!$B:$D,3,0),\"\")","v":""},{"$f":"IFERROR(VLOOKUP(AB155,CadMP!$B:$D,3,0),\"\")","v":""},{"$f":"IFERROR(VLOOKUP(AC155,CadMP!$B:$D,3,0),\"\")","v":""},{"$f":"IFERROR(VLOOKUP(AD155,CadMP!$B:$D,3,0),\"\")","v":""},{"$f":"IFERROR(VLOOKUP(AE155,CadMP!$B:$D,3,0),\"\")","v":""},{"$f":"IFERROR(VLOOKUP(AF155,CadMP!$B:$D,3,0),\"\")","v":""},{"$f":"IFERROR(VLOOKUP(AG155,CadMP!$B:$D,3,0),\"\")","v":""},{"$f":"IFERROR(VLOOKUP(AH155,CadMP!$B:$D,3,0),\"\")","v":""},{"$f":"IFERROR(VLOOKUP(AI155,CadMP!$B:$D,3,0),\"\")","v":""},{"$f":"IFERROR(VLOOKUP(AJ155,CadMP!$B:$D,3,0),\"\")","v":""},{"$f":"IFERROR(VLOOKUP(AK155,CadMP!$B:$D,3,0),\"\")","v":""},0,0,0,0,0,0,0,0,0,0,0,0,0,0,0]
[155,null,null,0,0,null,null,null,null,null,null,0,0,null,null,null,null,null,null,null,1,0,null,null,null,null,null,null,null,null,null,null,null,null,null,null,null,null,null,null,null,null,null,null,null,null,null,null,null,null,null,null,{"$f":"IFERROR(VLOOKUP(W156,CadMP!$B:$D,2,0),\"\")","v":""},{"$f":"IFERROR(VLOOKUP(X156,CadMP!$B:$D,2,0),\"\")","v":""},{"$f":"IFERROR(VLOOKUP(Y156,CadMP!$B:$D,2,0),\"\")","v":""},{"$f":"IFERROR(VLOOKUP(Z156,CadMP!$B:$D,2,0),\"\")","v":""},{"$f":"IFERROR(VLOOKUP(AA156,CadMP!$B:$D,2,0),\"\")","v":""},{"$f":"IFERROR(VLOOKUP(AB156,CadMP!$B:$D,2,0),\"\")","v":""},{"$f":"IFERROR(VLOOKUP(AC156,CadMP!$B:$D,2,0),\"\")","v":""},{"$f":"IFERROR(VLOOKUP(AD156,CadMP!$B:$D,2,0),\"\")","v":""},{"$f":"IFERROR(VLOOKUP(AE156,CadMP!$B:$D,2,0),\"\")","v":""},{"$f":"IFERROR(VLOOKUP(AF156,CadMP!$B:$D,2,0),\"\")","v":""},{"$f":"IFERROR(VLOOKUP(AG156,CadMP!$B:$D,2,0),\"\")","v":""},{"$f":"IFERROR(VLOOKUP(AH156,CadMP!$B:$D,2,0),\"\")","v":""},{"$f":"IFERROR(VLOOKUP(AI156,CadMP!$B:$D,2,0),\"\")","v":""},{"$f":"IFERROR(VLOOKUP(AJ156,CadMP!$B:$D,2,0),\"\")","v":""},{"$f":"IFERROR(VLOOKUP(AK156,CadMP!$B:$D,2,0),\"\")","v":""},{"$f":"IFERROR(VLOOKUP(W156,CadMP!$B:$D,3,0),\"\")","v":""},{"$f":"IFERROR(VLOOKUP(X156,CadMP!$B:$D,3,0),\"\")","v":""},{"$f":"IFERROR(VLOOKUP(Y156,CadMP!$B:$D,3,0),\"\")","v":""},{"$f":"IFERROR(VLOOKUP(Z156,CadMP!$B:$D,3,0),\"\")","v":""},{"$f":"IFERROR(VLOOKUP(AA156,CadMP!$B:$D,3,0),\"\")","v":""},{"$f":"IFERROR(VLOOKUP(AB156,CadMP!$B:$D,3,0),\"\")","v":""},{"$f":"IFERROR(VLOOKUP(AC156,CadMP!$B:$D,3,0),\"\")","v":""},{"$f":"IFERROR(VLOOKUP(AD156,CadMP!$B:$D,3,0),\"\")","v":""},{"$f":"IFERROR(VLOOKUP(AE156,CadMP!$B:$D,3,0),\"\")","v":""},{"$f":"IFERROR(VLOOKUP(AF156,CadMP!$B:$D,3,0),\"\")","v":""},{"$f":"IFERROR(VLOOKUP(AG156,CadMP!$B:$D,3,0),\"\")","v":""},{"$f":"IFERROR(VLOOKUP(AH156,CadMP!$B:$D,3,0),\"\")","v":""},{"$f":"IFERROR(VLOOKUP(AI156,CadMP!$B:$D,3,0),\"\")","v":""},{"$f":"IFERROR(VLOOKUP(AJ156,CadMP!$B:$D,3,0),\"\")","v":""},{"$f":"IFERROR(VLOOKUP(AK156,CadMP!$B:$D,3,0),\"\")","v":""},0,0,0,0,0,0,0,0,0,0,0,0,0,0,0]
[156,null,null,0,0,null,null,null,null,null,null,0,0,null,null,null,null,null,null,null,1,0,null,null,null,null,null,null,null,null,null,null,null,null,null,null,null,null,null,null,null,null,null,null,null,null,null,null,null,null,null,null,{"$f":"IFERROR(VLOOKUP(W157,CadMP!$B:$D,2,0),\"\")","v":""},{"$f":"IFERROR(VLOOKUP(X157,CadMP!$B:$D,2,0),\"\")","v":""},{"$f":"IFERROR(VLOOKUP(Y157,CadMP!$B:$D,2,0),\"\")","v":""},{"$f":"IFERROR(VLOOKUP(Z157,CadMP!$B:$D,2,0),\"\")","v":""},{"$f":"IFERROR(VLOOKUP(AA157,CadMP!$B:$D,2,0),\"\")","v":""},{"$f":"IFERROR(VLOOKUP(AB157,CadMP!$B:$D,2,0),\"\")","v":""},{"$f":"IFERROR(VLOOKUP(AC157,CadMP!$B:$D,2,0),\"\")","v":""},{"$f":"IFERROR(VLOOKUP(AD157,CadMP!$B:$D,2,0),\"\")","v":""},{"$f":"IFERROR(VLOOKUP(AE157,CadMP!$B:$D,2,0),\"\")","v":""},{"$f":"IFERROR(VLOOKUP(AF157,CadMP!$B:$D,2,0),\"\")","v":""},{"$f":"IFERROR(VLOOKUP(AG157,CadMP!$B:$D,2,0),\"\")","v":""},{"$f":"IFERROR(VLOOKUP(AH157,CadMP!$B:$D,2,0),\"\")","v":""},{"$f":"IFERROR(VLOOKUP(AI157,CadMP!$B:$D,2,0),\"\")","v":""},{"$f":"IFERROR(VLOOKUP(AJ157,CadMP!$B:$D,2,0),\"\")","v":""},{"$f":"IFERROR(VLOOKUP(AK157,CadMP!$B:$D,2,0),\"\")","v":""},{"$f":"IFERROR(VLOOKUP(W157,CadMP!$B:$D,3,0),\"\")","v":""},{"$f":"IFERROR(VLOOKUP(X157,CadMP!$B:$D,3,0),\"\")","v":""},{"$f":"IFERROR(VLOOKUP(Y157,CadMP!$B:$D,3,0),\"\")","v":""},{"$f":"IFERROR(VLOOKUP(Z157,CadMP!$B:$D,3,0),\"\")","v":""},{"$f":"IFERROR(VLOOKUP(AA157,CadMP!$B:$D,3,0),\"\")","v":""},{"$f":"IFERROR(VLOOKUP(AB157,CadMP!$B:$D,3,0),\"\")","v":""},{"$f":"IFERROR(VLOOKUP(AC157,CadMP!$B:$D,3,0),\"\")","v":""},{"$f":"IFERROR(VLOOKUP(AD157,CadMP!$B:$D,3,0),\"\")","v":""},{"$f":"IFERROR(VLOOKUP(AE157,CadMP!$B:$D,3,0),\"\")","v":""},{"$f":"IFERROR(VLOOKUP(AF157,CadMP!$B:$D,3,0),\"\")","v":""},{"$f":"IFERROR(VLOOKUP(AG157,CadMP!$B:$D,3,0),\"\")","v":""},{"$f":"IFERROR(VLOOKUP(AH157,CadMP!$B:$D,3,0),\"\")","v":""},{"$f":"IFERROR(VLOOKUP(AI157,CadMP!$B:$D,3,0),\"\")","v":""},{"$f":"IFERROR(VLOOKUP(AJ157,CadMP!$B:$D,3,0),\"\")","v":""},{"$f":"IFERROR(VLOOKUP(AK157,CadMP!$B:$D,3,0),\"\")","v":""},0,0,0,0,0,0,0,0,0,0,0,0,0,0,0]
[157,null,null,0,0,null,null,null,null,null,null,0,0,null,null,null,null,null,null,null,1,0,null,null,null,null,null,null,null,null,null,null,null,null,null,null,null,null,null,null,null,null,null,null,null,null,null,null,null,null,null,null,{"$f":"IFERROR(VLOOKUP(W158,CadMP!$B:$D,2,0),\"\")","v":""},{"$f":"IFERROR(VLOOKUP(X158,CadMP!$B:$D,2,0),\"\")","v":""},{"$f":"IFERROR(VLOOKUP(Y158,CadMP!$B:$D,2,0),\"\")","v":""},{"$f":"IFERROR(VLOOKUP(Z158,CadMP!$B:$D,2,0),\"\")","v":""},{"$f":"IFERROR(VLOOKUP(AA158,CadMP!$B:$D,2,0),\"\")","v":""},{"$f":"IFERROR(VLOOKUP(AB158,CadMP!$B:$D,2,0),\"\")","v":""},{"$f":"IFERROR(VLOOKUP(AC158,CadMP!$B:$D,2,0),\"\")","v":""},{"$f":"IFERROR(VLOOKUP(AD158,CadMP!$B:$D,2,0),\"\")","v":""},{"$f":"IFERROR(VLOOKUP(AE158,CadMP!$B:$D,2,0),\"\")","v":""},{"$f":"IFERROR(VLOOKUP(AF158,CadMP!$B:$D,2,0),\"\")","v":""},{"$f":"IFERROR(VLOOKUP(AG158,CadMP!$B:$D,2,0),\"\")","v":""},{"$f":"IFERROR(VLOOKUP(AH158,CadMP!$B:$D,2,0),\"\")","v":""},{"$f":"IFERROR(VLOOKUP(AI158,CadMP!$B:$D,2,0),\"\")","v":""},{"$f":"IFERROR(VLOOKUP(AJ158,CadMP!$B:$D,2,0),\"\")","v":""},{"$f":"IFERROR(VLOOKUP(AK158,CadMP!$B:$D,2,0),\"\")","v":""},{"$f":"IFERROR(VLOOKUP(W158,CadMP!$B:$D,3,0),\"\")","v":""},{"$f":"IFERROR(VLOOKUP(X158,CadMP!$B:$D,3,0),\"\")","v":""},{"$f":"IFERROR(VLOOKUP(Y158,CadMP!$B:$D,3,0),\"\")","v":""},{"$f":"IFERROR(VLOOKUP(Z158,CadMP!$B:$D,3,0),\"\")","v":""},{"$f":"IFERROR(VLOOKUP(AA158,CadMP!$B:$D,3,0),\"\")","v":""},{"$f":"IFERROR(VLOOKUP(AB158,CadMP!$B:$D,3,0),\"\")","v":""},{"$f":"IFERROR(VLOOKUP(AC158,CadMP!$B:$D,3,0),\"\")","v":""},{"$f":"IFERROR(VLOOKUP(AD158,CadMP!$B:$D,3,0),\"\")","v":""},{"$f":"IFERROR(VLOOKUP(AE158,CadMP!$B:$D,3,0),\"\")","v":""},{"$f":"IFERROR(VLOOKUP(AF158,CadMP!$B:$D,3,0),\"\")","v":""},{"$f":"IFERROR(VLOOKUP(AG158,CadMP!$B:$D,3,0),\"\")","v":""},{"$f":"IFERROR(VLOOKUP(AH158,CadMP!$B:$D,3,0),\"\")","v":""},{"$f":"IFERROR(VLOOKUP(AI158,CadMP!$B:$D,3,0),\"\")","v":""},{"$f":"IFERROR(VLOOKUP(AJ158,CadMP!$B:$D,3,0),\"\")","v":""},{"$f":"IFERROR(VLOOKUP(AK158,CadMP!$B:$D,3,0),\"\")","v":""},0,0,0,0,0,0,0,0,0,0,0,0,0,0,0]
[158,null,null,0,0,null,null,null,null,null,null,0,0,null,null,null,null,null,null,null,1,0,null,null,null,null,null,null,null,null,null,null,null,null,null,null,null,null,null,null,null,null,null,null,null,null,null,null,null,null,null,null,{"$f":"IFERROR(VLOOKUP(W159,CadMP!$B:$D,2,0),\"\")","v":""},{"$f":"IFERROR(VLOOKUP(X159,CadMP!$B:$D,2,0),\"\")","v":""},{"$f":"IFERROR(VLOOKUP(Y159,CadMP!$B:$D,2,0),\"\")","v":""},{"$f":"IFERROR(VLOOKUP(Z159,CadMP!$B:$D,2,0),\"\")","v":""},{"$f":"IFERROR(VLOOKUP(AA159,CadMP!$B:$D,2,0),\"\")","v":""},{"$f":"IFERROR(VLOOKUP(AB159,CadMP!$B:$D,2,0),\"\")","v":""},{"$f":"IFERROR(VLOOKUP(AC159,CadMP!$B:$D,2,0),\"\")","v":""},{"$f":"IFERROR(VLOOKUP(AD159,CadMP!$B:$D,2,0),\"\")","v":""},{"$f":"IFERROR(VLOOKUP(AE159,CadMP!$B:$D,2,0),\"\")","v":""},{"$f":"IFERROR(VLOOKUP(AF159,CadMP!$B:$D,2,0),\"\")","v":""},{"$f":"IFERROR(VLOOKUP(AG159,CadMP!$B:$D,2,0),\"\")","v":""},{"$f":"IFERROR(VLOOKUP(AH159,CadMP!$B:$D,2,0),\"\")","v":""},{"$f":"IFERROR(VLOOKUP(AI159,CadMP!$B:$D,2,0),\"\")","v":""},{"$f":"IFERROR(VLOOKUP(AJ159,CadMP!$B:$D,2,0),\"\")","v":""},{"$f":"IFERROR(VLOOKUP(AK159,CadMP!$B:$D,2,0),\"\")","v":""},{"$f":"IFERROR(VLOOKUP(W159,CadMP!$B:$D,3,0),\"\")","v":""},{"$f":"IFERROR(VLOOKUP(X159,CadMP!$B:$D,3,0),\"\")","v":""},{"$f":"IFERROR(VLOOKUP(Y159,CadMP!$B:$D,3,0),\"\")","v":""},{"$f":"IFERROR(VLOOKUP(Z159,CadMP!$B:$D,3,0),\"\")","v":""},{"$f":"IFERROR(VLOOKUP(AA159,CadMP!$B:$D,3,0),\"\")","v":""},{"$f":"IFERROR(VLOOKUP(AB159,CadMP!$B:$D,3,0),\"\")","v":""},{"$f":"IFERROR(VLOOKUP(AC159,CadMP!$B:$D,3,0),\"\")","v":""},{"$f":"IFERROR(VLOOKUP(AD159,CadMP!$B:$D,3,0),\"\")","v":""},{"$f":"IFERROR(VLOOKUP(AE159,CadMP!$B:$D,3,0),\"\")","v":""},{"$f":"IFERROR(VLOOKUP(AF159,CadMP!$B:$D,3,0),\"\")","v":""},{"$f":"IFERROR(VLOOKUP(AG159,CadMP!$B:$D,3,0),\"\")","v":""},{"$f":"IFERROR(VLOOKUP(AH159,CadMP!$B:$D,3,0),\"\")","v":""},{"$f":"IFERROR(VLOOKUP(AI159,CadMP!$B:$D,3,0),\"\")","v":""},{"$f":"IFERROR(VLOOKUP(AJ159,CadMP!$B:$D,3,0),\"\")","v":""},{"$f":"IFERROR(VLOOKUP(AK159,CadMP!$B:$D,3,0),\"\")","v":""},0,0,0,0,0,0,0,0,0,0,0,0,0,0,0]
[159,null,null,0,0,null,null,null,null,null,null,0,0,null,null,null,null,null,null,null,1,0,null,null,null,null,null,null,null,null,null,null,null,null,null,null,null,null,null,null,null,null,null,null,null,null,null,null,null,null,null,null,{"$f":"IFERROR(VLOOKUP(W160,CadMP!$B:$D,2,0),\"\")","v":""},{"$f":"IFERROR(VLOOKUP(X160,CadMP!$B:$D,2,0),\"\")","v":""},{"$f":"IFERROR(VLOOKUP(Y160,CadMP!$B:$D,2,0),\"\")","v":""},{"$f":"IFERROR(VLOOKUP(Z160,CadMP!$B:$D,2,0),\"\")","v":""},{"$f":"IFERROR(VLOOKUP(AA160,CadMP!$B:$D,2,0),\"\")","v":""},{"$f":"IFERROR(VLOOKUP(AB160,CadMP!$B:$D,2,0),\"\")","v":""},{"$f":"IFERROR(VLOOKUP(AC160,CadMP!$B:$D,2,0),\"\")","v":""},{"$f":"IFERROR(VLOOKUP(AD160,CadMP!$B:$D,2,0),\"\")","v":""},{"$f":"IFERROR(VLOOKUP(AE160,CadMP!$B:$D,2,0),\"\")","v":""},{"$f":"IFERROR(VLOOKUP(AF160,CadMP!$B:$D,2,0),\"\")","v":""},{"$f":"IFERROR(VLOOKUP(AG160,CadMP!$B:$D,2,0),\"\")","v":""},{"$f":"IFERROR(VLOOKUP(AH160,CadMP!$B:$D,2,0),\"\")","v":""},{"$f":"IFERROR(VLOOKUP(AI160,CadMP!$B:$D,2,0),\"\")","v":""},{"$f":"IFERROR(VLOOKUP(AJ160,CadMP!$B:$D,2,0),\"\")","v":""},{"$f":"IFERROR(VLOOKUP(AK160,CadMP!$B:$D,2,0),\"\")","v":""},{"$f":"IFERROR(VLOOKUP(W160,CadMP!$B:$D,3,0),\"\")","v":""},{"$f":"IFERROR(VLOOKUP(X160,CadMP!$B:$D,3,0),\"\")","v":""},{"$f":"IFERROR(VLOOKUP(Y160,CadMP!$B:$D,3,0),\"\")","v":""},{"$f":"IFERROR(VLOOKUP(Z160,CadMP!$B:$D,3,0),\"\")","v":""},{"$f":"IFERROR(VLOOKUP(AA160,CadMP!$B:$D,3,0),\"\")","v":""},{"$f":"IFERROR(VLOOKUP(AB160,CadMP!$B:$D,3,0),\"\")","v":""},{"$f":"IFERROR(VLOOKUP(AC160,CadMP!$B:$D,3,0),\"\")","v":""},{"$f":"IFERROR(VLOOKUP(AD160,CadMP!$B:$D,3,0),\"\")","v":""},{"$f":"IFERROR(VLOOKUP(AE160,CadMP!$B:$D,3,0),\"\")","v":""},{"$f":"IFERROR(VLOOKUP(AF160,CadMP!$B:$D,3,0),\"\")","v":""},{"$f":"IFERROR(VLOOKUP(AG160,CadMP!$B:$D,3,0),\"\")","v":""},{"$f":"IFERROR(VLOOKUP(AH160,CadMP!$B:$D,3,0),\"\")","v":""},{"$f":"IFERROR(VLOOKUP(AI160,CadMP!$B:$D,3,0),\"\")","v":""},{"$f":"IFERROR(VLOOKUP(AJ160,CadMP!$B:$D,3,0),\"\")","v":""},{"$f":"IFERROR(VLOOKUP(AK160,CadMP!$B:$D,3,0),\"\")","v":""},0,0,0,0,0,0,0,0,0,0,0,0,0,0,0]
[160,null,null,0,0,null,null,null,null,null,null,0,0,null,null,null,null,null,null,null,1,0,null,null,null,null,null,null,null,null,null,null,null,null,null,null,null,null,null,null,null,null,null,null,null,null,null,null,null,null,null,null,{"$f":"IFERROR(VLOOKUP(W161,CadMP!$B:$D,2,0),\"\")","v":""},{"$f":"IFERROR(VLOOKUP(X161,CadMP!$B:$D,2,0),\"\")","v":""},{"$f":"IFERROR(VLOOKUP(Y161,CadMP!$B:$D,2,0),\"\")","v":""},{"$f":"IFERROR(VLOOKUP(Z161,CadMP!$B:$D,2,0),\"\")","v":""},{"$f":"IFERROR(VLOOKUP(AA161,CadMP!$B:$D,2,0),\"\")","v":""},{"$f":"IFERROR(VLOOKUP(AB161,CadMP!$B:$D,2,0),\"\")","v":""},{"$f":"IFERROR(VLOOKUP(AC161,CadMP!$B:$D,2,0),\"\")","v":""},{"$f":"IFERROR(VLOOKUP(AD161,CadMP!$B:$D,2,0),\"\")","v":""},{"$f":"IFERROR(VLOOKUP(AE161,CadMP!$B:$D,2,0),\"\")","v":""},{"$f":"IFERROR(VLOOKUP(AF161,CadMP!$B:$D,2,0),\"\")","v":""},{"$f":"IFERROR(VLOOKUP(AG161,CadMP!$B:$D,2,0),\"\")","v":""},{"$f":"IFERROR(VLOOKUP(AH161,CadMP!$B:$D,2,0),\"\")","v":""},{"$f":"IFERROR(VLOOKUP(AI161,CadMP!$B:$D,2,0),\"\")","v":""},{"$f":"IFERROR(VLOOKUP(AJ161,CadMP!$B:$D,2,0),\"\")","v":""},{"$f":"IFERROR(VLOOKUP(AK161,CadMP!$B:$D,2,0),\"\")","v":""},{"$f":"IFERROR(VLOOKUP(W161,CadMP!$B:$D,3,0),\"\")","v":""},{"$f":"IFERROR(VLOOKUP(X161,CadMP!$B:$D,3,0),\"\")","v":""},{"$f":"IFERROR(VLOOKUP(Y161,CadMP!$B:$D,3,0),\"\")","v":""},{"$f":"IFERROR(VLOOKUP(Z161,CadMP!$B:$D,3,0),\"\")","v":""},{"$f":"IFERROR(VLOOKUP(AA161,CadMP!$B:$D,3,0),\"\")","v":""},{"$f":"IFERROR(VLOOKUP(AB161,CadMP!$B:$D,3,0),\"\")","v":""},{"$f":"IFERROR(VLOOKUP(AC161,CadMP!$B:$D,3,0),\"\")","v":""},{"$f":"IFERROR(VLOOKUP(AD161,CadMP!$B:$D,3,0),\"\")","v":""},{"$f":"IFERROR(VLOOKUP(AE161,CadMP!$B:$D,3,0),\"\")","v":""},{"$f":"IFERROR(VLOOKUP(AF161,CadMP!$B:$D,3,0),\"\")","v":""},{"$f":"IFERROR(VLOOKUP(AG161,CadMP!$B:$D,3,0),\"\")","v":""},{"$f":"IFERROR(VLOOKUP(AH161,CadMP!$B:$D,3,0),\"\")","v":""},{"$f":"IFERROR(VLOOKUP(AI161,CadMP!$B:$D,3,0),\"\")","v":""},{"$f":"IFERROR(VLOOKUP(AJ161,CadMP!$B:$D,3,0),\"\")","v":""},{"$f":"IFERROR(VLOOKUP(AK161,CadMP!$B:$D,3,0),\"\")","v":""},0,0,0,0,0,0,0,0,0,0,0,0,0,0,0]
[161,null,null,0,0,null,null,null,null,null,null,0,0,null,null,null,null,null,null,null,1,0,null,null,null,null,null,null,null,null,null,null,null,null,null,null,null,null,null,null,null,null,null,null,null,null,null,null,null,null,null,null,{"$f":"IFERROR(VLOOKUP(W162,CadMP!$B:$D,2,0),\"\")","v":""},{"$f":"IFERROR(VLOOKUP(X162,CadMP!$B:$D,2,0),\"\")","v":""},{"$f":"IFERROR(VLOOKUP(Y162,CadMP!$B:$D,2,0),\"\")","v":""},{"$f":"IFERROR(VLOOKUP(Z162,CadMP!$B:$D,2,0),\"\")","v":""},{"$f":"IFERROR(VLOOKUP(AA162,CadMP!$B:$D,2,0),\"\")","v":""},{"$f":"IFERROR(VLOOKUP(AB162,CadMP!$B:$D,2,0),\"\")","v":""},{"$f":"IFERROR(VLOOKUP(AC162,CadMP!$B:$D,2,0),\"\")","v":""},{"$f":"IFERROR(VLOOKUP(AD162,CadMP!$B:$D,2,0),\"\")","v":""},{"$f":"IFERROR(VLOOKUP(AE162,CadMP!$B:$D,2,0),\"\")","v":""},{"$f":"IFERROR(VLOOKUP(AF162,CadMP!$B:$D,2,0),\"\")","v":""},{"$f":"IFERROR(VLOOKUP(AG162,CadMP!$B:$D,2,0),\"\")","v":""},{"$f":"IFERROR(VLOOKUP(AH162,CadMP!$B:$D,2,0),\"\")","v":""},{"$f":"IFERROR(VLOOKUP(AI162,CadMP!$B:$D,2,0),\"\")","v":""},{"$f":"IFERROR(VLOOKUP(AJ162,CadMP!$B:$D,2,0),\"\")","v":""},{"$f":"IFERROR(VLOOKUP(AK162,CadMP!$B:$D,2,0),\"\")","v":""},{"$f":"IFERROR(VLOOKUP(W162,CadMP!$B:$D,3,0),\"\")","v":""},{"$f":"IFERROR(VLOOKUP(X162,CadMP!$B:$D,3,0),\"\")","v":""},{"$f":"IFERROR(VLOOKUP(Y162,CadMP!$B:$D,3,0),\"\")","v":""},{"$f":"IFERROR(VLOOKUP(Z162,CadMP!$B:$D,3,0),\"\")","v":""},{"$f":"IFERROR(VLOOKUP(AA162,CadMP!$B:$D,3,0),\"\")","v":""},{"$f":"IFERROR(VLOOKUP(AB162,CadMP!$B:$D,3,0),\"\")","v":""},{"$f":"IFERROR(VLOOKUP(AC162,CadMP!$B:$D,3,0),\"\")","v":""},{"$f":"IFERROR(VLOOKUP(AD162,CadMP!$B:$D,3,0),\"\")","v":""},{"$f":"IFERROR(VLOOKUP(AE162,CadMP!$B:$D,3,0),\"\")","v":""},{"$f":"IFERROR(VLOOKUP(AF162,CadMP!$B:$D,3,0),\"\")","v":""},{"$f":"IFERROR(VLOOKUP(AG162,CadMP!$B:$D,3,0),\"\")","v":""},{"$f":"IFERROR(VLOOKUP(AH162,CadMP!$B:$D,3,0),\"\")","v":""},{"$f":"IFERROR(VLOOKUP(AI162,CadMP!$B:$D,3,0),\"\")","v":""},{"$f":"IFERROR(VLOOKUP(AJ162,CadMP!$B:$D,3,0),\"\")","v":""},{"$f":"IFERROR(VLOOKUP(AK162,CadMP!$B:$D,3,0),\"\")","v":""},0,0,0,0,0,0,0,0,0,0,0,0,0,0,0]
[162,null,null,0,0,null,null,null,null,null,null,0,0,null,null,null,null,null,null,null,1,0,null,null,null,null,null,null,null,null,null,null,null,null,null,null,null,null,null,null,null,null,null,null,null,null,null,null,null,null,null,null,{"$f":"IFERROR(VLOOKUP(W163,CadMP!$B:$D,2,0),\"\")","v":""},{"$f":"IFERROR(VLOOKUP(X163,CadMP!$B:$D,2,0),\"\")","v":""},{"$f":"IFERROR(VLOOKUP(Y163,CadMP!$B:$D,2,0),\"\")","v":""},{"$f":"IFERROR(VLOOKUP(Z163,CadMP!$B:$D,2,0),\"\")","v":""},{"$f":"IFERROR(VLOOKUP(AA163,CadMP!$B:$D,2,0),\"\")","v":""},{"$f":"IFERROR(VLOOKUP(AB163,CadMP!$B:$D,2,0),\"\")","v":""},{"$f":"IFERROR(VLOOKUP(AC163,CadMP!$B:$D,2,0),\"\")","v":""},{"$f":"IFERROR(VLOOKUP(AD163,CadMP!$B:$D,2,0),\"\")","v":""},{"$f":"IFERROR(VLOOKUP(AE163,CadMP!$B:$D,2,0),\"\")","v":""},{"$f":"IFERROR(VLOOKUP(AF163,CadMP!$B:$D,2,0),\"\")","v":""},{"$f":"IFERROR(VLOOKUP(AG163,CadMP!$B:$D,2,0),\"\")","v":""},{"$f":"IFERROR(VLOOKUP(AH163,CadMP!$B:$D,2,0),\"\")","v":""},{"$f":"IFERROR(VLOOKUP(AI163,CadMP!$B:$D,2,0),\"\")","v":""},{"$f":"IFERROR(VLOOKUP(AJ163,CadMP!$B:$D,2,0),\"\")","v":""},{"$f":"IFERROR(VLOOKUP(AK163,CadMP!$B:$D,2,0),\"\")","v":""},{"$f":"IFERROR(VLOOKUP(W163,CadMP!$B:$D,3,0),\"\")","v":""},{"$f":"IFERROR(VLOOKUP(X163,CadMP!$B:$D,3,0),\"\")","v":""},{"$f":"IFERROR(VLOOKUP(Y163,CadMP!$B:$D,3,0),\"\")","v":""},{"$f":"IFERROR(VLOOKUP(Z163,CadMP!$B:$D,3,0),\"\")","v":""},{"$f":"IFERROR(VLOOKUP(AA163,CadMP!$B:$D,3,0),\"\")","v":""},{"$f":"IFERROR(VLOOKUP(AB163,CadMP!$B:$D,3,0),\"\")","v":""},{"$f":"IFERROR(VLOOKUP(AC163,CadMP!$B:$D,3,0),\"\")","v":""},{"$f":"IFERROR(VLOOKUP(AD163,CadMP!$B:$D,3,0),\"\")","v":""},{"$f":"IFERROR(VLOOKUP(AE163,CadMP!$B:$D,3,0),\"\")","v":""},{"$f":"IFERROR(VLOOKUP(AF163,CadMP!$B:$D,3,0),\"\")","v":""},{"$f":"IFERROR(VLOOKUP(AG163,CadMP!$B:$D,3,0),\"\")","v":""},{"$f":"IFERROR(VLOOKUP(AH163,CadMP!$B:$D,3,0),\"\")","v":""},{"$f":"IFERROR(VLOOKUP(AI163,CadMP!$B:$D,3,0),\"\")","v":""},{"$f":"IFERROR(VLOOKUP(AJ163,CadMP!$B:$D,3,0),\"\")","v":""},{"$f":"IFERROR(VLOOKUP(AK163,CadMP!$B:$D,3,0),\"\")","v":""},0,0,0,0,0,0,0,0,0,0,0,0,0,0,0]
[163,null,null,0,0,null,null,null,null,null,null,0,0,null,null,null,null,null,null,null,1,0,null,null,null,null,null,null,null,null,null,null,null,null,null,null,null,null,null,null,null,null,null,null,null,null,null,null,null,null,null,null,{"$f":"IFERROR(VLOOKUP(W164,CadMP!$B:$D,2,0),\"\")","v":""},{"$f":"IFERROR(VLOOKUP(X164,CadMP!$B:$D,2,0),\"\")","v":""},{"$f":"IFERROR(VLOOKUP(Y164,CadMP!$B:$D,2,0),\"\")","v":""},{"$f":"IFERROR(VLOOKUP(Z164,CadMP!$B:$D,2,0),\"\")","v":""},{"$f":"IFERROR(VLOOKUP(AA164,CadMP!$B:$D,2,0),\"\")","v":""},{"$f":"IFERROR(VLOOKUP(AB164,CadMP!$B:$D,2,0),\"\")","v":""},{"$f":"IFERROR(VLOOKUP(AC164,CadMP!$B:$D,2,0),\"\")","v":""},{"$f":"IFERROR(VLOOKUP(AD164,CadMP!$B:$D,2,0),\"\")","v":""},{"$f":"IFERROR(VLOOKUP(AE164,CadMP!$B:$D,2,0),\"\")","v":""},{"$f":"IFERROR(VLOOKUP(AF164,CadMP!$B:$D,2,0),\"\")","v":""},{"$f":"IFERROR(VLOOKUP(AG164,CadMP!$B:$D,2,0),\"\")","v":""},{"$f":"IFERROR(VLOOKUP(AH164,CadMP!$B:$D,2,0),\"\")","v":""},{"$f":"IFERROR(VLOOKUP(AI164,CadMP!$B:$D,2,0),\"\")","v":""},{"$f":"IFERROR(VLOOKUP(AJ164,CadMP!$B:$D,2,0),\"\")","v":""},{"$f":"IFERROR(VLOOKUP(AK164,CadMP!$B:$D,2,0),\"\")","v":""},{"$f":"IFERROR(VLOOKUP(W164,CadMP!$B:$D,3,0),\"\")","v":""},{"$f":"IFERROR(VLOOKUP(X164,CadMP!$B:$D,3,0),\"\")","v":""},{"$f":"IFERROR(VLOOKUP(Y164,CadMP!$B:$D,3,0),\"\")","v":""},{"$f":"IFERROR(VLOOKUP(Z164,CadMP!$B:$D,3,0),\"\")","v":""},{"$f":"IFERROR(VLOOKUP(AA164,CadMP!$B:$D,3,0),\"\")","v":""},{"$f":"IFERROR(VLOOKUP(AB164,CadMP!$B:$D,3,0),\"\")","v":""},{"$f":"IFERROR(VLOOKUP(AC164,CadMP!$B:$D,3,0),\"\")","v":""},{"$f":"IFERROR(VLOOKUP(AD164,CadMP!$B:$D,3,0),\"\")","v":""},{"$f":"IFERROR(VLOOKUP(AE164,CadMP!$B:$D,3,0),\"\")","v":""},{"$f":"IFERROR(VLOOKUP(AF164,CadMP!$B:$D,3,0),\"\")","v":""},{"$f":"IFERROR(VLOOKUP(AG164,CadMP!$B:$D,3,0),\"\")","v":""},{"$f":"IFERROR(VLOOKUP(AH164,CadMP!$B:$D,3,0),\"\")","v":""},{"$f":"IFERROR(VLOOKUP(AI164,CadMP!$B:$D,3,0),\"\")","v":""},{"$f":"IFERROR(VLOOKUP(AJ164,CadMP!$B:$D,3,0),\"\")","v":""},{"$f":"IFERROR(VLOOKUP(AK164,CadMP!$B:$D,3,0),\"\")","v":""},0,0,0,0,0,0,0,0,0,0,0,0,0,0,0]
[164,null,null,0,0,null,null,null,null,null,null,0,0,null,null,null,null,null,null,null,1,0,null,null,null,null,null,null,null,null,null,null,null,null,null,null,null,null,null,null,null,null,null,null,null,null,null,null,null,null,null,null,{"$f":"IFERROR(VLOOKUP(W165,CadMP!$B:$D,2,0),\"\")","v":""},{"$f":"IFERROR(VLOOKUP(X165,CadMP!$B:$D,2,0),\"\")","v":""},{"$f":"IFERROR(VLOOKUP(Y165,CadMP!$B:$D,2,0),\"\")","v":""},{"$f":"IFERROR(VLOOKUP(Z165,CadMP!$B:$D,2,0),\"\")","v":""},{"$f":"IFERROR(VLOOKUP(AA165,CadMP!$B:$D,2,0),\"\")","v":""},{"$f":"IFERROR(VLOOKUP(AB165,CadMP!$B:$D,2,0),\"\")","v":""},{"$f":"IFERROR(VLOOKUP(AC165,CadMP!$B:$D,2,0),\"\")","v":""},{"$f":"IFERROR(VLOOKUP(AD165,CadMP!$B:$D,2,0),\"\")","v":""},{"$f":"IFERROR(VLOOKUP(AE165,CadMP!$B:$D,2,0),\"\")","v":""},{"$f":"IFERROR(VLOOKUP(AF165,CadMP!$B:$D,2,0),\"\")","v":""},{"$f":"IFERROR(VLOOKUP(AG165,CadMP!$B:$D,2,0),\"\")","v":""},{"$f":"IFERROR(VLOOKUP(AH165,CadMP!$B:$D,2,0),\"\")","v":""},{"$f":"IFERROR(VLOOKUP(AI165,CadMP!$B:$D,2,0),\"\")","v":""},{"$f":"IFERROR(VLOOKUP(AJ165,CadMP!$B:$D,2,0),\"\")","v":""},{"$f":"IFERROR(VLOOKUP(AK165,CadMP!$B:$D,2,0),\"\")","v":""},{"$f":"IFERROR(VLOOKUP(W165,CadMP!$B:$D,3,0),\"\")","v":""},{"$f":"IFERROR(VLOOKUP(X165,CadMP!$B:$D,3,0),\"\")","v":""},{"$f":"IFERROR(VLOOKUP(Y165,CadMP!$B:$D,3,0),\"\")","v":""},{"$f":"IFERROR(VLOOKUP(Z165,CadMP!$B:$D,3,0),\"\")","v":""},{"$f":"IFERROR(VLOOKUP(AA165,CadMP!$B:$D,3,0),\"\")","v":""},{"$f":"IFERROR(VLOOKUP(AB165,CadMP!$B:$D,3,0),\"\")","v":""},{"$f":"IFERROR(VLOOKUP(AC165,CadMP!$B:$D,3,0),\"\")","v":""},{"$f":"IFERROR(VLOOKUP(AD165,CadMP!$B:$D,3,0),\"\")","v":""},{"$f":"IFERROR(VLOOKUP(AE165,CadMP!$B:$D,3,0),\"\")","v":""},{"$f":"IFERROR(VLOOKUP(AF165,CadMP!$B:$D,3,0),\"\")","v":""},{"$f":"IFERROR(VLOOKUP(AG165,CadMP!$B:$D,3,0),\"\")","v":""},{"$f":"IFERROR(VLOOKUP(AH165,CadMP!$B:$D,3,0),\"\")","v":""},{"$f":"IFERROR(VLOOKUP(AI165,CadMP!$B:$D,3,0),\"\")","v":""},{"$f":"IFERROR(VLOOKUP(AJ165,CadMP!$B:$D,3,0),\"\")","v":""},{"$f":"IFERROR(VLOOKUP(AK165,CadMP!$B:$D,3,0),\"\")","v":""},0,0,0,0,0,0,0,0,0,0,0,0,0,0,0]
[165,null,null,0,0,null,null,null,null,null,null,0,0,null,null,null,null,null,null,null,1,0,null,null,null,null,null,null,null,null,null,null,null,null,null,null,null,null,null,null,null,null,null,null,null,null,null,null,null,null,null,null,{"$f":"IFERROR(VLOOKUP(W166,CadMP!$B:$D,2,0),\"\")","v":""},{"$f":"IFERROR(VLOOKUP(X166,CadMP!$B:$D,2,0),\"\")","v":""},{"$f":"IFERROR(VLOOKUP(Y166,CadMP!$B:$D,2,0),\"\")","v":""},{"$f":"IFERROR(VLOOKUP(Z166,CadMP!$B:$D,2,0),\"\")","v":""},{"$f":"IFERROR(VLOOKUP(AA166,CadMP!$B:$D,2,0),\"\")","v":""},{"$f":"IFERROR(VLOOKUP(AB166,CadMP!$B:$D,2,0),\"\")","v":""},{"$f":"IFERROR(VLOOKUP(AC166,CadMP!$B:$D,2,0),\"\")","v":""},{"$f":"IFERROR(VLOOKUP(AD166,CadMP!$B:$D,2,0),\"\")","v":""},{"$f":"IFERROR(VLOOKUP(AE166,CadMP!$B:$D,2,0),\"\")","v":""},{"$f":"IFERROR(VLOOKUP(AF166,CadMP!$B:$D,2,0),\"\")","v":""},{"$f":"IFERROR(VLOOKUP(AG166,CadMP!$B:$D,2,0),\"\")","v":""},{"$f":"IFERROR(VLOOKUP(AH166,CadMP!$B:$D,2,0),\"\")","v":""},{"$f":"IFERROR(VLOOKUP(AI166,CadMP!$B:$D,2,0),\"\")","v":""},{"$f":"IFERROR(VLOOKUP(AJ166,CadMP!$B:$D,2,0),\"\")","v":""},{"$f":"IFERROR(VLOOKUP(AK166,CadMP!$B:$D,2,0),\"\")","v":""},{"$f":"IFERROR(VLOOKUP(W166,CadMP!$B:$D,3,0),\"\")","v":""},{"$f":"IFERROR(VLOOKUP(X166,CadMP!$B:$D,3,0),\"\")","v":""},{"$f":"IFERROR(VLOOKUP(Y166,CadMP!$B:$D,3,0),\"\")","v":""},{"$f":"IFERROR(VLOOKUP(Z166,CadMP!$B:$D,3,0),\"\")","v":""},{"$f":"IFERROR(VLOOKUP(AA166,CadMP!$B:$D,3,0),\"\")","v":""},{"$f":"IFERROR(VLOOKUP(AB166,CadMP!$B:$D,3,0),\"\")","v":""},{"$f":"IFERROR(VLOOKUP(AC166,CadMP!$B:$D,3,0),\"\")","v":""},{"$f":"IFERROR(VLOOKUP(AD166,CadMP!$B:$D,3,0),\"\")","v":""},{"$f":"IFERROR(VLOOKUP(AE166,CadMP!$B:$D,3,0),\"\")","v":""},{"$f":"IFERROR(VLOOKUP(AF166,CadMP!$B:$D,3,0),\"\")","v":""},{"$f":"IFERROR(VLOOKUP(AG166,CadMP!$B:$D,3,0),\"\")","v":""},{"$f":"IFERROR(VLOOKUP(AH166,CadMP!$B:$D,3,0),\"\")","v":""},{"$f":"IFERROR(VLOOKUP(AI166,CadMP!$B:$D,3,0),\"\")","v":""},{"$f":"IFERROR(VLOOKUP(AJ166,CadMP!$B:$D,3,0),\"\")","v":""},{"$f":"IFERROR(VLOOKUP(AK166,CadMP!$B:$D,3,0),\"\")","v":""},0,0,0,0,0,0,0,0,0,0,0,0,0,0,0]
[166,null,null,0,0,null,null,null,null,null,null,0,0,null,null,null,null,null,null,null,1,0,null,null,null,null,null,null,null,null,null,null,null,null,null,null,null,null,null,null,null,null,null,null,null,null,null,null,null,null,null,null,{"$f":"IFERROR(VLOOKUP(W167,CadMP!$B:$D,2,0),\"\")","v":""},{"$f":"IFERROR(VLOOKUP(X167,CadMP!$B:$D,2,0),\"\")","v":""},{"$f":"IFERROR(VLOOKUP(Y167,CadMP!$B:$D,2,0),\"\")","v":""},{"$f":"IFERROR(VLOOKUP(Z167,CadMP!$B:$D,2,0),\"\")","v":""},{"$f":"IFERROR(VLOOKUP(AA167,CadMP!$B:$D,2,0),\"\")","v":""},{"$f":"IFERROR(VLOOKUP(AB167,CadMP!$B:$D,2,0),\"\")","v":""},{"$f":"IFERROR(VLOOKUP(AC167,CadMP!$B:$D,2,0),\"\")","v":""},{"$f":"IFERROR(VLOOKUP(AD167,CadMP!$B:$D,2,0),\"\")","v":""},{"$f":"IFERROR(VLOOKUP(AE167,CadMP!$B:$D,2,0),\"\")","v":""},{"$f":"IFERROR(VLOOKUP(AF167,CadMP!$B:$D,2,0),\"\")","v":""},{"$f":"IFERROR(VLOOKUP(AG167,CadMP!$B:$D,2,0),\"\")","v":""},{"$f":"IFERROR(VLOOKUP(AH167,CadMP!$B:$D,2,0),\"\")","v":""},{"$f":"IFERROR(VLOOKUP(AI167,CadMP!$B:$D,2,0),\"\")","v":""},{"$f":"IFERROR(VLOOKUP(AJ167,CadMP!$B:$D,2,0),\"\")","v":""},{"$f":"IFERROR(VLOOKUP(AK167,CadMP!$B:$D,2,0),\"\")","v":""},{"$f":"IFERROR(VLOOKUP(W167,CadMP!$B:$D,3,0),\"\")","v":""},{"$f":"IFERROR(VLOOKUP(X167,CadMP!$B:$D,3,0),\"\")","v":""},{"$f":"IFERROR(VLOOKUP(Y167,CadMP!$B:$D,3,0),\"\")","v":""},{"$f":"IFERROR(VLOOKUP(Z167,CadMP!$B:$D,3,0),\"\")","v":""},{"$f":"IFERROR(VLOOKUP(AA167,CadMP!$B:$D,3,0),\"\")","v":""},{"$f":"IFERROR(VLOOKUP(AB167,CadMP!$B:$D,3,0),\"\")","v":""},{"$f":"IFERROR(VLOOKUP(AC167,CadMP!$B:$D,3,0),\"\")","v":""},{"$f":"IFERROR(VLOOKUP(AD167,CadMP!$B:$D,3,0),\"\")","v":""},{"$f":"IFERROR(VLOOKUP(AE167,CadMP!$B:$D,3,0),\"\")","v":""},{"$f":"IFERROR(VLOOKUP(AF167,CadMP!$B:$D,3,0),\"\")","v":""},{"$f":"IFERROR(VLOOKUP(AG167,CadMP!$B:$D,3,0),\"\")","v":""},{"$f":"IFERROR(VLOOKUP(AH167,CadMP!$B:$D,3,0),\"\")","v":""},{"$f":"IFERROR(VLOOKUP(AI167,CadMP!$B:$D,3,0),\"\")","v":""},{"$f":"IFERROR(VLOOKUP(AJ167,CadMP!$B:$D,3,0),\"\")","v":""},{"$f":"IFERROR(VLOOKUP(AK167,CadMP!$B:$D,3,0),\"\")","v":""},0,0,0,0,0,0,0,0,0,0,0,0,0,0,0]
[167,null,null,0,0,null,null,null,null,null,null,0,0,null,null,null,null,null,null,null,1,0,null,null,null,null,null,null,null,null,null,null,null,null,null,null,null,null,null,null,null,null,null,null,null,null,null,null,null,null,null,null,{"$f":"IFERROR(VLOOKUP(W168,CadMP!$B:$D,2,0),\"\")","v":""},{"$f":"IFERROR(VLOOKUP(X168,CadMP!$B:$D,2,0),\"\")","v":""},{"$f":"IFERROR(VLOOKUP(Y168,CadMP!$B:$D,2,0),\"\")","v":""},{"$f":"IFERROR(VLOOKUP(Z168,CadMP!$B:$D,2,0),\"\")","v":""},{"$f":"IFERROR(VLOOKUP(AA168,CadMP!$B:$D,2,0),\"\")","v":""},{"$f":"IFERROR(VLOOKUP(AB168,CadMP!$B:$D,2,0),\"\")","v":""},{"$f":"IFERROR(VLOOKUP(AC168,CadMP!$B:$D,2,0),\"\")","v":""},{"$f":"IFERROR(VLOOKUP(AD168,CadMP!$B:$D,2,0),\"\")","v":""},{"$f":"IFERROR(VLOOKUP(AE168,CadMP!$B:$D,2,0),\"\")","v":""},{"$f":"IFERROR(VLOOKUP(AF168,CadMP!$B:$D,2,0),\"\")","v":""},{"$f":"IFERROR(VLOOKUP(AG168,CadMP!$B:$D,2,0),\"\")","v":""},{"$f":"IFERROR(VLOOKUP(AH168,CadMP!$B:$D,2,0),\"\")","v":""},{"$f":"IFERROR(VLOOKUP(AI168,CadMP!$B:$D,2,0),\"\")","v":""},{"$f":"IFERROR(VLOOKUP(AJ168,CadMP!$B:$D,2,0),\"\")","v":""},{"$f":"IFERROR(VLOOKUP(AK168,CadMP!$B:$D,2,0),\"\")","v":""},{"$f":"IFERROR(VLOOKUP(W168,CadMP!$B:$D,3,0),\"\")","v":""},{"$f":"IFERROR(VLOOKUP(X168,CadMP!$B:$D,3,0),\"\")","v":""},{"$f":"IFERROR(VLOOKUP(Y168,CadMP!$B:$D,3,0),\"\")","v":""},{"$f":"IFERROR(VLOOKUP(Z168,CadMP!$B:$D,3,0),\"\")","v":""},{"$f":"IFERROR(VLOOKUP(AA168,CadMP!$B:$D,3,0),\"\")","v":""},{"$f":"IFERROR(VLOOKUP(AB168,CadMP!$B:$D,3,0),\"\")","v":""},{"$f":"IFERROR(VLOOKUP(AC168,CadMP!$B:$D,3,0),\"\")","v":""},{"$f":"IFERROR(VLOOKUP(AD168,CadMP!$B:$D,3,0),\"\")","v":""},{"$f":"IFERROR(VLOOKUP(AE168,CadMP!$B:$D,3,0),\"\")","v":""},{"$f":"IFERROR(VLOOKUP(AF168,CadMP!$B:$D,3,0),\"\")","v":""},{"$f":"IFERROR(VLOOKUP(AG168,CadMP!$B:$D,3,0),\"\")","v":""},{"$f":"IFERROR(VLOOKUP(AH168,CadMP!$B:$D,3,0),\"\")","v":""},{"$f":"IFERROR(VLOOKUP(AI168,CadMP!$B:$D,3,0),\"\")","v":""},{"$f":"IFERROR(VLOOKUP(AJ168,CadMP!$B:$D,3,0),\"\")","v":""},{"$f":"IFERROR(VLOOKUP(AK168,CadMP!$B:$D,3,0),\"\")","v":""},0,0,0,0,0,0,0,0,0,0,0,0,0,0,0]
[168,null,null,0,0,null,null,null,null,null,null,0,0,null,null,null,null,null,null,null,1,0,null,null,null,null,null,null,null,null,null,null,null,null,null,null,null,null,null,null,null,null,null,null,null,null,null,null,null,null,null,null,{"$f":"IFERROR(VLOOKUP(W169,CadMP!$B:$D,2,0),\"\")","v":""},{"$f":"IFERROR(VLOOKUP(X169,CadMP!$B:$D,2,0),\"\")","v":""},{"$f":"IFERROR(VLOOKUP(Y169,CadMP!$B:$D,2,0),\"\")","v":""},{"$f":"IFERROR(VLOOKUP(Z169,CadMP!$B:$D,2,0),\"\")","v":""},{"$f":"IFERROR(VLOOKUP(AA169,CadMP!$B:$D,2,0),\"\")","v":""},{"$f":"IFERROR(VLOOKUP(AB169,CadMP!$B:$D,2,0),\"\")","v":""},{"$f":"IFERROR(VLOOKUP(AC169,CadMP!$B:$D,2,0),\"\")","v":""},{"$f":"IFERROR(VLOOKUP(AD169,CadMP!$B:$D,2,0),\"\")","v":""},{"$f":"IFERROR(VLOOKUP(AE169,CadMP!$B:$D,2,0),\"\")","v":""},{"$f":"IFERROR(VLOOKUP(AF169,CadMP!$B:$D,2,0),\"\")","v":""},{"$f":"IFERROR(VLOOKUP(AG169,CadMP!$B:$D,2,0),\"\")","v":""},{"$f":"IFERROR(VLOOKUP(AH169,CadMP!$B:$D,2,0),\"\")","v":""},{"$f":"IFERROR(VLOOKUP(AI169,CadMP!$B:$D,2,0),\"\")","v":""},{"$f":"IFERROR(VLOOKUP(AJ169,CadMP!$B:$D,2,0),\"\")","v":""},{"$f":"IFERROR(VLOOKUP(AK169,CadMP!$B:$D,2,0),\"\")","v":""},{"$f":"IFERROR(VLOOKUP(W169,CadMP!$B:$D,3,0),\"\")","v":""},{"$f":"IFERROR(VLOOKUP(X169,CadMP!$B:$D,3,0),\"\")","v":""},{"$f":"IFERROR(VLOOKUP(Y169,CadMP!$B:$D,3,0),\"\")","v":""},{"$f":"IFERROR(VLOOKUP(Z169,CadMP!$B:$D,3,0),\"\")","v":""},{"$f":"IFERROR(VLOOKUP(AA169,CadMP!$B:$D,3,0),\"\")","v":""},{"$f":"IFERROR(VLOOKUP(AB169,CadMP!$B:$D,3,0),\"\")","v":""},{"$f":"IFERROR(VLOOKUP(AC169,CadMP!$B:$D,3,0),\"\")","v":""},{"$f":"IFERROR(VLOOKUP(AD169,CadMP!$B:$D,3,0),\"\")","v":""},{"$f":"IFERROR(VLOOKUP(AE169,CadMP!$B:$D,3,0),\"\")","v":""},{"$f":"IFERROR(VLOOKUP(AF169,CadMP!$B:$D,3,0),\"\")","v":""},{"$f":"IFERROR(VLOOKUP(AG169,CadMP!$B:$D,3,0),\"\")","v":""},{"$f":"IFERROR(VLOOKUP(AH169,CadMP!$B:$D,3,0),\"\")","v":""},{"$f":"IFERROR(VLOOKUP(AI169,CadMP!$B:$D,3,0),\"\")","v":""},{"$f":"IFERROR(VLOOKUP(AJ169,CadMP!$B:$D,3,0),\"\")","v":""},{"$f":"IFERROR(VLOOKUP(AK169,CadMP!$B:$D,3,0),\"\")","v":""},0,0,0,0,0,0,0,0,0,0,0,0,0,0,0]
[169,null,null,0,0,null,null,null,null,null,null,0,0,null,null,null,null,null,null,null,1,0,null,null,null,null,null,null,null,null,null,null,null,null,null,null,null,null,null,null,null,null,null,null,null,null,null,null,null,null,null,null,{"$f":"IFERROR(VLOOKUP(W170,CadMP!$B:$D,2,0),\"\")","v":""},{"$f":"IFERROR(VLOOKUP(X170,CadMP!$B:$D,2,0),\"\")","v":""},{"$f":"IFERROR(VLOOKUP(Y170,CadMP!$B:$D,2,0),\"\")","v":""},{"$f":"IFERROR(VLOOKUP(Z170,CadMP!$B:$D,2,0),\"\")","v":""},{"$f":"IFERROR(VLOOKUP(AA170,CadMP!$B:$D,2,0),\"\")","v":""},{"$f":"IFERROR(VLOOKUP(AB170,CadMP!$B:$D,2,0),\"\")","v":""},{"$f":"IFERROR(VLOOKUP(AC170,CadMP!$B:$D,2,0),\"\")","v":""},{"$f":"IFERROR(VLOOKUP(AD170,CadMP!$B:$D,2,0),\"\")","v":""},{"$f":"IFERROR(VLOOKUP(AE170,CadMP!$B:$D,2,0),\"\")","v":""},{"$f":"IFERROR(VLOOKUP(AF170,CadMP!$B:$D,2,0),\"\")","v":""},{"$f":"IFERROR(VLOOKUP(AG170,CadMP!$B:$D,2,0),\"\")","v":""},{"$f":"IFERROR(VLOOKUP(AH170,CadMP!$B:$D,2,0),\"\")","v":""},{"$f":"IFERROR(VLOOKUP(AI170,CadMP!$B:$D,2,0),\"\")","v":""},{"$f":"IFERROR(VLOOKUP(AJ170,CadMP!$B:$D,2,0),\"\")","v":""},{"$f":"IFERROR(VLOOKUP(AK170,CadMP!$B:$D,2,0),\"\")","v":""},{"$f":"IFERROR(VLOOKUP(W170,CadMP!$B:$D,3,0),\"\")","v":""},{"$f":"IFERROR(VLOOKUP(X170,CadMP!$B:$D,3,0),\"\")","v":""},{"$f":"IFERROR(VLOOKUP(Y170,CadMP!$B:$D,3,0),\"\")","v":""},{"$f":"IFERROR(VLOOKUP(Z170,CadMP!$B:$D,3,0),\"\")","v":""},{"$f":"IFERROR(VLOOKUP(AA170,CadMP!$B:$D,3,0),\"\")","v":""},{"$f":"IFERROR(VLOOKUP(AB170,CadMP!$B:$D,3,0),\"\")","v":""},{"$f":"IFERROR(VLOOKUP(AC170,CadMP!$B:$D,3,0),\"\")","v":""},{"$f":"IFERROR(VLOOKUP(AD170,CadMP!$B:$D,3,0),\"\")","v":""},{"$f":"IFERROR(VLOOKUP(AE170,CadMP!$B:$D,3,0),\"\")","v":""},{"$f":"IFERROR(VLOOKUP(AF170,CadMP!$B:$D,3,0),\"\")","v":""},{"$f":"IFERROR(VLOOKUP(AG170,CadMP!$B:$D,3,0),\"\")","v":""},{"$f":"IFERROR(VLOOKUP(AH170,CadMP!$B:$D,3,0),\"\")","v":""},{"$f":"IFERROR(VLOOKUP(AI170,CadMP!$B:$D,3,0),\"\")","v":""},{"$f":"IFERROR(VLOOKUP(AJ170,CadMP!$B:$D,3,0),\"\")","v":""},{"$f":"IFERROR(VLOOKUP(AK170,CadMP!$B:$D,3,0),\"\")","v":""},0,0,0,0,0,0,0,0,0,0,0,0,0,0,0]
[170,null,null,0,0,null,null,null,null,null,null,0,0,null,null,null,null,null,null,null,1,0,null,null,null,null,null,null,null,null,null,null,null,null,null,null,null,null,null,null,null,null,null,null,null,null,null,null,null,null,null,null,{"$f":"IFERROR(VLOOKUP(W171,CadMP!$B:$D,2,0),\"\")","v":""},{"$f":"IFERROR(VLOOKUP(X171,CadMP!$B:$D,2,0),\"\")","v":""},{"$f":"IFERROR(VLOOKUP(Y171,CadMP!$B:$D,2,0),\"\")","v":""},{"$f":"IFERROR(VLOOKUP(Z171,CadMP!$B:$D,2,0),\"\")","v":""},{"$f":"IFERROR(VLOOKUP(AA171,CadMP!$B:$D,2,0),\"\")","v":""},{"$f":"IFERROR(VLOOKUP(AB171,CadMP!$B:$D,2,0),\"\")","v":""},{"$f":"IFERROR(VLOOKUP(AC171,CadMP!$B:$D,2,0),\"\")","v":""},{"$f":"IFERROR(VLOOKUP(AD171,CadMP!$B:$D,2,0),\"\")","v":""},{"$f":"IFERROR(VLOOKUP(AE171,CadMP!$B:$D,2,0),\"\")","v":""},{"$f":"IFERROR(VLOOKUP(AF171,CadMP!$B:$D,2,0),\"\")","v":""},{"$f":"IFERROR(VLOOKUP(AG171,CadMP!$B:$D,2,0),\"\")","v":""},{"$f":"IFERROR(VLOOKUP(AH171,CadMP!$B:$D,2,0),\"\")","v":""},{"$f":"IFERROR(VLOOKUP(AI171,CadMP!$B:$D,2,0),\"\")","v":""},{"$f":"IFERROR(VLOOKUP(AJ171,CadMP!$B:$D,2,0),\"\")","v":""},{"$f":"IFERROR(VLOOKUP(AK171,CadMP!$B:$D,2,0),\"\")","v":""},{"$f":"IFERROR(VLOOKUP(W171,CadMP!$B:$D,3,0),\"\")","v":""},{"$f":"IFERROR(VLOOKUP(X171,CadMP!$B:$D,3,0),\"\")","v":""},{"$f":"IFERROR(VLOOKUP(Y171,CadMP!$B:$D,3,0),\"\")","v":""},{"$f":"IFERROR(VLOOKUP(Z171,CadMP!$B:$D,3,0),\"\")","v":""},{"$f":"IFERROR(VLOOKUP(AA171,CadMP!$B:$D,3,0),\"\")","v":""},{"$f":"IFERROR(VLOOKUP(AB171,CadMP!$B:$D,3,0),\"\")","v":""},{"$f":"IFERROR(VLOOKUP(AC171,CadMP!$B:$D,3,0),\"\")","v":""},{"$f":"IFERROR(VLOOKUP(AD171,CadMP!$B:$D,3,0),\"\")","v":""},{"$f":"IFERROR(VLOOKUP(AE171,CadMP!$B:$D,3,0),\"\")","v":""},{"$f":"IFERROR(VLOOKUP(AF171,CadMP!$B:$D,3,0),\"\")","v":""},{"$f":"IFERROR(VLOOKUP(AG171,CadMP!$B:$D,3,0),\"\")","v":""},{"$f":"IFERROR(VLOOKUP(AH171,CadMP!$B:$D,3,0),\"\")","v":""},{"$f":"IFERROR(VLOOKUP(AI171,CadMP!$B:$D,3,0),\"\")","v":""},{"$f":"IFERROR(VLOOKUP(AJ171,CadMP!$B:$D,3,0),\"\")","v":""},{"$f":"IFERROR(VLOOKUP(AK171,CadMP!$B:$D,3,0),\"\")","v":""},0,0,0,0,0,0,0,0,0,0,0,0,0,0,0]
[171,null,null,0,0,null,null,null,null,null,null,0,0,null,null,null,null,null,null,null,1,0,null,null,null,null,null,null,null,null,null,null,null,null,null,null,null,null,null,null,null,null,null,null,null,null,null,null,null,null,null,null,{"$f":"IFERROR(VLOOKUP(W172,CadMP!$B:$D,2,0),\"\")","v":""},{"$f":"IFERROR(VLOOKUP(X172,CadMP!$B:$D,2,0),\"\")","v":""},{"$f":"IFERROR(VLOOKUP(Y172,CadMP!$B:$D,2,0),\"\")","v":""},{"$f":"IFERROR(VLOOKUP(Z172,CadMP!$B:$D,2,0),\"\")","v":""},{"$f":"IFERROR(VLOOKUP(AA172,CadMP!$B:$D,2,0),\"\")","v":""},{"$f":"IFERROR(VLOOKUP(AB172,CadMP!$B:$D,2,0),\"\")","v":""},{"$f":"IFERROR(VLOOKUP(AC172,CadMP!$B:$D,2,0),\"\")","v":""},{"$f":"IFERROR(VLOOKUP(AD172,CadMP!$B:$D,2,0),\"\")","v":""},{"$f":"IFERROR(VLOOKUP(AE172,CadMP!$B:$D,2,0),\"\")","v":""},{"$f":"IFERROR(VLOOKUP(AF172,CadMP!$B:$D,2,0),\"\")","v":""},{"$f":"IFERROR(VLOOKUP(AG172,CadMP!$B:$D,2,0),\"\")","v":""},{"$f":"IFERROR(VLOOKUP(AH172,CadMP!$B:$D,2,0),\"\")","v":""},{"$f":"IFERROR(VLOOKUP(AI172,CadMP!$B:$D,2,0),\"\")","v":""},{"$f":"IFERROR(VLOOKUP(AJ172,CadMP!$B:$D,2,0),\"\")","v":""},{"$f":"IFERROR(VLOOKUP(AK172,CadMP!$B:$D,2,0),\"\")","v":""},{"$f":"IFERROR(VLOOKUP(W172,CadMP!$B:$D,3,0),\"\")","v":""},{"$f":"IFERROR(VLOOKUP(X172,CadMP!$B:$D,3,0),\"\")","v":""},{"$f":"IFERROR(VLOOKUP(Y172,CadMP!$B:$D,3,0),\"\")","v":""},{"$f":"IFERROR(VLOOKUP(Z172,CadMP!$B:$D,3,0),\"\")","v":""},{"$f":"IFERROR(VLOOKUP(AA172,CadMP!$B:$D,3,0),\"\")","v":""},{"$f":"IFERROR(VLOOKUP(AB172,CadMP!$B:$D,3,0),\"\")","v":""},{"$f":"IFERROR(VLOOKUP(AC172,CadMP!$B:$D,3,0),\"\")","v":""},{"$f":"IFERROR(VLOOKUP(AD172,CadMP!$B:$D,3,0),\"\")","v":""},{"$f":"IFERROR(VLOOKUP(AE172,CadMP!$B:$D,3,0),\"\")","v":""},{"$f":"IFERROR(VLOOKUP(AF172,CadMP!$B:$D,3,0),\"\")","v":""},{"$f":"IFERROR(VLOOKUP(AG172,CadMP!$B:$D,3,0),\"\")","v":""},{"$f":"IFERROR(VLOOKUP(AH172,CadMP!$B:$D,3,0),\"\")","v":""},{"$f":"IFERROR(VLOOKUP(AI172,CadMP!$B:$D,3,0),\"\")","v":""},{"$f":"IFERROR(VLOOKUP(AJ172,CadMP!$B:$D,3,0),\"\")","v":""},{"$f":"IFERROR(VLOOKUP(AK172,CadMP!$B:$D,3,0),\"\")","v":""},0,0,0,0,0,0,0,0,0,0,0,0,0,0,0]
[172,null,null,0,0,null,null,null,null,null,null,0,0,null,null,null,null,null,null,null,1,0,null,null,null,null,null,null,null,null,null,null,null,null,null,null,null,null,null,null,null,null,null,null,null,null,null,null,null,null,null,null,{"$f":"IFERROR(VLOOKUP(W173,CadMP!$B:$D,2,0),\"\")","v":""},{"$f":"IFERROR(VLOOKUP(X173,CadMP!$B:$D,2,0),\"\")","v":""},{"$f":"IFERROR(VLOOKUP(Y173,CadMP!$B:$D,2,0),\"\")","v":""},{"$f":"IFERROR(VLOOKUP(Z173,CadMP!$B:$D,2,0),\"\")","v":""},{"$f":"IFERROR(VLOOKUP(AA173,CadMP!$B:$D,2,0),\"\")","v":""},{"$f":"IFERROR(VLOOKUP(AB173,CadMP!$B:$D,2,0),\"\")","v":""},{"$f":"IFERROR(VLOOKUP(AC173,CadMP!$B:$D,2,0),\"\")","v":""},{"$f":"IFERROR(VLOOKUP(AD173,CadMP!$B:$D,2,0),\"\")","v":""},{"$f":"IFERROR(VLOOKUP(AE173,CadMP!$B:$D,2,0),\"\")","v":""},{"$f":"IFERROR(VLOOKUP(AF173,CadMP!$B:$D,2,0),\"\")","v":""},{"$f":"IFERROR(VLOOKUP(AG173,CadMP!$B:$D,2,0),\"\")","v":""},{"$f":"IFERROR(VLOOKUP(AH173,CadMP!$B:$D,2,0),\"\")","v":""},{"$f":"IFERROR(VLOOKUP(AI173,CadMP!$B:$D,2,0),\"\")","v":""},{"$f":"IFERROR(VLOOKUP(AJ173,CadMP!$B:$D,2,0),\"\")","v":""},{"$f":"IFERROR(VLOOKUP(AK173,CadMP!$B:$D,2,0),\"\")","v":""},{"$f":"IFERROR(VLOOKUP(W173,CadMP!$B:$D,3,0),\"\")","v":""},{"$f":"IFERROR(VLOOKUP(X173,CadMP!$B:$D,3,0),\"\")","v":""},{"$f":"IFERROR(VLOOKUP(Y173,CadMP!$B:$D,3,0),\"\")","v":""},{"$f":"IFERROR(VLOOKUP(Z173,CadMP!$B:$D,3,0),\"\")","v":""},{"$f":"IFERROR(VLOOKUP(AA173,CadMP!$B:$D,3,0),\"\")","v":""},{"$f":"IFERROR(VLOOKUP(AB173,CadMP!$B:$D,3,0),\"\")","v":""},{"$f":"IFERROR(VLOOKUP(AC173,CadMP!$B:$D,3,0),\"\")","v":""},{"$f":"IFERROR(VLOOKUP(AD173,CadMP!$B:$D,3,0),\"\")","v":""},{"$f":"IFERROR(VLOOKUP(AE173,CadMP!$B:$D,3,0),\"\")","v":""},{"$f":"IFERROR(VLOOKUP(AF173,CadMP!$B:$D,3,0),\"\")","v":""},{"$f":"IFERROR(VLOOKUP(AG173,CadMP!$B:$D,3,0),\"\")","v":""},{"$f":"IFERROR(VLOOKUP(AH173,CadMP!$B:$D,3,0),\"\")","v":""},{"$f":"IFERROR(VLOOKUP(AI173,CadMP!$B:$D,3,0),\"\")","v":""},{"$f":"IFERROR(VLOOKUP(AJ173,CadMP!$B:$D,3,0),\"\")","v":""},{"$f":"IFERROR(VLOOKUP(AK173,CadMP!$B:$D,3,0),\"\")","v":""},0,0,0,0,0,0,0,0,0,0,0,0,0,0,0]
[173,null,null,0,0,null,null,null,null,null,null,0,0,null,null,null,null,null,null,null,1,0,null,null,null,null,null,null,null,null,null,null,null,null,null,null,null,null,null,null,null,null,null,null,null,null,null,null,null,null,null,null,{"$f":"IFERROR(VLOOKUP(W174,CadMP!$B:$D,2,0),\"\")","v":""},{"$f":"IFERROR(VLOOKUP(X174,CadMP!$B:$D,2,0),\"\")","v":""},{"$f":"IFERROR(VLOOKUP(Y174,CadMP!$B:$D,2,0),\"\")","v":""},{"$f":"IFERROR(VLOOKUP(Z174,CadMP!$B:$D,2,0),\"\")","v":""},{"$f":"IFERROR(VLOOKUP(AA174,CadMP!$B:$D,2,0),\"\")","v":""},{"$f":"IFERROR(VLOOKUP(AB174,CadMP!$B:$D,2,0),\"\")","v":""},{"$f":"IFERROR(VLOOKUP(AC174,CadMP!$B:$D,2,0),\"\")","v":""},{"$f":"IFERROR(VLOOKUP(AD174,CadMP!$B:$D,2,0),\"\")","v":""},{"$f":"IFERROR(VLOOKUP(AE174,CadMP!$B:$D,2,0),\"\")","v":""},{"$f":"IFERROR(VLOOKUP(AF174,CadMP!$B:$D,2,0),\"\")","v":""},{"$f":"IFERROR(VLOOKUP(AG174,CadMP!$B:$D,2,0),\"\")","v":""},{"$f":"IFERROR(VLOOKUP(AH174,CadMP!$B:$D,2,0),\"\")","v":""},{"$f":"IFERROR(VLOOKUP(AI174,CadMP!$B:$D,2,0),\"\")","v":""},{"$f":"IFERROR(VLOOKUP(AJ174,CadMP!$B:$D,2,0),\"\")","v":""},{"$f":"IFERROR(VLOOKUP(AK174,CadMP!$B:$D,2,0),\"\")","v":""},{"$f":"IFERROR(VLOOKUP(W174,CadMP!$B:$D,3,0),\"\")","v":""},{"$f":"IFERROR(VLOOKUP(X174,CadMP!$B:$D,3,0),\"\")","v":""},{"$f":"IFERROR(VLOOKUP(Y174,CadMP!$B:$D,3,0),\"\")","v":""},{"$f":"IFERROR(VLOOKUP(Z174,CadMP!$B:$D,3,0),\"\")","v":""},{"$f":"IFERROR(VLOOKUP(AA174,CadMP!$B:$D,3,0),\"\")","v":""},{"$f":"IFERROR(VLOOKUP(AB174,CadMP!$B:$D,3,0),\"\")","v":""},{"$f":"IFERROR(VLOOKUP(AC174,CadMP!$B:$D,3,0),\"\")","v":""},{"$f":"IFERROR(VLOOKUP(AD174,CadMP!$B:$D,3,0),\"\")","v":""},{"$f":"IFERROR(VLOOKUP(AE174,CadMP!$B:$D,3,0),\"\")","v":""},{"$f":"IFERROR(VLOOKUP(AF174,CadMP!$B:$D,3,0),\"\")","v":""},{"$f":"IFERROR(VLOOKUP(AG174,CadMP!$B:$D,3,0),\"\")","v":""},{"$f":"IFERROR(VLOOKUP(AH174,CadMP!$B:$D,3,0),\"\")","v":""},{"$f":"IFERROR(VLOOKUP(AI174,CadMP!$B:$D,3,0),\"\")","v":""},{"$f":"IFERROR(VLOOKUP(AJ174,CadMP!$B:$D,3,0),\"\")","v":""},{"$f":"IFERROR(VLOOKUP(AK174,CadMP!$B:$D,3,0),\"\")","v":""},0,0,0,0,0,0,0,0,0,0,0,0,0,0,0]
[174,null,null,0,0,null,null,null,null,null,null,0,0,null,null,null,null,null,null,null,1,0,null,null,null,null,null,null,null,null,null,null,null,null,null,null,null,null,null,null,null,null,null,null,null,null,null,null,null,null,null,null,{"$f":"IFERROR(VLOOKUP(W175,CadMP!$B:$D,2,0),\"\")","v":""},{"$f":"IFERROR(VLOOKUP(X175,CadMP!$B:$D,2,0),\"\")","v":""},{"$f":"IFERROR(VLOOKUP(Y175,CadMP!$B:$D,2,0),\"\")","v":""},{"$f":"IFERROR(VLOOKUP(Z175,CadMP!$B:$D,2,0),\"\")","v":""},{"$f":"IFERROR(VLOOKUP(AA175,CadMP!$B:$D,2,0),\"\")","v":""},{"$f":"IFERROR(VLOOKUP(AB175,CadMP!$B:$D,2,0),\"\")","v":""},{"$f":"IFERROR(VLOOKUP(AC175,CadMP!$B:$D,2,0),\"\")","v":""},{"$f":"IFERROR(VLOOKUP(AD175,CadMP!$B:$D,2,0),\"\")","v":""},{"$f":"IFERROR(VLOOKUP(AE175,CadMP!$B:$D,2,0),\"\")","v":""},{"$f":"IFERROR(VLOOKUP(AF175,CadMP!$B:$D,2,0),\"\")","v":""},{"$f":"IFERROR(VLOOKUP(AG175,CadMP!$B:$D,2,0),\"\")","v":""},{"$f":"IFERROR(VLOOKUP(AH175,CadMP!$B:$D,2,0),\"\")","v":""},{"$f":"IFERROR(VLOOKUP(AI175,CadMP!$B:$D,2,0),\"\")","v":""},{"$f":"IFERROR(VLOOKUP(AJ175,CadMP!$B:$D,2,0),\"\")","v":""},{"$f":"IFERROR(VLOOKUP(AK175,CadMP!$B:$D,2,0),\"\")","v":""},{"$f":"IFERROR(VLOOKUP(W175,CadMP!$B:$D,3,0),\"\")","v":""},{"$f":"IFERROR(VLOOKUP(X175,CadMP!$B:$D,3,0),\"\")","v":""},{"$f":"IFERROR(VLOOKUP(Y175,CadMP!$B:$D,3,0),\"\")","v":""},{"$f":"IFERROR(VLOOKUP(Z175,CadMP!$B:$D,3,0),\"\")","v":""},{"$f":"IFERROR(VLOOKUP(AA175,CadMP!$B:$D,3,0),\"\")","v":""},{"$f":"IFERROR(VLOOKUP(AB175,CadMP!$B:$D,3,0),\"\")","v":""},{"$f":"IFERROR(VLOOKUP(AC175,CadMP!$B:$D,3,0),\"\")","v":""},{"$f":"IFERROR(VLOOKUP(AD175,CadMP!$B:$D,3,0),\"\")","v":""},{"$f":"IFERROR(VLOOKUP(AE175,CadMP!$B:$D,3,0),\"\")","v":""},{"$f":"IFERROR(VLOOKUP(AF175,CadMP!$B:$D,3,0),\"\")","v":""},{"$f":"IFERROR(VLOOKUP(AG175,CadMP!$B:$D,3,0),\"\")","v":""},{"$f":"IFERROR(VLOOKUP(AH175,CadMP!$B:$D,3,0),\"\")","v":""},{"$f":"IFERROR(VLOOKUP(AI175,CadMP!$B:$D,3,0),\"\")","v":""},{"$f":"IFERROR(VLOOKUP(AJ175,CadMP!$B:$D,3,0),\"\")","v":""},{"$f":"IFERROR(VLOOKUP(AK175,CadMP!$B:$D,3,0),\"\")","v":""},0,0,0,0,0,0,0,0,0,0,0,0,0,0,0]
[175,null,null,0,0,null,null,null,null,null,null,0,0,null,null,null,null,null,null,null,1,0,null,null,null,null,null,null,null,null,null,null,null,null,null,null,null,null,null,null,null,null,null,null,null,null,null,null,null,null,null,null,{"$f":"IFERROR(VLOOKUP(W176,CadMP!$B:$D,2,0),\"\")","v":""},{"$f":"IFERROR(VLOOKUP(X176,CadMP!$B:$D,2,0),\"\")","v":""},{"$f":"IFERROR(VLOOKUP(Y176,CadMP!$B:$D,2,0),\"\")","v":""},{"$f":"IFERROR(VLOOKUP(Z176,CadMP!$B:$D,2,0),\"\")","v":""},{"$f":"IFERROR(VLOOKUP(AA176,CadMP!$B:$D,2,0),\"\")","v":""},{"$f":"IFERROR(VLOOKUP(AB176,CadMP!$B:$D,2,0),\"\")","v":""},{"$f":"IFERROR(VLOOKUP(AC176,CadMP!$B:$D,2,0),\"\")","v":""},{"$f":"IFERROR(VLOOKUP(AD176,CadMP!$B:$D,2,0),\"\")","v":""},{"$f":"IFERROR(VLOOKUP(AE176,CadMP!$B:$D,2,0),\"\")","v":""},{"$f":"IFERROR(VLOOKUP(AF176,CadMP!$B:$D,2,0),\"\")","v":""},{"$f":"IFERROR(VLOOKUP(AG176,CadMP!$B:$D,2,0),\"\")","v":""},{"$f":"IFERROR(VLOOKUP(AH176,CadMP!$B:$D,2,0),\"\")","v":""},{"$f":"IFERROR(VLOOKUP(AI176,CadMP!$B:$D,2,0),\"\")","v":""},{"$f":"IFERROR(VLOOKUP(AJ176,CadMP!$B:$D,2,0),\"\")","v":""},{"$f":"IFERROR(VLOOKUP(AK176,CadMP!$B:$D,2,0),\"\")","v":""},{"$f":"IFERROR(VLOOKUP(W176,CadMP!$B:$D,3,0),\"\")","v":""},{"$f":"IFERROR(VLOOKUP(X176,CadMP!$B:$D,3,0),\"\")","v":""},{"$f":"IFERROR(VLOOKUP(Y176,CadMP!$B:$D,3,0),\"\")","v":""},{"$f":"IFERROR(VLOOKUP(Z176,CadMP!$B:$D,3,0),\"\")","v":""},{"$f":"IFERROR(VLOOKUP(AA176,CadMP!$B:$D,3,0),\"\")","v":""},{"$f":"IFERROR(VLOOKUP(AB176,CadMP!$B:$D,3,0),\"\")","v":""},{"$f":"IFERROR(VLOOKUP(AC176,CadMP!$B:$D,3,0),\"\")","v":""},{"$f":"IFERROR(VLOOKUP(AD176,CadMP!$B:$D,3,0),\"\")","v":""},{"$f":"IFERROR(VLOOKUP(AE176,CadMP!$B:$D,3,0),\"\")","v":""},{"$f":"IFERROR(VLOOKUP(AF176,CadMP!$B:$D,3,0),\"\")","v":""},{"$f":"IFERROR(VLOOKUP(AG176,CadMP!$B:$D,3,0),\"\")","v":""},{"$f":"IFERROR(VLOOKUP(AH176,CadMP!$B:$D,3,0),\"\")","v":""},{"$f":"IFERROR(VLOOKUP(AI176,CadMP!$B:$D,3,0),\"\")","v":""},{"$f":"IFERROR(VLOOKUP(AJ176,CadMP!$B:$D,3,0),\"\")","v":""},{"$f":"IFERROR(VLOOKUP(AK176,CadMP!$B:$D,3,0),\"\")","v":""},0,0,0,0,0,0,0,0,0,0,0,0,0,0,0]
[176,null,null,0,0,null,null,null,null,null,null,0,0,null,null,null,null,null,null,null,1,0,null,null,null,null,null,null,null,null,null,null,null,null,null,null,null,null,null,null,null,null,null,null,null,null,null,null,null,null,null,null,{"$f":"IFERROR(VLOOKUP(W177,CadMP!$B:$D,2,0),\"\")","v":""},{"$f":"IFERROR(VLOOKUP(X177,CadMP!$B:$D,2,0),\"\")","v":""},{"$f":"IFERROR(VLOOKUP(Y177,CadMP!$B:$D,2,0),\"\")","v":""},{"$f":"IFERROR(VLOOKUP(Z177,CadMP!$B:$D,2,0),\"\")","v":""},{"$f":"IFERROR(VLOOKUP(AA177,CadMP!$B:$D,2,0),\"\")","v":""},{"$f":"IFERROR(VLOOKUP(AB177,CadMP!$B:$D,2,0),\"\")","v":""},{"$f":"IFERROR(VLOOKUP(AC177,CadMP!$B:$D,2,0),\"\")","v":""},{"$f":"IFERROR(VLOOKUP(AD177,CadMP!$B:$D,2,0),\"\")","v":""},{"$f":"IFERROR(VLOOKUP(AE177,CadMP!$B:$D,2,0),\"\")","v":""},{"$f":"IFERROR(VLOOKUP(AF177,CadMP!$B:$D,2,0),\"\")","v":""},{"$f":"IFERROR(VLOOKUP(AG177,CadMP!$B:$D,2,0),\"\")","v":""},{"$f":"IFERROR(VLOOKUP(AH177,CadMP!$B:$D,2,0),\"\")","v":""},{"$f":"IFERROR(VLOOKUP(AI177,CadMP!$B:$D,2,0),\"\")","v":""},{"$f":"IFERROR(VLOOKUP(AJ177,CadMP!$B:$D,2,0),\"\")","v":""},{"$f":"IFERROR(VLOOKUP(AK177,CadMP!$B:$D,2,0),\"\")","v":""},{"$f":"IFERROR(VLOOKUP(W177,CadMP!$B:$D,3,0),\"\")","v":""},{"$f":"IFERROR(VLOOKUP(X177,CadMP!$B:$D,3,0),\"\")","v":""},{"$f":"IFERROR(VLOOKUP(Y177,CadMP!$B:$D,3,0),\"\")","v":""},{"$f":"IFERROR(VLOOKUP(Z177,CadMP!$B:$D,3,0),\"\")","v":""},{"$f":"IFERROR(VLOOKUP(AA177,CadMP!$B:$D,3,0),\"\")","v":""},{"$f":"IFERROR(VLOOKUP(AB177,CadMP!$B:$D,3,0),\"\")","v":""},{"$f":"IFERROR(VLOOKUP(AC177,CadMP!$B:$D,3,0),\"\")","v":""},{"$f":"IFERROR(VLOOKUP(AD177,CadMP!$B:$D,3,0),\"\")","v":""},{"$f":"IFERROR(VLOOKUP(AE177,CadMP!$B:$D,3,0),\"\")","v":""},{"$f":"IFERROR(VLOOKUP(AF177,CadMP!$B:$D,3,0),\"\")","v":""},{"$f":"IFERROR(VLOOKUP(AG177,CadMP!$B:$D,3,0),\"\")","v":""},{"$f":"IFERROR(VLOOKUP(AH177,CadMP!$B:$D,3,0),\"\")","v":""},{"$f":"IFERROR(VLOOKUP(AI177,CadMP!$B:$D,3,0),\"\")","v":""},{"$f":"IFERROR(VLOOKUP(AJ177,CadMP!$B:$D,3,0),\"\")","v":""},{"$f":"IFERROR(VLOOKUP(AK177,CadMP!$B:$D,3,0),\"\")","v":""},0,0,0,0,0,0,0,0,0,0,0,0,0,0,0]
[177,null,null,0,0,null,null,null,null,null,null,0,0,null,null,null,null,null,null,null,1,0,null,null,null,null,null,null,null,null,null,null,null,null,null,null,null,null,null,null,null,null,null,null,null,null,null,null,null,null,null,null,{"$f":"IFERROR(VLOOKUP(W178,CadMP!$B:$D,2,0),\"\")","v":""},{"$f":"IFERROR(VLOOKUP(X178,CadMP!$B:$D,2,0),\"\")","v":""},{"$f":"IFERROR(VLOOKUP(Y178,CadMP!$B:$D,2,0),\"\")","v":""},{"$f":"IFERROR(VLOOKUP(Z178,CadMP!$B:$D,2,0),\"\")","v":""},{"$f":"IFERROR(VLOOKUP(AA178,CadMP!$B:$D,2,0),\"\")","v":""},{"$f":"IFERROR(VLOOKUP(AB178,CadMP!$B:$D,2,0),\"\")","v":""},{"$f":"IFERROR(VLOOKUP(AC178,CadMP!$B:$D,2,0),\"\")","v":""},{"$f":"IFERROR(VLOOKUP(AD178,CadMP!$B:$D,2,0),\"\")","v":""},{"$f":"IFERROR(VLOOKUP(AE178,CadMP!$B:$D,2,0),\"\")","v":""},{"$f":"IFERROR(VLOOKUP(AF178,CadMP!$B:$D,2,0),\"\")","v":""},{"$f":"IFERROR(VLOOKUP(AG178,CadMP!$B:$D,2,0),\"\")","v":""},{"$f":"IFERROR(VLOOKUP(AH178,CadMP!$B:$D,2,0),\"\")","v":""},{"$f":"IFERROR(VLOOKUP(AI178,CadMP!$B:$D,2,0),\"\")","v":""},{"$f":"IFERROR(VLOOKUP(AJ178,CadMP!$B:$D,2,0),\"\")","v":""},{"$f":"IFERROR(VLOOKUP(AK178,CadMP!$B:$D,2,0),\"\")","v":""},{"$f":"IFERROR(VLOOKUP(W178,CadMP!$B:$D,3,0),\"\")","v":""},{"$f":"IFERROR(VLOOKUP(X178,CadMP!$B:$D,3,0),\"\")","v":""},{"$f":"IFERROR(VLOOKUP(Y178,CadMP!$B:$D,3,0),\"\")","v":""},{"$f":"IFERROR(VLOOKUP(Z178,CadMP!$B:$D,3,0),\"\")","v":""},{"$f":"IFERROR(VLOOKUP(AA178,CadMP!$B:$D,3,0),\"\")","v":""},{"$f":"IFERROR(VLOOKUP(AB178,CadMP!$B:$D,3,0),\"\")","v":""},{"$f":"IFERROR(VLOOKUP(AC178,CadMP!$B:$D,3,0),\"\")","v":""},{"$f":"IFERROR(VLOOKUP(AD178,CadMP!$B:$D,3,0),\"\")","v":""},{"$f":"IFERROR(VLOOKUP(AE178,CadMP!$B:$D,3,0),\"\")","v":""},{"$f":"IFERROR(VLOOKUP(AF178,CadMP!$B:$D,3,0),\"\")","v":""},{"$f":"IFERROR(VLOOKUP(AG178,CadMP!$B:$D,3,0),\"\")","v":""},{"$f":"IFERROR(VLOOKUP(AH178,CadMP!$B:$D,3,0),\"\")","v":""},{"$f":"IFERROR(VLOOKUP(AI178,CadMP!$B:$D,3,0),\"\")","v":""},{"$f":"IFERROR(VLOOKUP(AJ178,CadMP!$B:$D,3,0),\"\")","v":""},{"$f":"IFERROR(VLOOKUP(AK178,CadMP!$B:$D,3,0),\"\")","v":""},0,0,0,0,0,0,0,0,0,0,0,0,0,0,0]
[178,null,null,0,0,null,null,null,null,null,null,0,0,null,null,null,null,null,null,null,1,0,null,null,null,null,null,null,null,null,null,null,null,null,null,null,null,null,null,null,null,null,null,null,null,null,null,null,null,null,null,null,{"$f":"IFERROR(VLOOKUP(W179,CadMP!$B:$D,2,0),\"\")","v":""},{"$f":"IFERROR(VLOOKUP(X179,CadMP!$B:$D,2,0),\"\")","v":""},{"$f":"IFERROR(VLOOKUP(Y179,CadMP!$B:$D,2,0),\"\")","v":""},{"$f":"IFERROR(VLOOKUP(Z179,CadMP!$B:$D,2,0),\"\")","v":""},{"$f":"IFERROR(VLOOKUP(AA179,CadMP!$B:$D,2,0),\"\")","v":""},{"$f":"IFERROR(VLOOKUP(AB179,CadMP!$B:$D,2,0),\"\")","v":""},{"$f":"IFERROR(VLOOKUP(AC179,CadMP!$B:$D,2,0),\"\")","v":""},{"$f":"IFERROR(VLOOKUP(AD179,CadMP!$B:$D,2,0),\"\")","v":""},{"$f":"IFERROR(VLOOKUP(AE179,CadMP!$B:$D,2,0),\"\")","v":""},{"$f":"IFERROR(VLOOKUP(AF179,CadMP!$B:$D,2,0),\"\")","v":""},{"$f":"IFERROR(VLOOKUP(AG179,CadMP!$B:$D,2,0),\"\")","v":""},{"$f":"IFERROR(VLOOKUP(AH179,CadMP!$B:$D,2,0),\"\")","v":""},{"$f":"IFERROR(VLOOKUP(AI179,CadMP!$B:$D,2,0),\"\")","v":""},{"$f":"IFERROR(VLOOKUP(AJ179,CadMP!$B:$D,2,0),\"\")","v":""},{"$f":"IFERROR(VLOOKUP(AK179,CadMP!$B:$D,2,0),\"\")","v":""},{"$f":"IFERROR(VLOOKUP(W179,CadMP!$B:$D,3,0),\"\")","v":""},{"$f":"IFERROR(VLOOKUP(X179,CadMP!$B:$D,3,0),\"\")","v":""},{"$f":"IFERROR(VLOOKUP(Y179,CadMP!$B:$D,3,0),\"\")","v":""},{"$f":"IFERROR(VLOOKUP(Z179,CadMP!$B:$D,3,0),\"\")","v":""},{"$f":"IFERROR(VLOOKUP(AA179,CadMP!$B:$D,3,0),\"\")","v":""},{"$f":"IFERROR(VLOOKUP(AB179,CadMP!$B:$D,3,0),\"\")","v":""},{"$f":"IFERROR(VLOOKUP(AC179,CadMP!$B:$D,3,0),\"\")","v":""},{"$f":"IFERROR(VLOOKUP(AD179,CadMP!$B:$D,3,0),\"\")","v":""},{"$f":"IFERROR(VLOOKUP(AE179,CadMP!$B:$D,3,0),\"\")","v":""},{"$f":"IFERROR(VLOOKUP(AF179,CadMP!$B:$D,3,0),\"\")","v":""},{"$f":"IFERROR(VLOOKUP(AG179,CadMP!$B:$D,3,0),\"\")","v":""},{"$f":"IFERROR(VLOOKUP(AH179,CadMP!$B:$D,3,0),\"\")","v":""},{"$f":"IFERROR(VLOOKUP(AI179,CadMP!$B:$D,3,0),\"\")","v":""},{"$f":"IFERROR(VLOOKUP(AJ179,CadMP!$B:$D,3,0),\"\")","v":""},{"$f":"IFERROR(VLOOKUP(AK179,CadMP!$B:$D,3,0),\"\")","v":""},0,0,0,0,0,0,0,0,0,0,0,0,0,0,0]
[179,null,null,0,0,null,null,null,null,null,null,0,0,null,null,null,null,null,null,null,1,0,null,null,null,null,null,null,null,null,null,null,null,null,null,null,null,null,null,null,null,null,null,null,null,null,null,null,null,null,null,null,{"$f":"IFERROR(VLOOKUP(W180,CadMP!$B:$D,2,0),\"\")","v":""},{"$f":"IFERROR(VLOOKUP(X180,CadMP!$B:$D,2,0),\"\")","v":""},{"$f":"IFERROR(VLOOKUP(Y180,CadMP!$B:$D,2,0),\"\")","v":""},{"$f":"IFERROR(VLOOKUP(Z180,CadMP!$B:$D,2,0),\"\")","v":""},{"$f":"IFERROR(VLOOKUP(AA180,CadMP!$B:$D,2,0),\"\")","v":""},{"$f":"IFERROR(VLOOKUP(AB180,CadMP!$B:$D,2,0),\"\")","v":""},{"$f":"IFERROR(VLOOKUP(AC180,CadMP!$B:$D,2,0),\"\")","v":""},{"$f":"IFERROR(VLOOKUP(AD180,CadMP!$B:$D,2,0),\"\")","v":""},{"$f":"IFERROR(VLOOKUP(AE180,CadMP!$B:$D,2,0),\"\")","v":""},{"$f":"IFERROR(VLOOKUP(AF180,CadMP!$B:$D,2,0),\"\")","v":""},{"$f":"IFERROR(VLOOKUP(AG180,CadMP!$B:$D,2,0),\"\")","v":""},{"$f":"IFERROR(VLOOKUP(AH180,CadMP!$B:$D,2,0),\"\")","v":""},{"$f":"IFERROR(VLOOKUP(AI180,CadMP!$B:$D,2,0),\"\")","v":""},{"$f":"IFERROR(VLOOKUP(AJ180,CadMP!$B:$D,2,0),\"\")","v":""},{"$f":"IFERROR(VLOOKUP(AK180,CadMP!$B:$D,2,0),\"\")","v":""},{"$f":"IFERROR(VLOOKUP(W180,CadMP!$B:$D,3,0),\"\")","v":""},{"$f":"IFERROR(VLOOKUP(X180,CadMP!$B:$D,3,0),\"\")","v":""},{"$f":"IFERROR(VLOOKUP(Y180,CadMP!$B:$D,3,0),\"\")","v":""},{"$f":"IFERROR(VLOOKUP(Z180,CadMP!$B:$D,3,0),\"\")","v":""},{"$f":"IFERROR(VLOOKUP(AA180,CadMP!$B:$D,3,0),\"\")","v":""},{"$f":"IFERROR(VLOOKUP(AB180,CadMP!$B:$D,3,0),\"\")","v":""},{"$f":"IFERROR(VLOOKUP(AC180,CadMP!$B:$D,3,0),\"\")","v":""},{"$f":"IFERROR(VLOOKUP(AD180,CadMP!$B:$D,3,0),\"\")","v":""},{"$f":"IFERROR(VLOOKUP(AE180,CadMP!$B:$D,3,0),\"\")","v":""},{"$f":"IFERROR(VLOOKUP(AF180,CadMP!$B:$D,3,0),\"\")","v":""},{"$f":"IFERROR(VLOOKUP(AG180,CadMP!$B:$D,3,0),\"\")","v":""},{"$f":"IFERROR(VLOOKUP(AH180,CadMP!$B:$D,3,0),\"\")","v":""},{"$f":"IFERROR(VLOOKUP(AI180,CadMP!$B:$D,3,0),\"\")","v":""},{"$f":"IFERROR(VLOOKUP(AJ180,CadMP!$B:$D,3,0),\"\")","v":""},{"$f":"IFERROR(VLOOKUP(AK180,CadMP!$B:$D,3,0),\"\")","v":""},0,0,0,0,0,0,0,0,0,0,0,0,0,0,0]
[180,null,null,0,0,null,null,null,null,null,null,0,0,null,null,null,null,null,null,null,1,0,null,null,null,null,null,null,null,null,null,null,null,null,null,null,null,null,null,null,null,null,null,null,null,null,null,null,null,null,null,null,{"$f":"IFERROR(VLOOKUP(W181,CadMP!$B:$D,2,0),\"\")","v":""},{"$f":"IFERROR(VLOOKUP(X181,CadMP!$B:$D,2,0),\"\")","v":""},{"$f":"IFERROR(VLOOKUP(Y181,CadMP!$B:$D,2,0),\"\")","v":""},{"$f":"IFERROR(VLOOKUP(Z181,CadMP!$B:$D,2,0),\"\")","v":""},{"$f":"IFERROR(VLOOKUP(AA181,CadMP!$B:$D,2,0),\"\")","v":""},{"$f":"IFERROR(VLOOKUP(AB181,CadMP!$B:$D,2,0),\"\")","v":""},{"$f":"IFERROR(VLOOKUP(AC181,CadMP!$B:$D,2,0),\"\")","v":""},{"$f":"IFERROR(VLOOKUP(AD181,CadMP!$B:$D,2,0),\"\")","v":""},{"$f":"IFERROR(VLOOKUP(AE181,CadMP!$B:$D,2,0),\"\")","v":""},{"$f":"IFERROR(VLOOKUP(AF181,CadMP!$B:$D,2,0),\"\")","v":""},{"$f":"IFERROR(VLOOKUP(AG181,CadMP!$B:$D,2,0),\"\")","v":""},{"$f":"IFERROR(VLOOKUP(AH181,CadMP!$B:$D,2,0),\"\")","v":""},{"$f":"IFERROR(VLOOKUP(AI181,CadMP!$B:$D,2,0),\"\")","v":""},{"$f":"IFERROR(VLOOKUP(AJ181,CadMP!$B:$D,2,0),\"\")","v":""},{"$f":"IFERROR(VLOOKUP(AK181,CadMP!$B:$D,2,0),\"\")","v":""},{"$f":"IFERROR(VLOOKUP(W181,CadMP!$B:$D,3,0),\"\")","v":""},{"$f":"IFERROR(VLOOKUP(X181,CadMP!$B:$D,3,0),\"\")","v":""},{"$f":"IFERROR(VLOOKUP(Y181,CadMP!$B:$D,3,0),\"\")","v":""},{"$f":"IFERROR(VLOOKUP(Z181,CadMP!$B:$D,3,0),\"\")","v":""},{"$f":"IFERROR(VLOOKUP(AA181,CadMP!$B:$D,3,0),\"\")","v":""},{"$f":"IFERROR(VLOOKUP(AB181,CadMP!$B:$D,3,0),\"\")","v":""},{"$f":"IFERROR(VLOOKUP(AC181,CadMP!$B:$D,3,0),\"\")","v":""},{"$f":"IFERROR(VLOOKUP(AD181,CadMP!$B:$D,3,0),\"\")","v":""},{"$f":"IFERROR(VLOOKUP(AE181,CadMP!$B:$D,3,0),\"\")","v":""},{"$f":"IFERROR(VLOOKUP(AF181,CadMP!$B:$D,3,0),\"\")","v":""},{"$f":"IFERROR(VLOOKUP(AG181,CadMP!$B:$D,3,0),\"\")","v":""},{"$f":"IFERROR(VLOOKUP(AH181,CadMP!$B:$D,3,0),\"\")","v":""},{"$f":"IFERROR(VLOOKUP(AI181,CadMP!$B:$D,3,0),\"\")","v":""},{"$f":"IFERROR(VLOOKUP(AJ181,CadMP!$B:$D,3,0),\"\")","v":""},{"$f":"IFERROR(VLOOKUP(AK181,CadMP!$B:$D,3,0),\"\")","v":""},0,0,0,0,0,0,0,0,0,0,0,0,0,0,0]
[181,null,null,0,0,null,null,null,null,null,null,0,0,null,null,null,null,null,null,null,1,0,null,null,null,null,null,null,null,null,null,null,null,null,null,null,null,null,null,null,null,null,null,null,null,null,null,null,null,null,null,null,{"$f":"IFERROR(VLOOKUP(W182,CadMP!$B:$D,2,0),\"\")","v":""},{"$f":"IFERROR(VLOOKUP(X182,CadMP!$B:$D,2,0),\"\")","v":""},{"$f":"IFERROR(VLOOKUP(Y182,CadMP!$B:$D,2,0),\"\")","v":""},{"$f":"IFERROR(VLOOKUP(Z182,CadMP!$B:$D,2,0),\"\")","v":""},{"$f":"IFERROR(VLOOKUP(AA182,CadMP!$B:$D,2,0),\"\")","v":""},{"$f":"IFERROR(VLOOKUP(AB182,CadMP!$B:$D,2,0),\"\")","v":""},{"$f":"IFERROR(VLOOKUP(AC182,CadMP!$B:$D,2,0),\"\")","v":""},{"$f":"IFERROR(VLOOKUP(AD182,CadMP!$B:$D,2,0),\"\")","v":""},{"$f":"IFERROR(VLOOKUP(AE182,CadMP!$B:$D,2,0),\"\")","v":""},{"$f":"IFERROR(VLOOKUP(AF182,CadMP!$B:$D,2,0),\"\")","v":""},{"$f":"IFERROR(VLOOKUP(AG182,CadMP!$B:$D,2,0),\"\")","v":""},{"$f":"IFERROR(VLOOKUP(AH182,CadMP!$B:$D,2,0),\"\")","v":""},{"$f":"IFERROR(VLOOKUP(AI182,CadMP!$B:$D,2,0),\"\")","v":""},{"$f":"IFERROR(VLOOKUP(AJ182,CadMP!$B:$D,2,0),\"\")","v":""},{"$f":"IFERROR(VLOOKUP(AK182,CadMP!$B:$D,2,0),\"\")","v":""},{"$f":"IFERROR(VLOOKUP(W182,CadMP!$B:$D,3,0),\"\")","v":""},{"$f":"IFERROR(VLOOKUP(X182,CadMP!$B:$D,3,0),\"\")","v":""},{"$f":"IFERROR(VLOOKUP(Y182,CadMP!$B:$D,3,0),\"\")","v":""},{"$f":"IFERROR(VLOOKUP(Z182,CadMP!$B:$D,3,0),\"\")","v":""},{"$f":"IFERROR(VLOOKUP(AA182,CadMP!$B:$D,3,0),\"\")","v":""},{"$f":"IFERROR(VLOOKUP(AB182,CadMP!$B:$D,3,0),\"\")","v":""},{"$f":"IFERROR(VLOOKUP(AC182,CadMP!$B:$D,3,0),\"\")","v":""},{"$f":"IFERROR(VLOOKUP(AD182,CadMP!$B:$D,3,0),\"\")","v":""},{"$f":"IFERROR(VLOOKUP(AE182,CadMP!$B:$D,3,0),\"\")","v":""},{"$f":"IFERROR(VLOOKUP(AF182,CadMP!$B:$D,3,0),\"\")","v":""},{"$f":"IFERROR(VLOOKUP(AG182,CadMP!$B:$D,3,0),\"\")","v":""},{"$f":"IFERROR(VLOOKUP(AH182,CadMP!$B:$D,3,0),\"\")","v":""},{"$f":"IFERROR(VLOOKUP(AI182,CadMP!$B:$D,3,0),\"\")","v":""},{"$f":"IFERROR(VLOOKUP(AJ182,CadMP!$B:$D,3,0),\"\")","v":""},{"$f":"IFERROR(VLOOKUP(AK182,CadMP!$B:$D,3,0),\"\")","v":""},0,0,0,0,0,0,0,0,0,0,0,0,0,0,0]
[182,null,null,0,0,null,null,null,null,null,null,0,0,null,null,null,null,null,null,null,1,0,null,null,null,null,null,null,null,null,null,null,null,null,null,null,null,null,null,null,null,null,null,null,null,null,null,null,null,null,null,null,{"$f":"IFERROR(VLOOKUP(W183,CadMP!$B:$D,2,0),\"\")","v":""},{"$f":"IFERROR(VLOOKUP(X183,CadMP!$B:$D,2,0),\"\")","v":""},{"$f":"IFERROR(VLOOKUP(Y183,CadMP!$B:$D,2,0),\"\")","v":""},{"$f":"IFERROR(VLOOKUP(Z183,CadMP!$B:$D,2,0),\"\")","v":""},{"$f":"IFERROR(VLOOKUP(AA183,CadMP!$B:$D,2,0),\"\")","v":""},{"$f":"IFERROR(VLOOKUP(AB183,CadMP!$B:$D,2,0),\"\")","v":""},{"$f":"IFERROR(VLOOKUP(AC183,CadMP!$B:$D,2,0),\"\")","v":""},{"$f":"IFERROR(VLOOKUP(AD183,CadMP!$B:$D,2,0),\"\")","v":""},{"$f":"IFERROR(VLOOKUP(AE183,CadMP!$B:$D,2,0),\"\")","v":""},{"$f":"IFERROR(VLOOKUP(AF183,CadMP!$B:$D,2,0),\"\")","v":""},{"$f":"IFERROR(VLOOKUP(AG183,CadMP!$B:$D,2,0),\"\")","v":""},{"$f":"IFERROR(VLOOKUP(AH183,CadMP!$B:$D,2,0),\"\")","v":""},{"$f":"IFERROR(VLOOKUP(AI183,CadMP!$B:$D,2,0),\"\")","v":""},{"$f":"IFERROR(VLOOKUP(AJ183,CadMP!$B:$D,2,0),\"\")","v":""},{"$f":"IFERROR(VLOOKUP(AK183,CadMP!$B:$D,2,0),\"\")","v":""},{"$f":"IFERROR(VLOOKUP(W183,CadMP!$B:$D,3,0),\"\")","v":""},{"$f":"IFERROR(VLOOKUP(X183,CadMP!$B:$D,3,0),\"\")","v":""},{"$f":"IFERROR(VLOOKUP(Y183,CadMP!$B:$D,3,0),\"\")","v":""},{"$f":"IFERROR(VLOOKUP(Z183,CadMP!$B:$D,3,0),\"\")","v":""},{"$f":"IFERROR(VLOOKUP(AA183,CadMP!$B:$D,3,0),\"\")","v":""},{"$f":"IFERROR(VLOOKUP(AB183,CadMP!$B:$D,3,0),\"\")","v":""},{"$f":"IFERROR(VLOOKUP(AC183,CadMP!$B:$D,3,0),\"\")","v":""},{"$f":"IFERROR(VLOOKUP(AD183,CadMP!$B:$D,3,0),\"\")","v":""},{"$f":"IFERROR(VLOOKUP(AE183,CadMP!$B:$D,3,0),\"\")","v":""},{"$f":"IFERROR(VLOOKUP(AF183,CadMP!$B:$D,3,0),\"\")","v":""},{"$f":"IFERROR(VLOOKUP(AG183,CadMP!$B:$D,3,0),\"\")","v":""},{"$f":"IFERROR(VLOOKUP(AH183,CadMP!$B:$D,3,0),\"\")","v":""},{"$f":"IFERROR(VLOOKUP(AI183,CadMP!$B:$D,3,0),\"\")","v":""},{"$f":"IFERROR(VLOOKUP(AJ183,CadMP!$B:$D,3,0),\"\")","v":""},{"$f":"IFERROR(VLOOKUP(AK183,CadMP!$B:$D,3,0),\"\")","v":""},0,0,0,0,0,0,0,0,0,0,0,0,0,0,0]
[183,null,null,0,0,null,null,null,null,null,null,0,0,null,null,null,null,null,null,null,1,0,null,null,null,null,null,null,null,null,null,null,null,null,null,null,null,null,null,null,null,null,null,null,null,null,null,null,null,null,null,null,{"$f":"IFERROR(VLOOKUP(W184,CadMP!$B:$D,2,0),\"\")","v":""},{"$f":"IFERROR(VLOOKUP(X184,CadMP!$B:$D,2,0),\"\")","v":""},{"$f":"IFERROR(VLOOKUP(Y184,CadMP!$B:$D,2,0),\"\")","v":""},{"$f":"IFERROR(VLOOKUP(Z184,CadMP!$B:$D,2,0),\"\")","v":""},{"$f":"IFERROR(VLOOKUP(AA184,CadMP!$B:$D,2,0),\"\")","v":""},{"$f":"IFERROR(VLOOKUP(AB184,CadMP!$B:$D,2,0),\"\")","v":""},{"$f":"IFERROR(VLOOKUP(AC184,CadMP!$B:$D,2,0),\"\")","v":""},{"$f":"IFERROR(VLOOKUP(AD184,CadMP!$B:$D,2,0),\"\")","v":""},{"$f":"IFERROR(VLOOKUP(AE184,CadMP!$B:$D,2,0),\"\")","v":""},{"$f":"IFERROR(VLOOKUP(AF184,CadMP!$B:$D,2,0),\"\")","v":""},{"$f":"IFERROR(VLOOKUP(AG184,CadMP!$B:$D,2,0),\"\")","v":""},{"$f":"IFERROR(VLOOKUP(AH184,CadMP!$B:$D,2,0),\"\")","v":""},{"$f":"IFERROR(VLOOKUP(AI184,CadMP!$B:$D,2,0),\"\")","v":""},{"$f":"IFERROR(VLOOKUP(AJ184,CadMP!$B:$D,2,0),\"\")","v":""},{"$f":"IFERROR(VLOOKUP(AK184,CadMP!$B:$D,2,0),\"\")","v":""},{"$f":"IFERROR(VLOOKUP(W184,CadMP!$B:$D,3,0),\"\")","v":""},{"$f":"IFERROR(VLOOKUP(X184,CadMP!$B:$D,3,0),\"\")","v":""},{"$f":"IFERROR(VLOOKUP(Y184,CadMP!$B:$D,3,0),\"\")","v":""},{"$f":"IFERROR(VLOOKUP(Z184,CadMP!$B:$D,3,0),\"\")","v":""},{"$f":"IFERROR(VLOOKUP(AA184,CadMP!$B:$D,3,0),\"\")","v":""},{"$f":"IFERROR(VLOOKUP(AB184,CadMP!$B:$D,3,0),\"\")","v":""},{"$f":"IFERROR(VLOOKUP(AC184,CadMP!$B:$D,3,0),\"\")","v":""},{"$f":"IFERROR(VLOOKUP(AD184,CadMP!$B:$D,3,0),\"\")","v":""},{"$f":"IFERROR(VLOOKUP(AE184,CadMP!$B:$D,3,0),\"\")","v":""},{"$f":"IFERROR(VLOOKUP(AF184,CadMP!$B:$D,3,0),\"\")","v":""},{"$f":"IFERROR(VLOOKUP(AG184,CadMP!$B:$D,3,0),\"\")","v":""},{"$f":"IFERROR(VLOOKUP(AH184,CadMP!$B:$D,3,0),\"\")","v":""},{"$f":"IFERROR(VLOOKUP(AI184,CadMP!$B:$D,3,0),\"\")","v":""},{"$f":"IFERROR(VLOOKUP(AJ184,CadMP!$B:$D,3,0),\"\")","v":""},{"$f":"IFERROR(VLOOKUP(AK184,CadMP!$B:$D,3,0),\"\")","v":""},0,0,0,0,0,0,0,0,0,0,0,0,0,0,0]
[184,null,null,0,0,null,null,null,null,null,null,0,0,null,null,null,null,null,null,null,1,0,null,null,null,null,null,null,null,null,null,null,null,null,null,null,null,null,null,null,null,null,null,null,null,null,null,null,null,null,null,null,{"$f":"IFERROR(VLOOKUP(W185,CadMP!$B:$D,2,0),\"\")","v":""},{"$f":"IFERROR(VLOOKUP(X185,CadMP!$B:$D,2,0),\"\")","v":""},{"$f":"IFERROR(VLOOKUP(Y185,CadMP!$B:$D,2,0),\"\")","v":""},{"$f":"IFERROR(VLOOKUP(Z185,CadMP!$B:$D,2,0),\"\")","v":""},{"$f":"IFERROR(VLOOKUP(AA185,CadMP!$B:$D,2,0),\"\")","v":""},{"$f":"IFERROR(VLOOKUP(AB185,CadMP!$B:$D,2,0),\"\")","v":""},{"$f":"IFERROR(VLOOKUP(AC185,CadMP!$B:$D,2,0),\"\")","v":""},{"$f":"IFERROR(VLOOKUP(AD185,CadMP!$B:$D,2,0),\"\")","v":""},{"$f":"IFERROR(VLOOKUP(AE185,CadMP!$B:$D,2,0),\"\")","v":""},{"$f":"IFERROR(VLOOKUP(AF185,CadMP!$B:$D,2,0),\"\")","v":""},{"$f":"IFERROR(VLOOKUP(AG185,CadMP!$B:$D,2,0),\"\")","v":""},{"$f":"IFERROR(VLOOKUP(AH185,CadMP!$B:$D,2,0),\"\")","v":""},{"$f":"IFERROR(VLOOKUP(AI185,CadMP!$B:$D,2,0),\"\")","v":""},{"$f":"IFERROR(VLOOKUP(AJ185,CadMP!$B:$D,2,0),\"\")","v":""},{"$f":"IFERROR(VLOOKUP(AK185,CadMP!$B:$D,2,0),\"\")","v":""},{"$f":"IFERROR(VLOOKUP(W185,CadMP!$B:$D,3,0),\"\")","v":""},{"$f":"IFERROR(VLOOKUP(X185,CadMP!$B:$D,3,0),\"\")","v":""},{"$f":"IFERROR(VLOOKUP(Y185,CadMP!$B:$D,3,0),\"\")","v":""},{"$f":"IFERROR(VLOOKUP(Z185,CadMP!$B:$D,3,0),\"\")","v":""},{"$f":"IFERROR(VLOOKUP(AA185,CadMP!$B:$D,3,0),\"\")","v":""},{"$f":"IFERROR(VLOOKUP(AB185,CadMP!$B:$D,3,0),\"\")","v":""},{"$f":"IFERROR(VLOOKUP(AC185,CadMP!$B:$D,3,0),\"\")","v":""},{"$f":"IFERROR(VLOOKUP(AD185,CadMP!$B:$D,3,0),\"\")","v":""},{"$f":"IFERROR(VLOOKUP(AE185,CadMP!$B:$D,3,0),\"\")","v":""},{"$f":"IFERROR(VLOOKUP(AF185,CadMP!$B:$D,3,0),\"\")","v":""},{"$f":"IFERROR(VLOOKUP(AG185,CadMP!$B:$D,3,0),\"\")","v":""},{"$f":"IFERROR(VLOOKUP(AH185,CadMP!$B:$D,3,0),\"\")","v":""},{"$f":"IFERROR(VLOOKUP(AI185,CadMP!$B:$D,3,0),\"\")","v":""},{"$f":"IFERROR(VLOOKUP(AJ185,CadMP!$B:$D,3,0),\"\")","v":""},{"$f":"IFERROR(VLOOKUP(AK185,CadMP!$B:$D,3,0),\"\")","v":""},0,0,0,0,0,0,0,0,0,0,0,0,0,0,0]
[185,null,null,0,0,null,null,null,null,null,null,0,0,null,null,null,null,null,null,null,1,0,null,null,null,null,null,null,null,null,null,null,null,null,null,null,null,null,null,null,null,null,null,null,null,null,null,null,null,null,null,null,{"$f":"IFERROR(VLOOKUP(W186,CadMP!$B:$D,2,0),\"\")","v":""},{"$f":"IFERROR(VLOOKUP(X186,CadMP!$B:$D,2,0),\"\")","v":""},{"$f":"IFERROR(VLOOKUP(Y186,CadMP!$B:$D,2,0),\"\")","v":""},{"$f":"IFERROR(VLOOKUP(Z186,CadMP!$B:$D,2,0),\"\")","v":""},{"$f":"IFERROR(VLOOKUP(AA186,CadMP!$B:$D,2,0),\"\")","v":""},{"$f":"IFERROR(VLOOKUP(AB186,CadMP!$B:$D,2,0),\"\")","v":""},{"$f":"IFERROR(VLOOKUP(AC186,CadMP!$B:$D,2,0),\"\")","v":""},{"$f":"IFERROR(VLOOKUP(AD186,CadMP!$B:$D,2,0),\"\")","v":""},{"$f":"IFERROR(VLOOKUP(AE186,CadMP!$B:$D,2,0),\"\")","v":""},{"$f":"IFERROR(VLOOKUP(AF186,CadMP!$B:$D,2,0),\"\")","v":""},{"$f":"IFERROR(VLOOKUP(AG186,CadMP!$B:$D,2,0),\"\")","v":""},{"$f":"IFERROR(VLOOKUP(AH186,CadMP!$B:$D,2,0),\"\")","v":""},{"$f":"IFERROR(VLOOKUP(AI186,CadMP!$B:$D,2,0),\"\")","v":""},{"$f":"IFERROR(VLOOKUP(AJ186,CadMP!$B:$D,2,0),\"\")","v":""},{"$f":"IFERROR(VLOOKUP(AK186,CadMP!$B:$D,2,0),\"\")","v":""},{"$f":"IFERROR(VLOOKUP(W186,CadMP!$B:$D,3,0),\"\")","v":""},{"$f":"IFERROR(VLOOKUP(X186,CadMP!$B:$D,3,0),\"\")","v":""},{"$f":"IFERROR(VLOOKUP(Y186,CadMP!$B:$D,3,0),\"\")","v":""},{"$f":"IFERROR(VLOOKUP(Z186,CadMP!$B:$D,3,0),\"\")","v":""},{"$f":"IFERROR(VLOOKUP(AA186,CadMP!$B:$D,3,0),\"\")","v":""},{"$f":"IFERROR(VLOOKUP(AB186,CadMP!$B:$D,3,0),\"\")","v":""},{"$f":"IFERROR(VLOOKUP(AC186,CadMP!$B:$D,3,0),\"\")","v":""},{"$f":"IFERROR(VLOOKUP(AD186,CadMP!$B:$D,3,0),\"\")","v":""},{"$f":"IFERROR(VLOOKUP(AE186,CadMP!$B:$D,3,0),\"\")","v":""},{"$f":"IFERROR(VLOOKUP(AF186,CadMP!$B:$D,3,0),\"\")","v":""},{"$f":"IFERROR(VLOOKUP(AG186,CadMP!$B:$D,3,0),\"\")","v":""},{"$f":"IFERROR(VLOOKUP(AH186,CadMP!$B:$D,3,0),\"\")","v":""},{"$f":"IFERROR(VLOOKUP(AI186,CadMP!$B:$D,3,0),\"\")","v":""},{"$f":"IFERROR(VLOOKUP(AJ186,CadMP!$B:$D,3,0),\"\")","v":""},{"$f":"IFERROR(VLOOKUP(AK186,CadMP!$B:$D,3,0),\"\")","v":""},0,0,0,0,0,0,0,0,0,0,0,0,0,0,0]
[186,null,null,0,0,null,null,null,null,null,null,0,0,null,null,null,null,null,null,null,1,0,null,null,null,null,null,null,null,null,null,null,null,null,null,null,null,null,null,null,null,null,null,null,null,null,null,null,null,null,null,null,{"$f":"IFERROR(VLOOKUP(W187,CadMP!$B:$D,2,0),\"\")","v":""},{"$f":"IFERROR(VLOOKUP(X187,CadMP!$B:$D,2,0),\"\")","v":""},{"$f":"IFERROR(VLOOKUP(Y187,CadMP!$B:$D,2,0),\"\")","v":""},{"$f":"IFERROR(VLOOKUP(Z187,CadMP!$B:$D,2,0),\"\")","v":""},{"$f":"IFERROR(VLOOKUP(AA187,CadMP!$B:$D,2,0),\"\")","v":""},{"$f":"IFERROR(VLOOKUP(AB187,CadMP!$B:$D,2,0),\"\")","v":""},{"$f":"IFERROR(VLOOKUP(AC187,CadMP!$B:$D,2,0),\"\")","v":""},{"$f":"IFERROR(VLOOKUP(AD187,CadMP!$B:$D,2,0),\"\")","v":""},{"$f":"IFERROR(VLOOKUP(AE187,CadMP!$B:$D,2,0),\"\")","v":""},{"$f":"IFERROR(VLOOKUP(AF187,CadMP!$B:$D,2,0),\"\")","v":""},{"$f":"IFERROR(VLOOKUP(AG187,CadMP!$B:$D,2,0),\"\")","v":""},{"$f":"IFERROR(VLOOKUP(AH187,CadMP!$B:$D,2,0),\"\")","v":""},{"$f":"IFERROR(VLOOKUP(AI187,CadMP!$B:$D,2,0),\"\")","v":""},{"$f":"IFERROR(VLOOKUP(AJ187,CadMP!$B:$D,2,0),\"\")","v":""},{"$f":"IFERROR(VLOOKUP(AK187,CadMP!$B:$D,2,0),\"\")","v":""},{"$f":"IFERROR(VLOOKUP(W187,CadMP!$B:$D,3,0),\"\")","v":""},{"$f":"IFERROR(VLOOKUP(X187,CadMP!$B:$D,3,0),\"\")","v":""},{"$f":"IFERROR(VLOOKUP(Y187,CadMP!$B:$D,3,0),\"\")","v":""},{"$f":"IFERROR(VLOOKUP(Z187,CadMP!$B:$D,3,0),\"\")","v":""},{"$f":"IFERROR(VLOOKUP(AA187,CadMP!$B:$D,3,0),\"\")","v":""},{"$f":"IFERROR(VLOOKUP(AB187,CadMP!$B:$D,3,0),\"\")","v":""},{"$f":"IFERROR(VLOOKUP(AC187,CadMP!$B:$D,3,0),\"\")","v":""},{"$f":"IFERROR(VLOOKUP(AD187,CadMP!$B:$D,3,0),\"\")","v":""},{"$f":"IFERROR(VLOOKUP(AE187,CadMP!$B:$D,3,0),\"\")","v":""},{"$f":"IFERROR(VLOOKUP(AF187,CadMP!$B:$D,3,0),\"\")","v":""},{"$f":"IFERROR(VLOOKUP(AG187,CadMP!$B:$D,3,0),\"\")","v":""},{"$f":"IFERROR(VLOOKUP(AH187,CadMP!$B:$D,3,0),\"\")","v":""},{"$f":"IFERROR(VLOOKUP(AI187,CadMP!$B:$D,3,0),\"\")","v":""},{"$f":"IFERROR(VLOOKUP(AJ187,CadMP!$B:$D,3,0),\"\")","v":""},{"$f":"IFERROR(VLOOKUP(AK187,CadMP!$B:$D,3,0),\"\")","v":""},0,0,0,0,0,0,0,0,0,0,0,0,0,0,0]
[187,null,null,0,0,null,null,null,null,null,null,0,0,null,null,null,null,null,null,null,1,0,null,null,null,null,null,null,null,null,null,null,null,null,null,null,null,null,null,null,null,null,null,null,null,null,null,null,null,null,null,null,{"$f":"IFERROR(VLOOKUP(W188,CadMP!$B:$D,2,0),\"\")","v":""},{"$f":"IFERROR(VLOOKUP(X188,CadMP!$B:$D,2,0),\"\")","v":""},{"$f":"IFERROR(VLOOKUP(Y188,CadMP!$B:$D,2,0),\"\")","v":""},{"$f":"IFERROR(VLOOKUP(Z188,CadMP!$B:$D,2,0),\"\")","v":""},{"$f":"IFERROR(VLOOKUP(AA188,CadMP!$B:$D,2,0),\"\")","v":""},{"$f":"IFERROR(VLOOKUP(AB188,CadMP!$B:$D,2,0),\"\")","v":""},{"$f":"IFERROR(VLOOKUP(AC188,CadMP!$B:$D,2,0),\"\")","v":""},{"$f":"IFERROR(VLOOKUP(AD188,CadMP!$B:$D,2,0),\"\")","v":""},{"$f":"IFERROR(VLOOKUP(AE188,CadMP!$B:$D,2,0),\"\")","v":""},{"$f":"IFERROR(VLOOKUP(AF188,CadMP!$B:$D,2,0),\"\")","v":""},{"$f":"IFERROR(VLOOKUP(AG188,CadMP!$B:$D,2,0),\"\")","v":""},{"$f":"IFERROR(VLOOKUP(AH188,CadMP!$B:$D,2,0),\"\")","v":""},{"$f":"IFERROR(VLOOKUP(AI188,CadMP!$B:$D,2,0),\"\")","v":""},{"$f":"IFERROR(VLOOKUP(AJ188,CadMP!$B:$D,2,0),\"\")","v":""},{"$f":"IFERROR(VLOOKUP(AK188,CadMP!$B:$D,2,0),\"\")","v":""},{"$f":"IFERROR(VLOOKUP(W188,CadMP!$B:$D,3,0),\"\")","v":""},{"$f":"IFERROR(VLOOKUP(X188,CadMP!$B:$D,3,0),\"\")","v":""},{"$f":"IFERROR(VLOOKUP(Y188,CadMP!$B:$D,3,0),\"\")","v":""},{"$f":"IFERROR(VLOOKUP(Z188,CadMP!$B:$D,3,0),\"\")","v":""},{"$f":"IFERROR(VLOOKUP(AA188,CadMP!$B:$D,3,0),\"\")","v":""},{"$f":"IFERROR(VLOOKUP(AB188,CadMP!$B:$D,3,0),\"\")","v":""},{"$f":"IFERROR(VLOOKUP(AC188,CadMP!$B:$D,3,0),\"\")","v":""},{"$f":"IFERROR(VLOOKUP(AD188,CadMP!$B:$D,3,0),\"\")","v":""},{"$f":"IFERROR(VLOOKUP(AE188,CadMP!$B:$D,3,0),\"\")","v":""},{"$f":"IFERROR(VLOOKUP(AF188,CadMP!$B:$D,3,0),\"\")","v":""},{"$f":"IFERROR(VLOOKUP(AG188,CadMP!$B:$D,3,0),\"\")","v":""},{"$f":"IFERROR(VLOOKUP(AH188,CadMP!$B:$D,3,0),\"\")","v":""},{"$f":"IFERROR(VLOOKUP(AI188,CadMP!$B:$D,3,0),\"\")","v":""},{"$f":"IFERROR(VLOOKUP(AJ188,CadMP!$B:$D,3,0),\"\")","v":""},{"$f":"IFERROR(VLOOKUP(AK188,CadMP!$B:$D,3,0),\"\")","v":""},0,0,0,0,0,0,0,0,0,0,0,0,0,0,0]
[188,null,null,0,0,null,null,null,null,null,null,0,0,null,null,null,null,null,null,null,1,0,null,null,null,null,null,null,null,null,null,null,null,null,null,null,null,null,null,null,null,null,null,null,null,null,null,null,null,null,null,null,{"$f":"IFERROR(VLOOKUP(W189,CadMP!$B:$D,2,0),\"\")","v":""},{"$f":"IFERROR(VLOOKUP(X189,CadMP!$B:$D,2,0),\"\")","v":""},{"$f":"IFERROR(VLOOKUP(Y189,CadMP!$B:$D,2,0),\"\")","v":""},{"$f":"IFERROR(VLOOKUP(Z189,CadMP!$B:$D,2,0),\"\")","v":""},{"$f":"IFERROR(VLOOKUP(AA189,CadMP!$B:$D,2,0),\"\")","v":""},{"$f":"IFERROR(VLOOKUP(AB189,CadMP!$B:$D,2,0),\"\")","v":""},{"$f":"IFERROR(VLOOKUP(AC189,CadMP!$B:$D,2,0),\"\")","v":""},{"$f":"IFERROR(VLOOKUP(AD189,CadMP!$B:$D,2,0),\"\")","v":""},{"$f":"IFERROR(VLOOKUP(AE189,CadMP!$B:$D,2,0),\"\")","v":""},{"$f":"IFERROR(VLOOKUP(AF189,CadMP!$B:$D,2,0),\"\")","v":""},{"$f":"IFERROR(VLOOKUP(AG189,CadMP!$B:$D,2,0),\"\")","v":""},{"$f":"IFERROR(VLOOKUP(AH189,CadMP!$B:$D,2,0),\"\")","v":""},{"$f":"IFERROR(VLOOKUP(AI189,CadMP!$B:$D,2,0),\"\")","v":""},{"$f":"IFERROR(VLOOKUP(AJ189,CadMP!$B:$D,2,0),\"\")","v":""},{"$f":"IFERROR(VLOOKUP(AK189,CadMP!$B:$D,2,0),\"\")","v":""},{"$f":"IFERROR(VLOOKUP(W189,CadMP!$B:$D,3,0),\"\")","v":""},{"$f":"IFERROR(VLOOKUP(X189,CadMP!$B:$D,3,0),\"\")","v":""},{"$f":"IFERROR(VLOOKUP(Y189,CadMP!$B:$D,3,0),\"\")","v":""},{"$f":"IFERROR(VLOOKUP(Z189,CadMP!$B:$D,3,0),\"\")","v":""},{"$f":"IFERROR(VLOOKUP(AA189,CadMP!$B:$D,3,0),\"\")","v":""},{"$f":"IFERROR(VLOOKUP(AB189,CadMP!$B:$D,3,0),\"\")","v":""},{"$f":"IFERROR(VLOOKUP(AC189,CadMP!$B:$D,3,0),\"\")","v":""},{"$f":"IFERROR(VLOOKUP(AD189,CadMP!$B:$D,3,0),\"\")","v":""},{"$f":"IFERROR(VLOOKUP(AE189,CadMP!$B:$D,3,0),\"\")","v":""},{"$f":"IFERROR(VLOOKUP(AF189,CadMP!$B:$D,3,0),\"\")","v":""},{"$f":"IFERROR(VLOOKUP(AG189,CadMP!$B:$D,3,0),\"\")","v":""},{"$f":"IFERROR(VLOOKUP(AH189,CadMP!$B:$D,3,0),\"\")","v":""},{"$f":"IFERROR(VLOOKUP(AI189,CadMP!$B:$D,3,0),\"\")","v":""},{"$f":"IFERROR(VLOOKUP(AJ189,CadMP!$B:$D,3,0),\"\")","v":""},{"$f":"IFERROR(VLOOKUP(AK189,CadMP!$B:$D,3,0),\"\")","v":""},0,0,0,0,0,0,0,0,0,0,0,0,0,0,0]
[189,null,null,0,0,null,null,null,null,null,null,0,0,null,null,null,null,null,null,null,1,0,null,null,null,null,null,null,null,null,null,null,null,null,null,null,null,null,null,null,null,null,null,null,null,null,null,null,null,null,null,null,{"$f":"IFERROR(VLOOKUP(W190,CadMP!$B:$D,2,0),\"\")","v":""},{"$f":"IFERROR(VLOOKUP(X190,CadMP!$B:$D,2,0),\"\")","v":""},{"$f":"IFERROR(VLOOKUP(Y190,CadMP!$B:$D,2,0),\"\")","v":""},{"$f":"IFERROR(VLOOKUP(Z190,CadMP!$B:$D,2,0),\"\")","v":""},{"$f":"IFERROR(VLOOKUP(AA190,CadMP!$B:$D,2,0),\"\")","v":""},{"$f":"IFERROR(VLOOKUP(AB190,CadMP!$B:$D,2,0),\"\")","v":""},{"$f":"IFERROR(VLOOKUP(AC190,CadMP!$B:$D,2,0),\"\")","v":""},{"$f":"IFERROR(VLOOKUP(AD190,CadMP!$B:$D,2,0),\"\")","v":""},{"$f":"IFERROR(VLOOKUP(AE190,CadMP!$B:$D,2,0),\"\")","v":""},{"$f":"IFERROR(VLOOKUP(AF190,CadMP!$B:$D,2,0),\"\")","v":""},{"$f":"IFERROR(VLOOKUP(AG190,CadMP!$B:$D,2,0),\"\")","v":""},{"$f":"IFERROR(VLOOKUP(AH190,CadMP!$B:$D,2,0),\"\")","v":""},{"$f":"IFERROR(VLOOKUP(AI190,CadMP!$B:$D,2,0),\"\")","v":""},{"$f":"IFERROR(VLOOKUP(AJ190,CadMP!$B:$D,2,0),\"\")","v":""},{"$f":"IFERROR(VLOOKUP(AK190,CadMP!$B:$D,2,0),\"\")","v":""},{"$f":"IFERROR(VLOOKUP(W190,CadMP!$B:$D,3,0),\"\")","v":""},{"$f":"IFERROR(VLOOKUP(X190,CadMP!$B:$D,3,0),\"\")","v":""},{"$f":"IFERROR(VLOOKUP(Y190,CadMP!$B:$D,3,0),\"\")","v":""},{"$f":"IFERROR(VLOOKUP(Z190,CadMP!$B:$D,3,0),\"\")","v":""},{"$f":"IFERROR(VLOOKUP(AA190,CadMP!$B:$D,3,0),\"\")","v":""},{"$f":"IFERROR(VLOOKUP(AB190,CadMP!$B:$D,3,0),\"\")","v":""},{"$f":"IFERROR(VLOOKUP(AC190,CadMP!$B:$D,3,0),\"\")","v":""},{"$f":"IFERROR(VLOOKUP(AD190,CadMP!$B:$D,3,0),\"\")","v":""},{"$f":"IFERROR(VLOOKUP(AE190,CadMP!$B:$D,3,0),\"\")","v":""},{"$f":"IFERROR(VLOOKUP(AF190,CadMP!$B:$D,3,0),\"\")","v":""},{"$f":"IFERROR(VLOOKUP(AG190,CadMP!$B:$D,3,0),\"\")","v":""},{"$f":"IFERROR(VLOOKUP(AH190,CadMP!$B:$D,3,0),\"\")","v":""},{"$f":"IFERROR(VLOOKUP(AI190,CadMP!$B:$D,3,0),\"\")","v":""},{"$f":"IFERROR(VLOOKUP(AJ190,CadMP!$B:$D,3,0),\"\")","v":""},{"$f":"IFERROR(VLOOKUP(AK190,CadMP!$B:$D,3,0),\"\")","v":""},0,0,0,0,0,0,0,0,0,0,0,0,0,0,0]
[190,null,null,0,0,null,null,null,null,null,null,0,0,null,null,null,null,null,null,null,1,0,null,null,null,null,null,null,null,null,null,null,null,null,null,null,null,null,null,null,null,null,null,null,null,null,null,null,null,null,null,null,{"$f":"IFERROR(VLOOKUP(W191,CadMP!$B:$D,2,0),\"\")","v":""},{"$f":"IFERROR(VLOOKUP(X191,CadMP!$B:$D,2,0),\"\")","v":""},{"$f":"IFERROR(VLOOKUP(Y191,CadMP!$B:$D,2,0),\"\")","v":""},{"$f":"IFERROR(VLOOKUP(Z191,CadMP!$B:$D,2,0),\"\")","v":""},{"$f":"IFERROR(VLOOKUP(AA191,CadMP!$B:$D,2,0),\"\")","v":""},{"$f":"IFERROR(VLOOKUP(AB191,CadMP!$B:$D,2,0),\"\")","v":""},{"$f":"IFERROR(VLOOKUP(AC191,CadMP!$B:$D,2,0),\"\")","v":""},{"$f":"IFERROR(VLOOKUP(AD191,CadMP!$B:$D,2,0),\"\")","v":""},{"$f":"IFERROR(VLOOKUP(AE191,CadMP!$B:$D,2,0),\"\")","v":""},{"$f":"IFERROR(VLOOKUP(AF191,CadMP!$B:$D,2,0),\"\")","v":""},{"$f":"IFERROR(VLOOKUP(AG191,CadMP!$B:$D,2,0),\"\")","v":""},{"$f":"IFERROR(VLOOKUP(AH191,CadMP!$B:$D,2,0),\"\")","v":""},{"$f":"IFERROR(VLOOKUP(AI191,CadMP!$B:$D,2,0),\"\")","v":""},{"$f":"IFERROR(VLOOKUP(AJ191,CadMP!$B:$D,2,0),\"\")","v":""},{"$f":"IFERROR(VLOOKUP(AK191,CadMP!$B:$D,2,0),\"\")","v":""},{"$f":"IFERROR(VLOOKUP(W191,CadMP!$B:$D,3,0),\"\")","v":""},{"$f":"IFERROR(VLOOKUP(X191,CadMP!$B:$D,3,0),\"\")","v":""},{"$f":"IFERROR(VLOOKUP(Y191,CadMP!$B:$D,3,0),\"\")","v":""},{"$f":"IFERROR(VLOOKUP(Z191,CadMP!$B:$D,3,0),\"\")","v":""},{"$f":"IFERROR(VLOOKUP(AA191,CadMP!$B:$D,3,0),\"\")","v":""},{"$f":"IFERROR(VLOOKUP(AB191,CadMP!$B:$D,3,0),\"\")","v":""},{"$f":"IFERROR(VLOOKUP(AC191,CadMP!$B:$D,3,0),\"\")","v":""},{"$f":"IFERROR(VLOOKUP(AD191,CadMP!$B:$D,3,0),\"\")","v":""},{"$f":"IFERROR(VLOOKUP(AE191,CadMP!$B:$D,3,0),\"\")","v":""},{"$f":"IFERROR(VLOOKUP(AF191,CadMP!$B:$D,3,0),\"\")","v":""},{"$f":"IFERROR(VLOOKUP(AG191,CadMP!$B:$D,3,0),\"\")","v":""},{"$f":"IFERROR(VLOOKUP(AH191,CadMP!$B:$D,3,0),\"\")","v":""},{"$f":"IFERROR(VLOOKUP(AI191,CadMP!$B:$D,3,0),\"\")","v":""},{"$f":"IFERROR(VLOOKUP(AJ191,CadMP!$B:$D,3,0),\"\")","v":""},{"$f":"IFERROR(VLOOKUP(AK191,CadMP!$B:$D,3,0),\"\")","v":""},0,0,0,0,0,0,0,0,0,0,0,0,0,0,0]
[191,null,null,0,0,null,null,null,null,null,null,0,0,null,null,null,null,null,null,null,1,0,null,null,null,null,null,null,null,null,null,null,null,null,null,null,null,null,null,null,null,null,null,null,null,null,null,null,null,null,null,null,{"$f":"IFERROR(VLOOKUP(W192,CadMP!$B:$D,2,0),\"\")","v":""},{"$f":"IFERROR(VLOOKUP(X192,CadMP!$B:$D,2,0),\"\")","v":""},{"$f":"IFERROR(VLOOKUP(Y192,CadMP!$B:$D,2,0),\"\")","v":""},{"$f":"IFERROR(VLOOKUP(Z192,CadMP!$B:$D,2,0),\"\")","v":""},{"$f":"IFERROR(VLOOKUP(AA192,CadMP!$B:$D,2,0),\"\")","v":""},{"$f":"IFERROR(VLOOKUP(AB192,CadMP!$B:$D,2,0),\"\")","v":""},{"$f":"IFERROR(VLOOKUP(AC192,CadMP!$B:$D,2,0),\"\")","v":""},{"$f":"IFERROR(VLOOKUP(AD192,CadMP!$B:$D,2,0),\"\")","v":""},{"$f":"IFERROR(VLOOKUP(AE192,CadMP!$B:$D,2,0),\"\")","v":""},{"$f":"IFERROR(VLOOKUP(AF192,CadMP!$B:$D,2,0),\"\")","v":""},{"$f":"IFERROR(VLOOKUP(AG192,CadMP!$B:$D,2,0),\"\")","v":""},{"$f":"IFERROR(VLOOKUP(AH192,CadMP!$B:$D,2,0),\"\")","v":""},{"$f":"IFERROR(VLOOKUP(AI192,CadMP!$B:$D,2,0),\"\")","v":""},{"$f":"IFERROR(VLOOKUP(AJ192,CadMP!$B:$D,2,0),\"\")","v":""},{"$f":"IFERROR(VLOOKUP(AK192,CadMP!$B:$D,2,0),\"\")","v":""},{"$f":"IFERROR(VLOOKUP(W192,CadMP!$B:$D,3,0),\"\")","v":""},{"$f":"IFERROR(VLOOKUP(X192,CadMP!$B:$D,3,0),\"\")","v":""},{"$f":"IFERROR(VLOOKUP(Y192,CadMP!$B:$D,3,0),\"\")","v":""},{"$f":"IFERROR(VLOOKUP(Z192,CadMP!$B:$D,3,0),\"\")","v":""},{"$f":"IFERROR(VLOOKUP(AA192,CadMP!$B:$D,3,0),\"\")","v":""},{"$f":"IFERROR(VLOOKUP(AB192,CadMP!$B:$D,3,0),\"\")","v":""},{"$f":"IFERROR(VLOOKUP(AC192,CadMP!$B:$D,3,0),\"\")","v":""},{"$f":"IFERROR(VLOOKUP(AD192,CadMP!$B:$D,3,0),\"\")","v":""},{"$f":"IFERROR(VLOOKUP(AE192,CadMP!$B:$D,3,0),\"\")","v":""},{"$f":"IFERROR(VLOOKUP(AF192,CadMP!$B:$D,3,0),\"\")","v":""},{"$f":"IFERROR(VLOOKUP(AG192,CadMP!$B:$D,3,0),\"\")","v":""},{"$f":"IFERROR(VLOOKUP(AH192,CadMP!$B:$D,3,0),\"\")","v":""},{"$f":"IFERROR(VLOOKUP(AI192,CadMP!$B:$D,3,0),\"\")","v":""},{"$f":"IFERROR(VLOOKUP(AJ192,CadMP!$B:$D,3,0),\"\")","v":""},{"$f":"IFERROR(VLOOKUP(AK192,CadMP!$B:$D,3,0),\"\")","v":""},0,0,0,0,0,0,0,0,0,0,0,0,0,0,0]
[192,null,null,0,0,null,null,null,null,null,null,0,0,null,null,null,null,null,null,null,1,0,null,null,null,null,null,null,null,null,null,null,null,null,null,null,null,null,null,null,null,null,null,null,null,null,null,null,null,null,null,null,{"$f":"IFERROR(VLOOKUP(W193,CadMP!$B:$D,2,0),\"\")","v":""},{"$f":"IFERROR(VLOOKUP(X193,CadMP!$B:$D,2,0),\"\")","v":""},{"$f":"IFERROR(VLOOKUP(Y193,CadMP!$B:$D,2,0),\"\")","v":""},{"$f":"IFERROR(VLOOKUP(Z193,CadMP!$B:$D,2,0),\"\")","v":""},{"$f":"IFERROR(VLOOKUP(AA193,CadMP!$B:$D,2,0),\"\")","v":""},{"$f":"IFERROR(VLOOKUP(AB193,CadMP!$B:$D,2,0),\"\")","v":""},{"$f":"IFERROR(VLOOKUP(AC193,CadMP!$B:$D,2,0),\"\")","v":""},{"$f":"IFERROR(VLOOKUP(AD193,CadMP!$B:$D,2,0),\"\")","v":""},{"$f":"IFERROR(VLOOKUP(AE193,CadMP!$B:$D,2,0),\"\")","v":""},{"$f":"IFERROR(VLOOKUP(AF193,CadMP!$B:$D,2,0),\"\")","v":""},{"$f":"IFERROR(VLOOKUP(AG193,CadMP!$B:$D,2,0),\"\")","v":""},{"$f":"IFERROR(VLOOKUP(AH193,CadMP!$B:$D,2,0),\"\")","v":""},{"$f":"IFERROR(VLOOKUP(AI193,CadMP!$B:$D,2,0),\"\")","v":""},{"$f":"IFERROR(VLOOKUP(AJ193,CadMP!$B:$D,2,0),\"\")","v":""},{"$f":"IFERROR(VLOOKUP(AK193,CadMP!$B:$D,2,0),\"\")","v":""},{"$f":"IFERROR(VLOOKUP(W193,CadMP!$B:$D,3,0),\"\")","v":""},{"$f":"IFERROR(VLOOKUP(X193,CadMP!$B:$D,3,0),\"\")","v":""},{"$f":"IFERROR(VLOOKUP(Y193,CadMP!$B:$D,3,0),\"\")","v":""},{"$f":"IFERROR(VLOOKUP(Z193,CadMP!$B:$D,3,0),\"\")","v":""},{"$f":"IFERROR(VLOOKUP(AA193,CadMP!$B:$D,3,0),\"\")","v":""},{"$f":"IFERROR(VLOOKUP(AB193,CadMP!$B:$D,3,0),\"\")","v":""},{"$f":"IFERROR(VLOOKUP(AC193,CadMP!$B:$D,3,0),\"\")","v":""},{"$f":"IFERROR(VLOOKUP(AD193,CadMP!$B:$D,3,0),\"\")","v":""},{"$f":"IFERROR(VLOOKUP(AE193,CadMP!$B:$D,3,0),\"\")","v":""},{"$f":"IFERROR(VLOOKUP(AF193,CadMP!$B:$D,3,0),\"\")","v":""},{"$f":"IFERROR(VLOOKUP(AG193,CadMP!$B:$D,3,0),\"\")","v":""},{"$f":"IFERROR(VLOOKUP(AH193,CadMP!$B:$D,3,0),\"\")","v":""},{"$f":"IFERROR(VLOOKUP(AI193,CadMP!$B:$D,3,0),\"\")","v":""},{"$f":"IFERROR(VLOOKUP(AJ193,CadMP!$B:$D,3,0),\"\")","v":""},{"$f":"IFERROR(VLOOKUP(AK193,CadMP!$B:$D,3,0),\"\")","v":""},0,0,0,0,0,0,0,0,0,0,0,0,0,0,0]
[193,null,null,0,0,null,null,null,null,null,null,0,0,null,null,null,null,null,null,null,1,0,null,null,null,null,null,null,null,null,null,null,null,null,null,null,null,null,null,null,null,null,null,null,null,null,null,null,null,null,null,null,{"$f":"IFERROR(VLOOKUP(W194,CadMP!$B:$D,2,0),\"\")","v":""},{"$f":"IFERROR(VLOOKUP(X194,CadMP!$B:$D,2,0),\"\")","v":""},{"$f":"IFERROR(VLOOKUP(Y194,CadMP!$B:$D,2,0),\"\")","v":""},{"$f":"IFERROR(VLOOKUP(Z194,CadMP!$B:$D,2,0),\"\")","v":""},{"$f":"IFERROR(VLOOKUP(AA194,CadMP!$B:$D,2,0),\"\")","v":""},{"$f":"IFERROR(VLOOKUP(AB194,CadMP!$B:$D,2,0),\"\")","v":""},{"$f":"IFERROR(VLOOKUP(AC194,CadMP!$B:$D,2,0),\"\")","v":""},{"$f":"IFERROR(VLOOKUP(AD194,CadMP!$B:$D,2,0),\"\")","v":""},{"$f":"IFERROR(VLOOKUP(AE194,CadMP!$B:$D,2,0),\"\")","v":""},{"$f":"IFERROR(VLOOKUP(AF194,CadMP!$B:$D,2,0),\"\")","v":""},{"$f":"IFERROR(VLOOKUP(AG194,CadMP!$B:$D,2,0),\"\")","v":""},{"$f":"IFERROR(VLOOKUP(AH194,CadMP!$B:$D,2,0),\"\")","v":""},{"$f":"IFERROR(VLOOKUP(AI194,CadMP!$B:$D,2,0),\"\")","v":""},{"$f":"IFERROR(VLOOKUP(AJ194,CadMP!$B:$D,2,0),\"\")","v":""},{"$f":"IFERROR(VLOOKUP(AK194,CadMP!$B:$D,2,0),\"\")","v":""},{"$f":"IFERROR(VLOOKUP(W194,CadMP!$B:$D,3,0),\"\")","v":""},{"$f":"IFERROR(VLOOKUP(X194,CadMP!$B:$D,3,0),\"\")","v":""},{"$f":"IFERROR(VLOOKUP(Y194,CadMP!$B:$D,3,0),\"\")","v":""},{"$f":"IFERROR(VLOOKUP(Z194,CadMP!$B:$D,3,0),\"\")","v":""},{"$f":"IFERROR(VLOOKUP(AA194,CadMP!$B:$D,3,0),\"\")","v":""},{"$f":"IFERROR(VLOOKUP(AB194,CadMP!$B:$D,3,0),\"\")","v":""},{"$f":"IFERROR(VLOOKUP(AC194,CadMP!$B:$D,3,0),\"\")","v":""},{"$f":"IFERROR(VLOOKUP(AD194,CadMP!$B:$D,3,0),\"\")","v":""},{"$f":"IFERROR(VLOOKUP(AE194,CadMP!$B:$D,3,0),\"\")","v":""},{"$f":"IFERROR(VLOOKUP(AF194,CadMP!$B:$D,3,0),\"\")","v":""},{"$f":"IFERROR(VLOOKUP(AG194,CadMP!$B:$D,3,0),\"\")","v":""},{"$f":"IFERROR(VLOOKUP(AH194,CadMP!$B:$D,3,0),\"\")","v":""},{"$f":"IFERROR(VLOOKUP(AI194,CadMP!$B:$D,3,0),\"\")","v":""},{"$f":"IFERROR(VLOOKUP(AJ194,CadMP!$B:$D,3,0),\"\")","v":""},{"$f":"IFERROR(VLOOKUP(AK194,CadMP!$B:$D,3,0),\"\")","v":""},0,0,0,0,0,0,0,0,0,0,0,0,0,0,0]
[194,null,null,{"$f":"SUM(CE195:CS195)","v":0},{"$f":"SUM(F195:K195)","v":0},null,null,null,null,null,null,{"$f":"SUM(D195:E195)","v":0},{"$f":"SUM(N195:T195)","v":0},null,null,null,null,null,null,null,{"$f":"(100)/(100-M195)","v":1},{"$f":"L195*U195","v":0},null,null,null,null,null,null,null,null,null,null,null,null,null,null,null,null,null,null,null,null,null,null,null,null,null,null,null,null,null,null,{"$f":"IFERROR(VLOOKUP(W195,CadMP!$B:$D,2,0),\"\")","v":""},{"$f":"IFERROR(VLOOKUP(X195,CadMP!$B:$D,2,0),\"\")","v":""},{"$f":"IFERROR(VLOOKUP(Y195,CadMP!$B:$D,2,0),\"\")","v":""},{"$f":"IFERROR(VLOOKUP(Z195,CadMP!$B:$D,2,0),\"\")","v":""},{"$f":"IFERROR(VLOOKUP(AA195,CadMP!$B:$D,2,0),\"\")","v":""},{"$f":"IFERROR(VLOOKUP(AB195,CadMP!$B:$D,2,0),\"\")","v":""},{"$f":"IFERROR(VLOOKUP(AC195,CadMP!$B:$D,2,0),\"\")","v":""},{"$f":"IFERROR(VLOOKUP(AD195,CadMP!$B:$D,2,0),\"\")","v":""},{"$f":"IFERROR(VLOOKUP(AE195,CadMP!$B:$D,2,0),\"\")","v":""},{"$f":"IFERROR(VLOOKUP(AF195,CadMP!$B:$D,2,0),\"\")","v":""},{"$f":"IFERROR(VLOOKUP(AG195,CadMP!$B:$D,2,0),\"\")","v":""},{"$f":"IFERROR(VLOOKUP(AH195,CadMP!$B:$D,2,0),\"\")","v":""},{"$f":"IFERROR(VLOOKUP(AI195,CadMP!$B:$D,2,0),\"\")","v":""},{"$f":"IFERROR(VLOOKUP(AJ195,CadMP!$B:$D,2,0),\"\")","v":""},{"$f":"IFERROR(VLOOKUP(AK195,CadMP!$B:$D,2,0),\"\")","v":""},{"$f":"IFERROR(VLOOKUP(W195,CadMP!$B:$D,3,0),\"\")","v":""},{"$f":"IFERROR(VLOOKUP(X195,CadMP!$B:$D,3,0),\"\")","v":""},{"$f":"IFERROR(VLOOKUP(Y195,CadMP!$B:$D,3,0),\"\")","v":""},{"$f":"IFERROR(VLOOKUP(Z195,CadMP!$B:$D,3,0),\"\")","v":""},{"$f":"IFERROR(VLOOKUP(AA195,CadMP!$B:$D,3,0),\"\")","v":""},{"$f":"IFERROR(VLOOKUP(AB195,CadMP!$B:$D,3,0),\"\")","v":""},{"$f":"IFERROR(VLOOKUP(AC195,CadMP!$B:$D,3,0),\"\")","v":""},{"$f":"IFERROR(VLOOKUP(AD195,CadMP!$B:$D,3,0),\"\")","v":""},{"$f":"IFERROR(VLOOKUP(AE195,CadMP!$B:$D,3,0),\"\")","v":""},{"$f":"IFERROR(VLOOKUP(AF195,CadMP!$B:$D,3,0),\"\")","v":""},{"$f":"IFERROR(VLOOKUP(AG195,CadMP!$B:$D,3,0),\"\")","v":""},{"$f":"IFERROR(VLOOKUP(AH195,CadMP!$B:$D,3,0),\"\")","v":""},{"$f":"IFERROR(VLOOKUP(AI195,CadMP!$B:$D,3,0),\"\")","v":""},{"$f":"IFERROR(VLOOKUP(AJ195,CadMP!$B:$D,3,0),\"\")","v":""},{"$f":"IFERROR(VLOOKUP(AK195,CadMP!$B:$D,3,0),\"\")","v":""},{"$f":"IFERROR(AL195*BP195,0)","v":0},{"$f":"IFERROR(AM195*BQ195,0)","v":0},{"$f":"IFERROR(AN195*BR195,0)","v":0},{"$f":"IFERROR(AO195*BS195,0)","v":0},{"$f":"IFERROR(AP195*BT195,0)","v":0},{"$f":"IFERROR(AQ195*BU195,0)","v":0},{"$f":"IFERROR(AR195*BV195,0)","v":0},{"$f":"IFERROR(AS195*BW195,0)","v":0},{"$f":"IFERROR(AT195*BX195,0)","v":0},{"$f":"IFERROR(AU195*BY195,0)","v":0},{"$f":"IFERROR(AV195*BZ195,0)","v":0},{"$f":"IFERROR(AW195*CA195,0)","v":0},{"$f":"IFERROR(AX195*CB195,0)","v":0},{"$f":"IFERROR(AY195*CC195,0)","v":0},{"$f":"IFERROR(AZ195*CD195,0)","v":0}]
[195,null,null,0,0,null,null,null,null,null,null,0,0,null,null,null,null,null,null,null,1,0,null,null,null,null,null,null,null,null,null,null,null,null,null,null,null,null,null,null,null,null,null,null,null,null,null,null,null,null,null,null,{"$f":"IFERROR(VLOOKUP(W196,CadMP!$B:$D,2,0),\"\")","v":""},{"$f":"IFERROR(VLOOKUP(X196,CadMP!$B:$D,2,0),\"\")","v":""},{"$f":"IFERROR(VLOOKUP(Y196,CadMP!$B:$D,2,0),\"\")","v":""},{"$f":"IFERROR(VLOOKUP(Z196,CadMP!$B:$D,2,0),\"\")","v":""},{"$f":"IFERROR(VLOOKUP(AA196,CadMP!$B:$D,2,0),\"\")","v":""},{"$f":"IFERROR(VLOOKUP(AB196,CadMP!$B:$D,2,0),\"\")","v":""},{"$f":"IFERROR(VLOOKUP(AC196,CadMP!$B:$D,2,0),\"\")","v":""},{"$f":"IFERROR(VLOOKUP(AD196,CadMP!$B:$D,2,0),\"\")","v":""},{"$f":"IFERROR(VLOOKUP(AE196,CadMP!$B:$D,2,0),\"\")","v":""},{"$f":"IFERROR(VLOOKUP(AF196,CadMP!$B:$D,2,0),\"\")","v":""},{"$f":"IFERROR(VLOOKUP(AG196,CadMP!$B:$D,2,0),\"\")","v":""},{"$f":"IFERROR(VLOOKUP(AH196,CadMP!$B:$D,2,0),\"\")","v":""},{"$f":"IFERROR(VLOOKUP(AI196,CadMP!$B:$D,2,0),\"\")","v":""},{"$f":"IFERROR(VLOOKUP(AJ196,CadMP!$B:$D,2,0),\"\")","v":""},{"$f":"IFERROR(VLOOKUP(AK196,CadMP!$B:$D,2,0),\"\")","v":""},{"$f":"IFERROR(VLOOKUP(W196,CadMP!$B:$D,3,0),\"\")","v":""},{"$f":"IFERROR(VLOOKUP(X196,CadMP!$B:$D,3,0),\"\")","v":""},{"$f":"IFERROR(VLOOKUP(Y196,CadMP!$B:$D,3,0),\"\")","v":""},{"$f":"IFERROR(VLOOKUP(Z196,CadMP!$B:$D,3,0),\"\")","v":""},{"$f":"IFERROR(VLOOKUP(AA196,CadMP!$B:$D,3,0),\"\")","v":""},{"$f":"IFERROR(VLOOKUP(AB196,CadMP!$B:$D,3,0),\"\")","v":""},{"$f":"IFERROR(VLOOKUP(AC196,CadMP!$B:$D,3,0),\"\")","v":""},{"$f":"IFERROR(VLOOKUP(AD196,CadMP!$B:$D,3,0),\"\")","v":""},{"$f":"IFERROR(VLOOKUP(AE196,CadMP!$B:$D,3,0),\"\")","v":""},{"$f":"IFERROR(VLOOKUP(AF196,CadMP!$B:$D,3,0),\"\")","v":""},{"$f":"IFERROR(VLOOKUP(AG196,CadMP!$B:$D,3,0),\"\")","v":""},{"$f":"IFERROR(VLOOKUP(AH196,CadMP!$B:$D,3,0),\"\")","v":""},{"$f":"IFERROR(VLOOKUP(AI196,CadMP!$B:$D,3,0),\"\")","v":""},{"$f":"IFERROR(VLOOKUP(AJ196,CadMP!$B:$D,3,0),\"\")","v":""},{"$f":"IFERROR(VLOOKUP(AK196,CadMP!$B:$D,3,0),\"\")","v":""},0,0,0,0,0,0,0,0,0,0,0,0,0,0,0]
[196,null,null,0,0,null,null,null,null,null,null,0,0,null,null,null,null,null,null,null,1,0,null,null,null,null,null,null,null,null,null,null,null,null,null,null,null,null,null,null,null,null,null,null,null,null,null,null,null,null,null,null,{"$f":"IFERROR(VLOOKUP(W197,CadMP!$B:$D,2,0),\"\")","v":""},{"$f":"IFERROR(VLOOKUP(X197,CadMP!$B:$D,2,0),\"\")","v":""},{"$f":"IFERROR(VLOOKUP(Y197,CadMP!$B:$D,2,0),\"\")","v":""},{"$f":"IFERROR(VLOOKUP(Z197,CadMP!$B:$D,2,0),\"\")","v":""},{"$f":"IFERROR(VLOOKUP(AA197,CadMP!$B:$D,2,0),\"\")","v":""},{"$f":"IFERROR(VLOOKUP(AB197,CadMP!$B:$D,2,0),\"\")","v":""},{"$f":"IFERROR(VLOOKUP(AC197,CadMP!$B:$D,2,0),\"\")","v":""},{"$f":"IFERROR(VLOOKUP(AD197,CadMP!$B:$D,2,0),\"\")","v":""},{"$f":"IFERROR(VLOOKUP(AE197,CadMP!$B:$D,2,0),\"\")","v":""},{"$f":"IFERROR(VLOOKUP(AF197,CadMP!$B:$D,2,0),\"\")","v":""},{"$f":"IFERROR(VLOOKUP(AG197,CadMP!$B:$D,2,0),\"\")","v":""},{"$f":"IFERROR(VLOOKUP(AH197,CadMP!$B:$D,2,0),\"\")","v":""},{"$f":"IFERROR(VLOOKUP(AI197,CadMP!$B:$D,2,0),\"\")","v":""},{"$f":"IFERROR(VLOOKUP(AJ197,CadMP!$B:$D,2,0),\"\")","v":""},{"$f":"IFERROR(VLOOKUP(AK197,CadMP!$B:$D,2,0),\"\")","v":""},{"$f":"IFERROR(VLOOKUP(W197,CadMP!$B:$D,3,0),\"\")","v":""},{"$f":"IFERROR(VLOOKUP(X197,CadMP!$B:$D,3,0),\"\")","v":""},{"$f":"IFERROR(VLOOKUP(Y197,CadMP!$B:$D,3,0),\"\")","v":""},{"$f":"IFERROR(VLOOKUP(Z197,CadMP!$B:$D,3,0),\"\")","v":""},{"$f":"IFERROR(VLOOKUP(AA197,CadMP!$B:$D,3,0),\"\")","v":""},{"$f":"IFERROR(VLOOKUP(AB197,CadMP!$B:$D,3,0),\"\")","v":""},{"$f":"IFERROR(VLOOKUP(AC197,CadMP!$B:$D,3,0),\"\")","v":""},{"$f":"IFERROR(VLOOKUP(AD197,CadMP!$B:$D,3,0),\"\")","v":""},{"$f":"IFERROR(VLOOKUP(AE197,CadMP!$B:$D,3,0),\"\")","v":""},{"$f":"IFERROR(VLOOKUP(AF197,CadMP!$B:$D,3,0),\"\")","v":""},{"$f":"IFERROR(VLOOKUP(AG197,CadMP!$B:$D,3,0),\"\")","v":""},{"$f":"IFERROR(VLOOKUP(AH197,CadMP!$B:$D,3,0),\"\")","v":""},{"$f":"IFERROR(VLOOKUP(AI197,CadMP!$B:$D,3,0),\"\")","v":""},{"$f":"IFERROR(VLOOKUP(AJ197,CadMP!$B:$D,3,0),\"\")","v":""},{"$f":"IFERROR(VLOOKUP(AK197,CadMP!$B:$D,3,0),\"\")","v":""},0,0,0,0,0,0,0,0,0,0,0,0,0,0,0]
[197,null,null,0,0,null,null,null,null,null,null,0,0,null,null,null,null,null,null,null,1,0,null,null,null,null,null,null,null,null,null,null,null,null,null,null,null,null,null,null,null,null,null,null,null,null,null,null,null,null,null,null,{"$f":"IFERROR(VLOOKUP(W198,CadMP!$B:$D,2,0),\"\")","v":""},{"$f":"IFERROR(VLOOKUP(X198,CadMP!$B:$D,2,0),\"\")","v":""},{"$f":"IFERROR(VLOOKUP(Y198,CadMP!$B:$D,2,0),\"\")","v":""},{"$f":"IFERROR(VLOOKUP(Z198,CadMP!$B:$D,2,0),\"\")","v":""},{"$f":"IFERROR(VLOOKUP(AA198,CadMP!$B:$D,2,0),\"\")","v":""},{"$f":"IFERROR(VLOOKUP(AB198,CadMP!$B:$D,2,0),\"\")","v":""},{"$f":"IFERROR(VLOOKUP(AC198,CadMP!$B:$D,2,0),\"\")","v":""},{"$f":"IFERROR(VLOOKUP(AD198,CadMP!$B:$D,2,0),\"\")","v":""},{"$f":"IFERROR(VLOOKUP(AE198,CadMP!$B:$D,2,0),\"\")","v":""},{"$f":"IFERROR(VLOOKUP(AF198,CadMP!$B:$D,2,0),\"\")","v":""},{"$f":"IFERROR(VLOOKUP(AG198,CadMP!$B:$D,2,0),\"\")","v":""},{"$f":"IFERROR(VLOOKUP(AH198,CadMP!$B:$D,2,0),\"\")","v":""},{"$f":"IFERROR(VLOOKUP(AI198,CadMP!$B:$D,2,0),\"\")","v":""},{"$f":"IFERROR(VLOOKUP(AJ198,CadMP!$B:$D,2,0),\"\")","v":""},{"$f":"IFERROR(VLOOKUP(AK198,CadMP!$B:$D,2,0),\"\")","v":""},{"$f":"IFERROR(VLOOKUP(W198,CadMP!$B:$D,3,0),\"\")","v":""},{"$f":"IFERROR(VLOOKUP(X198,CadMP!$B:$D,3,0),\"\")","v":""},{"$f":"IFERROR(VLOOKUP(Y198,CadMP!$B:$D,3,0),\"\")","v":""},{"$f":"IFERROR(VLOOKUP(Z198,CadMP!$B:$D,3,0),\"\")","v":""},{"$f":"IFERROR(VLOOKUP(AA198,CadMP!$B:$D,3,0),\"\")","v":""},{"$f":"IFERROR(VLOOKUP(AB198,CadMP!$B:$D,3,0),\"\")","v":""},{"$f":"IFERROR(VLOOKUP(AC198,CadMP!$B:$D,3,0),\"\")","v":""},{"$f":"IFERROR(VLOOKUP(AD198,CadMP!$B:$D,3,0),\"\")","v":""},{"$f":"IFERROR(VLOOKUP(AE198,CadMP!$B:$D,3,0),\"\")","v":""},{"$f":"IFERROR(VLOOKUP(AF198,CadMP!$B:$D,3,0),\"\")","v":""},{"$f":"IFERROR(VLOOKUP(AG198,CadMP!$B:$D,3,0),\"\")","v":""},{"$f":"IFERROR(VLOOKUP(AH198,CadMP!$B:$D,3,0),\"\")","v":""},{"$f":"IFERROR(VLOOKUP(AI198,CadMP!$B:$D,3,0),\"\")","v":""},{"$f":"IFERROR(VLOOKUP(AJ198,CadMP!$B:$D,3,0),\"\")","v":""},{"$f":"IFERROR(VLOOKUP(AK198,CadMP!$B:$D,3,0),\"\")","v":""},0,0,0,0,0,0,0,0,0,0,0,0,0,0,0]
[198,null,null,0,0,null,null,null,null,null,null,0,0,null,null,null,null,null,null,null,1,0,null,null,null,null,null,null,null,null,null,null,null,null,null,null,null,null,null,null,null,null,null,null,null,null,null,null,null,null,null,null,{"$f":"IFERROR(VLOOKUP(W199,CadMP!$B:$D,2,0),\"\")","v":""},{"$f":"IFERROR(VLOOKUP(X199,CadMP!$B:$D,2,0),\"\")","v":""},{"$f":"IFERROR(VLOOKUP(Y199,CadMP!$B:$D,2,0),\"\")","v":""},{"$f":"IFERROR(VLOOKUP(Z199,CadMP!$B:$D,2,0),\"\")","v":""},{"$f":"IFERROR(VLOOKUP(AA199,CadMP!$B:$D,2,0),\"\")","v":""},{"$f":"IFERROR(VLOOKUP(AB199,CadMP!$B:$D,2,0),\"\")","v":""},{"$f":"IFERROR(VLOOKUP(AC199,CadMP!$B:$D,2,0),\"\")","v":""},{"$f":"IFERROR(VLOOKUP(AD199,CadMP!$B:$D,2,0),\"\")","v":""},{"$f":"IFERROR(VLOOKUP(AE199,CadMP!$B:$D,2,0),\"\")","v":""},{"$f":"IFERROR(VLOOKUP(AF199,CadMP!$B:$D,2,0),\"\")","v":""},{"$f":"IFERROR(VLOOKUP(AG199,CadMP!$B:$D,2,0),\"\")","v":""},{"$f":"IFERROR(VLOOKUP(AH199,CadMP!$B:$D,2,0),\"\")","v":""},{"$f":"IFERROR(VLOOKUP(AI199,CadMP!$B:$D,2,0),\"\")","v":""},{"$f":"IFERROR(VLOOKUP(AJ199,CadMP!$B:$D,2,0),\"\")","v":""},{"$f":"IFERROR(VLOOKUP(AK199,CadMP!$B:$D,2,0),\"\")","v":""},{"$f":"IFERROR(VLOOKUP(W199,CadMP!$B:$D,3,0),\"\")","v":""},{"$f":"IFERROR(VLOOKUP(X199,CadMP!$B:$D,3,0),\"\")","v":""},{"$f":"IFERROR(VLOOKUP(Y199,CadMP!$B:$D,3,0),\"\")","v":""},{"$f":"IFERROR(VLOOKUP(Z199,CadMP!$B:$D,3,0),\"\")","v":""},{"$f":"IFERROR(VLOOKUP(AA199,CadMP!$B:$D,3,0),\"\")","v":""},{"$f":"IFERROR(VLOOKUP(AB199,CadMP!$B:$D,3,0),\"\")","v":""},{"$f":"IFERROR(VLOOKUP(AC199,CadMP!$B:$D,3,0),\"\")","v":""},{"$f":"IFERROR(VLOOKUP(AD199,CadMP!$B:$D,3,0),\"\")","v":""},{"$f":"IFERROR(VLOOKUP(AE199,CadMP!$B:$D,3,0),\"\")","v":""},{"$f":"IFERROR(VLOOKUP(AF199,CadMP!$B:$D,3,0),\"\")","v":""},{"$f":"IFERROR(VLOOKUP(AG199,CadMP!$B:$D,3,0),\"\")","v":""},{"$f":"IFERROR(VLOOKUP(AH199,CadMP!$B:$D,3,0),\"\")","v":""},{"$f":"IFERROR(VLOOKUP(AI199,CadMP!$B:$D,3,0),\"\")","v":""},{"$f":"IFERROR(VLOOKUP(AJ199,CadMP!$B:$D,3,0),\"\")","v":""},{"$f":"IFERROR(VLOOKUP(AK199,CadMP!$B:$D,3,0),\"\")","v":""},0,0,0,0,0,0,0,0,0,0,0,0,0,0,0]
[199,null,null,0,0,null,null,null,null,null,null,0,0,null,null,null,null,null,null,null,1,0,null,null,null,null,null,null,null,null,null,null,null,null,null,null,null,null,null,null,null,null,null,null,null,null,null,null,null,null,null,null,{"$f":"IFERROR(VLOOKUP(W200,CadMP!$B:$D,2,0),\"\")","v":""},{"$f":"IFERROR(VLOOKUP(X200,CadMP!$B:$D,2,0),\"\")","v":""},{"$f":"IFERROR(VLOOKUP(Y200,CadMP!$B:$D,2,0),\"\")","v":""},{"$f":"IFERROR(VLOOKUP(Z200,CadMP!$B:$D,2,0),\"\")","v":""},{"$f":"IFERROR(VLOOKUP(AA200,CadMP!$B:$D,2,0),\"\")","v":""},{"$f":"IFERROR(VLOOKUP(AB200,CadMP!$B:$D,2,0),\"\")","v":""},{"$f":"IFERROR(VLOOKUP(AC200,CadMP!$B:$D,2,0),\"\")","v":""},{"$f":"IFERROR(VLOOKUP(AD200,CadMP!$B:$D,2,0),\"\")","v":""},{"$f":"IFERROR(VLOOKUP(AE200,CadMP!$B:$D,2,0),\"\")","v":""},{"$f":"IFERROR(VLOOKUP(AF200,CadMP!$B:$D,2,0),\"\")","v":""},{"$f":"IFERROR(VLOOKUP(AG200,CadMP!$B:$D,2,0),\"\")","v":""},{"$f":"IFERROR(VLOOKUP(AH200,CadMP!$B:$D,2,0),\"\")","v":""},{"$f":"IFERROR(VLOOKUP(AI200,CadMP!$B:$D,2,0),\"\")","v":""},{"$f":"IFERROR(VLOOKUP(AJ200,CadMP!$B:$D,2,0),\"\")","v":""},{"$f":"IFERROR(VLOOKUP(AK200,CadMP!$B:$D,2,0),\"\")","v":""},{"$f":"IFERROR(VLOOKUP(W200,CadMP!$B:$D,3,0),\"\")","v":""},{"$f":"IFERROR(VLOOKUP(X200,CadMP!$B:$D,3,0),\"\")","v":""},{"$f":"IFERROR(VLOOKUP(Y200,CadMP!$B:$D,3,0),\"\")","v":""},{"$f":"IFERROR(VLOOKUP(Z200,CadMP!$B:$D,3,0),\"\")","v":""},{"$f":"IFERROR(VLOOKUP(AA200,CadMP!$B:$D,3,0),\"\")","v":""},{"$f":"IFERROR(VLOOKUP(AB200,CadMP!$B:$D,3,0),\"\")","v":""},{"$f":"IFERROR(VLOOKUP(AC200,CadMP!$B:$D,3,0),\"\")","v":""},{"$f":"IFERROR(VLOOKUP(AD200,CadMP!$B:$D,3,0),\"\")","v":""},{"$f":"IFERROR(VLOOKUP(AE200,CadMP!$B:$D,3,0),\"\")","v":""},{"$f":"IFERROR(VLOOKUP(AF200,CadMP!$B:$D,3,0),\"\")","v":""},{"$f":"IFERROR(VLOOKUP(AG200,CadMP!$B:$D,3,0),\"\")","v":""},{"$f":"IFERROR(VLOOKUP(AH200,CadMP!$B:$D,3,0),\"\")","v":""},{"$f":"IFERROR(VLOOKUP(AI200,CadMP!$B:$D,3,0),\"\")","v":""},{"$f":"IFERROR(VLOOKUP(AJ200,CadMP!$B:$D,3,0),\"\")","v":""},{"$f":"IFERROR(VLOOKUP(AK200,CadMP!$B:$D,3,0),\"\")","v":""},0,0,0,0,0,0,0,0,0,0,0,0,0,0,0]
[200,null,null,0,0,null,null,null,null,null,null,0,0,null,null,null,null,null,null,null,1,0,null,null,null,null,null,null,null,null,null,null,null,null,null,null,null,null,null,null,null,null,null,null,null,null,null,null,null,null,null,null,{"$f":"IFERROR(VLOOKUP(W201,CadMP!$B:$D,2,0),\"\")","v":""},{"$f":"IFERROR(VLOOKUP(X201,CadMP!$B:$D,2,0),\"\")","v":""},{"$f":"IFERROR(VLOOKUP(Y201,CadMP!$B:$D,2,0),\"\")","v":""},{"$f":"IFERROR(VLOOKUP(Z201,CadMP!$B:$D,2,0),\"\")","v":""},{"$f":"IFERROR(VLOOKUP(AA201,CadMP!$B:$D,2,0),\"\")","v":""},{"$f":"IFERROR(VLOOKUP(AB201,CadMP!$B:$D,2,0),\"\")","v":""},{"$f":"IFERROR(VLOOKUP(AC201,CadMP!$B:$D,2,0),\"\")","v":""},{"$f":"IFERROR(VLOOKUP(AD201,CadMP!$B:$D,2,0),\"\")","v":""},{"$f":"IFERROR(VLOOKUP(AE201,CadMP!$B:$D,2,0),\"\")","v":""},{"$f":"IFERROR(VLOOKUP(AF201,CadMP!$B:$D,2,0),\"\")","v":""},{"$f":"IFERROR(VLOOKUP(AG201,CadMP!$B:$D,2,0),\"\")","v":""},{"$f":"IFERROR(VLOOKUP(AH201,CadMP!$B:$D,2,0),\"\")","v":""},{"$f":"IFERROR(VLOOKUP(AI201,CadMP!$B:$D,2,0),\"\")","v":""},{"$f":"IFERROR(VLOOKUP(AJ201,CadMP!$B:$D,2,0),\"\")","v":""},{"$f":"IFERROR(VLOOKUP(AK201,CadMP!$B:$D,2,0),\"\")","v":""},{"$f":"IFERROR(VLOOKUP(W201,CadMP!$B:$D,3,0),\"\")","v":""},{"$f":"IFERROR(VLOOKUP(X201,CadMP!$B:$D,3,0),\"\")","v":""},{"$f":"IFERROR(VLOOKUP(Y201,CadMP!$B:$D,3,0),\"\")","v":""},{"$f":"IFERROR(VLOOKUP(Z201,CadMP!$B:$D,3,0),\"\")","v":""},{"$f":"IFERROR(VLOOKUP(AA201,CadMP!$B:$D,3,0),\"\")","v":""},{"$f":"IFERROR(VLOOKUP(AB201,CadMP!$B:$D,3,0),\"\")","v":""},{"$f":"IFERROR(VLOOKUP(AC201,CadMP!$B:$D,3,0),\"\")","v":""},{"$f":"IFERROR(VLOOKUP(AD201,CadMP!$B:$D,3,0),\"\")","v":""},{"$f":"IFERROR(VLOOKUP(AE201,CadMP!$B:$D,3,0),\"\")","v":""},{"$f":"IFERROR(VLOOKUP(AF201,CadMP!$B:$D,3,0),\"\")","v":""},{"$f":"IFERROR(VLOOKUP(AG201,CadMP!$B:$D,3,0),\"\")","v":""},{"$f":"IFERROR(VLOOKUP(AH201,CadMP!$B:$D,3,0),\"\")","v":""},{"$f":"IFERROR(VLOOKUP(AI201,CadMP!$B:$D,3,0),\"\")","v":""},{"$f":"IFERROR(VLOOKUP(AJ201,CadMP!$B:$D,3,0),\"\")","v":""},{"$f":"IFERROR(VLOOKUP(AK201,CadMP!$B:$D,3,0),\"\")","v":""},0,0,0,0,0,0,0,0,0,0,0,0,0,0,0]
[201,null,null,0,0,null,null,null,null,null,null,0,0,null,null,null,null,null,null,null,1,0,null,null,null,null,null,null,null,null,null,null,null,null,null,null,null,null,null,null,null,null,null,null,null,null,null,null,null,null,null,null,{"$f":"IFERROR(VLOOKUP(W202,CadMP!$B:$D,2,0),\"\")","v":""},{"$f":"IFERROR(VLOOKUP(X202,CadMP!$B:$D,2,0),\"\")","v":""},{"$f":"IFERROR(VLOOKUP(Y202,CadMP!$B:$D,2,0),\"\")","v":""},{"$f":"IFERROR(VLOOKUP(Z202,CadMP!$B:$D,2,0),\"\")","v":""},{"$f":"IFERROR(VLOOKUP(AA202,CadMP!$B:$D,2,0),\"\")","v":""},{"$f":"IFERROR(VLOOKUP(AB202,CadMP!$B:$D,2,0),\"\")","v":""},{"$f":"IFERROR(VLOOKUP(AC202,CadMP!$B:$D,2,0),\"\")","v":""},{"$f":"IFERROR(VLOOKUP(AD202,CadMP!$B:$D,2,0),\"\")","v":""},{"$f":"IFERROR(VLOOKUP(AE202,CadMP!$B:$D,2,0),\"\")","v":""},{"$f":"IFERROR(VLOOKUP(AF202,CadMP!$B:$D,2,0),\"\")","v":""},{"$f":"IFERROR(VLOOKUP(AG202,CadMP!$B:$D,2,0),\"\")","v":""},{"$f":"IFERROR(VLOOKUP(AH202,CadMP!$B:$D,2,0),\"\")","v":""},{"$f":"IFERROR(VLOOKUP(AI202,CadMP!$B:$D,2,0),\"\")","v":""},{"$f":"IFERROR(VLOOKUP(AJ202,CadMP!$B:$D,2,0),\"\")","v":""},{"$f":"IFERROR(VLOOKUP(AK202,CadMP!$B:$D,2,0),\"\")","v":""},{"$f":"IFERROR(VLOOKUP(W202,CadMP!$B:$D,3,0),\"\")","v":""},{"$f":"IFERROR(VLOOKUP(X202,CadMP!$B:$D,3,0),\"\")","v":""},{"$f":"IFERROR(VLOOKUP(Y202,CadMP!$B:$D,3,0),\"\")","v":""},{"$f":"IFERROR(VLOOKUP(Z202,CadMP!$B:$D,3,0),\"\")","v":""},{"$f":"IFERROR(VLOOKUP(AA202,CadMP!$B:$D,3,0),\"\")","v":""},{"$f":"IFERROR(VLOOKUP(AB202,CadMP!$B:$D,3,0),\"\")","v":""},{"$f":"IFERROR(VLOOKUP(AC202,CadMP!$B:$D,3,0),\"\")","v":""},{"$f":"IFERROR(VLOOKUP(AD202,CadMP!$B:$D,3,0),\"\")","v":""},{"$f":"IFERROR(VLOOKUP(AE202,CadMP!$B:$D,3,0),\"\")","v":""},{"$f":"IFERROR(VLOOKUP(AF202,CadMP!$B:$D,3,0),\"\")","v":""},{"$f":"IFERROR(VLOOKUP(AG202,CadMP!$B:$D,3,0),\"\")","v":""},{"$f":"IFERROR(VLOOKUP(AH202,CadMP!$B:$D,3,0),\"\")","v":""},{"$f":"IFERROR(VLOOKUP(AI202,CadMP!$B:$D,3,0),\"\")","v":""},{"$f":"IFERROR(VLOOKUP(AJ202,CadMP!$B:$D,3,0),\"\")","v":""},{"$f":"IFERROR(VLOOKUP(AK202,CadMP!$B:$D,3,0),\"\")","v":""},0,0,0,0,0,0,0,0,0,0,0,0,0,0,0]
[202,null,null,0,0,null,null,null,null,null,null,0,0,null,null,null,null,null,null,null,1,0,null,null,null,null,null,null,null,null,null,null,null,null,null,null,null,null,null,null,null,null,null,null,null,null,null,null,null,null,null,null,{"$f":"IFERROR(VLOOKUP(W203,CadMP!$B:$D,2,0),\"\")","v":""},{"$f":"IFERROR(VLOOKUP(X203,CadMP!$B:$D,2,0),\"\")","v":""},{"$f":"IFERROR(VLOOKUP(Y203,CadMP!$B:$D,2,0),\"\")","v":""},{"$f":"IFERROR(VLOOKUP(Z203,CadMP!$B:$D,2,0),\"\")","v":""},{"$f":"IFERROR(VLOOKUP(AA203,CadMP!$B:$D,2,0),\"\")","v":""},{"$f":"IFERROR(VLOOKUP(AB203,CadMP!$B:$D,2,0),\"\")","v":""},{"$f":"IFERROR(VLOOKUP(AC203,CadMP!$B:$D,2,0),\"\")","v":""},{"$f":"IFERROR(VLOOKUP(AD203,CadMP!$B:$D,2,0),\"\")","v":""},{"$f":"IFERROR(VLOOKUP(AE203,CadMP!$B:$D,2,0),\"\")","v":""},{"$f":"IFERROR(VLOOKUP(AF203,CadMP!$B:$D,2,0),\"\")","v":""},{"$f":"IFERROR(VLOOKUP(AG203,CadMP!$B:$D,2,0),\"\")","v":""},{"$f":"IFERROR(VLOOKUP(AH203,CadMP!$B:$D,2,0),\"\")","v":""},{"$f":"IFERROR(VLOOKUP(AI203,CadMP!$B:$D,2,0),\"\")","v":""},{"$f":"IFERROR(VLOOKUP(AJ203,CadMP!$B:$D,2,0),\"\")","v":""},{"$f":"IFERROR(VLOOKUP(AK203,CadMP!$B:$D,2,0),\"\")","v":""},{"$f":"IFERROR(VLOOKUP(W203,CadMP!$B:$D,3,0),\"\")","v":""},{"$f":"IFERROR(VLOOKUP(X203,CadMP!$B:$D,3,0),\"\")","v":""},{"$f":"IFERROR(VLOOKUP(Y203,CadMP!$B:$D,3,0),\"\")","v":""},{"$f":"IFERROR(VLOOKUP(Z203,CadMP!$B:$D,3,0),\"\")","v":""},{"$f":"IFERROR(VLOOKUP(AA203,CadMP!$B:$D,3,0),\"\")","v":""},{"$f":"IFERROR(VLOOKUP(AB203,CadMP!$B:$D,3,0),\"\")","v":""},{"$f":"IFERROR(VLOOKUP(AC203,CadMP!$B:$D,3,0),\"\")","v":""},{"$f":"IFERROR(VLOOKUP(AD203,CadMP!$B:$D,3,0),\"\")","v":""},{"$f":"IFERROR(VLOOKUP(AE203,CadMP!$B:$D,3,0),\"\")","v":""},{"$f":"IFERROR(VLOOKUP(AF203,CadMP!$B:$D,3,0),\"\")","v":""},{"$f":"IFERROR(VLOOKUP(AG203,CadMP!$B:$D,3,0),\"\")","v":""},{"$f":"IFERROR(VLOOKUP(AH203,CadMP!$B:$D,3,0),\"\")","v":""},{"$f":"IFERROR(VLOOKUP(AI203,CadMP!$B:$D,3,0),\"\")","v":""},{"$f":"IFERROR(VLOOKUP(AJ203,CadMP!$B:$D,3,0),\"\")","v":""},{"$f":"IFERROR(VLOOKUP(AK203,CadMP!$B:$D,3,0),\"\")","v":""},0,0,0,0,0,0,0,0,0,0,0,0,0,0,0]
[203,null,null,0,0,null,null,null,null,null,null,0,0,null,null,null,null,null,null,null,1,0,null,null,null,null,null,null,null,null,null,null,null,null,null,null,null,null,null,null,null,null,null,null,null,null,null,null,null,null,null,null,{"$f":"IFERROR(VLOOKUP(W204,CadMP!$B:$D,2,0),\"\")","v":""},{"$f":"IFERROR(VLOOKUP(X204,CadMP!$B:$D,2,0),\"\")","v":""},{"$f":"IFERROR(VLOOKUP(Y204,CadMP!$B:$D,2,0),\"\")","v":""},{"$f":"IFERROR(VLOOKUP(Z204,CadMP!$B:$D,2,0),\"\")","v":""},{"$f":"IFERROR(VLOOKUP(AA204,CadMP!$B:$D,2,0),\"\")","v":""},{"$f":"IFERROR(VLOOKUP(AB204,CadMP!$B:$D,2,0),\"\")","v":""},{"$f":"IFERROR(VLOOKUP(AC204,CadMP!$B:$D,2,0),\"\")","v":""},{"$f":"IFERROR(VLOOKUP(AD204,CadMP!$B:$D,2,0),\"\")","v":""},{"$f":"IFERROR(VLOOKUP(AE204,CadMP!$B:$D,2,0),\"\")","v":""},{"$f":"IFERROR(VLOOKUP(AF204,CadMP!$B:$D,2,0),\"\")","v":""},{"$f":"IFERROR(VLOOKUP(AG204,CadMP!$B:$D,2,0),\"\")","v":""},{"$f":"IFERROR(VLOOKUP(AH204,CadMP!$B:$D,2,0),\"\")","v":""},{"$f":"IFERROR(VLOOKUP(AI204,CadMP!$B:$D,2,0),\"\")","v":""},{"$f":"IFERROR(VLOOKUP(AJ204,CadMP!$B:$D,2,0),\"\")","v":""},{"$f":"IFERROR(VLOOKUP(AK204,CadMP!$B:$D,2,0),\"\")","v":""},{"$f":"IFERROR(VLOOKUP(W204,CadMP!$B:$D,3,0),\"\")","v":""},{"$f":"IFERROR(VLOOKUP(X204,CadMP!$B:$D,3,0),\"\")","v":""},{"$f":"IFERROR(VLOOKUP(Y204,CadMP!$B:$D,3,0),\"\")","v":""},{"$f":"IFERROR(VLOOKUP(Z204,CadMP!$B:$D,3,0),\"\")","v":""},{"$f":"IFERROR(VLOOKUP(AA204,CadMP!$B:$D,3,0),\"\")","v":""},{"$f":"IFERROR(VLOOKUP(AB204,CadMP!$B:$D,3,0),\"\")","v":""},{"$f":"IFERROR(VLOOKUP(AC204,CadMP!$B:$D,3,0),\"\")","v":""},{"$f":"IFERROR(VLOOKUP(AD204,CadMP!$B:$D,3,0),\"\")","v":""},{"$f":"IFERROR(VLOOKUP(AE204,CadMP!$B:$D,3,0),\"\")","v":""},{"$f":"IFERROR(VLOOKUP(AF204,CadMP!$B:$D,3,0),\"\")","v":""},{"$f":"IFERROR(VLOOKUP(AG204,CadMP!$B:$D,3,0),\"\")","v":""},{"$f":"IFERROR(VLOOKUP(AH204,CadMP!$B:$D,3,0),\"\")","v":""},{"$f":"IFERROR(VLOOKUP(AI204,CadMP!$B:$D,3,0),\"\")","v":""},{"$f":"IFERROR(VLOOKUP(AJ204,CadMP!$B:$D,3,0),\"\")","v":""},{"$f":"IFERROR(VLOOKUP(AK204,CadMP!$B:$D,3,0),\"\")","v":""},0,0,0,0,0,0,0,0,0,0,0,0,0,0,0]
[204,null,null,0,0,null,null,null,null,null,null,0,0,null,null,null,null,null,null,null,1,0,null,null,null,null,null,null,null,null,null,null,null,null,null,null,null,null,null,null,null,null,null,null,null,null,null,null,null,null,null,null,{"$f":"IFERROR(VLOOKUP(W205,CadMP!$B:$D,2,0),\"\")","v":""},{"$f":"IFERROR(VLOOKUP(X205,CadMP!$B:$D,2,0),\"\")","v":""},{"$f":"IFERROR(VLOOKUP(Y205,CadMP!$B:$D,2,0),\"\")","v":""},{"$f":"IFERROR(VLOOKUP(Z205,CadMP!$B:$D,2,0),\"\")","v":""},{"$f":"IFERROR(VLOOKUP(AA205,CadMP!$B:$D,2,0),\"\")","v":""},{"$f":"IFERROR(VLOOKUP(AB205,CadMP!$B:$D,2,0),\"\")","v":""},{"$f":"IFERROR(VLOOKUP(AC205,CadMP!$B:$D,2,0),\"\")","v":""},{"$f":"IFERROR(VLOOKUP(AD205,CadMP!$B:$D,2,0),\"\")","v":""},{"$f":"IFERROR(VLOOKUP(AE205,CadMP!$B:$D,2,0),\"\")","v":""},{"$f":"IFERROR(VLOOKUP(AF205,CadMP!$B:$D,2,0),\"\")","v":""},{"$f":"IFERROR(VLOOKUP(AG205,CadMP!$B:$D,2,0),\"\")","v":""},{"$f":"IFERROR(VLOOKUP(AH205,CadMP!$B:$D,2,0),\"\")","v":""},{"$f":"IFERROR(VLOOKUP(AI205,CadMP!$B:$D,2,0),\"\")","v":""},{"$f":"IFERROR(VLOOKUP(AJ205,CadMP!$B:$D,2,0),\"\")","v":""},{"$f":"IFERROR(VLOOKUP(AK205,CadMP!$B:$D,2,0),\"\")","v":""},{"$f":"IFERROR(VLOOKUP(W205,CadMP!$B:$D,3,0),\"\")","v":""},{"$f":"IFERROR(VLOOKUP(X205,CadMP!$B:$D,3,0),\"\")","v":""},{"$f":"IFERROR(VLOOKUP(Y205,CadMP!$B:$D,3,0),\"\")","v":""},{"$f":"IFERROR(VLOOKUP(Z205,CadMP!$B:$D,3,0),\"\")","v":""},{"$f":"IFERROR(VLOOKUP(AA205,CadMP!$B:$D,3,0),\"\")","v":""},{"$f":"IFERROR(VLOOKUP(AB205,CadMP!$B:$D,3,0),\"\")","v":""},{"$f":"IFERROR(VLOOKUP(AC205,CadMP!$B:$D,3,0),\"\")","v":""},{"$f":"IFERROR(VLOOKUP(AD205,CadMP!$B:$D,3,0),\"\")","v":""},{"$f":"IFERROR(VLOOKUP(AE205,CadMP!$B:$D,3,0),\"\")","v":""},{"$f":"IFERROR(VLOOKUP(AF205,CadMP!$B:$D,3,0),\"\")","v":""},{"$f":"IFERROR(VLOOKUP(AG205,CadMP!$B:$D,3,0),\"\")","v":""},{"$f":"IFERROR(VLOOKUP(AH205,CadMP!$B:$D,3,0),\"\")","v":""},{"$f":"IFERROR(VLOOKUP(AI205,CadMP!$B:$D,3,0),\"\")","v":""},{"$f":"IFERROR(VLOOKUP(AJ205,CadMP!$B:$D,3,0),\"\")","v":""},{"$f":"IFERROR(VLOOKUP(AK205,CadMP!$B:$D,3,0),\"\")","v":""},0,0,0,0,0,0,0,0,0,0,0,0,0,0,0]
[205,null,null,0,0,null,null,null,null,null,null,0,0,null,null,null,null,null,null,null,1,0,null,null,null,null,null,null,null,null,null,null,null,null,null,null,null,null,null,null,null,null,null,null,null,null,null,null,null,null,null,null,{"$f":"IFERROR(VLOOKUP(W206,CadMP!$B:$D,2,0),\"\")","v":""},{"$f":"IFERROR(VLOOKUP(X206,CadMP!$B:$D,2,0),\"\")","v":""},{"$f":"IFERROR(VLOOKUP(Y206,CadMP!$B:$D,2,0),\"\")","v":""},{"$f":"IFERROR(VLOOKUP(Z206,CadMP!$B:$D,2,0),\"\")","v":""},{"$f":"IFERROR(VLOOKUP(AA206,CadMP!$B:$D,2,0),\"\")","v":""},{"$f":"IFERROR(VLOOKUP(AB206,CadMP!$B:$D,2,0),\"\")","v":""},{"$f":"IFERROR(VLOOKUP(AC206,CadMP!$B:$D,2,0),\"\")","v":""},{"$f":"IFERROR(VLOOKUP(AD206,CadMP!$B:$D,2,0),\"\")","v":""},{"$f":"IFERROR(VLOOKUP(AE206,CadMP!$B:$D,2,0),\"\")","v":""},{"$f":"IFERROR(VLOOKUP(AF206,CadMP!$B:$D,2,0),\"\")","v":""},{"$f":"IFERROR(VLOOKUP(AG206,CadMP!$B:$D,2,0),\"\")","v":""},{"$f":"IFERROR(VLOOKUP(AH206,CadMP!$B:$D,2,0),\"\")","v":""},{"$f":"IFERROR(VLOOKUP(AI206,CadMP!$B:$D,2,0),\"\")","v":""},{"$f":"IFERROR(VLOOKUP(AJ206,CadMP!$B:$D,2,0),\"\")","v":""},{"$f":"IFERROR(VLOOKUP(AK206,CadMP!$B:$D,2,0),\"\")","v":""},{"$f":"IFERROR(VLOOKUP(W206,CadMP!$B:$D,3,0),\"\")","v":""},{"$f":"IFERROR(VLOOKUP(X206,CadMP!$B:$D,3,0),\"\")","v":""},{"$f":"IFERROR(VLOOKUP(Y206,CadMP!$B:$D,3,0),\"\")","v":""},{"$f":"IFERROR(VLOOKUP(Z206,CadMP!$B:$D,3,0),\"\")","v":""},{"$f":"IFERROR(VLOOKUP(AA206,CadMP!$B:$D,3,0),\"\")","v":""},{"$f":"IFERROR(VLOOKUP(AB206,CadMP!$B:$D,3,0),\"\")","v":""},{"$f":"IFERROR(VLOOKUP(AC206,CadMP!$B:$D,3,0),\"\")","v":""},{"$f":"IFERROR(VLOOKUP(AD206,CadMP!$B:$D,3,0),\"\")","v":""},{"$f":"IFERROR(VLOOKUP(AE206,CadMP!$B:$D,3,0),\"\")","v":""},{"$f":"IFERROR(VLOOKUP(AF206,CadMP!$B:$D,3,0),\"\")","v":""},{"$f":"IFERROR(VLOOKUP(AG206,CadMP!$B:$D,3,0),\"\")","v":""},{"$f":"IFERROR(VLOOKUP(AH206,CadMP!$B:$D,3,0),\"\")","v":""},{"$f":"IFERROR(VLOOKUP(AI206,CadMP!$B:$D,3,0),\"\")","v":""},{"$f":"IFERROR(VLOOKUP(AJ206,CadMP!$B:$D,3,0),\"\")","v":""},{"$f":"IFERROR(VLOOKUP(AK206,CadMP!$B:$D,3,0),\"\")","v":""},0,0,0,0,0,0,0,0,0,0,0,0,0,0,0]
[206,null,null,0,0,null,null,null,null,null,null,0,0,null,null,null,null,null,null,null,1,0,null,null,null,null,null,null,null,null,null,null,null,null,null,null,null,null,null,null,null,null,null,null,null,null,null,null,null,null,null,null,{"$f":"IFERROR(VLOOKUP(W207,CadMP!$B:$D,2,0),\"\")","v":""},{"$f":"IFERROR(VLOOKUP(X207,CadMP!$B:$D,2,0),\"\")","v":""},{"$f":"IFERROR(VLOOKUP(Y207,CadMP!$B:$D,2,0),\"\")","v":""},{"$f":"IFERROR(VLOOKUP(Z207,CadMP!$B:$D,2,0),\"\")","v":""},{"$f":"IFERROR(VLOOKUP(AA207,CadMP!$B:$D,2,0),\"\")","v":""},{"$f":"IFERROR(VLOOKUP(AB207,CadMP!$B:$D,2,0),\"\")","v":""},{"$f":"IFERROR(VLOOKUP(AC207,CadMP!$B:$D,2,0),\"\")","v":""},{"$f":"IFERROR(VLOOKUP(AD207,CadMP!$B:$D,2,0),\"\")","v":""},{"$f":"IFERROR(VLOOKUP(AE207,CadMP!$B:$D,2,0),\"\")","v":""},{"$f":"IFERROR(VLOOKUP(AF207,CadMP!$B:$D,2,0),\"\")","v":""},{"$f":"IFERROR(VLOOKUP(AG207,CadMP!$B:$D,2,0),\"\")","v":""},{"$f":"IFERROR(VLOOKUP(AH207,CadMP!$B:$D,2,0),\"\")","v":""},{"$f":"IFERROR(VLOOKUP(AI207,CadMP!$B:$D,2,0),\"\")","v":""},{"$f":"IFERROR(VLOOKUP(AJ207,CadMP!$B:$D,2,0),\"\")","v":""},{"$f":"IFERROR(VLOOKUP(AK207,CadMP!$B:$D,2,0),\"\")","v":""},{"$f":"IFERROR(VLOOKUP(W207,CadMP!$B:$D,3,0),\"\")","v":""},{"$f":"IFERROR(VLOOKUP(X207,CadMP!$B:$D,3,0),\"\")","v":""},{"$f":"IFERROR(VLOOKUP(Y207,CadMP!$B:$D,3,0),\"\")","v":""},{"$f":"IFERROR(VLOOKUP(Z207,CadMP!$B:$D,3,0),\"\")","v":""},{"$f":"IFERROR(VLOOKUP(AA207,CadMP!$B:$D,3,0),\"\")","v":""},{"$f":"IFERROR(VLOOKUP(AB207,CadMP!$B:$D,3,0),\"\")","v":""},{"$f":"IFERROR(VLOOKUP(AC207,CadMP!$B:$D,3,0),\"\")","v":""},{"$f":"IFERROR(VLOOKUP(AD207,CadMP!$B:$D,3,0),\"\")","v":""},{"$f":"IFERROR(VLOOKUP(AE207,CadMP!$B:$D,3,0),\"\")","v":""},{"$f":"IFERROR(VLOOKUP(AF207,CadMP!$B:$D,3,0),\"\")","v":""},{"$f":"IFERROR(VLOOKUP(AG207,CadMP!$B:$D,3,0),\"\")","v":""},{"$f":"IFERROR(VLOOKUP(AH207,CadMP!$B:$D,3,0),\"\")","v":""},{"$f":"IFERROR(VLOOKUP(AI207,CadMP!$B:$D,3,0),\"\")","v":""},{"$f":"IFERROR(VLOOKUP(AJ207,CadMP!$B:$D,3,0),\"\")","v":""},{"$f":"IFERROR(VLOOKUP(AK207,CadMP!$B:$D,3,0),\"\")","v":""},0,0,0,0,0,0,0,0,0,0,0,0,0,0,0]
[207,null,null,0,0,null,null,null,null,null,null,0,0,null,null,null,null,null,null,null,1,0,null,null,null,null,null,null,null,null,null,null,null,null,null,null,null,null,null,null,null,null,null,null,null,null,null,null,null,null,null,null,{"$f":"IFERROR(VLOOKUP(W208,CadMP!$B:$D,2,0),\"\")","v":""},{"$f":"IFERROR(VLOOKUP(X208,CadMP!$B:$D,2,0),\"\")","v":""},{"$f":"IFERROR(VLOOKUP(Y208,CadMP!$B:$D,2,0),\"\")","v":""},{"$f":"IFERROR(VLOOKUP(Z208,CadMP!$B:$D,2,0),\"\")","v":""},{"$f":"IFERROR(VLOOKUP(AA208,CadMP!$B:$D,2,0),\"\")","v":""},{"$f":"IFERROR(VLOOKUP(AB208,CadMP!$B:$D,2,0),\"\")","v":""},{"$f":"IFERROR(VLOOKUP(AC208,CadMP!$B:$D,2,0),\"\")","v":""},{"$f":"IFERROR(VLOOKUP(AD208,CadMP!$B:$D,2,0),\"\")","v":""},{"$f":"IFERROR(VLOOKUP(AE208,CadMP!$B:$D,2,0),\"\")","v":""},{"$f":"IFERROR(VLOOKUP(AF208,CadMP!$B:$D,2,0),\"\")","v":""},{"$f":"IFERROR(VLOOKUP(AG208,CadMP!$B:$D,2,0),\"\")","v":""},{"$f":"IFERROR(VLOOKUP(AH208,CadMP!$B:$D,2,0),\"\")","v":""},{"$f":"IFERROR(VLOOKUP(AI208,CadMP!$B:$D,2,0),\"\")","v":""},{"$f":"IFERROR(VLOOKUP(AJ208,CadMP!$B:$D,2,0),\"\")","v":""},{"$f":"IFERROR(VLOOKUP(AK208,CadMP!$B:$D,2,0),\"\")","v":""},{"$f":"IFERROR(VLOOKUP(W208,CadMP!$B:$D,3,0),\"\")","v":""},{"$f":"IFERROR(VLOOKUP(X208,CadMP!$B:$D,3,0),\"\")","v":""},{"$f":"IFERROR(VLOOKUP(Y208,CadMP!$B:$D,3,0),\"\")","v":""},{"$f":"IFERROR(VLOOKUP(Z208,CadMP!$B:$D,3,0),\"\")","v":""},{"$f":"IFERROR(VLOOKUP(AA208,CadMP!$B:$D,3,0),\"\")","v":""},{"$f":"IFERROR(VLOOKUP(AB208,CadMP!$B:$D,3,0),\"\")","v":""},{"$f":"IFERROR(VLOOKUP(AC208,CadMP!$B:$D,3,0),\"\")","v":""},{"$f":"IFERROR(VLOOKUP(AD208,CadMP!$B:$D,3,0),\"\")","v":""},{"$f":"IFERROR(VLOOKUP(AE208,CadMP!$B:$D,3,0),\"\")","v":""},{"$f":"IFERROR(VLOOKUP(AF208,CadMP!$B:$D,3,0),\"\")","v":""},{"$f":"IFERROR(VLOOKUP(AG208,CadMP!$B:$D,3,0),\"\")","v":""},{"$f":"IFERROR(VLOOKUP(AH208,CadMP!$B:$D,3,0),\"\")","v":""},{"$f":"IFERROR(VLOOKUP(AI208,CadMP!$B:$D,3,0),\"\")","v":""},{"$f":"IFERROR(VLOOKUP(AJ208,CadMP!$B:$D,3,0),\"\")","v":""},{"$f":"IFERROR(VLOOKUP(AK208,CadMP!$B:$D,3,0),\"\")","v":""},0,0,0,0,0,0,0,0,0,0,0,0,0,0,0]
[208,null,null,0,0,null,null,null,null,null,null,0,0,null,null,null,null,null,null,null,1,0,null,null,null,null,null,null,null,null,null,null,null,null,null,null,null,null,null,null,null,null,null,null,null,null,null,null,null,null,null,null,{"$f":"IFERROR(VLOOKUP(W209,CadMP!$B:$D,2,0),\"\")","v":""},{"$f":"IFERROR(VLOOKUP(X209,CadMP!$B:$D,2,0),\"\")","v":""},{"$f":"IFERROR(VLOOKUP(Y209,CadMP!$B:$D,2,0),\"\")","v":""},{"$f":"IFERROR(VLOOKUP(Z209,CadMP!$B:$D,2,0),\"\")","v":""},{"$f":"IFERROR(VLOOKUP(AA209,CadMP!$B:$D,2,0),\"\")","v":""},{"$f":"IFERROR(VLOOKUP(AB209,CadMP!$B:$D,2,0),\"\")","v":""},{"$f":"IFERROR(VLOOKUP(AC209,CadMP!$B:$D,2,0),\"\")","v":""},{"$f":"IFERROR(VLOOKUP(AD209,CadMP!$B:$D,2,0),\"\")","v":""},{"$f":"IFERROR(VLOOKUP(AE209,CadMP!$B:$D,2,0),\"\")","v":""},{"$f":"IFERROR(VLOOKUP(AF209,CadMP!$B:$D,2,0),\"\")","v":""},{"$f":"IFERROR(VLOOKUP(AG209,CadMP!$B:$D,2,0),\"\")","v":""},{"$f":"IFERROR(VLOOKUP(AH209,CadMP!$B:$D,2,0),\"\")","v":""},{"$f":"IFERROR(VLOOKUP(AI209,CadMP!$B:$D,2,0),\"\")","v":""},{"$f":"IFERROR(VLOOKUP(AJ209,CadMP!$B:$D,2,0),\"\")","v":""},{"$f":"IFERROR(VLOOKUP(AK209,CadMP!$B:$D,2,0),\"\")","v":""},{"$f":"IFERROR(VLOOKUP(W209,CadMP!$B:$D,3,0),\"\")","v":""},{"$f":"IFERROR(VLOOKUP(X209,CadMP!$B:$D,3,0),\"\")","v":""},{"$f":"IFERROR(VLOOKUP(Y209,CadMP!$B:$D,3,0),\"\")","v":""},{"$f":"IFERROR(VLOOKUP(Z209,CadMP!$B:$D,3,0),\"\")","v":""},{"$f":"IFERROR(VLOOKUP(AA209,CadMP!$B:$D,3,0),\"\")","v":""},{"$f":"IFERROR(VLOOKUP(AB209,CadMP!$B:$D,3,0),\"\")","v":""},{"$f":"IFERROR(VLOOKUP(AC209,CadMP!$B:$D,3,0),\"\")","v":""},{"$f":"IFERROR(VLOOKUP(AD209,CadMP!$B:$D,3,0),\"\")","v":""},{"$f":"IFERROR(VLOOKUP(AE209,CadMP!$B:$D,3,0),\"\")","v":""},{"$f":"IFERROR(VLOOKUP(AF209,CadMP!$B:$D,3,0),\"\")","v":""},{"$f":"IFERROR(VLOOKUP(AG209,CadMP!$B:$D,3,0),\"\")","v":""},{"$f":"IFERROR(VLOOKUP(AH209,CadMP!$B:$D,3,0),\"\")","v":""},{"$f":"IFERROR(VLOOKUP(AI209,CadMP!$B:$D,3,0),\"\")","v":""},{"$f":"IFERROR(VLOOKUP(AJ209,CadMP!$B:$D,3,0),\"\")","v":""},{"$f":"IFERROR(VLOOKUP(AK209,CadMP!$B:$D,3,0),\"\")","v":""},0,0,0,0,0,0,0,0,0,0,0,0,0,0,0]
[209,null,null,0,0,null,null,null,null,null,null,0,0,null,null,null,null,null,null,null,1,0,null,null,null,null,null,null,null,null,null,null,null,null,null,null,null,null,null,null,null,null,null,null,null,null,null,null,null,null,null,null,{"$f":"IFERROR(VLOOKUP(W210,CadMP!$B:$D,2,0),\"\")","v":""},{"$f":"IFERROR(VLOOKUP(X210,CadMP!$B:$D,2,0),\"\")","v":""},{"$f":"IFERROR(VLOOKUP(Y210,CadMP!$B:$D,2,0),\"\")","v":""},{"$f":"IFERROR(VLOOKUP(Z210,CadMP!$B:$D,2,0),\"\")","v":""},{"$f":"IFERROR(VLOOKUP(AA210,CadMP!$B:$D,2,0),\"\")","v":""},{"$f":"IFERROR(VLOOKUP(AB210,CadMP!$B:$D,2,0),\"\")","v":""},{"$f":"IFERROR(VLOOKUP(AC210,CadMP!$B:$D,2,0),\"\")","v":""},{"$f":"IFERROR(VLOOKUP(AD210,CadMP!$B:$D,2,0),\"\")","v":""},{"$f":"IFERROR(VLOOKUP(AE210,CadMP!$B:$D,2,0),\"\")","v":""},{"$f":"IFERROR(VLOOKUP(AF210,CadMP!$B:$D,2,0),\"\")","v":""},{"$f":"IFERROR(VLOOKUP(AG210,CadMP!$B:$D,2,0),\"\")","v":""},{"$f":"IFERROR(VLOOKUP(AH210,CadMP!$B:$D,2,0),\"\")","v":""},{"$f":"IFERROR(VLOOKUP(AI210,CadMP!$B:$D,2,0),\"\")","v":""},{"$f":"IFERROR(VLOOKUP(AJ210,CadMP!$B:$D,2,0),\"\")","v":""},{"$f":"IFERROR(VLOOKUP(AK210,CadMP!$B:$D,2,0),\"\")","v":""},{"$f":"IFERROR(VLOOKUP(W210,CadMP!$B:$D,3,0),\"\")","v":""},{"$f":"IFERROR(VLOOKUP(X210,CadMP!$B:$D,3,0),\"\")","v":""},{"$f":"IFERROR(VLOOKUP(Y210,CadMP!$B:$D,3,0),\"\")","v":""},{"$f":"IFERROR(VLOOKUP(Z210,CadMP!$B:$D,3,0),\"\")","v":""},{"$f":"IFERROR(VLOOKUP(AA210,CadMP!$B:$D,3,0),\"\")","v":""},{"$f":"IFERROR(VLOOKUP(AB210,CadMP!$B:$D,3,0),\"\")","v":""},{"$f":"IFERROR(VLOOKUP(AC210,CadMP!$B:$D,3,0),\"\")","v":""},{"$f":"IFERROR(VLOOKUP(AD210,CadMP!$B:$D,3,0),\"\")","v":""},{"$f":"IFERROR(VLOOKUP(AE210,CadMP!$B:$D,3,0),\"\")","v":""},{"$f":"IFERROR(VLOOKUP(AF210,CadMP!$B:$D,3,0),\"\")","v":""},{"$f":"IFERROR(VLOOKUP(AG210,CadMP!$B:$D,3,0),\"\")","v":""},{"$f":"IFERROR(VLOOKUP(AH210,CadMP!$B:$D,3,0),\"\")","v":""},{"$f":"IFERROR(VLOOKUP(AI210,CadMP!$B:$D,3,0),\"\")","v":""},{"$f":"IFERROR(VLOOKUP(AJ210,CadMP!$B:$D,3,0),\"\")","v":""},{"$f":"IFERROR(VLOOKUP(AK210,CadMP!$B:$D,3,0),\"\")","v":""},0,0,0,0,0,0,0,0,0,0,0,0,0,0,0]
[210,null,null,0,0,null,null,null,null,null,null,0,0,null,null,null,null,null,null,null,1,0,null,null,null,null,null,null,null,null,null,null,null,null,null,null,null,null,null,null,null,null,null,null,null,null,null,null,null,null,null,null,{"$f":"IFERROR(VLOOKUP(W211,CadMP!$B:$D,2,0),\"\")","v":""},{"$f":"IFERROR(VLOOKUP(X211,CadMP!$B:$D,2,0),\"\")","v":""},{"$f":"IFERROR(VLOOKUP(Y211,CadMP!$B:$D,2,0),\"\")","v":""},{"$f":"IFERROR(VLOOKUP(Z211,CadMP!$B:$D,2,0),\"\")","v":""},{"$f":"IFERROR(VLOOKUP(AA211,CadMP!$B:$D,2,0),\"\")","v":""},{"$f":"IFERROR(VLOOKUP(AB211,CadMP!$B:$D,2,0),\"\")","v":""},{"$f":"IFERROR(VLOOKUP(AC211,CadMP!$B:$D,2,0),\"\")","v":""},{"$f":"IFERROR(VLOOKUP(AD211,CadMP!$B:$D,2,0),\"\")","v":""},{"$f":"IFERROR(VLOOKUP(AE211,CadMP!$B:$D,2,0),\"\")","v":""},{"$f":"IFERROR(VLOOKUP(AF211,CadMP!$B:$D,2,0),\"\")","v":""},{"$f":"IFERROR(VLOOKUP(AG211,CadMP!$B:$D,2,0),\"\")","v":""},{"$f":"IFERROR(VLOOKUP(AH211,CadMP!$B:$D,2,0),\"\")","v":""},{"$f":"IFERROR(VLOOKUP(AI211,CadMP!$B:$D,2,0),\"\")","v":""},{"$f":"IFERROR(VLOOKUP(AJ211,CadMP!$B:$D,2,0),\"\")","v":""},{"$f":"IFERROR(VLOOKUP(AK211,CadMP!$B:$D,2,0),\"\")","v":""},{"$f":"IFERROR(VLOOKUP(W211,CadMP!$B:$D,3,0),\"\")","v":""},{"$f":"IFERROR(VLOOKUP(X211,CadMP!$B:$D,3,0),\"\")","v":""},{"$f":"IFERROR(VLOOKUP(Y211,CadMP!$B:$D,3,0),\"\")","v":""},{"$f":"IFERROR(VLOOKUP(Z211,CadMP!$B:$D,3,0),\"\")","v":""},{"$f":"IFERROR(VLOOKUP(AA211,CadMP!$B:$D,3,0),\"\")","v":""},{"$f":"IFERROR(VLOOKUP(AB211,CadMP!$B:$D,3,0),\"\")","v":""},{"$f":"IFERROR(VLOOKUP(AC211,CadMP!$B:$D,3,0),\"\")","v":""},{"$f":"IFERROR(VLOOKUP(AD211,CadMP!$B:$D,3,0),\"\")","v":""},{"$f":"IFERROR(VLOOKUP(AE211,CadMP!$B:$D,3,0),\"\")","v":""},{"$f":"IFERROR(VLOOKUP(AF211,CadMP!$B:$D,3,0),\"\")","v":""},{"$f":"IFERROR(VLOOKUP(AG211,CadMP!$B:$D,3,0),\"\")","v":""},{"$f":"IFERROR(VLOOKUP(AH211,CadMP!$B:$D,3,0),\"\")","v":""},{"$f":"IFERROR(VLOOKUP(AI211,CadMP!$B:$D,3,0),\"\")","v":""},{"$f":"IFERROR(VLOOKUP(AJ211,CadMP!$B:$D,3,0),\"\")","v":""},{"$f":"IFERROR(VLOOKUP(AK211,CadMP!$B:$D,3,0),\"\")","v":""},0,0,0,0,0,0,0,0,0,0,0,0,0,0,0]
[211,null,null,0,0,null,null,null,null,null,null,0,0,null,null,null,null,null,null,null,1,0,null,null,null,null,null,null,null,null,null,null,null,null,null,null,null,null,null,null,null,null,null,null,null,null,null,null,null,null,null,null,{"$f":"IFERROR(VLOOKUP(W212,CadMP!$B:$D,2,0),\"\")","v":""},{"$f":"IFERROR(VLOOKUP(X212,CadMP!$B:$D,2,0),\"\")","v":""},{"$f":"IFERROR(VLOOKUP(Y212,CadMP!$B:$D,2,0),\"\")","v":""},{"$f":"IFERROR(VLOOKUP(Z212,CadMP!$B:$D,2,0),\"\")","v":""},{"$f":"IFERROR(VLOOKUP(AA212,CadMP!$B:$D,2,0),\"\")","v":""},{"$f":"IFERROR(VLOOKUP(AB212,CadMP!$B:$D,2,0),\"\")","v":""},{"$f":"IFERROR(VLOOKUP(AC212,CadMP!$B:$D,2,0),\"\")","v":""},{"$f":"IFERROR(VLOOKUP(AD212,CadMP!$B:$D,2,0),\"\")","v":""},{"$f":"IFERROR(VLOOKUP(AE212,CadMP!$B:$D,2,0),\"\")","v":""},{"$f":"IFERROR(VLOOKUP(AF212,CadMP!$B:$D,2,0),\"\")","v":""},{"$f":"IFERROR(VLOOKUP(AG212,CadMP!$B:$D,2,0),\"\")","v":""},{"$f":"IFERROR(VLOOKUP(AH212,CadMP!$B:$D,2,0),\"\")","v":""},{"$f":"IFERROR(VLOOKUP(AI212,CadMP!$B:$D,2,0),\"\")","v":""},{"$f":"IFERROR(VLOOKUP(AJ212,CadMP!$B:$D,2,0),\"\")","v":""},{"$f":"IFERROR(VLOOKUP(AK212,CadMP!$B:$D,2,0),\"\")","v":""},{"$f":"IFERROR(VLOOKUP(W212,CadMP!$B:$D,3,0),\"\")","v":""},{"$f":"IFERROR(VLOOKUP(X212,CadMP!$B:$D,3,0),\"\")","v":""},{"$f":"IFERROR(VLOOKUP(Y212,CadMP!$B:$D,3,0),\"\")","v":""},{"$f":"IFERROR(VLOOKUP(Z212,CadMP!$B:$D,3,0),\"\")","v":""},{"$f":"IFERROR(VLOOKUP(AA212,CadMP!$B:$D,3,0),\"\")","v":""},{"$f":"IFERROR(VLOOKUP(AB212,CadMP!$B:$D,3,0),\"\")","v":""},{"$f":"IFERROR(VLOOKUP(AC212,CadMP!$B:$D,3,0),\"\")","v":""},{"$f":"IFERROR(VLOOKUP(AD212,CadMP!$B:$D,3,0),\"\")","v":""},{"$f":"IFERROR(VLOOKUP(AE212,CadMP!$B:$D,3,0),\"\")","v":""},{"$f":"IFERROR(VLOOKUP(AF212,CadMP!$B:$D,3,0),\"\")","v":""},{"$f":"IFERROR(VLOOKUP(AG212,CadMP!$B:$D,3,0),\"\")","v":""},{"$f":"IFERROR(VLOOKUP(AH212,CadMP!$B:$D,3,0),\"\")","v":""},{"$f":"IFERROR(VLOOKUP(AI212,CadMP!$B:$D,3,0),\"\")","v":""},{"$f":"IFERROR(VLOOKUP(AJ212,CadMP!$B:$D,3,0),\"\")","v":""},{"$f":"IFERROR(VLOOKUP(AK212,CadMP!$B:$D,3,0),\"\")","v":""},0,0,0,0,0,0,0,0,0,0,0,0,0,0,0]
[212,null,null,0,0,null,null,null,null,null,null,0,0,null,null,null,null,null,null,null,1,0,null,null,null,null,null,null,null,null,null,null,null,null,null,null,null,null,null,null,null,null,null,null,null,null,null,null,null,null,null,null,{"$f":"IFERROR(VLOOKUP(W213,CadMP!$B:$D,2,0),\"\")","v":""},{"$f":"IFERROR(VLOOKUP(X213,CadMP!$B:$D,2,0),\"\")","v":""},{"$f":"IFERROR(VLOOKUP(Y213,CadMP!$B:$D,2,0),\"\")","v":""},{"$f":"IFERROR(VLOOKUP(Z213,CadMP!$B:$D,2,0),\"\")","v":""},{"$f":"IFERROR(VLOOKUP(AA213,CadMP!$B:$D,2,0),\"\")","v":""},{"$f":"IFERROR(VLOOKUP(AB213,CadMP!$B:$D,2,0),\"\")","v":""},{"$f":"IFERROR(VLOOKUP(AC213,CadMP!$B:$D,2,0),\"\")","v":""},{"$f":"IFERROR(VLOOKUP(AD213,CadMP!$B:$D,2,0),\"\")","v":""},{"$f":"IFERROR(VLOOKUP(AE213,CadMP!$B:$D,2,0),\"\")","v":""},{"$f":"IFERROR(VLOOKUP(AF213,CadMP!$B:$D,2,0),\"\")","v":""},{"$f":"IFERROR(VLOOKUP(AG213,CadMP!$B:$D,2,0),\"\")","v":""},{"$f":"IFERROR(VLOOKUP(AH213,CadMP!$B:$D,2,0),\"\")","v":""},{"$f":"IFERROR(VLOOKUP(AI213,CadMP!$B:$D,2,0),\"\")","v":""},{"$f":"IFERROR(VLOOKUP(AJ213,CadMP!$B:$D,2,0),\"\")","v":""},{"$f":"IFERROR(VLOOKUP(AK213,CadMP!$B:$D,2,0),\"\")","v":""},{"$f":"IFERROR(VLOOKUP(W213,CadMP!$B:$D,3,0),\"\")","v":""},{"$f":"IFERROR(VLOOKUP(X213,CadMP!$B:$D,3,0),\"\")","v":""},{"$f":"IFERROR(VLOOKUP(Y213,CadMP!$B:$D,3,0),\"\")","v":""},{"$f":"IFERROR(VLOOKUP(Z213,CadMP!$B:$D,3,0),\"\")","v":""},{"$f":"IFERROR(VLOOKUP(AA213,CadMP!$B:$D,3,0),\"\")","v":""},{"$f":"IFERROR(VLOOKUP(AB213,CadMP!$B:$D,3,0),\"\")","v":""},{"$f":"IFERROR(VLOOKUP(AC213,CadMP!$B:$D,3,0),\"\")","v":""},{"$f":"IFERROR(VLOOKUP(AD213,CadMP!$B:$D,3,0),\"\")","v":""},{"$f":"IFERROR(VLOOKUP(AE213,CadMP!$B:$D,3,0),\"\")","v":""},{"$f":"IFERROR(VLOOKUP(AF213,CadMP!$B:$D,3,0),\"\")","v":""},{"$f":"IFERROR(VLOOKUP(AG213,CadMP!$B:$D,3,0),\"\")","v":""},{"$f":"IFERROR(VLOOKUP(AH213,CadMP!$B:$D,3,0),\"\")","v":""},{"$f":"IFERROR(VLOOKUP(AI213,CadMP!$B:$D,3,0),\"\")","v":""},{"$f":"IFERROR(VLOOKUP(AJ213,CadMP!$B:$D,3,0),\"\")","v":""},{"$f":"IFERROR(VLOOKUP(AK213,CadMP!$B:$D,3,0),\"\")","v":""},0,0,0,0,0,0,0,0,0,0,0,0,0,0,0]
[213,null,null,0,0,null,null,null,null,null,null,0,0,null,null,null,null,null,null,null,1,0,null,null,null,null,null,null,null,null,null,null,null,null,null,null,null,null,null,null,null,null,null,null,null,null,null,null,null,null,null,null,{"$f":"IFERROR(VLOOKUP(W214,CadMP!$B:$D,2,0),\"\")","v":""},{"$f":"IFERROR(VLOOKUP(X214,CadMP!$B:$D,2,0),\"\")","v":""},{"$f":"IFERROR(VLOOKUP(Y214,CadMP!$B:$D,2,0),\"\")","v":""},{"$f":"IFERROR(VLOOKUP(Z214,CadMP!$B:$D,2,0),\"\")","v":""},{"$f":"IFERROR(VLOOKUP(AA214,CadMP!$B:$D,2,0),\"\")","v":""},{"$f":"IFERROR(VLOOKUP(AB214,CadMP!$B:$D,2,0),\"\")","v":""},{"$f":"IFERROR(VLOOKUP(AC214,CadMP!$B:$D,2,0),\"\")","v":""},{"$f":"IFERROR(VLOOKUP(AD214,CadMP!$B:$D,2,0),\"\")","v":""},{"$f":"IFERROR(VLOOKUP(AE214,CadMP!$B:$D,2,0),\"\")","v":""},{"$f":"IFERROR(VLOOKUP(AF214,CadMP!$B:$D,2,0),\"\")","v":""},{"$f":"IFERROR(VLOOKUP(AG214,CadMP!$B:$D,2,0),\"\")","v":""},{"$f":"IFERROR(VLOOKUP(AH214,CadMP!$B:$D,2,0),\"\")","v":""},{"$f":"IFERROR(VLOOKUP(AI214,CadMP!$B:$D,2,0),\"\")","v":""},{"$f":"IFERROR(VLOOKUP(AJ214,CadMP!$B:$D,2,0),\"\")","v":""},{"$f":"IFERROR(VLOOKUP(AK214,CadMP!$B:$D,2,0),\"\")","v":""},{"$f":"IFERROR(VLOOKUP(W214,CadMP!$B:$D,3,0),\"\")","v":""},{"$f":"IFERROR(VLOOKUP(X214,CadMP!$B:$D,3,0),\"\")","v":""},{"$f":"IFERROR(VLOOKUP(Y214,CadMP!$B:$D,3,0),\"\")","v":""},{"$f":"IFERROR(VLOOKUP(Z214,CadMP!$B:$D,3,0),\"\")","v":""},{"$f":"IFERROR(VLOOKUP(AA214,CadMP!$B:$D,3,0),\"\")","v":""},{"$f":"IFERROR(VLOOKUP(AB214,CadMP!$B:$D,3,0),\"\")","v":""},{"$f":"IFERROR(VLOOKUP(AC214,CadMP!$B:$D,3,0),\"\")","v":""},{"$f":"IFERROR(VLOOKUP(AD214,CadMP!$B:$D,3,0),\"\")","v":""},{"$f":"IFERROR(VLOOKUP(AE214,CadMP!$B:$D,3,0),\"\")","v":""},{"$f":"IFERROR(VLOOKUP(AF214,CadMP!$B:$D,3,0),\"\")","v":""},{"$f":"IFERROR(VLOOKUP(AG214,CadMP!$B:$D,3,0),\"\")","v":""},{"$f":"IFERROR(VLOOKUP(AH214,CadMP!$B:$D,3,0),\"\")","v":""},{"$f":"IFERROR(VLOOKUP(AI214,CadMP!$B:$D,3,0),\"\")","v":""},{"$f":"IFERROR(VLOOKUP(AJ214,CadMP!$B:$D,3,0),\"\")","v":""},{"$f":"IFERROR(VLOOKUP(AK214,CadMP!$B:$D,3,0),\"\")","v":""},0,0,0,0,0,0,0,0,0,0,0,0,0,0,0]
[214,null,null,0,0,null,null,null,null,null,null,0,0,null,null,null,null,null,null,null,1,0,null,null,null,null,null,null,null,null,null,null,null,null,null,null,null,null,null,null,null,null,null,null,null,null,null,null,null,null,null,null,{"$f":"IFERROR(VLOOKUP(W215,CadMP!$B:$D,2,0),\"\")","v":""},{"$f":"IFERROR(VLOOKUP(X215,CadMP!$B:$D,2,0),\"\")","v":""},{"$f":"IFERROR(VLOOKUP(Y215,CadMP!$B:$D,2,0),\"\")","v":""},{"$f":"IFERROR(VLOOKUP(Z215,CadMP!$B:$D,2,0),\"\")","v":""},{"$f":"IFERROR(VLOOKUP(AA215,CadMP!$B:$D,2,0),\"\")","v":""},{"$f":"IFERROR(VLOOKUP(AB215,CadMP!$B:$D,2,0),\"\")","v":""},{"$f":"IFERROR(VLOOKUP(AC215,CadMP!$B:$D,2,0),\"\")","v":""},{"$f":"IFERROR(VLOOKUP(AD215,CadMP!$B:$D,2,0),\"\")","v":""},{"$f":"IFERROR(VLOOKUP(AE215,CadMP!$B:$D,2,0),\"\")","v":""},{"$f":"IFERROR(VLOOKUP(AF215,CadMP!$B:$D,2,0),\"\")","v":""},{"$f":"IFERROR(VLOOKUP(AG215,CadMP!$B:$D,2,0),\"\")","v":""},{"$f":"IFERROR(VLOOKUP(AH215,CadMP!$B:$D,2,0),\"\")","v":""},{"$f":"IFERROR(VLOOKUP(AI215,CadMP!$B:$D,2,0),\"\")","v":""},{"$f":"IFERROR(VLOOKUP(AJ215,CadMP!$B:$D,2,0),\"\")","v":""},{"$f":"IFERROR(VLOOKUP(AK215,CadMP!$B:$D,2,0),\"\")","v":""},{"$f":"IFERROR(VLOOKUP(W215,CadMP!$B:$D,3,0),\"\")","v":""},{"$f":"IFERROR(VLOOKUP(X215,CadMP!$B:$D,3,0),\"\")","v":""},{"$f":"IFERROR(VLOOKUP(Y215,CadMP!$B:$D,3,0),\"\")","v":""},{"$f":"IFERROR(VLOOKUP(Z215,CadMP!$B:$D,3,0),\"\")","v":""},{"$f":"IFERROR(VLOOKUP(AA215,CadMP!$B:$D,3,0),\"\")","v":""},{"$f":"IFERROR(VLOOKUP(AB215,CadMP!$B:$D,3,0),\"\")","v":""},{"$f":"IFERROR(VLOOKUP(AC215,CadMP!$B:$D,3,0),\"\")","v":""},{"$f":"IFERROR(VLOOKUP(AD215,CadMP!$B:$D,3,0),\"\")","v":""},{"$f":"IFERROR(VLOOKUP(AE215,CadMP!$B:$D,3,0),\"\")","v":""},{"$f":"IFERROR(VLOOKUP(AF215,CadMP!$B:$D,3,0),\"\")","v":""},{"$f":"IFERROR(VLOOKUP(AG215,CadMP!$B:$D,3,0),\"\")","v":""},{"$f":"IFERROR(VLOOKUP(AH215,CadMP!$B:$D,3,0),\"\")","v":""},{"$f":"IFERROR(VLOOKUP(AI215,CadMP!$B:$D,3,0),\"\")","v":""},{"$f":"IFERROR(VLOOKUP(AJ215,CadMP!$B:$D,3,0),\"\")","v":""},{"$f":"IFERROR(VLOOKUP(AK215,CadMP!$B:$D,3,0),\"\")","v":""},0,0,0,0,0,0,0,0,0,0,0,0,0,0,0]
[215,null,null,0,0,null,null,null,null,null,null,0,0,null,null,null,null,null,null,null,1,0,null,null,null,null,null,null,null,null,null,null,null,null,null,null,null,null,null,null,null,null,null,null,null,null,null,null,null,null,null,null,{"$f":"IFERROR(VLOOKUP(W216,CadMP!$B:$D,2,0),\"\")","v":""},{"$f":"IFERROR(VLOOKUP(X216,CadMP!$B:$D,2,0),\"\")","v":""},{"$f":"IFERROR(VLOOKUP(Y216,CadMP!$B:$D,2,0),\"\")","v":""},{"$f":"IFERROR(VLOOKUP(Z216,CadMP!$B:$D,2,0),\"\")","v":""},{"$f":"IFERROR(VLOOKUP(AA216,CadMP!$B:$D,2,0),\"\")","v":""},{"$f":"IFERROR(VLOOKUP(AB216,CadMP!$B:$D,2,0),\"\")","v":""},{"$f":"IFERROR(VLOOKUP(AC216,CadMP!$B:$D,2,0),\"\")","v":""},{"$f":"IFERROR(VLOOKUP(AD216,CadMP!$B:$D,2,0),\"\")","v":""},{"$f":"IFERROR(VLOOKUP(AE216,CadMP!$B:$D,2,0),\"\")","v":""},{"$f":"IFERROR(VLOOKUP(AF216,CadMP!$B:$D,2,0),\"\")","v":""},{"$f":"IFERROR(VLOOKUP(AG216,CadMP!$B:$D,2,0),\"\")","v":""},{"$f":"IFERROR(VLOOKUP(AH216,CadMP!$B:$D,2,0),\"\")","v":""},{"$f":"IFERROR(VLOOKUP(AI216,CadMP!$B:$D,2,0),\"\")","v":""},{"$f":"IFERROR(VLOOKUP(AJ216,CadMP!$B:$D,2,0),\"\")","v":""},{"$f":"IFERROR(VLOOKUP(AK216,CadMP!$B:$D,2,0),\"\")","v":""},{"$f":"IFERROR(VLOOKUP(W216,CadMP!$B:$D,3,0),\"\")","v":""},{"$f":"IFERROR(VLOOKUP(X216,CadMP!$B:$D,3,0),\"\")","v":""},{"$f":"IFERROR(VLOOKUP(Y216,CadMP!$B:$D,3,0),\"\")","v":""},{"$f":"IFERROR(VLOOKUP(Z216,CadMP!$B:$D,3,0),\"\")","v":""},{"$f":"IFERROR(VLOOKUP(AA216,CadMP!$B:$D,3,0),\"\")","v":""},{"$f":"IFERROR(VLOOKUP(AB216,CadMP!$B:$D,3,0),\"\")","v":""},{"$f":"IFERROR(VLOOKUP(AC216,CadMP!$B:$D,3,0),\"\")","v":""},{"$f":"IFERROR(VLOOKUP(AD216,CadMP!$B:$D,3,0),\"\")","v":""},{"$f":"IFERROR(VLOOKUP(AE216,CadMP!$B:$D,3,0),\"\")","v":""},{"$f":"IFERROR(VLOOKUP(AF216,CadMP!$B:$D,3,0),\"\")","v":""},{"$f":"IFERROR(VLOOKUP(AG216,CadMP!$B:$D,3,0),\"\")","v":""},{"$f":"IFERROR(VLOOKUP(AH216,CadMP!$B:$D,3,0),\"\")","v":""},{"$f":"IFERROR(VLOOKUP(AI216,CadMP!$B:$D,3,0),\"\")","v":""},{"$f":"IFERROR(VLOOKUP(AJ216,CadMP!$B:$D,3,0),\"\")","v":""},{"$f":"IFERROR(VLOOKUP(AK216,CadMP!$B:$D,3,0),\"\")","v":""},0,0,0,0,0,0,0,0,0,0,0,0,0,0,0]
[216,null,null,0,0,null,null,null,null,null,null,0,0,null,null,null,null,null,null,null,1,0,null,null,null,null,null,null,null,null,null,null,null,null,null,null,null,null,null,null,null,null,null,null,null,null,null,null,null,null,null,null,{"$f":"IFERROR(VLOOKUP(W217,CadMP!$B:$D,2,0),\"\")","v":""},{"$f":"IFERROR(VLOOKUP(X217,CadMP!$B:$D,2,0),\"\")","v":""},{"$f":"IFERROR(VLOOKUP(Y217,CadMP!$B:$D,2,0),\"\")","v":""},{"$f":"IFERROR(VLOOKUP(Z217,CadMP!$B:$D,2,0),\"\")","v":""},{"$f":"IFERROR(VLOOKUP(AA217,CadMP!$B:$D,2,0),\"\")","v":""},{"$f":"IFERROR(VLOOKUP(AB217,CadMP!$B:$D,2,0),\"\")","v":""},{"$f":"IFERROR(VLOOKUP(AC217,CadMP!$B:$D,2,0),\"\")","v":""},{"$f":"IFERROR(VLOOKUP(AD217,CadMP!$B:$D,2,0),\"\")","v":""},{"$f":"IFERROR(VLOOKUP(AE217,CadMP!$B:$D,2,0),\"\")","v":""},{"$f":"IFERROR(VLOOKUP(AF217,CadMP!$B:$D,2,0),\"\")","v":""},{"$f":"IFERROR(VLOOKUP(AG217,CadMP!$B:$D,2,0),\"\")","v":""},{"$f":"IFERROR(VLOOKUP(AH217,CadMP!$B:$D,2,0),\"\")","v":""},{"$f":"IFERROR(VLOOKUP(AI217,CadMP!$B:$D,2,0),\"\")","v":""},{"$f":"IFERROR(VLOOKUP(AJ217,CadMP!$B:$D,2,0),\"\")","v":""},{"$f":"IFERROR(VLOOKUP(AK217,CadMP!$B:$D,2,0),\"\")","v":""},{"$f":"IFERROR(VLOOKUP(W217,CadMP!$B:$D,3,0),\"\")","v":""},{"$f":"IFERROR(VLOOKUP(X217,CadMP!$B:$D,3,0),\"\")","v":""},{"$f":"IFERROR(VLOOKUP(Y217,CadMP!$B:$D,3,0),\"\")","v":""},{"$f":"IFERROR(VLOOKUP(Z217,CadMP!$B:$D,3,0),\"\")","v":""},{"$f":"IFERROR(VLOOKUP(AA217,CadMP!$B:$D,3,0),\"\")","v":""},{"$f":"IFERROR(VLOOKUP(AB217,CadMP!$B:$D,3,0),\"\")","v":""},{"$f":"IFERROR(VLOOKUP(AC217,CadMP!$B:$D,3,0),\"\")","v":""},{"$f":"IFERROR(VLOOKUP(AD217,CadMP!$B:$D,3,0),\"\")","v":""},{"$f":"IFERROR(VLOOKUP(AE217,CadMP!$B:$D,3,0),\"\")","v":""},{"$f":"IFERROR(VLOOKUP(AF217,CadMP!$B:$D,3,0),\"\")","v":""},{"$f":"IFERROR(VLOOKUP(AG217,CadMP!$B:$D,3,0),\"\")","v":""},{"$f":"IFERROR(VLOOKUP(AH217,CadMP!$B:$D,3,0),\"\")","v":""},{"$f":"IFERROR(VLOOKUP(AI217,CadMP!$B:$D,3,0),\"\")","v":""},{"$f":"IFERROR(VLOOKUP(AJ217,CadMP!$B:$D,3,0),\"\")","v":""},{"$f":"IFERROR(VLOOKUP(AK217,CadMP!$B:$D,3,0),\"\")","v":""},0,0,0,0,0,0,0,0,0,0,0,0,0,0,0]
[217,null,null,0,0,null,null,null,null,null,null,0,0,null,null,null,null,null,null,null,1,0,null,null,null,null,null,null,null,null,null,null,null,null,null,null,null,null,null,null,null,null,null,null,null,null,null,null,null,null,null,null,{"$f":"IFERROR(VLOOKUP(W218,CadMP!$B:$D,2,0),\"\")","v":""},{"$f":"IFERROR(VLOOKUP(X218,CadMP!$B:$D,2,0),\"\")","v":""},{"$f":"IFERROR(VLOOKUP(Y218,CadMP!$B:$D,2,0),\"\")","v":""},{"$f":"IFERROR(VLOOKUP(Z218,CadMP!$B:$D,2,0),\"\")","v":""},{"$f":"IFERROR(VLOOKUP(AA218,CadMP!$B:$D,2,0),\"\")","v":""},{"$f":"IFERROR(VLOOKUP(AB218,CadMP!$B:$D,2,0),\"\")","v":""},{"$f":"IFERROR(VLOOKUP(AC218,CadMP!$B:$D,2,0),\"\")","v":""},{"$f":"IFERROR(VLOOKUP(AD218,CadMP!$B:$D,2,0),\"\")","v":""},{"$f":"IFERROR(VLOOKUP(AE218,CadMP!$B:$D,2,0),\"\")","v":""},{"$f":"IFERROR(VLOOKUP(AF218,CadMP!$B:$D,2,0),\"\")","v":""},{"$f":"IFERROR(VLOOKUP(AG218,CadMP!$B:$D,2,0),\"\")","v":""},{"$f":"IFERROR(VLOOKUP(AH218,CadMP!$B:$D,2,0),\"\")","v":""},{"$f":"IFERROR(VLOOKUP(AI218,CadMP!$B:$D,2,0),\"\")","v":""},{"$f":"IFERROR(VLOOKUP(AJ218,CadMP!$B:$D,2,0),\"\")","v":""},{"$f":"IFERROR(VLOOKUP(AK218,CadMP!$B:$D,2,0),\"\")","v":""},{"$f":"IFERROR(VLOOKUP(W218,CadMP!$B:$D,3,0),\"\")","v":""},{"$f":"IFERROR(VLOOKUP(X218,CadMP!$B:$D,3,0),\"\")","v":""},{"$f":"IFERROR(VLOOKUP(Y218,CadMP!$B:$D,3,0),\"\")","v":""},{"$f":"IFERROR(VLOOKUP(Z218,CadMP!$B:$D,3,0),\"\")","v":""},{"$f":"IFERROR(VLOOKUP(AA218,CadMP!$B:$D,3,0),\"\")","v":""},{"$f":"IFERROR(VLOOKUP(AB218,CadMP!$B:$D,3,0),\"\")","v":""},{"$f":"IFERROR(VLOOKUP(AC218,CadMP!$B:$D,3,0),\"\")","v":""},{"$f":"IFERROR(VLOOKUP(AD218,CadMP!$B:$D,3,0),\"\")","v":""},{"$f":"IFERROR(VLOOKUP(AE218,CadMP!$B:$D,3,0),\"\")","v":""},{"$f":"IFERROR(VLOOKUP(AF218,CadMP!$B:$D,3,0),\"\")","v":""},{"$f":"IFERROR(VLOOKUP(AG218,CadMP!$B:$D,3,0),\"\")","v":""},{"$f":"IFERROR(VLOOKUP(AH218,CadMP!$B:$D,3,0),\"\")","v":""},{"$f":"IFERROR(VLOOKUP(AI218,CadMP!$B:$D,3,0),\"\")","v":""},{"$f":"IFERROR(VLOOKUP(AJ218,CadMP!$B:$D,3,0),\"\")","v":""},{"$f":"IFERROR(VLOOKUP(AK218,CadMP!$B:$D,3,0),\"\")","v":""},0,0,0,0,0,0,0,0,0,0,0,0,0,0,0]
[218,null,null,0,0,null,null,null,null,null,null,0,0,null,null,null,null,null,null,null,1,0,null,null,null,null,null,null,null,null,null,null,null,null,null,null,null,null,null,null,null,null,null,null,null,null,null,null,null,null,null,null,{"$f":"IFERROR(VLOOKUP(W219,CadMP!$B:$D,2,0),\"\")","v":""},{"$f":"IFERROR(VLOOKUP(X219,CadMP!$B:$D,2,0),\"\")","v":""},{"$f":"IFERROR(VLOOKUP(Y219,CadMP!$B:$D,2,0),\"\")","v":""},{"$f":"IFERROR(VLOOKUP(Z219,CadMP!$B:$D,2,0),\"\")","v":""},{"$f":"IFERROR(VLOOKUP(AA219,CadMP!$B:$D,2,0),\"\")","v":""},{"$f":"IFERROR(VLOOKUP(AB219,CadMP!$B:$D,2,0),\"\")","v":""},{"$f":"IFERROR(VLOOKUP(AC219,CadMP!$B:$D,2,0),\"\")","v":""},{"$f":"IFERROR(VLOOKUP(AD219,CadMP!$B:$D,2,0),\"\")","v":""},{"$f":"IFERROR(VLOOKUP(AE219,CadMP!$B:$D,2,0),\"\")","v":""},{"$f":"IFERROR(VLOOKUP(AF219,CadMP!$B:$D,2,0),\"\")","v":""},{"$f":"IFERROR(VLOOKUP(AG219,CadMP!$B:$D,2,0),\"\")","v":""},{"$f":"IFERROR(VLOOKUP(AH219,CadMP!$B:$D,2,0),\"\")","v":""},{"$f":"IFERROR(VLOOKUP(AI219,CadMP!$B:$D,2,0),\"\")","v":""},{"$f":"IFERROR(VLOOKUP(AJ219,CadMP!$B:$D,2,0),\"\")","v":""},{"$f":"IFERROR(VLOOKUP(AK219,CadMP!$B:$D,2,0),\"\")","v":""},{"$f":"IFERROR(VLOOKUP(W219,CadMP!$B:$D,3,0),\"\")","v":""},{"$f":"IFERROR(VLOOKUP(X219,CadMP!$B:$D,3,0),\"\")","v":""},{"$f":"IFERROR(VLOOKUP(Y219,CadMP!$B:$D,3,0),\"\")","v":""},{"$f":"IFERROR(VLOOKUP(Z219,CadMP!$B:$D,3,0),\"\")","v":""},{"$f":"IFERROR(VLOOKUP(AA219,CadMP!$B:$D,3,0),\"\")","v":""},{"$f":"IFERROR(VLOOKUP(AB219,CadMP!$B:$D,3,0),\"\")","v":""},{"$f":"IFERROR(VLOOKUP(AC219,CadMP!$B:$D,3,0),\"\")","v":""},{"$f":"IFERROR(VLOOKUP(AD219,CadMP!$B:$D,3,0),\"\")","v":""},{"$f":"IFERROR(VLOOKUP(AE219,CadMP!$B:$D,3,0),\"\")","v":""},{"$f":"IFERROR(VLOOKUP(AF219,CadMP!$B:$D,3,0),\"\")","v":""},{"$f":"IFERROR(VLOOKUP(AG219,CadMP!$B:$D,3,0),\"\")","v":""},{"$f":"IFERROR(VLOOKUP(AH219,CadMP!$B:$D,3,0),\"\")","v":""},{"$f":"IFERROR(VLOOKUP(AI219,CadMP!$B:$D,3,0),\"\")","v":""},{"$f":"IFERROR(VLOOKUP(AJ219,CadMP!$B:$D,3,0),\"\")","v":""},{"$f":"IFERROR(VLOOKUP(AK219,CadMP!$B:$D,3,0),\"\")","v":""},0,0,0,0,0,0,0,0,0,0,0,0,0,0,0]
[219,null,null,0,0,null,null,null,null,null,null,0,0,null,null,null,null,null,null,null,1,0,null,null,null,null,null,null,null,null,null,null,null,null,null,null,null,null,null,null,null,null,null,null,null,null,null,null,null,null,null,null,{"$f":"IFERROR(VLOOKUP(W220,CadMP!$B:$D,2,0),\"\")","v":""},{"$f":"IFERROR(VLOOKUP(X220,CadMP!$B:$D,2,0),\"\")","v":""},{"$f":"IFERROR(VLOOKUP(Y220,CadMP!$B:$D,2,0),\"\")","v":""},{"$f":"IFERROR(VLOOKUP(Z220,CadMP!$B:$D,2,0),\"\")","v":""},{"$f":"IFERROR(VLOOKUP(AA220,CadMP!$B:$D,2,0),\"\")","v":""},{"$f":"IFERROR(VLOOKUP(AB220,CadMP!$B:$D,2,0),\"\")","v":""},{"$f":"IFERROR(VLOOKUP(AC220,CadMP!$B:$D,2,0),\"\")","v":""},{"$f":"IFERROR(VLOOKUP(AD220,CadMP!$B:$D,2,0),\"\")","v":""},{"$f":"IFERROR(VLOOKUP(AE220,CadMP!$B:$D,2,0),\"\")","v":""},{"$f":"IFERROR(VLOOKUP(AF220,CadMP!$B:$D,2,0),\"\")","v":""},{"$f":"IFERROR(VLOOKUP(AG220,CadMP!$B:$D,2,0),\"\")","v":""},{"$f":"IFERROR(VLOOKUP(AH220,CadMP!$B:$D,2,0),\"\")","v":""},{"$f":"IFERROR(VLOOKUP(AI220,CadMP!$B:$D,2,0),\"\")","v":""},{"$f":"IFERROR(VLOOKUP(AJ220,CadMP!$B:$D,2,0),\"\")","v":""},{"$f":"IFERROR(VLOOKUP(AK220,CadMP!$B:$D,2,0),\"\")","v":""},{"$f":"IFERROR(VLOOKUP(W220,CadMP!$B:$D,3,0),\"\")","v":""},{"$f":"IFERROR(VLOOKUP(X220,CadMP!$B:$D,3,0),\"\")","v":""},{"$f":"IFERROR(VLOOKUP(Y220,CadMP!$B:$D,3,0),\"\")","v":""},{"$f":"IFERROR(VLOOKUP(Z220,CadMP!$B:$D,3,0),\"\")","v":""},{"$f":"IFERROR(VLOOKUP(AA220,CadMP!$B:$D,3,0),\"\")","v":""},{"$f":"IFERROR(VLOOKUP(AB220,CadMP!$B:$D,3,0),\"\")","v":""},{"$f":"IFERROR(VLOOKUP(AC220,CadMP!$B:$D,3,0),\"\")","v":""},{"$f":"IFERROR(VLOOKUP(AD220,CadMP!$B:$D,3,0),\"\")","v":""},{"$f":"IFERROR(VLOOKUP(AE220,CadMP!$B:$D,3,0),\"\")","v":""},{"$f":"IFERROR(VLOOKUP(AF220,CadMP!$B:$D,3,0),\"\")","v":""},{"$f":"IFERROR(VLOOKUP(AG220,CadMP!$B:$D,3,0),\"\")","v":""},{"$f":"IFERROR(VLOOKUP(AH220,CadMP!$B:$D,3,0),\"\")","v":""},{"$f":"IFERROR(VLOOKUP(AI220,CadMP!$B:$D,3,0),\"\")","v":""},{"$f":"IFERROR(VLOOKUP(AJ220,CadMP!$B:$D,3,0),\"\")","v":""},{"$f":"IFERROR(VLOOKUP(AK220,CadMP!$B:$D,3,0),\"\")","v":""},0,0,0,0,0,0,0,0,0,0,0,0,0,0,0]
[220,null,null,0,0,null,null,null,null,null,null,0,0,null,null,null,null,null,null,null,1,0,null,null,null,null,null,null,null,null,null,null,null,null,null,null,null,null,null,null,null,null,null,null,null,null,null,null,null,null,null,null,{"$f":"IFERROR(VLOOKUP(W221,CadMP!$B:$D,2,0),\"\")","v":""},{"$f":"IFERROR(VLOOKUP(X221,CadMP!$B:$D,2,0),\"\")","v":""},{"$f":"IFERROR(VLOOKUP(Y221,CadMP!$B:$D,2,0),\"\")","v":""},{"$f":"IFERROR(VLOOKUP(Z221,CadMP!$B:$D,2,0),\"\")","v":""},{"$f":"IFERROR(VLOOKUP(AA221,CadMP!$B:$D,2,0),\"\")","v":""},{"$f":"IFERROR(VLOOKUP(AB221,CadMP!$B:$D,2,0),\"\")","v":""},{"$f":"IFERROR(VLOOKUP(AC221,CadMP!$B:$D,2,0),\"\")","v":""},{"$f":"IFERROR(VLOOKUP(AD221,CadMP!$B:$D,2,0),\"\")","v":""},{"$f":"IFERROR(VLOOKUP(AE221,CadMP!$B:$D,2,0),\"\")","v":""},{"$f":"IFERROR(VLOOKUP(AF221,CadMP!$B:$D,2,0),\"\")","v":""},{"$f":"IFERROR(VLOOKUP(AG221,CadMP!$B:$D,2,0),\"\")","v":""},{"$f":"IFERROR(VLOOKUP(AH221,CadMP!$B:$D,2,0),\"\")","v":""},{"$f":"IFERROR(VLOOKUP(AI221,CadMP!$B:$D,2,0),\"\")","v":""},{"$f":"IFERROR(VLOOKUP(AJ221,CadMP!$B:$D,2,0),\"\")","v":""},{"$f":"IFERROR(VLOOKUP(AK221,CadMP!$B:$D,2,0),\"\")","v":""},{"$f":"IFERROR(VLOOKUP(W221,CadMP!$B:$D,3,0),\"\")","v":""},{"$f":"IFERROR(VLOOKUP(X221,CadMP!$B:$D,3,0),\"\")","v":""},{"$f":"IFERROR(VLOOKUP(Y221,CadMP!$B:$D,3,0),\"\")","v":""},{"$f":"IFERROR(VLOOKUP(Z221,CadMP!$B:$D,3,0),\"\")","v":""},{"$f":"IFERROR(VLOOKUP(AA221,CadMP!$B:$D,3,0),\"\")","v":""},{"$f":"IFERROR(VLOOKUP(AB221,CadMP!$B:$D,3,0),\"\")","v":""},{"$f":"IFERROR(VLOOKUP(AC221,CadMP!$B:$D,3,0),\"\")","v":""},{"$f":"IFERROR(VLOOKUP(AD221,CadMP!$B:$D,3,0),\"\")","v":""},{"$f":"IFERROR(VLOOKUP(AE221,CadMP!$B:$D,3,0),\"\")","v":""},{"$f":"IFERROR(VLOOKUP(AF221,CadMP!$B:$D,3,0),\"\")","v":""},{"$f":"IFERROR(VLOOKUP(AG221,CadMP!$B:$D,3,0),\"\")","v":""},{"$f":"IFERROR(VLOOKUP(AH221,CadMP!$B:$D,3,0),\"\")","v":""},{"$f":"IFERROR(VLOOKUP(AI221,CadMP!$B:$D,3,0),\"\")","v":""},{"$f":"IFERROR(VLOOKUP(AJ221,CadMP!$B:$D,3,0),\"\")","v":""},{"$f":"IFERROR(VLOOKUP(AK221,CadMP!$B:$D,3,0),\"\")","v":""},0,0,0,0,0,0,0,0,0,0,0,0,0,0,0]
[221,null,null,0,0,null,null,null,null,null,null,0,0,null,null,null,null,null,null,null,1,0,null,null,null,null,null,null,null,null,null,null,null,null,null,null,null,null,null,null,null,null,null,null,null,null,null,null,null,null,null,null,{"$f":"IFERROR(VLOOKUP(W222,CadMP!$B:$D,2,0),\"\")","v":""},{"$f":"IFERROR(VLOOKUP(X222,CadMP!$B:$D,2,0),\"\")","v":""},{"$f":"IFERROR(VLOOKUP(Y222,CadMP!$B:$D,2,0),\"\")","v":""},{"$f":"IFERROR(VLOOKUP(Z222,CadMP!$B:$D,2,0),\"\")","v":""},{"$f":"IFERROR(VLOOKUP(AA222,CadMP!$B:$D,2,0),\"\")","v":""},{"$f":"IFERROR(VLOOKUP(AB222,CadMP!$B:$D,2,0),\"\")","v":""},{"$f":"IFERROR(VLOOKUP(AC222,CadMP!$B:$D,2,0),\"\")","v":""},{"$f":"IFERROR(VLOOKUP(AD222,CadMP!$B:$D,2,0),\"\")","v":""},{"$f":"IFERROR(VLOOKUP(AE222,CadMP!$B:$D,2,0),\"\")","v":""},{"$f":"IFERROR(VLOOKUP(AF222,CadMP!$B:$D,2,0),\"\")","v":""},{"$f":"IFERROR(VLOOKUP(AG222,CadMP!$B:$D,2,0),\"\")","v":""},{"$f":"IFERROR(VLOOKUP(AH222,CadMP!$B:$D,2,0),\"\")","v":""},{"$f":"IFERROR(VLOOKUP(AI222,CadMP!$B:$D,2,0),\"\")","v":""},{"$f":"IFERROR(VLOOKUP(AJ222,CadMP!$B:$D,2,0),\"\")","v":""},{"$f":"IFERROR(VLOOKUP(AK222,CadMP!$B:$D,2,0),\"\")","v":""},{"$f":"IFERROR(VLOOKUP(W222,CadMP!$B:$D,3,0),\"\")","v":""},{"$f":"IFERROR(VLOOKUP(X222,CadMP!$B:$D,3,0),\"\")","v":""},{"$f":"IFERROR(VLOOKUP(Y222,CadMP!$B:$D,3,0),\"\")","v":""},{"$f":"IFERROR(VLOOKUP(Z222,CadMP!$B:$D,3,0),\"\")","v":""},{"$f":"IFERROR(VLOOKUP(AA222,CadMP!$B:$D,3,0),\"\")","v":""},{"$f":"IFERROR(VLOOKUP(AB222,CadMP!$B:$D,3,0),\"\")","v":""},{"$f":"IFERROR(VLOOKUP(AC222,CadMP!$B:$D,3,0),\"\")","v":""},{"$f":"IFERROR(VLOOKUP(AD222,CadMP!$B:$D,3,0),\"\")","v":""},{"$f":"IFERROR(VLOOKUP(AE222,CadMP!$B:$D,3,0),\"\")","v":""},{"$f":"IFERROR(VLOOKUP(AF222,CadMP!$B:$D,3,0),\"\")","v":""},{"$f":"IFERROR(VLOOKUP(AG222,CadMP!$B:$D,3,0),\"\")","v":""},{"$f":"IFERROR(VLOOKUP(AH222,CadMP!$B:$D,3,0),\"\")","v":""},{"$f":"IFERROR(VLOOKUP(AI222,CadMP!$B:$D,3,0),\"\")","v":""},{"$f":"IFERROR(VLOOKUP(AJ222,CadMP!$B:$D,3,0),\"\")","v":""},{"$f":"IFERROR(VLOOKUP(AK222,CadMP!$B:$D,3,0),\"\")","v":""},0,0,0,0,0,0,0,0,0,0,0,0,0,0,0]
[222,null,null,0,0,null,null,null,null,null,null,0,0,null,null,null,null,null,null,null,1,0,null,null,null,null,null,null,null,null,null,null,null,null,null,null,null,null,null,null,null,null,null,null,null,null,null,null,null,null,null,null,{"$f":"IFERROR(VLOOKUP(W223,CadMP!$B:$D,2,0),\"\")","v":""},{"$f":"IFERROR(VLOOKUP(X223,CadMP!$B:$D,2,0),\"\")","v":""},{"$f":"IFERROR(VLOOKUP(Y223,CadMP!$B:$D,2,0),\"\")","v":""},{"$f":"IFERROR(VLOOKUP(Z223,CadMP!$B:$D,2,0),\"\")","v":""},{"$f":"IFERROR(VLOOKUP(AA223,CadMP!$B:$D,2,0),\"\")","v":""},{"$f":"IFERROR(VLOOKUP(AB223,CadMP!$B:$D,2,0),\"\")","v":""},{"$f":"IFERROR(VLOOKUP(AC223,CadMP!$B:$D,2,0),\"\")","v":""},{"$f":"IFERROR(VLOOKUP(AD223,CadMP!$B:$D,2,0),\"\")","v":""},{"$f":"IFERROR(VLOOKUP(AE223,CadMP!$B:$D,2,0),\"\")","v":""},{"$f":"IFERROR(VLOOKUP(AF223,CadMP!$B:$D,2,0),\"\")","v":""},{"$f":"IFERROR(VLOOKUP(AG223,CadMP!$B:$D,2,0),\"\")","v":""},{"$f":"IFERROR(VLOOKUP(AH223,CadMP!$B:$D,2,0),\"\")","v":""},{"$f":"IFERROR(VLOOKUP(AI223,CadMP!$B:$D,2,0),\"\")","v":""},{"$f":"IFERROR(VLOOKUP(AJ223,CadMP!$B:$D,2,0),\"\")","v":""},{"$f":"IFERROR(VLOOKUP(AK223,CadMP!$B:$D,2,0),\"\")","v":""},{"$f":"IFERROR(VLOOKUP(W223,CadMP!$B:$D,3,0),\"\")","v":""},{"$f":"IFERROR(VLOOKUP(X223,CadMP!$B:$D,3,0),\"\")","v":""},{"$f":"IFERROR(VLOOKUP(Y223,CadMP!$B:$D,3,0),\"\")","v":""},{"$f":"IFERROR(VLOOKUP(Z223,CadMP!$B:$D,3,0),\"\")","v":""},{"$f":"IFERROR(VLOOKUP(AA223,CadMP!$B:$D,3,0),\"\")","v":""},{"$f":"IFERROR(VLOOKUP(AB223,CadMP!$B:$D,3,0),\"\")","v":""},{"$f":"IFERROR(VLOOKUP(AC223,CadMP!$B:$D,3,0),\"\")","v":""},{"$f":"IFERROR(VLOOKUP(AD223,CadMP!$B:$D,3,0),\"\")","v":""},{"$f":"IFERROR(VLOOKUP(AE223,CadMP!$B:$D,3,0),\"\")","v":""},{"$f":"IFERROR(VLOOKUP(AF223,CadMP!$B:$D,3,0),\"\")","v":""},{"$f":"IFERROR(VLOOKUP(AG223,CadMP!$B:$D,3,0),\"\")","v":""},{"$f":"IFERROR(VLOOKUP(AH223,CadMP!$B:$D,3,0),\"\")","v":""},{"$f":"IFERROR(VLOOKUP(AI223,CadMP!$B:$D,3,0),\"\")","v":""},{"$f":"IFERROR(VLOOKUP(AJ223,CadMP!$B:$D,3,0),\"\")","v":""},{"$f":"IFERROR(VLOOKUP(AK223,CadMP!$B:$D,3,0),\"\")","v":""},0,0,0,0,0,0,0,0,0,0,0,0,0,0,0]
[223,null,null,0,0,null,null,null,null,null,null,0,0,null,null,null,null,null,null,null,1,0,null,null,null,null,null,null,null,null,null,null,null,null,null,null,null,null,null,null,null,null,null,null,null,null,null,null,null,null,null,null,{"$f":"IFERROR(VLOOKUP(W224,CadMP!$B:$D,2,0),\"\")","v":""},{"$f":"IFERROR(VLOOKUP(X224,CadMP!$B:$D,2,0),\"\")","v":""},{"$f":"IFERROR(VLOOKUP(Y224,CadMP!$B:$D,2,0),\"\")","v":""},{"$f":"IFERROR(VLOOKUP(Z224,CadMP!$B:$D,2,0),\"\")","v":""},{"$f":"IFERROR(VLOOKUP(AA224,CadMP!$B:$D,2,0),\"\")","v":""},{"$f":"IFERROR(VLOOKUP(AB224,CadMP!$B:$D,2,0),\"\")","v":""},{"$f":"IFERROR(VLOOKUP(AC224,CadMP!$B:$D,2,0),\"\")","v":""},{"$f":"IFERROR(VLOOKUP(AD224,CadMP!$B:$D,2,0),\"\")","v":""},{"$f":"IFERROR(VLOOKUP(AE224,CadMP!$B:$D,2,0),\"\")","v":""},{"$f":"IFERROR(VLOOKUP(AF224,CadMP!$B:$D,2,0),\"\")","v":""},{"$f":"IFERROR(VLOOKUP(AG224,CadMP!$B:$D,2,0),\"\")","v":""},{"$f":"IFERROR(VLOOKUP(AH224,CadMP!$B:$D,2,0),\"\")","v":""},{"$f":"IFERROR(VLOOKUP(AI224,CadMP!$B:$D,2,0),\"\")","v":""},{"$f":"IFERROR(VLOOKUP(AJ224,CadMP!$B:$D,2,0),\"\")","v":""},{"$f":"IFERROR(VLOOKUP(AK224,CadMP!$B:$D,2,0),\"\")","v":""},{"$f":"IFERROR(VLOOKUP(W224,CadMP!$B:$D,3,0),\"\")","v":""},{"$f":"IFERROR(VLOOKUP(X224,CadMP!$B:$D,3,0),\"\")","v":""},{"$f":"IFERROR(VLOOKUP(Y224,CadMP!$B:$D,3,0),\"\")","v":""},{"$f":"IFERROR(VLOOKUP(Z224,CadMP!$B:$D,3,0),\"\")","v":""},{"$f":"IFERROR(VLOOKUP(AA224,CadMP!$B:$D,3,0),\"\")","v":""},{"$f":"IFERROR(VLOOKUP(AB224,CadMP!$B:$D,3,0),\"\")","v":""},{"$f":"IFERROR(VLOOKUP(AC224,CadMP!$B:$D,3,0),\"\")","v":""},{"$f":"IFERROR(VLOOKUP(AD224,CadMP!$B:$D,3,0),\"\")","v":""},{"$f":"IFERROR(VLOOKUP(AE224,CadMP!$B:$D,3,0),\"\")","v":""},{"$f":"IFERROR(VLOOKUP(AF224,CadMP!$B:$D,3,0),\"\")","v":""},{"$f":"IFERROR(VLOOKUP(AG224,CadMP!$B:$D,3,0),\"\")","v":""},{"$f":"IFERROR(VLOOKUP(AH224,CadMP!$B:$D,3,0),\"\")","v":""},{"$f":"IFERROR(VLOOKUP(AI224,CadMP!$B:$D,3,0),\"\")","v":""},{"$f":"IFERROR(VLOOKUP(AJ224,CadMP!$B:$D,3,0),\"\")","v":""},{"$f":"IFERROR(VLOOKUP(AK224,CadMP!$B:$D,3,0),\"\")","v":""},0,0,0,0,0,0,0,0,0,0,0,0,0,0,0]
[224,null,null,0,0,null,null,null,null,null,null,0,0,null,null,null,null,null,null,null,1,0,null,null,null,null,null,null,null,null,null,null,null,null,null,null,null,null,null,null,null,null,null,null,null,null,null,null,null,null,null,null,{"$f":"IFERROR(VLOOKUP(W225,CadMP!$B:$D,2,0),\"\")","v":""},{"$f":"IFERROR(VLOOKUP(X225,CadMP!$B:$D,2,0),\"\")","v":""},{"$f":"IFERROR(VLOOKUP(Y225,CadMP!$B:$D,2,0),\"\")","v":""},{"$f":"IFERROR(VLOOKUP(Z225,CadMP!$B:$D,2,0),\"\")","v":""},{"$f":"IFERROR(VLOOKUP(AA225,CadMP!$B:$D,2,0),\"\")","v":""},{"$f":"IFERROR(VLOOKUP(AB225,CadMP!$B:$D,2,0),\"\")","v":""},{"$f":"IFERROR(VLOOKUP(AC225,CadMP!$B:$D,2,0),\"\")","v":""},{"$f":"IFERROR(VLOOKUP(AD225,CadMP!$B:$D,2,0),\"\")","v":""},{"$f":"IFERROR(VLOOKUP(AE225,CadMP!$B:$D,2,0),\"\")","v":""},{"$f":"IFERROR(VLOOKUP(AF225,CadMP!$B:$D,2,0),\"\")","v":""},{"$f":"IFERROR(VLOOKUP(AG225,CadMP!$B:$D,2,0),\"\")","v":""},{"$f":"IFERROR(VLOOKUP(AH225,CadMP!$B:$D,2,0),\"\")","v":""},{"$f":"IFERROR(VLOOKUP(AI225,CadMP!$B:$D,2,0),\"\")","v":""},{"$f":"IFERROR(VLOOKUP(AJ225,CadMP!$B:$D,2,0),\"\")","v":""},{"$f":"IFERROR(VLOOKUP(AK225,CadMP!$B:$D,2,0),\"\")","v":""},{"$f":"IFERROR(VLOOKUP(W225,CadMP!$B:$D,3,0),\"\")","v":""},{"$f":"IFERROR(VLOOKUP(X225,CadMP!$B:$D,3,0),\"\")","v":""},{"$f":"IFERROR(VLOOKUP(Y225,CadMP!$B:$D,3,0),\"\")","v":""},{"$f":"IFERROR(VLOOKUP(Z225,CadMP!$B:$D,3,0),\"\")","v":""},{"$f":"IFERROR(VLOOKUP(AA225,CadMP!$B:$D,3,0),\"\")","v":""},{"$f":"IFERROR(VLOOKUP(AB225,CadMP!$B:$D,3,0),\"\")","v":""},{"$f":"IFERROR(VLOOKUP(AC225,CadMP!$B:$D,3,0),\"\")","v":""},{"$f":"IFERROR(VLOOKUP(AD225,CadMP!$B:$D,3,0),\"\")","v":""},{"$f":"IFERROR(VLOOKUP(AE225,CadMP!$B:$D,3,0),\"\")","v":""},{"$f":"IFERROR(VLOOKUP(AF225,CadMP!$B:$D,3,0),\"\")","v":""},{"$f":"IFERROR(VLOOKUP(AG225,CadMP!$B:$D,3,0),\"\")","v":""},{"$f":"IFERROR(VLOOKUP(AH225,CadMP!$B:$D,3,0),\"\")","v":""},{"$f":"IFERROR(VLOOKUP(AI225,CadMP!$B:$D,3,0),\"\")","v":""},{"$f":"IFERROR(VLOOKUP(AJ225,CadMP!$B:$D,3,0),\"\")","v":""},{"$f":"IFERROR(VLOOKUP(AK225,CadMP!$B:$D,3,0),\"\")","v":""},0,0,0,0,0,0,0,0,0,0,0,0,0,0,0]
[225,null,null,0,0,null,null,null,null,null,null,0,0,null,null,null,null,null,null,null,1,0,null,null,null,null,null,null,null,null,null,null,null,null,null,null,null,null,null,null,null,null,null,null,null,null,null,null,null,null,null,null,{"$f":"IFERROR(VLOOKUP(W226,CadMP!$B:$D,2,0),\"\")","v":""},{"$f":"IFERROR(VLOOKUP(X226,CadMP!$B:$D,2,0),\"\")","v":""},{"$f":"IFERROR(VLOOKUP(Y226,CadMP!$B:$D,2,0),\"\")","v":""},{"$f":"IFERROR(VLOOKUP(Z226,CadMP!$B:$D,2,0),\"\")","v":""},{"$f":"IFERROR(VLOOKUP(AA226,CadMP!$B:$D,2,0),\"\")","v":""},{"$f":"IFERROR(VLOOKUP(AB226,CadMP!$B:$D,2,0),\"\")","v":""},{"$f":"IFERROR(VLOOKUP(AC226,CadMP!$B:$D,2,0),\"\")","v":""},{"$f":"IFERROR(VLOOKUP(AD226,CadMP!$B:$D,2,0),\"\")","v":""},{"$f":"IFERROR(VLOOKUP(AE226,CadMP!$B:$D,2,0),\"\")","v":""},{"$f":"IFERROR(VLOOKUP(AF226,CadMP!$B:$D,2,0),\"\")","v":""},{"$f":"IFERROR(VLOOKUP(AG226,CadMP!$B:$D,2,0),\"\")","v":""},{"$f":"IFERROR(VLOOKUP(AH226,CadMP!$B:$D,2,0),\"\")","v":""},{"$f":"IFERROR(VLOOKUP(AI226,CadMP!$B:$D,2,0),\"\")","v":""},{"$f":"IFERROR(VLOOKUP(AJ226,CadMP!$B:$D,2,0),\"\")","v":""},{"$f":"IFERROR(VLOOKUP(AK226,CadMP!$B:$D,2,0),\"\")","v":""},{"$f":"IFERROR(VLOOKUP(W226,CadMP!$B:$D,3,0),\"\")","v":""},{"$f":"IFERROR(VLOOKUP(X226,CadMP!$B:$D,3,0),\"\")","v":""},{"$f":"IFERROR(VLOOKUP(Y226,CadMP!$B:$D,3,0),\"\")","v":""},{"$f":"IFERROR(VLOOKUP(Z226,CadMP!$B:$D,3,0),\"\")","v":""},{"$f":"IFERROR(VLOOKUP(AA226,CadMP!$B:$D,3,0),\"\")","v":""},{"$f":"IFERROR(VLOOKUP(AB226,CadMP!$B:$D,3,0),\"\")","v":""},{"$f":"IFERROR(VLOOKUP(AC226,CadMP!$B:$D,3,0),\"\")","v":""},{"$f":"IFERROR(VLOOKUP(AD226,CadMP!$B:$D,3,0),\"\")","v":""},{"$f":"IFERROR(VLOOKUP(AE226,CadMP!$B:$D,3,0),\"\")","v":""},{"$f":"IFERROR(VLOOKUP(AF226,CadMP!$B:$D,3,0),\"\")","v":""},{"$f":"IFERROR(VLOOKUP(AG226,CadMP!$B:$D,3,0),\"\")","v":""},{"$f":"IFERROR(VLOOKUP(AH226,CadMP!$B:$D,3,0),\"\")","v":""},{"$f":"IFERROR(VLOOKUP(AI226,CadMP!$B:$D,3,0),\"\")","v":""},{"$f":"IFERROR(VLOOKUP(AJ226,CadMP!$B:$D,3,0),\"\")","v":""},{"$f":"IFERROR(VLOOKUP(AK226,CadMP!$B:$D,3,0),\"\")","v":""},0,0,0,0,0,0,0,0,0,0,0,0,0,0,0]
[226,null,null,0,0,null,null,null,null,null,null,0,0,null,null,null,null,null,null,null,1,0,null,null,null,null,null,null,null,null,null,null,null,null,null,null,null,null,null,null,null,null,null,null,null,null,null,null,null,null,null,null,{"$f":"IFERROR(VLOOKUP(W227,CadMP!$B:$D,2,0),\"\")","v":""},{"$f":"IFERROR(VLOOKUP(X227,CadMP!$B:$D,2,0),\"\")","v":""},{"$f":"IFERROR(VLOOKUP(Y227,CadMP!$B:$D,2,0),\"\")","v":""},{"$f":"IFERROR(VLOOKUP(Z227,CadMP!$B:$D,2,0),\"\")","v":""},{"$f":"IFERROR(VLOOKUP(AA227,CadMP!$B:$D,2,0),\"\")","v":""},{"$f":"IFERROR(VLOOKUP(AB227,CadMP!$B:$D,2,0),\"\")","v":""},{"$f":"IFERROR(VLOOKUP(AC227,CadMP!$B:$D,2,0),\"\")","v":""},{"$f":"IFERROR(VLOOKUP(AD227,CadMP!$B:$D,2,0),\"\")","v":""},{"$f":"IFERROR(VLOOKUP(AE227,CadMP!$B:$D,2,0),\"\")","v":""},{"$f":"IFERROR(VLOOKUP(AF227,CadMP!$B:$D,2,0),\"\")","v":""},{"$f":"IFERROR(VLOOKUP(AG227,CadMP!$B:$D,2,0),\"\")","v":""},{"$f":"IFERROR(VLOOKUP(AH227,CadMP!$B:$D,2,0),\"\")","v":""},{"$f":"IFERROR(VLOOKUP(AI227,CadMP!$B:$D,2,0),\"\")","v":""},{"$f":"IFERROR(VLOOKUP(AJ227,CadMP!$B:$D,2,0),\"\")","v":""},{"$f":"IFERROR(VLOOKUP(AK227,CadMP!$B:$D,2,0),\"\")","v":""},{"$f":"IFERROR(VLOOKUP(W227,CadMP!$B:$D,3,0),\"\")","v":""},{"$f":"IFERROR(VLOOKUP(X227,CadMP!$B:$D,3,0),\"\")","v":""},{"$f":"IFERROR(VLOOKUP(Y227,CadMP!$B:$D,3,0),\"\")","v":""},{"$f":"IFERROR(VLOOKUP(Z227,CadMP!$B:$D,3,0),\"\")","v":""},{"$f":"IFERROR(VLOOKUP(AA227,CadMP!$B:$D,3,0),\"\")","v":""},{"$f":"IFERROR(VLOOKUP(AB227,CadMP!$B:$D,3,0),\"\")","v":""},{"$f":"IFERROR(VLOOKUP(AC227,CadMP!$B:$D,3,0),\"\")","v":""},{"$f":"IFERROR(VLOOKUP(AD227,CadMP!$B:$D,3,0),\"\")","v":""},{"$f":"IFERROR(VLOOKUP(AE227,CadMP!$B:$D,3,0),\"\")","v":""},{"$f":"IFERROR(VLOOKUP(AF227,CadMP!$B:$D,3,0),\"\")","v":""},{"$f":"IFERROR(VLOOKUP(AG227,CadMP!$B:$D,3,0),\"\")","v":""},{"$f":"IFERROR(VLOOKUP(AH227,CadMP!$B:$D,3,0),\"\")","v":""},{"$f":"IFERROR(VLOOKUP(AI227,CadMP!$B:$D,3,0),\"\")","v":""},{"$f":"IFERROR(VLOOKUP(AJ227,CadMP!$B:$D,3,0),\"\")","v":""},{"$f":"IFERROR(VLOOKUP(AK227,CadMP!$B:$D,3,0),\"\")","v":""},0,0,0,0,0,0,0,0,0,0,0,0,0,0,0]
[227,null,null,0,0,null,null,null,null,null,null,0,0,null,null,null,null,null,null,null,1,0,null,null,null,null,null,null,null,null,null,null,null,null,null,null,null,null,null,null,null,null,null,null,null,null,null,null,null,null,null,null,{"$f":"IFERROR(VLOOKUP(W228,CadMP!$B:$D,2,0),\"\")","v":""},{"$f":"IFERROR(VLOOKUP(X228,CadMP!$B:$D,2,0),\"\")","v":""},{"$f":"IFERROR(VLOOKUP(Y228,CadMP!$B:$D,2,0),\"\")","v":""},{"$f":"IFERROR(VLOOKUP(Z228,CadMP!$B:$D,2,0),\"\")","v":""},{"$f":"IFERROR(VLOOKUP(AA228,CadMP!$B:$D,2,0),\"\")","v":""},{"$f":"IFERROR(VLOOKUP(AB228,CadMP!$B:$D,2,0),\"\")","v":""},{"$f":"IFERROR(VLOOKUP(AC228,CadMP!$B:$D,2,0),\"\")","v":""},{"$f":"IFERROR(VLOOKUP(AD228,CadMP!$B:$D,2,0),\"\")","v":""},{"$f":"IFERROR(VLOOKUP(AE228,CadMP!$B:$D,2,0),\"\")","v":""},{"$f":"IFERROR(VLOOKUP(AF228,CadMP!$B:$D,2,0),\"\")","v":""},{"$f":"IFERROR(VLOOKUP(AG228,CadMP!$B:$D,2,0),\"\")","v":""},{"$f":"IFERROR(VLOOKUP(AH228,CadMP!$B:$D,2,0),\"\")","v":""},{"$f":"IFERROR(VLOOKUP(AI228,CadMP!$B:$D,2,0),\"\")","v":""},{"$f":"IFERROR(VLOOKUP(AJ228,CadMP!$B:$D,2,0),\"\")","v":""},{"$f":"IFERROR(VLOOKUP(AK228,CadMP!$B:$D,2,0),\"\")","v":""},{"$f":"IFERROR(VLOOKUP(W228,CadMP!$B:$D,3,0),\"\")","v":""},{"$f":"IFERROR(VLOOKUP(X228,CadMP!$B:$D,3,0),\"\")","v":""},{"$f":"IFERROR(VLOOKUP(Y228,CadMP!$B:$D,3,0),\"\")","v":""},{"$f":"IFERROR(VLOOKUP(Z228,CadMP!$B:$D,3,0),\"\")","v":""},{"$f":"IFERROR(VLOOKUP(AA228,CadMP!$B:$D,3,0),\"\")","v":""},{"$f":"IFERROR(VLOOKUP(AB228,CadMP!$B:$D,3,0),\"\")","v":""},{"$f":"IFERROR(VLOOKUP(AC228,CadMP!$B:$D,3,0),\"\")","v":""},{"$f":"IFERROR(VLOOKUP(AD228,CadMP!$B:$D,3,0),\"\")","v":""},{"$f":"IFERROR(VLOOKUP(AE228,CadMP!$B:$D,3,0),\"\")","v":""},{"$f":"IFERROR(VLOOKUP(AF228,CadMP!$B:$D,3,0),\"\")","v":""},{"$f":"IFERROR(VLOOKUP(AG228,CadMP!$B:$D,3,0),\"\")","v":""},{"$f":"IFERROR(VLOOKUP(AH228,CadMP!$B:$D,3,0),\"\")","v":""},{"$f":"IFERROR(VLOOKUP(AI228,CadMP!$B:$D,3,0),\"\")","v":""},{"$f":"IFERROR(VLOOKUP(AJ228,CadMP!$B:$D,3,0),\"\")","v":""},{"$f":"IFERROR(VLOOKUP(AK228,CadMP!$B:$D,3,0),\"\")","v":""},0,0,0,0,0,0,0,0,0,0,0,0,0,0,0]
[228,null,null,0,0,null,null,null,null,null,null,0,0,null,null,null,null,null,null,null,1,0,null,null,null,null,null,null,null,null,null,null,null,null,null,null,null,null,null,null,null,null,null,null,null,null,null,null,null,null,null,null,{"$f":"IFERROR(VLOOKUP(W229,CadMP!$B:$D,2,0),\"\")","v":""},{"$f":"IFERROR(VLOOKUP(X229,CadMP!$B:$D,2,0),\"\")","v":""},{"$f":"IFERROR(VLOOKUP(Y229,CadMP!$B:$D,2,0),\"\")","v":""},{"$f":"IFERROR(VLOOKUP(Z229,CadMP!$B:$D,2,0),\"\")","v":""},{"$f":"IFERROR(VLOOKUP(AA229,CadMP!$B:$D,2,0),\"\")","v":""},{"$f":"IFERROR(VLOOKUP(AB229,CadMP!$B:$D,2,0),\"\")","v":""},{"$f":"IFERROR(VLOOKUP(AC229,CadMP!$B:$D,2,0),\"\")","v":""},{"$f":"IFERROR(VLOOKUP(AD229,CadMP!$B:$D,2,0),\"\")","v":""},{"$f":"IFERROR(VLOOKUP(AE229,CadMP!$B:$D,2,0),\"\")","v":""},{"$f":"IFERROR(VLOOKUP(AF229,CadMP!$B:$D,2,0),\"\")","v":""},{"$f":"IFERROR(VLOOKUP(AG229,CadMP!$B:$D,2,0),\"\")","v":""},{"$f":"IFERROR(VLOOKUP(AH229,CadMP!$B:$D,2,0),\"\")","v":""},{"$f":"IFERROR(VLOOKUP(AI229,CadMP!$B:$D,2,0),\"\")","v":""},{"$f":"IFERROR(VLOOKUP(AJ229,CadMP!$B:$D,2,0),\"\")","v":""},{"$f":"IFERROR(VLOOKUP(AK229,CadMP!$B:$D,2,0),\"\")","v":""},{"$f":"IFERROR(VLOOKUP(W229,CadMP!$B:$D,3,0),\"\")","v":""},{"$f":"IFERROR(VLOOKUP(X229,CadMP!$B:$D,3,0),\"\")","v":""},{"$f":"IFERROR(VLOOKUP(Y229,CadMP!$B:$D,3,0),\"\")","v":""},{"$f":"IFERROR(VLOOKUP(Z229,CadMP!$B:$D,3,0),\"\")","v":""},{"$f":"IFERROR(VLOOKUP(AA229,CadMP!$B:$D,3,0),\"\")","v":""},{"$f":"IFERROR(VLOOKUP(AB229,CadMP!$B:$D,3,0),\"\")","v":""},{"$f":"IFERROR(VLOOKUP(AC229,CadMP!$B:$D,3,0),\"\")","v":""},{"$f":"IFERROR(VLOOKUP(AD229,CadMP!$B:$D,3,0),\"\")","v":""},{"$f":"IFERROR(VLOOKUP(AE229,CadMP!$B:$D,3,0),\"\")","v":""},{"$f":"IFERROR(VLOOKUP(AF229,CadMP!$B:$D,3,0),\"\")","v":""},{"$f":"IFERROR(VLOOKUP(AG229,CadMP!$B:$D,3,0),\"\")","v":""},{"$f":"IFERROR(VLOOKUP(AH229,CadMP!$B:$D,3,0),\"\")","v":""},{"$f":"IFERROR(VLOOKUP(AI229,CadMP!$B:$D,3,0),\"\")","v":""},{"$f":"IFERROR(VLOOKUP(AJ229,CadMP!$B:$D,3,0),\"\")","v":""},{"$f":"IFERROR(VLOOKUP(AK229,CadMP!$B:$D,3,0),\"\")","v":""},0,0,0,0,0,0,0,0,0,0,0,0,0,0,0]
[229,null,null,0,0,null,null,null,null,null,null,0,0,null,null,null,null,null,null,null,1,0,null,null,null,null,null,null,null,null,null,null,null,null,null,null,null,null,null,null,null,null,null,null,null,null,null,null,null,null,null,null,{"$f":"IFERROR(VLOOKUP(W230,CadMP!$B:$D,2,0),\"\")","v":""},{"$f":"IFERROR(VLOOKUP(X230,CadMP!$B:$D,2,0),\"\")","v":""},{"$f":"IFERROR(VLOOKUP(Y230,CadMP!$B:$D,2,0),\"\")","v":""},{"$f":"IFERROR(VLOOKUP(Z230,CadMP!$B:$D,2,0),\"\")","v":""},{"$f":"IFERROR(VLOOKUP(AA230,CadMP!$B:$D,2,0),\"\")","v":""},{"$f":"IFERROR(VLOOKUP(AB230,CadMP!$B:$D,2,0),\"\")","v":""},{"$f":"IFERROR(VLOOKUP(AC230,CadMP!$B:$D,2,0),\"\")","v":""},{"$f":"IFERROR(VLOOKUP(AD230,CadMP!$B:$D,2,0),\"\")","v":""},{"$f":"IFERROR(VLOOKUP(AE230,CadMP!$B:$D,2,0),\"\")","v":""},{"$f":"IFERROR(VLOOKUP(AF230,CadMP!$B:$D,2,0),\"\")","v":""},{"$f":"IFERROR(VLOOKUP(AG230,CadMP!$B:$D,2,0),\"\")","v":""},{"$f":"IFERROR(VLOOKUP(AH230,CadMP!$B:$D,2,0),\"\")","v":""},{"$f":"IFERROR(VLOOKUP(AI230,CadMP!$B:$D,2,0),\"\")","v":""},{"$f":"IFERROR(VLOOKUP(AJ230,CadMP!$B:$D,2,0),\"\")","v":""},{"$f":"IFERROR(VLOOKUP(AK230,CadMP!$B:$D,2,0),\"\")","v":""},{"$f":"IFERROR(VLOOKUP(W230,CadMP!$B:$D,3,0),\"\")","v":""},{"$f":"IFERROR(VLOOKUP(X230,CadMP!$B:$D,3,0),\"\")","v":""},{"$f":"IFERROR(VLOOKUP(Y230,CadMP!$B:$D,3,0),\"\")","v":""},{"$f":"IFERROR(VLOOKUP(Z230,CadMP!$B:$D,3,0),\"\")","v":""},{"$f":"IFERROR(VLOOKUP(AA230,CadMP!$B:$D,3,0),\"\")","v":""},{"$f":"IFERROR(VLOOKUP(AB230,CadMP!$B:$D,3,0),\"\")","v":""},{"$f":"IFERROR(VLOOKUP(AC230,CadMP!$B:$D,3,0),\"\")","v":""},{"$f":"IFERROR(VLOOKUP(AD230,CadMP!$B:$D,3,0),\"\")","v":""},{"$f":"IFERROR(VLOOKUP(AE230,CadMP!$B:$D,3,0),\"\")","v":""},{"$f":"IFERROR(VLOOKUP(AF230,CadMP!$B:$D,3,0),\"\")","v":""},{"$f":"IFERROR(VLOOKUP(AG230,CadMP!$B:$D,3,0),\"\")","v":""},{"$f":"IFERROR(VLOOKUP(AH230,CadMP!$B:$D,3,0),\"\")","v":""},{"$f":"IFERROR(VLOOKUP(AI230,CadMP!$B:$D,3,0),\"\")","v":""},{"$f":"IFERROR(VLOOKUP(AJ230,CadMP!$B:$D,3,0),\"\")","v":""},{"$f":"IFERROR(VLOOKUP(AK230,CadMP!$B:$D,3,0),\"\")","v":""},0,0,0,0,0,0,0,0,0,0,0,0,0,0,0]
[230,null,null,0,0,null,null,null,null,null,null,0,0,null,null,null,null,null,null,null,1,0,null,null,null,null,null,null,null,null,null,null,null,null,null,null,null,null,null,null,null,null,null,null,null,null,null,null,null,null,null,null,{"$f":"IFERROR(VLOOKUP(W231,CadMP!$B:$D,2,0),\"\")","v":""},{"$f":"IFERROR(VLOOKUP(X231,CadMP!$B:$D,2,0),\"\")","v":""},{"$f":"IFERROR(VLOOKUP(Y231,CadMP!$B:$D,2,0),\"\")","v":""},{"$f":"IFERROR(VLOOKUP(Z231,CadMP!$B:$D,2,0),\"\")","v":""},{"$f":"IFERROR(VLOOKUP(AA231,CadMP!$B:$D,2,0),\"\")","v":""},{"$f":"IFERROR(VLOOKUP(AB231,CadMP!$B:$D,2,0),\"\")","v":""},{"$f":"IFERROR(VLOOKUP(AC231,CadMP!$B:$D,2,0),\"\")","v":""},{"$f":"IFERROR(VLOOKUP(AD231,CadMP!$B:$D,2,0),\"\")","v":""},{"$f":"IFERROR(VLOOKUP(AE231,CadMP!$B:$D,2,0),\"\")","v":""},{"$f":"IFERROR(VLOOKUP(AF231,CadMP!$B:$D,2,0),\"\")","v":""},{"$f":"IFERROR(VLOOKUP(AG231,CadMP!$B:$D,2,0),\"\")","v":""},{"$f":"IFERROR(VLOOKUP(AH231,CadMP!$B:$D,2,0),\"\")","v":""},{"$f":"IFERROR(VLOOKUP(AI231,CadMP!$B:$D,2,0),\"\")","v":""},{"$f":"IFERROR(VLOOKUP(AJ231,CadMP!$B:$D,2,0),\"\")","v":""},{"$f":"IFERROR(VLOOKUP(AK231,CadMP!$B:$D,2,0),\"\")","v":""},{"$f":"IFERROR(VLOOKUP(W231,CadMP!$B:$D,3,0),\"\")","v":""},{"$f":"IFERROR(VLOOKUP(X231,CadMP!$B:$D,3,0),\"\")","v":""},{"$f":"IFERROR(VLOOKUP(Y231,CadMP!$B:$D,3,0),\"\")","v":""},{"$f":"IFERROR(VLOOKUP(Z231,CadMP!$B:$D,3,0),\"\")","v":""},{"$f":"IFERROR(VLOOKUP(AA231,CadMP!$B:$D,3,0),\"\")","v":""},{"$f":"IFERROR(VLOOKUP(AB231,CadMP!$B:$D,3,0),\"\")","v":""},{"$f":"IFERROR(VLOOKUP(AC231,CadMP!$B:$D,3,0),\"\")","v":""},{"$f":"IFERROR(VLOOKUP(AD231,CadMP!$B:$D,3,0),\"\")","v":""},{"$f":"IFERROR(VLOOKUP(AE231,CadMP!$B:$D,3,0),\"\")","v":""},{"$f":"IFERROR(VLOOKUP(AF231,CadMP!$B:$D,3,0),\"\")","v":""},{"$f":"IFERROR(VLOOKUP(AG231,CadMP!$B:$D,3,0),\"\")","v":""},{"$f":"IFERROR(VLOOKUP(AH231,CadMP!$B:$D,3,0),\"\")","v":""},{"$f":"IFERROR(VLOOKUP(AI231,CadMP!$B:$D,3,0),\"\")","v":""},{"$f":"IFERROR(VLOOKUP(AJ231,CadMP!$B:$D,3,0),\"\")","v":""},{"$f":"IFERROR(VLOOKUP(AK231,CadMP!$B:$D,3,0),\"\")","v":""},0,0,0,0,0,0,0,0,0,0,0,0,0,0,0]
[231,null,null,0,0,null,null,null,null,null,null,0,0,null,null,null,null,null,null,null,1,0,null,null,null,null,null,null,null,null,null,null,null,null,null,null,null,null,null,null,null,null,null,null,null,null,null,null,null,null,null,null,{"$f":"IFERROR(VLOOKUP(W232,CadMP!$B:$D,2,0),\"\")","v":""},{"$f":"IFERROR(VLOOKUP(X232,CadMP!$B:$D,2,0),\"\")","v":""},{"$f":"IFERROR(VLOOKUP(Y232,CadMP!$B:$D,2,0),\"\")","v":""},{"$f":"IFERROR(VLOOKUP(Z232,CadMP!$B:$D,2,0),\"\")","v":""},{"$f":"IFERROR(VLOOKUP(AA232,CadMP!$B:$D,2,0),\"\")","v":""},{"$f":"IFERROR(VLOOKUP(AB232,CadMP!$B:$D,2,0),\"\")","v":""},{"$f":"IFERROR(VLOOKUP(AC232,CadMP!$B:$D,2,0),\"\")","v":""},{"$f":"IFERROR(VLOOKUP(AD232,CadMP!$B:$D,2,0),\"\")","v":""},{"$f":"IFERROR(VLOOKUP(AE232,CadMP!$B:$D,2,0),\"\")","v":""},{"$f":"IFERROR(VLOOKUP(AF232,CadMP!$B:$D,2,0),\"\")","v":""},{"$f":"IFERROR(VLOOKUP(AG232,CadMP!$B:$D,2,0),\"\")","v":""},{"$f":"IFERROR(VLOOKUP(AH232,CadMP!$B:$D,2,0),\"\")","v":""},{"$f":"IFERROR(VLOOKUP(AI232,CadMP!$B:$D,2,0),\"\")","v":""},{"$f":"IFERROR(VLOOKUP(AJ232,CadMP!$B:$D,2,0),\"\")","v":""},{"$f":"IFERROR(VLOOKUP(AK232,CadMP!$B:$D,2,0),\"\")","v":""},{"$f":"IFERROR(VLOOKUP(W232,CadMP!$B:$D,3,0),\"\")","v":""},{"$f":"IFERROR(VLOOKUP(X232,CadMP!$B:$D,3,0),\"\")","v":""},{"$f":"IFERROR(VLOOKUP(Y232,CadMP!$B:$D,3,0),\"\")","v":""},{"$f":"IFERROR(VLOOKUP(Z232,CadMP!$B:$D,3,0),\"\")","v":""},{"$f":"IFERROR(VLOOKUP(AA232,CadMP!$B:$D,3,0),\"\")","v":""},{"$f":"IFERROR(VLOOKUP(AB232,CadMP!$B:$D,3,0),\"\")","v":""},{"$f":"IFERROR(VLOOKUP(AC232,CadMP!$B:$D,3,0),\"\")","v":""},{"$f":"IFERROR(VLOOKUP(AD232,CadMP!$B:$D,3,0),\"\")","v":""},{"$f":"IFERROR(VLOOKUP(AE232,CadMP!$B:$D,3,0),\"\")","v":""},{"$f":"IFERROR(VLOOKUP(AF232,CadMP!$B:$D,3,0),\"\")","v":""},{"$f":"IFERROR(VLOOKUP(AG232,CadMP!$B:$D,3,0),\"\")","v":""},{"$f":"IFERROR(VLOOKUP(AH232,CadMP!$B:$D,3,0),\"\")","v":""},{"$f":"IFERROR(VLOOKUP(AI232,CadMP!$B:$D,3,0),\"\")","v":""},{"$f":"IFERROR(VLOOKUP(AJ232,CadMP!$B:$D,3,0),\"\")","v":""},{"$f":"IFERROR(VLOOKUP(AK232,CadMP!$B:$D,3,0),\"\")","v":""},0,0,0,0,0,0,0,0,0,0,0,0,0,0,0]
[232,null,null,0,0,null,null,null,null,null,null,0,0,null,null,null,null,null,null,null,1,0,null,null,null,null,null,null,null,null,null,null,null,null,null,null,null,null,null,null,null,null,null,null,null,null,null,null,null,null,null,null,{"$f":"IFERROR(VLOOKUP(W233,CadMP!$B:$D,2,0),\"\")","v":""},{"$f":"IFERROR(VLOOKUP(X233,CadMP!$B:$D,2,0),\"\")","v":""},{"$f":"IFERROR(VLOOKUP(Y233,CadMP!$B:$D,2,0),\"\")","v":""},{"$f":"IFERROR(VLOOKUP(Z233,CadMP!$B:$D,2,0),\"\")","v":""},{"$f":"IFERROR(VLOOKUP(AA233,CadMP!$B:$D,2,0),\"\")","v":""},{"$f":"IFERROR(VLOOKUP(AB233,CadMP!$B:$D,2,0),\"\")","v":""},{"$f":"IFERROR(VLOOKUP(AC233,CadMP!$B:$D,2,0),\"\")","v":""},{"$f":"IFERROR(VLOOKUP(AD233,CadMP!$B:$D,2,0),\"\")","v":""},{"$f":"IFERROR(VLOOKUP(AE233,CadMP!$B:$D,2,0),\"\")","v":""},{"$f":"IFERROR(VLOOKUP(AF233,CadMP!$B:$D,2,0),\"\")","v":""},{"$f":"IFERROR(VLOOKUP(AG233,CadMP!$B:$D,2,0),\"\")","v":""},{"$f":"IFERROR(VLOOKUP(AH233,CadMP!$B:$D,2,0),\"\")","v":""},{"$f":"IFERROR(VLOOKUP(AI233,CadMP!$B:$D,2,0),\"\")","v":""},{"$f":"IFERROR(VLOOKUP(AJ233,CadMP!$B:$D,2,0),\"\")","v":""},{"$f":"IFERROR(VLOOKUP(AK233,CadMP!$B:$D,2,0),\"\")","v":""},{"$f":"IFERROR(VLOOKUP(W233,CadMP!$B:$D,3,0),\"\")","v":""},{"$f":"IFERROR(VLOOKUP(X233,CadMP!$B:$D,3,0),\"\")","v":""},{"$f":"IFERROR(VLOOKUP(Y233,CadMP!$B:$D,3,0),\"\")","v":""},{"$f":"IFERROR(VLOOKUP(Z233,CadMP!$B:$D,3,0),\"\")","v":""},{"$f":"IFERROR(VLOOKUP(AA233,CadMP!$B:$D,3,0),\"\")","v":""},{"$f":"IFERROR(VLOOKUP(AB233,CadMP!$B:$D,3,0),\"\")","v":""},{"$f":"IFERROR(VLOOKUP(AC233,CadMP!$B:$D,3,0),\"\")","v":""},{"$f":"IFERROR(VLOOKUP(AD233,CadMP!$B:$D,3,0),\"\")","v":""},{"$f":"IFERROR(VLOOKUP(AE233,CadMP!$B:$D,3,0),\"\")","v":""},{"$f":"IFERROR(VLOOKUP(AF233,CadMP!$B:$D,3,0),\"\")","v":""},{"$f":"IFERROR(VLOOKUP(AG233,CadMP!$B:$D,3,0),\"\")","v":""},{"$f":"IFERROR(VLOOKUP(AH233,CadMP!$B:$D,3,0),\"\")","v":""},{"$f":"IFERROR(VLOOKUP(AI233,CadMP!$B:$D,3,0),\"\")","v":""},{"$f":"IFERROR(VLOOKUP(AJ233,CadMP!$B:$D,3,0),\"\")","v":""},{"$f":"IFERROR(VLOOKUP(AK233,CadMP!$B:$D,3,0),\"\")","v":""},0,0,0,0,0,0,0,0,0,0,0,0,0,0,0]
[233,null,null,0,0,null,null,null,null,null,null,0,0,null,null,null,null,null,null,null,1,0,null,null,null,null,null,null,null,null,null,null,null,null,null,null,null,null,null,null,null,null,null,null,null,null,null,null,null,null,null,null,{"$f":"IFERROR(VLOOKUP(W234,CadMP!$B:$D,2,0),\"\")","v":""},{"$f":"IFERROR(VLOOKUP(X234,CadMP!$B:$D,2,0),\"\")","v":""},{"$f":"IFERROR(VLOOKUP(Y234,CadMP!$B:$D,2,0),\"\")","v":""},{"$f":"IFERROR(VLOOKUP(Z234,CadMP!$B:$D,2,0),\"\")","v":""},{"$f":"IFERROR(VLOOKUP(AA234,CadMP!$B:$D,2,0),\"\")","v":""},{"$f":"IFERROR(VLOOKUP(AB234,CadMP!$B:$D,2,0),\"\")","v":""},{"$f":"IFERROR(VLOOKUP(AC234,CadMP!$B:$D,2,0),\"\")","v":""},{"$f":"IFERROR(VLOOKUP(AD234,CadMP!$B:$D,2,0),\"\")","v":""},{"$f":"IFERROR(VLOOKUP(AE234,CadMP!$B:$D,2,0),\"\")","v":""},{"$f":"IFERROR(VLOOKUP(AF234,CadMP!$B:$D,2,0),\"\")","v":""},{"$f":"IFERROR(VLOOKUP(AG234,CadMP!$B:$D,2,0),\"\")","v":""},{"$f":"IFERROR(VLOOKUP(AH234,CadMP!$B:$D,2,0),\"\")","v":""},{"$f":"IFERROR(VLOOKUP(AI234,CadMP!$B:$D,2,0),\"\")","v":""},{"$f":"IFERROR(VLOOKUP(AJ234,CadMP!$B:$D,2,0),\"\")","v":""},{"$f":"IFERROR(VLOOKUP(AK234,CadMP!$B:$D,2,0),\"\")","v":""},{"$f":"IFERROR(VLOOKUP(W234,CadMP!$B:$D,3,0),\"\")","v":""},{"$f":"IFERROR(VLOOKUP(X234,CadMP!$B:$D,3,0),\"\")","v":""},{"$f":"IFERROR(VLOOKUP(Y234,CadMP!$B:$D,3,0),\"\")","v":""},{"$f":"IFERROR(VLOOKUP(Z234,CadMP!$B:$D,3,0),\"\")","v":""},{"$f":"IFERROR(VLOOKUP(AA234,CadMP!$B:$D,3,0),\"\")","v":""},{"$f":"IFERROR(VLOOKUP(AB234,CadMP!$B:$D,3,0),\"\")","v":""},{"$f":"IFERROR(VLOOKUP(AC234,CadMP!$B:$D,3,0),\"\")","v":""},{"$f":"IFERROR(VLOOKUP(AD234,CadMP!$B:$D,3,0),\"\")","v":""},{"$f":"IFERROR(VLOOKUP(AE234,CadMP!$B:$D,3,0),\"\")","v":""},{"$f":"IFERROR(VLOOKUP(AF234,CadMP!$B:$D,3,0),\"\")","v":""},{"$f":"IFERROR(VLOOKUP(AG234,CadMP!$B:$D,3,0),\"\")","v":""},{"$f":"IFERROR(VLOOKUP(AH234,CadMP!$B:$D,3,0),\"\")","v":""},{"$f":"IFERROR(VLOOKUP(AI234,CadMP!$B:$D,3,0),\"\")","v":""},{"$f":"IFERROR(VLOOKUP(AJ234,CadMP!$B:$D,3,0),\"\")","v":""},{"$f":"IFERROR(VLOOKUP(AK234,CadMP!$B:$D,3,0),\"\")","v":""},0,0,0,0,0,0,0,0,0,0,0,0,0,0,0]
[234,null,null,0,0,null,null,null,null,null,null,0,0,null,null,null,null,null,null,null,1,0,null,null,null,null,null,null,null,null,null,null,null,null,null,null,null,null,null,null,null,null,null,null,null,null,null,null,null,null,null,null,{"$f":"IFERROR(VLOOKUP(W235,CadMP!$B:$D,2,0),\"\")","v":""},{"$f":"IFERROR(VLOOKUP(X235,CadMP!$B:$D,2,0),\"\")","v":""},{"$f":"IFERROR(VLOOKUP(Y235,CadMP!$B:$D,2,0),\"\")","v":""},{"$f":"IFERROR(VLOOKUP(Z235,CadMP!$B:$D,2,0),\"\")","v":""},{"$f":"IFERROR(VLOOKUP(AA235,CadMP!$B:$D,2,0),\"\")","v":""},{"$f":"IFERROR(VLOOKUP(AB235,CadMP!$B:$D,2,0),\"\")","v":""},{"$f":"IFERROR(VLOOKUP(AC235,CadMP!$B:$D,2,0),\"\")","v":""},{"$f":"IFERROR(VLOOKUP(AD235,CadMP!$B:$D,2,0),\"\")","v":""},{"$f":"IFERROR(VLOOKUP(AE235,CadMP!$B:$D,2,0),\"\")","v":""},{"$f":"IFERROR(VLOOKUP(AF235,CadMP!$B:$D,2,0),\"\")","v":""},{"$f":"IFERROR(VLOOKUP(AG235,CadMP!$B:$D,2,0),\"\")","v":""},{"$f":"IFERROR(VLOOKUP(AH235,CadMP!$B:$D,2,0),\"\")","v":""},{"$f":"IFERROR(VLOOKUP(AI235,CadMP!$B:$D,2,0),\"\")","v":""},{"$f":"IFERROR(VLOOKUP(AJ235,CadMP!$B:$D,2,0),\"\")","v":""},{"$f":"IFERROR(VLOOKUP(AK235,CadMP!$B:$D,2,0),\"\")","v":""},{"$f":"IFERROR(VLOOKUP(W235,CadMP!$B:$D,3,0),\"\")","v":""},{"$f":"IFERROR(VLOOKUP(X235,CadMP!$B:$D,3,0),\"\")","v":""},{"$f":"IFERROR(VLOOKUP(Y235,CadMP!$B:$D,3,0),\"\")","v":""},{"$f":"IFERROR(VLOOKUP(Z235,CadMP!$B:$D,3,0),\"\")","v":""},{"$f":"IFERROR(VLOOKUP(AA235,CadMP!$B:$D,3,0),\"\")","v":""},{"$f":"IFERROR(VLOOKUP(AB235,CadMP!$B:$D,3,0),\"\")","v":""},{"$f":"IFERROR(VLOOKUP(AC235,CadMP!$B:$D,3,0),\"\")","v":""},{"$f":"IFERROR(VLOOKUP(AD235,CadMP!$B:$D,3,0),\"\")","v":""},{"$f":"IFERROR(VLOOKUP(AE235,CadMP!$B:$D,3,0),\"\")","v":""},{"$f":"IFERROR(VLOOKUP(AF235,CadMP!$B:$D,3,0),\"\")","v":""},{"$f":"IFERROR(VLOOKUP(AG235,CadMP!$B:$D,3,0),\"\")","v":""},{"$f":"IFERROR(VLOOKUP(AH235,CadMP!$B:$D,3,0),\"\")","v":""},{"$f":"IFERROR(VLOOKUP(AI235,CadMP!$B:$D,3,0),\"\")","v":""},{"$f":"IFERROR(VLOOKUP(AJ235,CadMP!$B:$D,3,0),\"\")","v":""},{"$f":"IFERROR(VLOOKUP(AK235,CadMP!$B:$D,3,0),\"\")","v":""},0,0,0,0,0,0,0,0,0,0,0,0,0,0,0]
[235,null,null,0,0,null,null,null,null,null,null,0,0,null,null,null,null,null,null,null,1,0,null,null,null,null,null,null,null,null,null,null,null,null,null,null,null,null,null,null,null,null,null,null,null,null,null,null,null,null,null,null,{"$f":"IFERROR(VLOOKUP(W236,CadMP!$B:$D,2,0),\"\")","v":""},{"$f":"IFERROR(VLOOKUP(X236,CadMP!$B:$D,2,0),\"\")","v":""},{"$f":"IFERROR(VLOOKUP(Y236,CadMP!$B:$D,2,0),\"\")","v":""},{"$f":"IFERROR(VLOOKUP(Z236,CadMP!$B:$D,2,0),\"\")","v":""},{"$f":"IFERROR(VLOOKUP(AA236,CadMP!$B:$D,2,0),\"\")","v":""},{"$f":"IFERROR(VLOOKUP(AB236,CadMP!$B:$D,2,0),\"\")","v":""},{"$f":"IFERROR(VLOOKUP(AC236,CadMP!$B:$D,2,0),\"\")","v":""},{"$f":"IFERROR(VLOOKUP(AD236,CadMP!$B:$D,2,0),\"\")","v":""},{"$f":"IFERROR(VLOOKUP(AE236,CadMP!$B:$D,2,0),\"\")","v":""},{"$f":"IFERROR(VLOOKUP(AF236,CadMP!$B:$D,2,0),\"\")","v":""},{"$f":"IFERROR(VLOOKUP(AG236,CadMP!$B:$D,2,0),\"\")","v":""},{"$f":"IFERROR(VLOOKUP(AH236,CadMP!$B:$D,2,0),\"\")","v":""},{"$f":"IFERROR(VLOOKUP(AI236,CadMP!$B:$D,2,0),\"\")","v":""},{"$f":"IFERROR(VLOOKUP(AJ236,CadMP!$B:$D,2,0),\"\")","v":""},{"$f":"IFERROR(VLOOKUP(AK236,CadMP!$B:$D,2,0),\"\")","v":""},{"$f":"IFERROR(VLOOKUP(W236,CadMP!$B:$D,3,0),\"\")","v":""},{"$f":"IFERROR(VLOOKUP(X236,CadMP!$B:$D,3,0),\"\")","v":""},{"$f":"IFERROR(VLOOKUP(Y236,CadMP!$B:$D,3,0),\"\")","v":""},{"$f":"IFERROR(VLOOKUP(Z236,CadMP!$B:$D,3,0),\"\")","v":""},{"$f":"IFERROR(VLOOKUP(AA236,CadMP!$B:$D,3,0),\"\")","v":""},{"$f":"IFERROR(VLOOKUP(AB236,CadMP!$B:$D,3,0),\"\")","v":""},{"$f":"IFERROR(VLOOKUP(AC236,CadMP!$B:$D,3,0),\"\")","v":""},{"$f":"IFERROR(VLOOKUP(AD236,CadMP!$B:$D,3,0),\"\")","v":""},{"$f":"IFERROR(VLOOKUP(AE236,CadMP!$B:$D,3,0),\"\")","v":""},{"$f":"IFERROR(VLOOKUP(AF236,CadMP!$B:$D,3,0),\"\")","v":""},{"$f":"IFERROR(VLOOKUP(AG236,CadMP!$B:$D,3,0),\"\")","v":""},{"$f":"IFERROR(VLOOKUP(AH236,CadMP!$B:$D,3,0),\"\")","v":""},{"$f":"IFERROR(VLOOKUP(AI236,CadMP!$B:$D,3,0),\"\")","v":""},{"$f":"IFERROR(VLOOKUP(AJ236,CadMP!$B:$D,3,0),\"\")","v":""},{"$f":"IFERROR(VLOOKUP(AK236,CadMP!$B:$D,3,0),\"\")","v":""},0,0,0,0,0,0,0,0,0,0,0,0,0,0,0]
[236,null,null,0,0,null,null,null,null,null,null,0,0,null,null,null,null,null,null,null,1,0,null,null,null,null,null,null,null,null,null,null,null,null,null,null,null,null,null,null,null,null,null,null,null,null,null,null,null,null,null,null,{"$f":"IFERROR(VLOOKUP(W237,CadMP!$B:$D,2,0),\"\")","v":""},{"$f":"IFERROR(VLOOKUP(X237,CadMP!$B:$D,2,0),\"\")","v":""},{"$f":"IFERROR(VLOOKUP(Y237,CadMP!$B:$D,2,0),\"\")","v":""},{"$f":"IFERROR(VLOOKUP(Z237,CadMP!$B:$D,2,0),\"\")","v":""},{"$f":"IFERROR(VLOOKUP(AA237,CadMP!$B:$D,2,0),\"\")","v":""},{"$f":"IFERROR(VLOOKUP(AB237,CadMP!$B:$D,2,0),\"\")","v":""},{"$f":"IFERROR(VLOOKUP(AC237,CadMP!$B:$D,2,0),\"\")","v":""},{"$f":"IFERROR(VLOOKUP(AD237,CadMP!$B:$D,2,0),\"\")","v":""},{"$f":"IFERROR(VLOOKUP(AE237,CadMP!$B:$D,2,0),\"\")","v":""},{"$f":"IFERROR(VLOOKUP(AF237,CadMP!$B:$D,2,0),\"\")","v":""},{"$f":"IFERROR(VLOOKUP(AG237,CadMP!$B:$D,2,0),\"\")","v":""},{"$f":"IFERROR(VLOOKUP(AH237,CadMP!$B:$D,2,0),\"\")","v":""},{"$f":"IFERROR(VLOOKUP(AI237,CadMP!$B:$D,2,0),\"\")","v":""},{"$f":"IFERROR(VLOOKUP(AJ237,CadMP!$B:$D,2,0),\"\")","v":""},{"$f":"IFERROR(VLOOKUP(AK237,CadMP!$B:$D,2,0),\"\")","v":""},{"$f":"IFERROR(VLOOKUP(W237,CadMP!$B:$D,3,0),\"\")","v":""},{"$f":"IFERROR(VLOOKUP(X237,CadMP!$B:$D,3,0),\"\")","v":""},{"$f":"IFERROR(VLOOKUP(Y237,CadMP!$B:$D,3,0),\"\")","v":""},{"$f":"IFERROR(VLOOKUP(Z237,CadMP!$B:$D,3,0),\"\")","v":""},{"$f":"IFERROR(VLOOKUP(AA237,CadMP!$B:$D,3,0),\"\")","v":""},{"$f":"IFERROR(VLOOKUP(AB237,CadMP!$B:$D,3,0),\"\")","v":""},{"$f":"IFERROR(VLOOKUP(AC237,CadMP!$B:$D,3,0),\"\")","v":""},{"$f":"IFERROR(VLOOKUP(AD237,CadMP!$B:$D,3,0),\"\")","v":""},{"$f":"IFERROR(VLOOKUP(AE237,CadMP!$B:$D,3,0),\"\")","v":""},{"$f":"IFERROR(VLOOKUP(AF237,CadMP!$B:$D,3,0),\"\")","v":""},{"$f":"IFERROR(VLOOKUP(AG237,CadMP!$B:$D,3,0),\"\")","v":""},{"$f":"IFERROR(VLOOKUP(AH237,CadMP!$B:$D,3,0),\"\")","v":""},{"$f":"IFERROR(VLOOKUP(AI237,CadMP!$B:$D,3,0),\"\")","v":""},{"$f":"IFERROR(VLOOKUP(AJ237,CadMP!$B:$D,3,0),\"\")","v":""},{"$f":"IFERROR(VLOOKUP(AK237,CadMP!$B:$D,3,0),\"\")","v":""},0,0,0,0,0,0,0,0,0,0,0,0,0,0,0]
[237,null,null,0,0,null,null,null,null,null,null,0,0,null,null,null,null,null,null,null,1,0,null,null,null,null,null,null,null,null,null,null,null,null,null,null,null,null,null,null,null,null,null,null,null,null,null,null,null,null,null,null,{"$f":"IFERROR(VLOOKUP(W238,CadMP!$B:$D,2,0),\"\")","v":""},{"$f":"IFERROR(VLOOKUP(X238,CadMP!$B:$D,2,0),\"\")","v":""},{"$f":"IFERROR(VLOOKUP(Y238,CadMP!$B:$D,2,0),\"\")","v":""},{"$f":"IFERROR(VLOOKUP(Z238,CadMP!$B:$D,2,0),\"\")","v":""},{"$f":"IFERROR(VLOOKUP(AA238,CadMP!$B:$D,2,0),\"\")","v":""},{"$f":"IFERROR(VLOOKUP(AB238,CadMP!$B:$D,2,0),\"\")","v":""},{"$f":"IFERROR(VLOOKUP(AC238,CadMP!$B:$D,2,0),\"\")","v":""},{"$f":"IFERROR(VLOOKUP(AD238,CadMP!$B:$D,2,0),\"\")","v":""},{"$f":"IFERROR(VLOOKUP(AE238,CadMP!$B:$D,2,0),\"\")","v":""},{"$f":"IFERROR(VLOOKUP(AF238,CadMP!$B:$D,2,0),\"\")","v":""},{"$f":"IFERROR(VLOOKUP(AG238,CadMP!$B:$D,2,0),\"\")","v":""},{"$f":"IFERROR(VLOOKUP(AH238,CadMP!$B:$D,2,0),\"\")","v":""},{"$f":"IFERROR(VLOOKUP(AI238,CadMP!$B:$D,2,0),\"\")","v":""},{"$f":"IFERROR(VLOOKUP(AJ238,CadMP!$B:$D,2,0),\"\")","v":""},{"$f":"IFERROR(VLOOKUP(AK238,CadMP!$B:$D,2,0),\"\")","v":""},{"$f":"IFERROR(VLOOKUP(W238,CadMP!$B:$D,3,0),\"\")","v":""},{"$f":"IFERROR(VLOOKUP(X238,CadMP!$B:$D,3,0),\"\")","v":""},{"$f":"IFERROR(VLOOKUP(Y238,CadMP!$B:$D,3,0),\"\")","v":""},{"$f":"IFERROR(VLOOKUP(Z238,CadMP!$B:$D,3,0),\"\")","v":""},{"$f":"IFERROR(VLOOKUP(AA238,CadMP!$B:$D,3,0),\"\")","v":""},{"$f":"IFERROR(VLOOKUP(AB238,CadMP!$B:$D,3,0),\"\")","v":""},{"$f":"IFERROR(VLOOKUP(AC238,CadMP!$B:$D,3,0),\"\")","v":""},{"$f":"IFERROR(VLOOKUP(AD238,CadMP!$B:$D,3,0),\"\")","v":""},{"$f":"IFERROR(VLOOKUP(AE238,CadMP!$B:$D,3,0),\"\")","v":""},{"$f":"IFERROR(VLOOKUP(AF238,CadMP!$B:$D,3,0),\"\")","v":""},{"$f":"IFERROR(VLOOKUP(AG238,CadMP!$B:$D,3,0),\"\")","v":""},{"$f":"IFERROR(VLOOKUP(AH238,CadMP!$B:$D,3,0),\"\")","v":""},{"$f":"IFERROR(VLOOKUP(AI238,CadMP!$B:$D,3,0),\"\")","v":""},{"$f":"IFERROR(VLOOKUP(AJ238,CadMP!$B:$D,3,0),\"\")","v":""},{"$f":"IFERROR(VLOOKUP(AK238,CadMP!$B:$D,3,0),\"\")","v":""},0,0,0,0,0,0,0,0,0,0,0,0,0,0,0]
[238,null,null,0,0,null,null,null,null,null,null,0,0,null,null,null,null,null,null,null,1,0,null,null,null,null,null,null,null,null,null,null,null,null,null,null,null,null,null,null,null,null,null,null,null,null,null,null,null,null,null,null,{"$f":"IFERROR(VLOOKUP(W239,CadMP!$B:$D,2,0),\"\")","v":""},{"$f":"IFERROR(VLOOKUP(X239,CadMP!$B:$D,2,0),\"\")","v":""},{"$f":"IFERROR(VLOOKUP(Y239,CadMP!$B:$D,2,0),\"\")","v":""},{"$f":"IFERROR(VLOOKUP(Z239,CadMP!$B:$D,2,0),\"\")","v":""},{"$f":"IFERROR(VLOOKUP(AA239,CadMP!$B:$D,2,0),\"\")","v":""},{"$f":"IFERROR(VLOOKUP(AB239,CadMP!$B:$D,2,0),\"\")","v":""},{"$f":"IFERROR(VLOOKUP(AC239,CadMP!$B:$D,2,0),\"\")","v":""},{"$f":"IFERROR(VLOOKUP(AD239,CadMP!$B:$D,2,0),\"\")","v":""},{"$f":"IFERROR(VLOOKUP(AE239,CadMP!$B:$D,2,0),\"\")","v":""},{"$f":"IFERROR(VLOOKUP(AF239,CadMP!$B:$D,2,0),\"\")","v":""},{"$f":"IFERROR(VLOOKUP(AG239,CadMP!$B:$D,2,0),\"\")","v":""},{"$f":"IFERROR(VLOOKUP(AH239,CadMP!$B:$D,2,0),\"\")","v":""},{"$f":"IFERROR(VLOOKUP(AI239,CadMP!$B:$D,2,0),\"\")","v":""},{"$f":"IFERROR(VLOOKUP(AJ239,CadMP!$B:$D,2,0),\"\")","v":""},{"$f":"IFERROR(VLOOKUP(AK239,CadMP!$B:$D,2,0),\"\")","v":""},{"$f":"IFERROR(VLOOKUP(W239,CadMP!$B:$D,3,0),\"\")","v":""},{"$f":"IFERROR(VLOOKUP(X239,CadMP!$B:$D,3,0),\"\")","v":""},{"$f":"IFERROR(VLOOKUP(Y239,CadMP!$B:$D,3,0),\"\")","v":""},{"$f":"IFERROR(VLOOKUP(Z239,CadMP!$B:$D,3,0),\"\")","v":""},{"$f":"IFERROR(VLOOKUP(AA239,CadMP!$B:$D,3,0),\"\")","v":""},{"$f":"IFERROR(VLOOKUP(AB239,CadMP!$B:$D,3,0),\"\")","v":""},{"$f":"IFERROR(VLOOKUP(AC239,CadMP!$B:$D,3,0),\"\")","v":""},{"$f":"IFERROR(VLOOKUP(AD239,CadMP!$B:$D,3,0),\"\")","v":""},{"$f":"IFERROR(VLOOKUP(AE239,CadMP!$B:$D,3,0),\"\")","v":""},{"$f":"IFERROR(VLOOKUP(AF239,CadMP!$B:$D,3,0),\"\")","v":""},{"$f":"IFERROR(VLOOKUP(AG239,CadMP!$B:$D,3,0),\"\")","v":""},{"$f":"IFERROR(VLOOKUP(AH239,CadMP!$B:$D,3,0),\"\")","v":""},{"$f":"IFERROR(VLOOKUP(AI239,CadMP!$B:$D,3,0),\"\")","v":""},{"$f":"IFERROR(VLOOKUP(AJ239,CadMP!$B:$D,3,0),\"\")","v":""},{"$f":"IFERROR(VLOOKUP(AK239,CadMP!$B:$D,3,0),\"\")","v":""},0,0,0,0,0,0,0,0,0,0,0,0,0,0,0]
[239,null,null,0,0,null,null,null,null,null,null,0,0,null,null,null,null,null,null,null,1,0,null,null,null,null,null,null,null,null,null,null,null,null,null,null,null,null,null,null,null,null,null,null,null,null,null,null,null,null,null,null,{"$f":"IFERROR(VLOOKUP(W240,CadMP!$B:$D,2,0),\"\")","v":""},{"$f":"IFERROR(VLOOKUP(X240,CadMP!$B:$D,2,0),\"\")","v":""},{"$f":"IFERROR(VLOOKUP(Y240,CadMP!$B:$D,2,0),\"\")","v":""},{"$f":"IFERROR(VLOOKUP(Z240,CadMP!$B:$D,2,0),\"\")","v":""},{"$f":"IFERROR(VLOOKUP(AA240,CadMP!$B:$D,2,0),\"\")","v":""},{"$f":"IFERROR(VLOOKUP(AB240,CadMP!$B:$D,2,0),\"\")","v":""},{"$f":"IFERROR(VLOOKUP(AC240,CadMP!$B:$D,2,0),\"\")","v":""},{"$f":"IFERROR(VLOOKUP(AD240,CadMP!$B:$D,2,0),\"\")","v":""},{"$f":"IFERROR(VLOOKUP(AE240,CadMP!$B:$D,2,0),\"\")","v":""},{"$f":"IFERROR(VLOOKUP(AF240,CadMP!$B:$D,2,0),\"\")","v":""},{"$f":"IFERROR(VLOOKUP(AG240,CadMP!$B:$D,2,0),\"\")","v":""},{"$f":"IFERROR(VLOOKUP(AH240,CadMP!$B:$D,2,0),\"\")","v":""},{"$f":"IFERROR(VLOOKUP(AI240,CadMP!$B:$D,2,0),\"\")","v":""},{"$f":"IFERROR(VLOOKUP(AJ240,CadMP!$B:$D,2,0),\"\")","v":""},{"$f":"IFERROR(VLOOKUP(AK240,CadMP!$B:$D,2,0),\"\")","v":""},{"$f":"IFERROR(VLOOKUP(W240,CadMP!$B:$D,3,0),\"\")","v":""},{"$f":"IFERROR(VLOOKUP(X240,CadMP!$B:$D,3,0),\"\")","v":""},{"$f":"IFERROR(VLOOKUP(Y240,CadMP!$B:$D,3,0),\"\")","v":""},{"$f":"IFERROR(VLOOKUP(Z240,CadMP!$B:$D,3,0),\"\")","v":""},{"$f":"IFERROR(VLOOKUP(AA240,CadMP!$B:$D,3,0),\"\")","v":""},{"$f":"IFERROR(VLOOKUP(AB240,CadMP!$B:$D,3,0),\"\")","v":""},{"$f":"IFERROR(VLOOKUP(AC240,CadMP!$B:$D,3,0),\"\")","v":""},{"$f":"IFERROR(VLOOKUP(AD240,CadMP!$B:$D,3,0),\"\")","v":""},{"$f":"IFERROR(VLOOKUP(AE240,CadMP!$B:$D,3,0),\"\")","v":""},{"$f":"IFERROR(VLOOKUP(AF240,CadMP!$B:$D,3,0),\"\")","v":""},{"$f":"IFERROR(VLOOKUP(AG240,CadMP!$B:$D,3,0),\"\")","v":""},{"$f":"IFERROR(VLOOKUP(AH240,CadMP!$B:$D,3,0),\"\")","v":""},{"$f":"IFERROR(VLOOKUP(AI240,CadMP!$B:$D,3,0),\"\")","v":""},{"$f":"IFERROR(VLOOKUP(AJ240,CadMP!$B:$D,3,0),\"\")","v":""},{"$f":"IFERROR(VLOOKUP(AK240,CadMP!$B:$D,3,0),\"\")","v":""},0,0,0,0,0,0,0,0,0,0,0,0,0,0,0]
[240,null,null,0,0,null,null,null,null,null,null,0,0,null,null,null,null,null,null,null,1,0,null,null,null,null,null,null,null,null,null,null,null,null,null,null,null,null,null,null,null,null,null,null,null,null,null,null,null,null,null,null,{"$f":"IFERROR(VLOOKUP(W241,CadMP!$B:$D,2,0),\"\")","v":""},{"$f":"IFERROR(VLOOKUP(X241,CadMP!$B:$D,2,0),\"\")","v":""},{"$f":"IFERROR(VLOOKUP(Y241,CadMP!$B:$D,2,0),\"\")","v":""},{"$f":"IFERROR(VLOOKUP(Z241,CadMP!$B:$D,2,0),\"\")","v":""},{"$f":"IFERROR(VLOOKUP(AA241,CadMP!$B:$D,2,0),\"\")","v":""},{"$f":"IFERROR(VLOOKUP(AB241,CadMP!$B:$D,2,0),\"\")","v":""},{"$f":"IFERROR(VLOOKUP(AC241,CadMP!$B:$D,2,0),\"\")","v":""},{"$f":"IFERROR(VLOOKUP(AD241,CadMP!$B:$D,2,0),\"\")","v":""},{"$f":"IFERROR(VLOOKUP(AE241,CadMP!$B:$D,2,0),\"\")","v":""},{"$f":"IFERROR(VLOOKUP(AF241,CadMP!$B:$D,2,0),\"\")","v":""},{"$f":"IFERROR(VLOOKUP(AG241,CadMP!$B:$D,2,0),\"\")","v":""},{"$f":"IFERROR(VLOOKUP(AH241,CadMP!$B:$D,2,0),\"\")","v":""},{"$f":"IFERROR(VLOOKUP(AI241,CadMP!$B:$D,2,0),\"\")","v":""},{"$f":"IFERROR(VLOOKUP(AJ241,CadMP!$B:$D,2,0),\"\")","v":""},{"$f":"IFERROR(VLOOKUP(AK241,CadMP!$B:$D,2,0),\"\")","v":""},{"$f":"IFERROR(VLOOKUP(W241,CadMP!$B:$D,3,0),\"\")","v":""},{"$f":"IFERROR(VLOOKUP(X241,CadMP!$B:$D,3,0),\"\")","v":""},{"$f":"IFERROR(VLOOKUP(Y241,CadMP!$B:$D,3,0),\"\")","v":""},{"$f":"IFERROR(VLOOKUP(Z241,CadMP!$B:$D,3,0),\"\")","v":""},{"$f":"IFERROR(VLOOKUP(AA241,CadMP!$B:$D,3,0),\"\")","v":""},{"$f":"IFERROR(VLOOKUP(AB241,CadMP!$B:$D,3,0),\"\")","v":""},{"$f":"IFERROR(VLOOKUP(AC241,CadMP!$B:$D,3,0),\"\")","v":""},{"$f":"IFERROR(VLOOKUP(AD241,CadMP!$B:$D,3,0),\"\")","v":""},{"$f":"IFERROR(VLOOKUP(AE241,CadMP!$B:$D,3,0),\"\")","v":""},{"$f":"IFERROR(VLOOKUP(AF241,CadMP!$B:$D,3,0),\"\")","v":""},{"$f":"IFERROR(VLOOKUP(AG241,CadMP!$B:$D,3,0),\"\")","v":""},{"$f":"IFERROR(VLOOKUP(AH241,CadMP!$B:$D,3,0),\"\")","v":""},{"$f":"IFERROR(VLOOKUP(AI241,CadMP!$B:$D,3,0),\"\")","v":""},{"$f":"IFERROR(VLOOKUP(AJ241,CadMP!$B:$D,3,0),\"\")","v":""},{"$f":"IFERROR(VLOOKUP(AK241,CadMP!$B:$D,3,0),\"\")","v":""},0,0,0,0,0,0,0,0,0,0,0,0,0,0,0]
[241,null,null,0,0,null,null,null,null,null,null,0,0,null,null,null,null,null,null,null,1,0,null,null,null,null,null,null,null,null,null,null,null,null,null,null,null,null,null,null,null,null,null,null,null,null,null,null,null,null,null,null,{"$f":"IFERROR(VLOOKUP(W242,CadMP!$B:$D,2,0),\"\")","v":""},{"$f":"IFERROR(VLOOKUP(X242,CadMP!$B:$D,2,0),\"\")","v":""},{"$f":"IFERROR(VLOOKUP(Y242,CadMP!$B:$D,2,0),\"\")","v":""},{"$f":"IFERROR(VLOOKUP(Z242,CadMP!$B:$D,2,0),\"\")","v":""},{"$f":"IFERROR(VLOOKUP(AA242,CadMP!$B:$D,2,0),\"\")","v":""},{"$f":"IFERROR(VLOOKUP(AB242,CadMP!$B:$D,2,0),\"\")","v":""},{"$f":"IFERROR(VLOOKUP(AC242,CadMP!$B:$D,2,0),\"\")","v":""},{"$f":"IFERROR(VLOOKUP(AD242,CadMP!$B:$D,2,0),\"\")","v":""},{"$f":"IFERROR(VLOOKUP(AE242,CadMP!$B:$D,2,0),\"\")","v":""},{"$f":"IFERROR(VLOOKUP(AF242,CadMP!$B:$D,2,0),\"\")","v":""},{"$f":"IFERROR(VLOOKUP(AG242,CadMP!$B:$D,2,0),\"\")","v":""},{"$f":"IFERROR(VLOOKUP(AH242,CadMP!$B:$D,2,0),\"\")","v":""},{"$f":"IFERROR(VLOOKUP(AI242,CadMP!$B:$D,2,0),\"\")","v":""},{"$f":"IFERROR(VLOOKUP(AJ242,CadMP!$B:$D,2,0),\"\")","v":""},{"$f":"IFERROR(VLOOKUP(AK242,CadMP!$B:$D,2,0),\"\")","v":""},{"$f":"IFERROR(VLOOKUP(W242,CadMP!$B:$D,3,0),\"\")","v":""},{"$f":"IFERROR(VLOOKUP(X242,CadMP!$B:$D,3,0),\"\")","v":""},{"$f":"IFERROR(VLOOKUP(Y242,CadMP!$B:$D,3,0),\"\")","v":""},{"$f":"IFERROR(VLOOKUP(Z242,CadMP!$B:$D,3,0),\"\")","v":""},{"$f":"IFERROR(VLOOKUP(AA242,CadMP!$B:$D,3,0),\"\")","v":""},{"$f":"IFERROR(VLOOKUP(AB242,CadMP!$B:$D,3,0),\"\")","v":""},{"$f":"IFERROR(VLOOKUP(AC242,CadMP!$B:$D,3,0),\"\")","v":""},{"$f":"IFERROR(VLOOKUP(AD242,CadMP!$B:$D,3,0),\"\")","v":""},{"$f":"IFERROR(VLOOKUP(AE242,CadMP!$B:$D,3,0),\"\")","v":""},{"$f":"IFERROR(VLOOKUP(AF242,CadMP!$B:$D,3,0),\"\")","v":""},{"$f":"IFERROR(VLOOKUP(AG242,CadMP!$B:$D,3,0),\"\")","v":""},{"$f":"IFERROR(VLOOKUP(AH242,CadMP!$B:$D,3,0),\"\")","v":""},{"$f":"IFERROR(VLOOKUP(AI242,CadMP!$B:$D,3,0),\"\")","v":""},{"$f":"IFERROR(VLOOKUP(AJ242,CadMP!$B:$D,3,0),\"\")","v":""},{"$f":"IFERROR(VLOOKUP(AK242,CadMP!$B:$D,3,0),\"\")","v":""},0,0,0,0,0,0,0,0,0,0,0,0,0,0,0]
[242,null,null,0,0,null,null,null,null,null,null,0,0,null,null,null,null,null,null,null,1,0,null,null,null,null,null,null,null,null,null,null,null,null,null,null,null,null,null,null,null,null,null,null,null,null,null,null,null,null,null,null,{"$f":"IFERROR(VLOOKUP(W243,CadMP!$B:$D,2,0),\"\")","v":""},{"$f":"IFERROR(VLOOKUP(X243,CadMP!$B:$D,2,0),\"\")","v":""},{"$f":"IFERROR(VLOOKUP(Y243,CadMP!$B:$D,2,0),\"\")","v":""},{"$f":"IFERROR(VLOOKUP(Z243,CadMP!$B:$D,2,0),\"\")","v":""},{"$f":"IFERROR(VLOOKUP(AA243,CadMP!$B:$D,2,0),\"\")","v":""},{"$f":"IFERROR(VLOOKUP(AB243,CadMP!$B:$D,2,0),\"\")","v":""},{"$f":"IFERROR(VLOOKUP(AC243,CadMP!$B:$D,2,0),\"\")","v":""},{"$f":"IFERROR(VLOOKUP(AD243,CadMP!$B:$D,2,0),\"\")","v":""},{"$f":"IFERROR(VLOOKUP(AE243,CadMP!$B:$D,2,0),\"\")","v":""},{"$f":"IFERROR(VLOOKUP(AF243,CadMP!$B:$D,2,0),\"\")","v":""},{"$f":"IFERROR(VLOOKUP(AG243,CadMP!$B:$D,2,0),\"\")","v":""},{"$f":"IFERROR(VLOOKUP(AH243,CadMP!$B:$D,2,0),\"\")","v":""},{"$f":"IFERROR(VLOOKUP(AI243,CadMP!$B:$D,2,0),\"\")","v":""},{"$f":"IFERROR(VLOOKUP(AJ243,CadMP!$B:$D,2,0),\"\")","v":""},{"$f":"IFERROR(VLOOKUP(AK243,CadMP!$B:$D,2,0),\"\")","v":""},{"$f":"IFERROR(VLOOKUP(W243,CadMP!$B:$D,3,0),\"\")","v":""},{"$f":"IFERROR(VLOOKUP(X243,CadMP!$B:$D,3,0),\"\")","v":""},{"$f":"IFERROR(VLOOKUP(Y243,CadMP!$B:$D,3,0),\"\")","v":""},{"$f":"IFERROR(VLOOKUP(Z243,CadMP!$B:$D,3,0),\"\")","v":""},{"$f":"IFERROR(VLOOKUP(AA243,CadMP!$B:$D,3,0),\"\")","v":""},{"$f":"IFERROR(VLOOKUP(AB243,CadMP!$B:$D,3,0),\"\")","v":""},{"$f":"IFERROR(VLOOKUP(AC243,CadMP!$B:$D,3,0),\"\")","v":""},{"$f":"IFERROR(VLOOKUP(AD243,CadMP!$B:$D,3,0),\"\")","v":""},{"$f":"IFERROR(VLOOKUP(AE243,CadMP!$B:$D,3,0),\"\")","v":""},{"$f":"IFERROR(VLOOKUP(AF243,CadMP!$B:$D,3,0),\"\")","v":""},{"$f":"IFERROR(VLOOKUP(AG243,CadMP!$B:$D,3,0),\"\")","v":""},{"$f":"IFERROR(VLOOKUP(AH243,CadMP!$B:$D,3,0),\"\")","v":""},{"$f":"IFERROR(VLOOKUP(AI243,CadMP!$B:$D,3,0),\"\")","v":""},{"$f":"IFERROR(VLOOKUP(AJ243,CadMP!$B:$D,3,0),\"\")","v":""},{"$f":"IFERROR(VLOOKUP(AK243,CadMP!$B:$D,3,0),\"\")","v":""},0,0,0,0,0,0,0,0,0,0,0,0,0,0,0]
[243,null,null,0,0,null,null,null,null,null,null,0,0,null,null,null,null,null,null,null,1,0,null,null,null,null,null,null,null,null,null,null,null,null,null,null,null,null,null,null,null,null,null,null,null,null,null,null,null,null,null,null,{"$f":"IFERROR(VLOOKUP(W244,CadMP!$B:$D,2,0),\"\")","v":""},{"$f":"IFERROR(VLOOKUP(X244,CadMP!$B:$D,2,0),\"\")","v":""},{"$f":"IFERROR(VLOOKUP(Y244,CadMP!$B:$D,2,0),\"\")","v":""},{"$f":"IFERROR(VLOOKUP(Z244,CadMP!$B:$D,2,0),\"\")","v":""},{"$f":"IFERROR(VLOOKUP(AA244,CadMP!$B:$D,2,0),\"\")","v":""},{"$f":"IFERROR(VLOOKUP(AB244,CadMP!$B:$D,2,0),\"\")","v":""},{"$f":"IFERROR(VLOOKUP(AC244,CadMP!$B:$D,2,0),\"\")","v":""},{"$f":"IFERROR(VLOOKUP(AD244,CadMP!$B:$D,2,0),\"\")","v":""},{"$f":"IFERROR(VLOOKUP(AE244,CadMP!$B:$D,2,0),\"\")","v":""},{"$f":"IFERROR(VLOOKUP(AF244,CadMP!$B:$D,2,0),\"\")","v":""},{"$f":"IFERROR(VLOOKUP(AG244,CadMP!$B:$D,2,0),\"\")","v":""},{"$f":"IFERROR(VLOOKUP(AH244,CadMP!$B:$D,2,0),\"\")","v":""},{"$f":"IFERROR(VLOOKUP(AI244,CadMP!$B:$D,2,0),\"\")","v":""},{"$f":"IFERROR(VLOOKUP(AJ244,CadMP!$B:$D,2,0),\"\")","v":""},{"$f":"IFERROR(VLOOKUP(AK244,CadMP!$B:$D,2,0),\"\")","v":""},{"$f":"IFERROR(VLOOKUP(W244,CadMP!$B:$D,3,0),\"\")","v":""},{"$f":"IFERROR(VLOOKUP(X244,CadMP!$B:$D,3,0),\"\")","v":""},{"$f":"IFERROR(VLOOKUP(Y244,CadMP!$B:$D,3,0),\"\")","v":""},{"$f":"IFERROR(VLOOKUP(Z244,CadMP!$B:$D,3,0),\"\")","v":""},{"$f":"IFERROR(VLOOKUP(AA244,CadMP!$B:$D,3,0),\"\")","v":""},{"$f":"IFERROR(VLOOKUP(AB244,CadMP!$B:$D,3,0),\"\")","v":""},{"$f":"IFERROR(VLOOKUP(AC244,CadMP!$B:$D,3,0),\"\")","v":""},{"$f":"IFERROR(VLOOKUP(AD244,CadMP!$B:$D,3,0),\"\")","v":""},{"$f":"IFERROR(VLOOKUP(AE244,CadMP!$B:$D,3,0),\"\")","v":""},{"$f":"IFERROR(VLOOKUP(AF244,CadMP!$B:$D,3,0),\"\")","v":""},{"$f":"IFERROR(VLOOKUP(AG244,CadMP!$B:$D,3,0),\"\")","v":""},{"$f":"IFERROR(VLOOKUP(AH244,CadMP!$B:$D,3,0),\"\")","v":""},{"$f":"IFERROR(VLOOKUP(AI244,CadMP!$B:$D,3,0),\"\")","v":""},{"$f":"IFERROR(VLOOKUP(AJ244,CadMP!$B:$D,3,0),\"\")","v":""},{"$f":"IFERROR(VLOOKUP(AK244,CadMP!$B:$D,3,0),\"\")","v":""},0,0,0,0,0,0,0,0,0,0,0,0,0,0,0]
[244,null,null,0,0,null,null,null,null,null,null,0,0,null,null,null,null,null,null,null,1,0,null,null,null,null,null,null,null,null,null,null,null,null,null,null,null,null,null,null,null,null,null,null,null,null,null,null,null,null,null,null,{"$f":"IFERROR(VLOOKUP(W245,CadMP!$B:$D,2,0),\"\")","v":""},{"$f":"IFERROR(VLOOKUP(X245,CadMP!$B:$D,2,0),\"\")","v":""},{"$f":"IFERROR(VLOOKUP(Y245,CadMP!$B:$D,2,0),\"\")","v":""},{"$f":"IFERROR(VLOOKUP(Z245,CadMP!$B:$D,2,0),\"\")","v":""},{"$f":"IFERROR(VLOOKUP(AA245,CadMP!$B:$D,2,0),\"\")","v":""},{"$f":"IFERROR(VLOOKUP(AB245,CadMP!$B:$D,2,0),\"\")","v":""},{"$f":"IFERROR(VLOOKUP(AC245,CadMP!$B:$D,2,0),\"\")","v":""},{"$f":"IFERROR(VLOOKUP(AD245,CadMP!$B:$D,2,0),\"\")","v":""},{"$f":"IFERROR(VLOOKUP(AE245,CadMP!$B:$D,2,0),\"\")","v":""},{"$f":"IFERROR(VLOOKUP(AF245,CadMP!$B:$D,2,0),\"\")","v":""},{"$f":"IFERROR(VLOOKUP(AG245,CadMP!$B:$D,2,0),\"\")","v":""},{"$f":"IFERROR(VLOOKUP(AH245,CadMP!$B:$D,2,0),\"\")","v":""},{"$f":"IFERROR(VLOOKUP(AI245,CadMP!$B:$D,2,0),\"\")","v":""},{"$f":"IFERROR(VLOOKUP(AJ245,CadMP!$B:$D,2,0),\"\")","v":""},{"$f":"IFERROR(VLOOKUP(AK245,CadMP!$B:$D,2,0),\"\")","v":""},{"$f":"IFERROR(VLOOKUP(W245,CadMP!$B:$D,3,0),\"\")","v":""},{"$f":"IFERROR(VLOOKUP(X245,CadMP!$B:$D,3,0),\"\")","v":""},{"$f":"IFERROR(VLOOKUP(Y245,CadMP!$B:$D,3,0),\"\")","v":""},{"$f":"IFERROR(VLOOKUP(Z245,CadMP!$B:$D,3,0),\"\")","v":""},{"$f":"IFERROR(VLOOKUP(AA245,CadMP!$B:$D,3,0),\"\")","v":""},{"$f":"IFERROR(VLOOKUP(AB245,CadMP!$B:$D,3,0),\"\")","v":""},{"$f":"IFERROR(VLOOKUP(AC245,CadMP!$B:$D,3,0),\"\")","v":""},{"$f":"IFERROR(VLOOKUP(AD245,CadMP!$B:$D,3,0),\"\")","v":""},{"$f":"IFERROR(VLOOKUP(AE245,CadMP!$B:$D,3,0),\"\")","v":""},{"$f":"IFERROR(VLOOKUP(AF245,CadMP!$B:$D,3,0),\"\")","v":""},{"$f":"IFERROR(VLOOKUP(AG245,CadMP!$B:$D,3,0),\"\")","v":""},{"$f":"IFERROR(VLOOKUP(AH245,CadMP!$B:$D,3,0),\"\")","v":""},{"$f":"IFERROR(VLOOKUP(AI245,CadMP!$B:$D,3,0),\"\")","v":""},{"$f":"IFERROR(VLOOKUP(AJ245,CadMP!$B:$D,3,0),\"\")","v":""},{"$f":"IFERROR(VLOOKUP(AK245,CadMP!$B:$D,3,0),\"\")","v":""},0,0,0,0,0,0,0,0,0,0,0,0,0,0,0]
[245,null,null,0,0,null,null,null,null,null,null,0,0,null,null,null,null,null,null,null,1,0,null,null,null,null,null,null,null,null,null,null,null,null,null,null,null,null,null,null,null,null,null,null,null,null,null,null,null,null,null,null,{"$f":"IFERROR(VLOOKUP(W246,CadMP!$B:$D,2,0),\"\")","v":""},{"$f":"IFERROR(VLOOKUP(X246,CadMP!$B:$D,2,0),\"\")","v":""},{"$f":"IFERROR(VLOOKUP(Y246,CadMP!$B:$D,2,0),\"\")","v":""},{"$f":"IFERROR(VLOOKUP(Z246,CadMP!$B:$D,2,0),\"\")","v":""},{"$f":"IFERROR(VLOOKUP(AA246,CadMP!$B:$D,2,0),\"\")","v":""},{"$f":"IFERROR(VLOOKUP(AB246,CadMP!$B:$D,2,0),\"\")","v":""},{"$f":"IFERROR(VLOOKUP(AC246,CadMP!$B:$D,2,0),\"\")","v":""},{"$f":"IFERROR(VLOOKUP(AD246,CadMP!$B:$D,2,0),\"\")","v":""},{"$f":"IFERROR(VLOOKUP(AE246,CadMP!$B:$D,2,0),\"\")","v":""},{"$f":"IFERROR(VLOOKUP(AF246,CadMP!$B:$D,2,0),\"\")","v":""},{"$f":"IFERROR(VLOOKUP(AG246,CadMP!$B:$D,2,0),\"\")","v":""},{"$f":"IFERROR(VLOOKUP(AH246,CadMP!$B:$D,2,0),\"\")","v":""},{"$f":"IFERROR(VLOOKUP(AI246,CadMP!$B:$D,2,0),\"\")","v":""},{"$f":"IFERROR(VLOOKUP(AJ246,CadMP!$B:$D,2,0),\"\")","v":""},{"$f":"IFERROR(VLOOKUP(AK246,CadMP!$B:$D,2,0),\"\")","v":""},{"$f":"IFERROR(VLOOKUP(W246,CadMP!$B:$D,3,0),\"\")","v":""},{"$f":"IFERROR(VLOOKUP(X246,CadMP!$B:$D,3,0),\"\")","v":""},{"$f":"IFERROR(VLOOKUP(Y246,CadMP!$B:$D,3,0),\"\")","v":""},{"$f":"IFERROR(VLOOKUP(Z246,CadMP!$B:$D,3,0),\"\")","v":""},{"$f":"IFERROR(VLOOKUP(AA246,CadMP!$B:$D,3,0),\"\")","v":""},{"$f":"IFERROR(VLOOKUP(AB246,CadMP!$B:$D,3,0),\"\")","v":""},{"$f":"IFERROR(VLOOKUP(AC246,CadMP!$B:$D,3,0),\"\")","v":""},{"$f":"IFERROR(VLOOKUP(AD246,CadMP!$B:$D,3,0),\"\")","v":""},{"$f":"IFERROR(VLOOKUP(AE246,CadMP!$B:$D,3,0),\"\")","v":""},{"$f":"IFERROR(VLOOKUP(AF246,CadMP!$B:$D,3,0),\"\")","v":""},{"$f":"IFERROR(VLOOKUP(AG246,CadMP!$B:$D,3,0),\"\")","v":""},{"$f":"IFERROR(VLOOKUP(AH246,CadMP!$B:$D,3,0),\"\")","v":""},{"$f":"IFERROR(VLOOKUP(AI246,CadMP!$B:$D,3,0),\"\")","v":""},{"$f":"IFERROR(VLOOKUP(AJ246,CadMP!$B:$D,3,0),\"\")","v":""},{"$f":"IFERROR(VLOOKUP(AK246,CadMP!$B:$D,3,0),\"\")","v":""},0,0,0,0,0,0,0,0,0,0,0,0,0,0,0]
[246,null,null,0,0,null,null,null,null,null,null,0,0,null,null,null,null,null,null,null,1,0,null,null,null,null,null,null,null,null,null,null,null,null,null,null,null,null,null,null,null,null,null,null,null,null,null,null,null,null,null,null,{"$f":"IFERROR(VLOOKUP(W247,CadMP!$B:$D,2,0),\"\")","v":""},{"$f":"IFERROR(VLOOKUP(X247,CadMP!$B:$D,2,0),\"\")","v":""},{"$f":"IFERROR(VLOOKUP(Y247,CadMP!$B:$D,2,0),\"\")","v":""},{"$f":"IFERROR(VLOOKUP(Z247,CadMP!$B:$D,2,0),\"\")","v":""},{"$f":"IFERROR(VLOOKUP(AA247,CadMP!$B:$D,2,0),\"\")","v":""},{"$f":"IFERROR(VLOOKUP(AB247,CadMP!$B:$D,2,0),\"\")","v":""},{"$f":"IFERROR(VLOOKUP(AC247,CadMP!$B:$D,2,0),\"\")","v":""},{"$f":"IFERROR(VLOOKUP(AD247,CadMP!$B:$D,2,0),\"\")","v":""},{"$f":"IFERROR(VLOOKUP(AE247,CadMP!$B:$D,2,0),\"\")","v":""},{"$f":"IFERROR(VLOOKUP(AF247,CadMP!$B:$D,2,0),\"\")","v":""},{"$f":"IFERROR(VLOOKUP(AG247,CadMP!$B:$D,2,0),\"\")","v":""},{"$f":"IFERROR(VLOOKUP(AH247,CadMP!$B:$D,2,0),\"\")","v":""},{"$f":"IFERROR(VLOOKUP(AI247,CadMP!$B:$D,2,0),\"\")","v":""},{"$f":"IFERROR(VLOOKUP(AJ247,CadMP!$B:$D,2,0),\"\")","v":""},{"$f":"IFERROR(VLOOKUP(AK247,CadMP!$B:$D,2,0),\"\")","v":""},{"$f":"IFERROR(VLOOKUP(W247,CadMP!$B:$D,3,0),\"\")","v":""},{"$f":"IFERROR(VLOOKUP(X247,CadMP!$B:$D,3,0),\"\")","v":""},{"$f":"IFERROR(VLOOKUP(Y247,CadMP!$B:$D,3,0),\"\")","v":""},{"$f":"IFERROR(VLOOKUP(Z247,CadMP!$B:$D,3,0),\"\")","v":""},{"$f":"IFERROR(VLOOKUP(AA247,CadMP!$B:$D,3,0),\"\")","v":""},{"$f":"IFERROR(VLOOKUP(AB247,CadMP!$B:$D,3,0),\"\")","v":""},{"$f":"IFERROR(VLOOKUP(AC247,CadMP!$B:$D,3,0),\"\")","v":""},{"$f":"IFERROR(VLOOKUP(AD247,CadMP!$B:$D,3,0),\"\")","v":""},{"$f":"IFERROR(VLOOKUP(AE247,CadMP!$B:$D,3,0),\"\")","v":""},{"$f":"IFERROR(VLOOKUP(AF247,CadMP!$B:$D,3,0),\"\")","v":""},{"$f":"IFERROR(VLOOKUP(AG247,CadMP!$B:$D,3,0),\"\")","v":""},{"$f":"IFERROR(VLOOKUP(AH247,CadMP!$B:$D,3,0),\"\")","v":""},{"$f":"IFERROR(VLOOKUP(AI247,CadMP!$B:$D,3,0),\"\")","v":""},{"$f":"IFERROR(VLOOKUP(AJ247,CadMP!$B:$D,3,0),\"\")","v":""},{"$f":"IFERROR(VLOOKUP(AK247,CadMP!$B:$D,3,0),\"\")","v":""},0,0,0,0,0,0,0,0,0,0,0,0,0,0,0]
[247,null,null,0,0,null,null,null,null,null,null,0,0,null,null,null,null,null,null,null,1,0,null,null,null,null,null,null,null,null,null,null,null,null,null,null,null,null,null,null,null,null,null,null,null,null,null,null,null,null,null,null,{"$f":"IFERROR(VLOOKUP(W248,CadMP!$B:$D,2,0),\"\")","v":""},{"$f":"IFERROR(VLOOKUP(X248,CadMP!$B:$D,2,0),\"\")","v":""},{"$f":"IFERROR(VLOOKUP(Y248,CadMP!$B:$D,2,0),\"\")","v":""},{"$f":"IFERROR(VLOOKUP(Z248,CadMP!$B:$D,2,0),\"\")","v":""},{"$f":"IFERROR(VLOOKUP(AA248,CadMP!$B:$D,2,0),\"\")","v":""},{"$f":"IFERROR(VLOOKUP(AB248,CadMP!$B:$D,2,0),\"\")","v":""},{"$f":"IFERROR(VLOOKUP(AC248,CadMP!$B:$D,2,0),\"\")","v":""},{"$f":"IFERROR(VLOOKUP(AD248,CadMP!$B:$D,2,0),\"\")","v":""},{"$f":"IFERROR(VLOOKUP(AE248,CadMP!$B:$D,2,0),\"\")","v":""},{"$f":"IFERROR(VLOOKUP(AF248,CadMP!$B:$D,2,0),\"\")","v":""},{"$f":"IFERROR(VLOOKUP(AG248,CadMP!$B:$D,2,0),\"\")","v":""},{"$f":"IFERROR(VLOOKUP(AH248,CadMP!$B:$D,2,0),\"\")","v":""},{"$f":"IFERROR(VLOOKUP(AI248,CadMP!$B:$D,2,0),\"\")","v":""},{"$f":"IFERROR(VLOOKUP(AJ248,CadMP!$B:$D,2,0),\"\")","v":""},{"$f":"IFERROR(VLOOKUP(AK248,CadMP!$B:$D,2,0),\"\")","v":""},{"$f":"IFERROR(VLOOKUP(W248,CadMP!$B:$D,3,0),\"\")","v":""},{"$f":"IFERROR(VLOOKUP(X248,CadMP!$B:$D,3,0),\"\")","v":""},{"$f":"IFERROR(VLOOKUP(Y248,CadMP!$B:$D,3,0),\"\")","v":""},{"$f":"IFERROR(VLOOKUP(Z248,CadMP!$B:$D,3,0),\"\")","v":""},{"$f":"IFERROR(VLOOKUP(AA248,CadMP!$B:$D,3,0),\"\")","v":""},{"$f":"IFERROR(VLOOKUP(AB248,CadMP!$B:$D,3,0),\"\")","v":""},{"$f":"IFERROR(VLOOKUP(AC248,CadMP!$B:$D,3,0),\"\")","v":""},{"$f":"IFERROR(VLOOKUP(AD248,CadMP!$B:$D,3,0),\"\")","v":""},{"$f":"IFERROR(VLOOKUP(AE248,CadMP!$B:$D,3,0),\"\")","v":""},{"$f":"IFERROR(VLOOKUP(AF248,CadMP!$B:$D,3,0),\"\")","v":""},{"$f":"IFERROR(VLOOKUP(AG248,CadMP!$B:$D,3,0),\"\")","v":""},{"$f":"IFERROR(VLOOKUP(AH248,CadMP!$B:$D,3,0),\"\")","v":""},{"$f":"IFERROR(VLOOKUP(AI248,CadMP!$B:$D,3,0),\"\")","v":""},{"$f":"IFERROR(VLOOKUP(AJ248,CadMP!$B:$D,3,0),\"\")","v":""},{"$f":"IFERROR(VLOOKUP(AK248,CadMP!$B:$D,3,0),\"\")","v":""},0,0,0,0,0,0,0,0,0,0,0,0,0,0,0]
[248,null,null,0,0,null,null,null,null,null,null,0,0,null,null,null,null,null,null,null,1,0,null,null,null,null,null,null,null,null,null,null,null,null,null,null,null,null,null,null,null,null,null,null,null,null,null,null,null,null,null,null,{"$f":"IFERROR(VLOOKUP(W249,CadMP!$B:$D,2,0),\"\")","v":""},{"$f":"IFERROR(VLOOKUP(X249,CadMP!$B:$D,2,0),\"\")","v":""},{"$f":"IFERROR(VLOOKUP(Y249,CadMP!$B:$D,2,0),\"\")","v":""},{"$f":"IFERROR(VLOOKUP(Z249,CadMP!$B:$D,2,0),\"\")","v":""},{"$f":"IFERROR(VLOOKUP(AA249,CadMP!$B:$D,2,0),\"\")","v":""},{"$f":"IFERROR(VLOOKUP(AB249,CadMP!$B:$D,2,0),\"\")","v":""},{"$f":"IFERROR(VLOOKUP(AC249,CadMP!$B:$D,2,0),\"\")","v":""},{"$f":"IFERROR(VLOOKUP(AD249,CadMP!$B:$D,2,0),\"\")","v":""},{"$f":"IFERROR(VLOOKUP(AE249,CadMP!$B:$D,2,0),\"\")","v":""},{"$f":"IFERROR(VLOOKUP(AF249,CadMP!$B:$D,2,0),\"\")","v":""},{"$f":"IFERROR(VLOOKUP(AG249,CadMP!$B:$D,2,0),\"\")","v":""},{"$f":"IFERROR(VLOOKUP(AH249,CadMP!$B:$D,2,0),\"\")","v":""},{"$f":"IFERROR(VLOOKUP(AI249,CadMP!$B:$D,2,0),\"\")","v":""},{"$f":"IFERROR(VLOOKUP(AJ249,CadMP!$B:$D,2,0),\"\")","v":""},{"$f":"IFERROR(VLOOKUP(AK249,CadMP!$B:$D,2,0),\"\")","v":""},{"$f":"IFERROR(VLOOKUP(W249,CadMP!$B:$D,3,0),\"\")","v":""},{"$f":"IFERROR(VLOOKUP(X249,CadMP!$B:$D,3,0),\"\")","v":""},{"$f":"IFERROR(VLOOKUP(Y249,CadMP!$B:$D,3,0),\"\")","v":""},{"$f":"IFERROR(VLOOKUP(Z249,CadMP!$B:$D,3,0),\"\")","v":""},{"$f":"IFERROR(VLOOKUP(AA249,CadMP!$B:$D,3,0),\"\")","v":""},{"$f":"IFERROR(VLOOKUP(AB249,CadMP!$B:$D,3,0),\"\")","v":""},{"$f":"IFERROR(VLOOKUP(AC249,CadMP!$B:$D,3,0),\"\")","v":""},{"$f":"IFERROR(VLOOKUP(AD249,CadMP!$B:$D,3,0),\"\")","v":""},{"$f":"IFERROR(VLOOKUP(AE249,CadMP!$B:$D,3,0),\"\")","v":""},{"$f":"IFERROR(VLOOKUP(AF249,CadMP!$B:$D,3,0),\"\")","v":""},{"$f":"IFERROR(VLOOKUP(AG249,CadMP!$B:$D,3,0),\"\")","v":""},{"$f":"IFERROR(VLOOKUP(AH249,CadMP!$B:$D,3,0),\"\")","v":""},{"$f":"IFERROR(VLOOKUP(AI249,CadMP!$B:$D,3,0),\"\")","v":""},{"$f":"IFERROR(VLOOKUP(AJ249,CadMP!$B:$D,3,0),\"\")","v":""},{"$f":"IFERROR(VLOOKUP(AK249,CadMP!$B:$D,3,0),\"\")","v":""},0,0,0,0,0,0,0,0,0,0,0,0,0,0,0]
[249,null,null,0,0,null,null,null,null,null,null,0,0,null,null,null,null,null,null,null,1,0,null,null,null,null,null,null,null,null,null,null,null,null,null,null,null,null,null,null,null,null,null,null,null,null,null,null,null,null,null,null,{"$f":"IFERROR(VLOOKUP(W250,CadMP!$B:$D,2,0),\"\")","v":""},{"$f":"IFERROR(VLOOKUP(X250,CadMP!$B:$D,2,0),\"\")","v":""},{"$f":"IFERROR(VLOOKUP(Y250,CadMP!$B:$D,2,0),\"\")","v":""},{"$f":"IFERROR(VLOOKUP(Z250,CadMP!$B:$D,2,0),\"\")","v":""},{"$f":"IFERROR(VLOOKUP(AA250,CadMP!$B:$D,2,0),\"\")","v":""},{"$f":"IFERROR(VLOOKUP(AB250,CadMP!$B:$D,2,0),\"\")","v":""},{"$f":"IFERROR(VLOOKUP(AC250,CadMP!$B:$D,2,0),\"\")","v":""},{"$f":"IFERROR(VLOOKUP(AD250,CadMP!$B:$D,2,0),\"\")","v":""},{"$f":"IFERROR(VLOOKUP(AE250,CadMP!$B:$D,2,0),\"\")","v":""},{"$f":"IFERROR(VLOOKUP(AF250,CadMP!$B:$D,2,0),\"\")","v":""},{"$f":"IFERROR(VLOOKUP(AG250,CadMP!$B:$D,2,0),\"\")","v":""},{"$f":"IFERROR(VLOOKUP(AH250,CadMP!$B:$D,2,0),\"\")","v":""},{"$f":"IFERROR(VLOOKUP(AI250,CadMP!$B:$D,2,0),\"\")","v":""},{"$f":"IFERROR(VLOOKUP(AJ250,CadMP!$B:$D,2,0),\"\")","v":""},{"$f":"IFERROR(VLOOKUP(AK250,CadMP!$B:$D,2,0),\"\")","v":""},{"$f":"IFERROR(VLOOKUP(W250,CadMP!$B:$D,3,0),\"\")","v":""},{"$f":"IFERROR(VLOOKUP(X250,CadMP!$B:$D,3,0),\"\")","v":""},{"$f":"IFERROR(VLOOKUP(Y250,CadMP!$B:$D,3,0),\"\")","v":""},{"$f":"IFERROR(VLOOKUP(Z250,CadMP!$B:$D,3,0),\"\")","v":""},{"$f":"IFERROR(VLOOKUP(AA250,CadMP!$B:$D,3,0),\"\")","v":""},{"$f":"IFERROR(VLOOKUP(AB250,CadMP!$B:$D,3,0),\"\")","v":""},{"$f":"IFERROR(VLOOKUP(AC250,CadMP!$B:$D,3,0),\"\")","v":""},{"$f":"IFERROR(VLOOKUP(AD250,CadMP!$B:$D,3,0),\"\")","v":""},{"$f":"IFERROR(VLOOKUP(AE250,CadMP!$B:$D,3,0),\"\")","v":""},{"$f":"IFERROR(VLOOKUP(AF250,CadMP!$B:$D,3,0),\"\")","v":""},{"$f":"IFERROR(VLOOKUP(AG250,CadMP!$B:$D,3,0),\"\")","v":""},{"$f":"IFERROR(VLOOKUP(AH250,CadMP!$B:$D,3,0),\"\")","v":""},{"$f":"IFERROR(VLOOKUP(AI250,CadMP!$B:$D,3,0),\"\")","v":""},{"$f":"IFERROR(VLOOKUP(AJ250,CadMP!$B:$D,3,0),\"\")","v":""},{"$f":"IFERROR(VLOOKUP(AK250,CadMP!$B:$D,3,0),\"\")","v":""},0,0,0,0,0,0,0,0,0,0,0,0,0,0,0]
[265,null,null,0,0,null,null,null,null,null,null,0,0,null,null,null,null,null,null,null,1,0,null,null,null,null,null,null,null,null,null,null,null,null,null,null,null,null,null,null,null,null,null,null,null,null,null,null,null,null,null,null,{"$f":"IFERROR(VLOOKUP(W266,CadMP!$B:$D,2,0),\"\")","v":""},{"$f":"IFERROR(VLOOKUP(X266,CadMP!$B:$D,2,0),\"\")","v":""},{"$f":"IFERROR(VLOOKUP(Y266,CadMP!$B:$D,2,0),\"\")","v":""},{"$f":"IFERROR(VLOOKUP(Z266,CadMP!$B:$D,2,0),\"\")","v":""},{"$f":"IFERROR(VLOOKUP(AA266,CadMP!$B:$D,2,0),\"\")","v":""},{"$f":"IFERROR(VLOOKUP(AB266,CadMP!$B:$D,2,0),\"\")","v":""},{"$f":"IFERROR(VLOOKUP(AC266,CadMP!$B:$D,2,0),\"\")","v":""},{"$f":"IFERROR(VLOOKUP(AD266,CadMP!$B:$D,2,0),\"\")","v":""},{"$f":"IFERROR(VLOOKUP(AE266,CadMP!$B:$D,2,0),\"\")","v":""},{"$f":"IFERROR(VLOOKUP(AF266,CadMP!$B:$D,2,0),\"\")","v":""},{"$f":"IFERROR(VLOOKUP(AG266,CadMP!$B:$D,2,0),\"\")","v":""},{"$f":"IFERROR(VLOOKUP(AH266,CadMP!$B:$D,2,0),\"\")","v":""},{"$f":"IFERROR(VLOOKUP(AI266,CadMP!$B:$D,2,0),\"\")","v":""},{"$f":"IFERROR(VLOOKUP(AJ266,CadMP!$B:$D,2,0),\"\")","v":""},{"$f":"IFERROR(VLOOKUP(AK266,CadMP!$B:$D,2,0),\"\")","v":""},{"$f":"IFERROR(VLOOKUP(W266,CadMP!$B:$D,3,0),\"\")","v":""},{"$f":"IFERROR(VLOOKUP(X266,CadMP!$B:$D,3,0),\"\")","v":""},{"$f":"IFERROR(VLOOKUP(Y266,CadMP!$B:$D,3,0),\"\")","v":""},{"$f":"IFERROR(VLOOKUP(Z266,CadMP!$B:$D,3,0),\"\")","v":""},{"$f":"IFERROR(VLOOKUP(AA266,CadMP!$B:$D,3,0),\"\")","v":""},{"$f":"IFERROR(VLOOKUP(AB266,CadMP!$B:$D,3,0),\"\")","v":""},{"$f":"IFERROR(VLOOKUP(AC266,CadMP!$B:$D,3,0),\"\")","v":""},{"$f":"IFERROR(VLOOKUP(AD266,CadMP!$B:$D,3,0),\"\")","v":""},{"$f":"IFERROR(VLOOKUP(AE266,CadMP!$B:$D,3,0),\"\")","v":""},{"$f":"IFERROR(VLOOKUP(AF266,CadMP!$B:$D,3,0),\"\")","v":""},{"$f":"IFERROR(VLOOKUP(AG266,CadMP!$B:$D,3,0),\"\")","v":""},{"$f":"IFERROR(VLOOKUP(AH266,CadMP!$B:$D,3,0),\"\")","v":""},{"$f":"IFERROR(VLOOKUP(AI266,CadMP!$B:$D,3,0),\"\")","v":""},{"$f":"IFERROR(VLOOKUP(AJ266,CadMP!$B:$D,3,0),\"\")","v":""},{"$f":"IFERROR(VLOOKUP(AK266,CadMP!$B:$D,3,0),\"\")","v":""},0,0,0,0,0,0,0,0,0,0,0,0,0,0,0]
[269,null,null,0,0,null,null,null,null,null,null,0,0,null,null,null,null,null,null,null,1,0,null,null,null,null,null,null,null,null,null,null,null,null,null,null,null,null,null,null,null,null,null,null,null,null,null,null,null,null,null,null,{"$f":"IFERROR(VLOOKUP(W270,CadMP!$B:$D,2,0),\"\")","v":""},{"$f":"IFERROR(VLOOKUP(X270,CadMP!$B:$D,2,0),\"\")","v":""},{"$f":"IFERROR(VLOOKUP(Y270,CadMP!$B:$D,2,0),\"\")","v":""},{"$f":"IFERROR(VLOOKUP(Z270,CadMP!$B:$D,2,0),\"\")","v":""},{"$f":"IFERROR(VLOOKUP(AA270,CadMP!$B:$D,2,0),\"\")","v":""},{"$f":"IFERROR(VLOOKUP(AB270,CadMP!$B:$D,2,0),\"\")","v":""},{"$f":"IFERROR(VLOOKUP(AC270,CadMP!$B:$D,2,0),\"\")","v":""},{"$f":"IFERROR(VLOOKUP(AD270,CadMP!$B:$D,2,0),\"\")","v":""},{"$f":"IFERROR(VLOOKUP(AE270,CadMP!$B:$D,2,0),\"\")","v":""},{"$f":"IFERROR(VLOOKUP(AF270,CadMP!$B:$D,2,0),\"\")","v":""},{"$f":"IFERROR(VLOOKUP(AG270,CadMP!$B:$D,2,0),\"\")","v":""},{"$f":"IFERROR(VLOOKUP(AH270,CadMP!$B:$D,2,0),\"\")","v":""},{"$f":"IFERROR(VLOOKUP(AI270,CadMP!$B:$D,2,0),\"\")","v":""},{"$f":"IFERROR(VLOOKUP(AJ270,CadMP!$B:$D,2,0),\"\")","v":""},{"$f":"IFERROR(VLOOKUP(AK270,CadMP!$B:$D,2,0),\"\")","v":""},{"$f":"IFERROR(VLOOKUP(W270,CadMP!$B:$D,3,0),\"\")","v":""},{"$f":"IFERROR(VLOOKUP(X270,CadMP!$B:$D,3,0),\"\")","v":""},{"$f":"IFERROR(VLOOKUP(Y270,CadMP!$B:$D,3,0),\"\")","v":""},{"$f":"IFERROR(VLOOKUP(Z270,CadMP!$B:$D,3,0),\"\")","v":""},{"$f":"IFERROR(VLOOKUP(AA270,CadMP!$B:$D,3,0),\"\")","v":""},{"$f":"IFERROR(VLOOKUP(AB270,CadMP!$B:$D,3,0),\"\")","v":""},{"$f":"IFERROR(VLOOKUP(AC270,CadMP!$B:$D,3,0),\"\")","v":""},{"$f":"IFERROR(VLOOKUP(AD270,CadMP!$B:$D,3,0),\"\")","v":""},{"$f":"IFERROR(VLOOKUP(AE270,CadMP!$B:$D,3,0),\"\")","v":""},{"$f":"IFERROR(VLOOKUP(AF270,CadMP!$B:$D,3,0),\"\")","v":""},{"$f":"IFERROR(VLOOKUP(AG270,CadMP!$B:$D,3,0),\"\")","v":""},{"$f":"IFERROR(VLOOKUP(AH270,CadMP!$B:$D,3,0),\"\")","v":""},{"$f":"IFERROR(VLOOKUP(AI270,CadMP!$B:$D,3,0),\"\")","v":""},{"$f":"IFERROR(VLOOKUP(AJ270,CadMP!$B:$D,3,0),\"\")","v":""},{"$f":"IFERROR(VLOOKUP(AK270,CadMP!$B:$D,3,0),\"\")","v":""},0,0,0,0,0,0,0,0,0,0,0,0,0,0,0]
[288,null,null,0,0,null,null,null,null,null,null,0,0,null,null,null,null,null,null,null,1,0,null,null,null,null,null,null,null,null,null,null,null,null,null,null,null,null,null,null,null,null,null,null,null,null,null,null,null,null,null,null,{"$f":"IFERROR(VLOOKUP(W289,CadMP!$B:$D,2,0),\"\")","v":""},{"$f":"IFERROR(VLOOKUP(X289,CadMP!$B:$D,2,0),\"\")","v":""},{"$f":"IFERROR(VLOOKUP(Y289,CadMP!$B:$D,2,0),\"\")","v":""},{"$f":"IFERROR(VLOOKUP(Z289,CadMP!$B:$D,2,0),\"\")","v":""},{"$f":"IFERROR(VLOOKUP(AA289,CadMP!$B:$D,2,0),\"\")","v":""},{"$f":"IFERROR(VLOOKUP(AB289,CadMP!$B:$D,2,0),\"\")","v":""},{"$f":"IFERROR(VLOOKUP(AC289,CadMP!$B:$D,2,0),\"\")","v":""},{"$f":"IFERROR(VLOOKUP(AD289,CadMP!$B:$D,2,0),\"\")","v":""},{"$f":"IFERROR(VLOOKUP(AE289,CadMP!$B:$D,2,0),\"\")","v":""},{"$f":"IFERROR(VLOOKUP(AF289,CadMP!$B:$D,2,0),\"\")","v":""},{"$f":"IFERROR(VLOOKUP(AG289,CadMP!$B:$D,2,0),\"\")","v":""},{"$f":"IFERROR(VLOOKUP(AH289,CadMP!$B:$D,2,0),\"\")","v":""},{"$f":"IFERROR(VLOOKUP(AI289,CadMP!$B:$D,2,0),\"\")","v":""},{"$f":"IFERROR(VLOOKUP(AJ289,CadMP!$B:$D,2,0),\"\")","v":""},{"$f":"IFERROR(VLOOKUP(AK289,CadMP!$B:$D,2,0),\"\")","v":""},{"$f":"IFERROR(VLOOKUP(W289,CadMP!$B:$D,3,0),\"\")","v":""},{"$f":"IFERROR(VLOOKUP(X289,CadMP!$B:$D,3,0),\"\")","v":""},{"$f":"IFERROR(VLOOKUP(Y289,CadMP!$B:$D,3,0),\"\")","v":""},{"$f":"IFERROR(VLOOKUP(Z289,CadMP!$B:$D,3,0),\"\")","v":""},{"$f":"IFERROR(VLOOKUP(AA289,CadMP!$B:$D,3,0),\"\")","v":""},{"$f":"IFERROR(VLOOKUP(AB289,CadMP!$B:$D,3,0),\"\")","v":""},{"$f":"IFERROR(VLOOKUP(AC289,CadMP!$B:$D,3,0),\"\")","v":""},{"$f":"IFERROR(VLOOKUP(AD289,CadMP!$B:$D,3,0),\"\")","v":""},{"$f":"IFERROR(VLOOKUP(AE289,CadMP!$B:$D,3,0),\"\")","v":""},{"$f":"IFERROR(VLOOKUP(AF289,CadMP!$B:$D,3,0),\"\")","v":""},{"$f":"IFERROR(VLOOKUP(AG289,CadMP!$B:$D,3,0),\"\")","v":""},{"$f":"IFERROR(VLOOKUP(AH289,CadMP!$B:$D,3,0),\"\")","v":""},{"$f":"IFERROR(VLOOKUP(AI289,CadMP!$B:$D,3,0),\"\")","v":""},{"$f":"IFERROR(VLOOKUP(AJ289,CadMP!$B:$D,3,0),\"\")","v":""},{"$f":"IFERROR(VLOOKUP(AK289,CadMP!$B:$D,3,0),\"\")","v":""},0,0,0,0,0,0,0,0,0,0,0,0,0,0,0]
[313,null,null,0,0,null,null,null,null,null,null,0,0,null,null,null,null,null,null,null,1,0,null,null,null,null,null,null,null,null,null,null,null,null,null,null,null,null,null,null,null,null,null,null,null,null,null,null,null,null,null,null,{"$f":"IFERROR(VLOOKUP(W314,CadMP!$B:$D,2,0),\"\")","v":""},{"$f":"IFERROR(VLOOKUP(X314,CadMP!$B:$D,2,0),\"\")","v":""},{"$f":"IFERROR(VLOOKUP(Y314,CadMP!$B:$D,2,0),\"\")","v":""},{"$f":"IFERROR(VLOOKUP(Z314,CadMP!$B:$D,2,0),\"\")","v":""},{"$f":"IFERROR(VLOOKUP(AA314,CadMP!$B:$D,2,0),\"\")","v":""},{"$f":"IFERROR(VLOOKUP(AB314,CadMP!$B:$D,2,0),\"\")","v":""},{"$f":"IFERROR(VLOOKUP(AC314,CadMP!$B:$D,2,0),\"\")","v":""},{"$f":"IFERROR(VLOOKUP(AD314,CadMP!$B:$D,2,0),\"\")","v":""},{"$f":"IFERROR(VLOOKUP(AE314,CadMP!$B:$D,2,0),\"\")","v":""},{"$f":"IFERROR(VLOOKUP(AF314,CadMP!$B:$D,2,0),\"\")","v":""},{"$f":"IFERROR(VLOOKUP(AG314,CadMP!$B:$D,2,0),\"\")","v":""},{"$f":"IFERROR(VLOOKUP(AH314,CadMP!$B:$D,2,0),\"\")","v":""},{"$f":"IFERROR(VLOOKUP(AI314,CadMP!$B:$D,2,0),\"\")","v":""},{"$f":"IFERROR(VLOOKUP(AJ314,CadMP!$B:$D,2,0),\"\")","v":""},{"$f":"IFERROR(VLOOKUP(AK314,CadMP!$B:$D,2,0),\"\")","v":""},{"$f":"IFERROR(VLOOKUP(W314,CadMP!$B:$D,3,0),\"\")","v":""},{"$f":"IFERROR(VLOOKUP(X314,CadMP!$B:$D,3,0),\"\")","v":""},{"$f":"IFERROR(VLOOKUP(Y314,CadMP!$B:$D,3,0),\"\")","v":""},{"$f":"IFERROR(VLOOKUP(Z314,CadMP!$B:$D,3,0),\"\")","v":""},{"$f":"IFERROR(VLOOKUP(AA314,CadMP!$B:$D,3,0),\"\")","v":""},{"$f":"IFERROR(VLOOKUP(AB314,CadMP!$B:$D,3,0),\"\")","v":""},{"$f":"IFERROR(VLOOKUP(AC314,CadMP!$B:$D,3,0),\"\")","v":""},{"$f":"IFERROR(VLOOKUP(AD314,CadMP!$B:$D,3,0),\"\")","v":""},{"$f":"IFERROR(VLOOKUP(AE314,CadMP!$B:$D,3,0),\"\")","v":""},{"$f":"IFERROR(VLOOKUP(AF314,CadMP!$B:$D,3,0),\"\")","v":""},{"$f":"IFERROR(VLOOKUP(AG314,CadMP!$B:$D,3,0),\"\")","v":""},{"$f":"IFERROR(VLOOKUP(AH314,CadMP!$B:$D,3,0),\"\")","v":""},{"$f":"IFERROR(VLOOKUP(AI314,CadMP!$B:$D,3,0),\"\")","v":""},{"$f":"IFERROR(VLOOKUP(AJ314,CadMP!$B:$D,3,0),\"\")","v":""},{"$f":"IFERROR(VLOOKUP(AK314,CadMP!$B:$D,3,0),\"\")","v":""},0,0,0,0,0,0,0,0,0,0,0,0,0,0,0]
[342,null,null,0,0,null,null,null,null,null,null,0,0,null,null,null,null,null,null,null,1,0,null,null,null,null,null,null,null,null,null,null,null,null,null,null,null,null,null,null,null,null,null,null,null,null,null,null,null,null,null,null,{"$f":"IFERROR(VLOOKUP(W343,CadMP!$B:$D,2,0),\"\")","v":""},{"$f":"IFERROR(VLOOKUP(X343,CadMP!$B:$D,2,0),\"\")","v":""},{"$f":"IFERROR(VLOOKUP(Y343,CadMP!$B:$D,2,0),\"\")","v":""},{"$f":"IFERROR(VLOOKUP(Z343,CadMP!$B:$D,2,0),\"\")","v":""},{"$f":"IFERROR(VLOOKUP(AA343,CadMP!$B:$D,2,0),\"\")","v":""},{"$f":"IFERROR(VLOOKUP(AB343,CadMP!$B:$D,2,0),\"\")","v":""},{"$f":"IFERROR(VLOOKUP(AC343,CadMP!$B:$D,2,0),\"\")","v":""},{"$f":"IFERROR(VLOOKUP(AD343,CadMP!$B:$D,2,0),\"\")","v":""},{"$f":"IFERROR(VLOOKUP(AE343,CadMP!$B:$D,2,0),\"\")","v":""},{"$f":"IFERROR(VLOOKUP(AF343,CadMP!$B:$D,2,0),\"\")","v":""},{"$f":"IFERROR(VLOOKUP(AG343,CadMP!$B:$D,2,0),\"\")","v":""},{"$f":"IFERROR(VLOOKUP(AH343,CadMP!$B:$D,2,0),\"\")","v":""},{"$f":"IFERROR(VLOOKUP(AI343,CadMP!$B:$D,2,0),\"\")","v":""},{"$f":"IFERROR(VLOOKUP(AJ343,CadMP!$B:$D,2,0),\"\")","v":""},{"$f":"IFERROR(VLOOKUP(AK343,CadMP!$B:$D,2,0),\"\")","v":""},{"$f":"IFERROR(VLOOKUP(W343,CadMP!$B:$D,3,0),\"\")","v":""},{"$f":"IFERROR(VLOOKUP(X343,CadMP!$B:$D,3,0),\"\")","v":""},{"$f":"IFERROR(VLOOKUP(Y343,CadMP!$B:$D,3,0),\"\")","v":""},{"$f":"IFERROR(VLOOKUP(Z343,CadMP!$B:$D,3,0),\"\")","v":""},{"$f":"IFERROR(VLOOKUP(AA343,CadMP!$B:$D,3,0),\"\")","v":""},{"$f":"IFERROR(VLOOKUP(AB343,CadMP!$B:$D,3,0),\"\")","v":""},{"$f":"IFERROR(VLOOKUP(AC343,CadMP!$B:$D,3,0),\"\")","v":""},{"$f":"IFERROR(VLOOKUP(AD343,CadMP!$B:$D,3,0),\"\")","v":""},{"$f":"IFERROR(VLOOKUP(AE343,CadMP!$B:$D,3,0),\"\")","v":""},{"$f":"IFERROR(VLOOKUP(AF343,CadMP!$B:$D,3,0),\"\")","v":""},{"$f":"IFERROR(VLOOKUP(AG343,CadMP!$B:$D,3,0),\"\")","v":""},{"$f":"IFERROR(VLOOKUP(AH343,CadMP!$B:$D,3,0),\"\")","v":""},{"$f":"IFERROR(VLOOKUP(AI343,CadMP!$B:$D,3,0),\"\")","v":""},{"$f":"IFERROR(VLOOKUP(AJ343,CadMP!$B:$D,3,0),\"\")","v":""},{"$f":"IFERROR(VLOOKUP(AK343,CadMP!$B:$D,3,0),\"\")","v":""},0,0,0,0,0,0,0,0,0,0,0,0,0,0,0]
[350,null,null,0,0,null,null,null,null,null,null,0,0,null,null,null,null,null,null,null,1,0,null,null,null,null,null,null,null,null,null,null,null,null,null,null,null,null,null,null,null,null,null,null,null,null,null,null,null,null,null,null,{"$f":"IFERROR(VLOOKUP(W351,CadMP!$B:$D,2,0),\"\")","v":""},{"$f":"IFERROR(VLOOKUP(X351,CadMP!$B:$D,2,0),\"\")","v":""},{"$f":"IFERROR(VLOOKUP(Y351,CadMP!$B:$D,2,0),\"\")","v":""},{"$f":"IFERROR(VLOOKUP(Z351,CadMP!$B:$D,2,0),\"\")","v":""},{"$f":"IFERROR(VLOOKUP(AA351,CadMP!$B:$D,2,0),\"\")","v":""},{"$f":"IFERROR(VLOOKUP(AB351,CadMP!$B:$D,2,0),\"\")","v":""},{"$f":"IFERROR(VLOOKUP(AC351,CadMP!$B:$D,2,0),\"\")","v":""},{"$f":"IFERROR(VLOOKUP(AD351,CadMP!$B:$D,2,0),\"\")","v":""},{"$f":"IFERROR(VLOOKUP(AE351,CadMP!$B:$D,2,0),\"\")","v":""},{"$f":"IFERROR(VLOOKUP(AF351,CadMP!$B:$D,2,0),\"\")","v":""},{"$f":"IFERROR(VLOOKUP(AG351,CadMP!$B:$D,2,0),\"\")","v":""},{"$f":"IFERROR(VLOOKUP(AH351,CadMP!$B:$D,2,0),\"\")","v":""},{"$f":"IFERROR(VLOOKUP(AI351,CadMP!$B:$D,2,0),\"\")","v":""},{"$f":"IFERROR(VLOOKUP(AJ351,CadMP!$B:$D,2,0),\"\")","v":""},{"$f":"IFERROR(VLOOKUP(AK351,CadMP!$B:$D,2,0),\"\")","v":""},{"$f":"IFERROR(VLOOKUP(W351,CadMP!$B:$D,3,0),\"\")","v":""},{"$f":"IFERROR(VLOOKUP(X351,CadMP!$B:$D,3,0),\"\")","v":""},{"$f":"IFERROR(VLOOKUP(Y351,CadMP!$B:$D,3,0),\"\")","v":""},{"$f":"IFERROR(VLOOKUP(Z351,CadMP!$B:$D,3,0),\"\")","v":""},{"$f":"IFERROR(VLOOKUP(AA351,CadMP!$B:$D,3,0),\"\")","v":""},{"$f":"IFERROR(VLOOKUP(AB351,CadMP!$B:$D,3,0),\"\")","v":""},{"$f":"IFERROR(VLOOKUP(AC351,CadMP!$B:$D,3,0),\"\")","v":""},{"$f":"IFERROR(VLOOKUP(AD351,CadMP!$B:$D,3,0),\"\")","v":""},{"$f":"IFERROR(VLOOKUP(AE351,CadMP!$B:$D,3,0),\"\")","v":""},{"$f":"IFERROR(VLOOKUP(AF351,CadMP!$B:$D,3,0),\"\")","v":""},{"$f":"IFERROR(VLOOKUP(AG351,CadMP!$B:$D,3,0),\"\")","v":""},{"$f":"IFERROR(VLOOKUP(AH351,CadMP!$B:$D,3,0),\"\")","v":""},{"$f":"IFERROR(VLOOKUP(AI351,CadMP!$B:$D,3,0),\"\")","v":""},{"$f":"IFERROR(VLOOKUP(AJ351,CadMP!$B:$D,3,0),\"\")","v":""},{"$f":"IFERROR(VLOOKUP(AK351,CadMP!$B:$D,3,0),\"\")","v":""},0,0,0,0,0,0,0,0,0,0,0,0,0,0,0]
[375,null,null,0,0,null,null,null,null,null,null,0,0,null,null,null,null,null,null,null,1,0,null,null,null,null,null,null,null,null,null,null,null,null,null,null,null,null,null,null,null,null,null,null,null,null,null,null,null,null,null,null,{"$f":"IFERROR(VLOOKUP(W376,CadMP!$B:$D,2,0),\"\")","v":""},{"$f":"IFERROR(VLOOKUP(X376,CadMP!$B:$D,2,0),\"\")","v":""},{"$f":"IFERROR(VLOOKUP(Y376,CadMP!$B:$D,2,0),\"\")","v":""},{"$f":"IFERROR(VLOOKUP(Z376,CadMP!$B:$D,2,0),\"\")","v":""},{"$f":"IFERROR(VLOOKUP(AA376,CadMP!$B:$D,2,0),\"\")","v":""},{"$f":"IFERROR(VLOOKUP(AB376,CadMP!$B:$D,2,0),\"\")","v":""},{"$f":"IFERROR(VLOOKUP(AC376,CadMP!$B:$D,2,0),\"\")","v":""},{"$f":"IFERROR(VLOOKUP(AD376,CadMP!$B:$D,2,0),\"\")","v":""},{"$f":"IFERROR(VLOOKUP(AE376,CadMP!$B:$D,2,0),\"\")","v":""},{"$f":"IFERROR(VLOOKUP(AF376,CadMP!$B:$D,2,0),\"\")","v":""},{"$f":"IFERROR(VLOOKUP(AG376,CadMP!$B:$D,2,0),\"\")","v":""},{"$f":"IFERROR(VLOOKUP(AH376,CadMP!$B:$D,2,0),\"\")","v":""},{"$f":"IFERROR(VLOOKUP(AI376,CadMP!$B:$D,2,0),\"\")","v":""},{"$f":"IFERROR(VLOOKUP(AJ376,CadMP!$B:$D,2,0),\"\")","v":""},{"$f":"IFERROR(VLOOKUP(AK376,CadMP!$B:$D,2,0),\"\")","v":""},{"$f":"IFERROR(VLOOKUP(W376,CadMP!$B:$D,3,0),\"\")","v":""},{"$f":"IFERROR(VLOOKUP(X376,CadMP!$B:$D,3,0),\"\")","v":""},{"$f":"IFERROR(VLOOKUP(Y376,CadMP!$B:$D,3,0),\"\")","v":""},{"$f":"IFERROR(VLOOKUP(Z376,CadMP!$B:$D,3,0),\"\")","v":""},{"$f":"IFERROR(VLOOKUP(AA376,CadMP!$B:$D,3,0),\"\")","v":""},{"$f":"IFERROR(VLOOKUP(AB376,CadMP!$B:$D,3,0),\"\")","v":""},{"$f":"IFERROR(VLOOKUP(AC376,CadMP!$B:$D,3,0),\"\")","v":""},{"$f":"IFERROR(VLOOKUP(AD376,CadMP!$B:$D,3,0),\"\")","v":""},{"$f":"IFERROR(VLOOKUP(AE376,CadMP!$B:$D,3,0),\"\")","v":""},{"$f":"IFERROR(VLOOKUP(AF376,CadMP!$B:$D,3,0),\"\")","v":""},{"$f":"IFERROR(VLOOKUP(AG376,CadMP!$B:$D,3,0),\"\")","v":""},{"$f":"IFERROR(VLOOKUP(AH376,CadMP!$B:$D,3,0),\"\")","v":""},{"$f":"IFERROR(VLOOKUP(AI376,CadMP!$B:$D,3,0),\"\")","v":""},{"$f":"IFERROR(VLOOKUP(AJ376,CadMP!$B:$D,3,0),\"\")","v":""},{"$f":"IFERROR(VLOOKUP(AK376,CadMP!$B:$D,3,0),\"\")","v":""},0,0,0,0,0,0,0,0,0,0,0,0,0,0,0]
[394,null,null,0,0,null,null,null,null,null,null,0,0,null,null,null,null,null,null,null,1,0,null,null,null,null,null,null,null,null,null,null,null,null,null,null,null,null,null,null,null,null,null,null,null,null,null,null,null,null,null,null,{"$f":"IFERROR(VLOOKUP(W395,CadMP!$B:$D,2,0),\"\")","v":""},{"$f":"IFERROR(VLOOKUP(X395,CadMP!$B:$D,2,0),\"\")","v":""},{"$f":"IFERROR(VLOOKUP(Y395,CadMP!$B:$D,2,0),\"\")","v":""},{"$f":"IFERROR(VLOOKUP(Z395,CadMP!$B:$D,2,0),\"\")","v":""},{"$f":"IFERROR(VLOOKUP(AA395,CadMP!$B:$D,2,0),\"\")","v":""},{"$f":"IFERROR(VLOOKUP(AB395,CadMP!$B:$D,2,0),\"\")","v":""},{"$f":"IFERROR(VLOOKUP(AC395,CadMP!$B:$D,2,0),\"\")","v":""},{"$f":"IFERROR(VLOOKUP(AD395,CadMP!$B:$D,2,0),\"\")","v":""},{"$f":"IFERROR(VLOOKUP(AE395,CadMP!$B:$D,2,0),\"\")","v":""},{"$f":"IFERROR(VLOOKUP(AF395,CadMP!$B:$D,2,0),\"\")","v":""},{"$f":"IFERROR(VLOOKUP(AG395,CadMP!$B:$D,2,0),\"\")","v":""},{"$f":"IFERROR(VLOOKUP(AH395,CadMP!$B:$D,2,0),\"\")","v":""},{"$f":"IFERROR(VLOOKUP(AI395,CadMP!$B:$D,2,0),\"\")","v":""},{"$f":"IFERROR(VLOOKUP(AJ395,CadMP!$B:$D,2,0),\"\")","v":""},{"$f":"IFERROR(VLOOKUP(AK395,CadMP!$B:$D,2,0),\"\")","v":""},{"$f":"IFERROR(VLOOKUP(W395,CadMP!$B:$D,3,0),\"\")","v":""},{"$f":"IFERROR(VLOOKUP(X395,CadMP!$B:$D,3,0),\"\")","v":""},{"$f":"IFERROR(VLOOKUP(Y395,CadMP!$B:$D,3,0),\"\")","v":""},{"$f":"IFERROR(VLOOKUP(Z395,CadMP!$B:$D,3,0),\"\")","v":""},{"$f":"IFERROR(VLOOKUP(AA395,CadMP!$B:$D,3,0),\"\")","v":""},{"$f":"IFERROR(VLOOKUP(AB395,CadMP!$B:$D,3,0),\"\")","v":""},{"$f":"IFERROR(VLOOKUP(AC395,CadMP!$B:$D,3,0),\"\")","v":""},{"$f":"IFERROR(VLOOKUP(AD395,CadMP!$B:$D,3,0),\"\")","v":""},{"$f":"IFERROR(VLOOKUP(AE395,CadMP!$B:$D,3,0),\"\")","v":""},{"$f":"IFERROR(VLOOKUP(AF395,CadMP!$B:$D,3,0),\"\")","v":""},{"$f":"IFERROR(VLOOKUP(AG395,CadMP!$B:$D,3,0),\"\")","v":""},{"$f":"IFERROR(VLOOKUP(AH395,CadMP!$B:$D,3,0),\"\")","v":""},{"$f":"IFERROR(VLOOKUP(AI395,CadMP!$B:$D,3,0),\"\")","v":""},{"$f":"IFERROR(VLOOKUP(AJ395,CadMP!$B:$D,3,0),\"\")","v":""},{"$f":"IFERROR(VLOOKUP(AK395,CadMP!$B:$D,3,0),\"\")","v":""},0,0,0,0,0,0,0,0,0,0,0,0,0,0,0]
[401,null,null,0,0,null,null,null,null,null,null,0,0,null,null,null,null,null,null,null,1,0,null,null,null,null,null,null,null,null,null,null,null,null,null,null,null,null,null,null,null,null,null,null,null,null,null,null,null,null,null,null,{"$f":"IFERROR(VLOOKUP(W402,CadMP!$B:$D,2,0),\"\")","v":""},{"$f":"IFERROR(VLOOKUP(X402,CadMP!$B:$D,2,0),\"\")","v":""},{"$f":"IFERROR(VLOOKUP(Y402,CadMP!$B:$D,2,0),\"\")","v":""},{"$f":"IFERROR(VLOOKUP(Z402,CadMP!$B:$D,2,0),\"\")","v":""},{"$f":"IFERROR(VLOOKUP(AA402,CadMP!$B:$D,2,0),\"\")","v":""},{"$f":"IFERROR(VLOOKUP(AB402,CadMP!$B:$D,2,0),\"\")","v":""},{"$f":"IFERROR(VLOOKUP(AC402,CadMP!$B:$D,2,0),\"\")","v":""},{"$f":"IFERROR(VLOOKUP(AD402,CadMP!$B:$D,2,0),\"\")","v":""},{"$f":"IFERROR(VLOOKUP(AE402,CadMP!$B:$D,2,0),\"\")","v":""},{"$f":"IFERROR(VLOOKUP(AF402,CadMP!$B:$D,2,0),\"\")","v":""},{"$f":"IFERROR(VLOOKUP(AG402,CadMP!$B:$D,2,0),\"\")","v":""},{"$f":"IFERROR(VLOOKUP(AH402,CadMP!$B:$D,2,0),\"\")","v":""},{"$f":"IFERROR(VLOOKUP(AI402,CadMP!$B:$D,2,0),\"\")","v":""},{"$f":"IFERROR(VLOOKUP(AJ402,CadMP!$B:$D,2,0),\"\")","v":""},{"$f":"IFERROR(VLOOKUP(AK402,CadMP!$B:$D,2,0),\"\")","v":""},{"$f":"IFERROR(VLOOKUP(W402,CadMP!$B:$D,3,0),\"\")","v":""},{"$f":"IFERROR(VLOOKUP(X402,CadMP!$B:$D,3,0),\"\")","v":""},{"$f":"IFERROR(VLOOKUP(Y402,CadMP!$B:$D,3,0),\"\")","v":""},{"$f":"IFERROR(VLOOKUP(Z402,CadMP!$B:$D,3,0),\"\")","v":""},{"$f":"IFERROR(VLOOKUP(AA402,CadMP!$B:$D,3,0),\"\")","v":""},{"$f":"IFERROR(VLOOKUP(AB402,CadMP!$B:$D,3,0),\"\")","v":""},{"$f":"IFERROR(VLOOKUP(AC402,CadMP!$B:$D,3,0),\"\")","v":""},{"$f":"IFERROR(VLOOKUP(AD402,CadMP!$B:$D,3,0),\"\")","v":""},{"$f":"IFERROR(VLOOKUP(AE402,CadMP!$B:$D,3,0),\"\")","v":""},{"$f":"IFERROR(VLOOKUP(AF402,CadMP!$B:$D,3,0),\"\")","v":""},{"$f":"IFERROR(VLOOKUP(AG402,CadMP!$B:$D,3,0),\"\")","v":""},{"$f":"IFERROR(VLOOKUP(AH402,CadMP!$B:$D,3,0),\"\")","v":""},{"$f":"IFERROR(VLOOKUP(AI402,CadMP!$B:$D,3,0),\"\")","v":""},{"$f":"IFERROR(VLOOKUP(AJ402,CadMP!$B:$D,3,0),\"\")","v":""},{"$f":"IFERROR(VLOOKUP(AK402,CadMP!$B:$D,3,0),\"\")","v":""},0,0,0,0,0,0,0,0,0,0,0,0,0,0,0]
[418,null,null,0,0,null,null,null,null,null,null,0,0,null,null,null,null,null,null,null,1,0,null,null,null,null,null,null,null,null,null,null,null,null,null,null,null,null,null,null,null,null,null,null,null,null,null,null,null,null,null,null,{"$f":"IFERROR(VLOOKUP(W419,CadMP!$B:$D,2,0),\"\")","v":""},{"$f":"IFERROR(VLOOKUP(X419,CadMP!$B:$D,2,0),\"\")","v":""},{"$f":"IFERROR(VLOOKUP(Y419,CadMP!$B:$D,2,0),\"\")","v":""},{"$f":"IFERROR(VLOOKUP(Z419,CadMP!$B:$D,2,0),\"\")","v":""},{"$f":"IFERROR(VLOOKUP(AA419,CadMP!$B:$D,2,0),\"\")","v":""},{"$f":"IFERROR(VLOOKUP(AB419,CadMP!$B:$D,2,0),\"\")","v":""},{"$f":"IFERROR(VLOOKUP(AC419,CadMP!$B:$D,2,0),\"\")","v":""},{"$f":"IFERROR(VLOOKUP(AD419,CadMP!$B:$D,2,0),\"\")","v":""},{"$f":"IFERROR(VLOOKUP(AE419,CadMP!$B:$D,2,0),\"\")","v":""},{"$f":"IFERROR(VLOOKUP(AF419,CadMP!$B:$D,2,0),\"\")","v":""},{"$f":"IFERROR(VLOOKUP(AG419,CadMP!$B:$D,2,0),\"\")","v":""},{"$f":"IFERROR(VLOOKUP(AH419,CadMP!$B:$D,2,0),\"\")","v":""},{"$f":"IFERROR(VLOOKUP(AI419,CadMP!$B:$D,2,0),\"\")","v":""},{"$f":"IFERROR(VLOOKUP(AJ419,CadMP!$B:$D,2,0),\"\")","v":""},{"$f":"IFERROR(VLOOKUP(AK419,CadMP!$B:$D,2,0),\"\")","v":""},{"$f":"IFERROR(VLOOKUP(W419,CadMP!$B:$D,3,0),\"\")","v":""},{"$f":"IFERROR(VLOOKUP(X419,CadMP!$B:$D,3,0),\"\")","v":""},{"$f":"IFERROR(VLOOKUP(Y419,CadMP!$B:$D,3,0),\"\")","v":""},{"$f":"IFERROR(VLOOKUP(Z419,CadMP!$B:$D,3,0),\"\")","v":""},{"$f":"IFERROR(VLOOKUP(AA419,CadMP!$B:$D,3,0),\"\")","v":""},{"$f":"IFERROR(VLOOKUP(AB419,CadMP!$B:$D,3,0),\"\")","v":""},{"$f":"IFERROR(VLOOKUP(AC419,CadMP!$B:$D,3,0),\"\")","v":""},{"$f":"IFERROR(VLOOKUP(AD419,CadMP!$B:$D,3,0),\"\")","v":""},{"$f":"IFERROR(VLOOKUP(AE419,CadMP!$B:$D,3,0),\"\")","v":""},{"$f":"IFERROR(VLOOKUP(AF419,CadMP!$B:$D,3,0),\"\")","v":""},{"$f":"IFERROR(VLOOKUP(AG419,CadMP!$B:$D,3,0),\"\")","v":""},{"$f":"IFERROR(VLOOKUP(AH419,CadMP!$B:$D,3,0),\"\")","v":""},{"$f":"IFERROR(VLOOKUP(AI419,CadMP!$B:$D,3,0),\"\")","v":""},{"$f":"IFERROR(VLOOKUP(AJ419,CadMP!$B:$D,3,0),\"\")","v":""},{"$f":"IFERROR(VLOOKUP(AK419,CadMP!$B:$D,3,0),\"\")","v":""},0,0,0,0,0,0,0,0,0,0,0,0,0,0,0]
[437,null,null,0,0,null,null,null,null,null,null,0,0,null,null,null,null,null,null,null,1,0,null,null,null,null,null,null,null,null,null,null,null,null,null,null,null,null,null,null,null,null,null,null,null,null,null,null,null,null,null,null,{"$f":"IFERROR(VLOOKUP(W438,CadMP!$B:$D,2,0),\"\")","v":""},{"$f":"IFERROR(VLOOKUP(X438,CadMP!$B:$D,2,0),\"\")","v":""},{"$f":"IFERROR(VLOOKUP(Y438,CadMP!$B:$D,2,0),\"\")","v":""},{"$f":"IFERROR(VLOOKUP(Z438,CadMP!$B:$D,2,0),\"\")","v":""},{"$f":"IFERROR(VLOOKUP(AA438,CadMP!$B:$D,2,0),\"\")","v":""},{"$f":"IFERROR(VLOOKUP(AB438,CadMP!$B:$D,2,0),\"\")","v":""},{"$f":"IFERROR(VLOOKUP(AC438,CadMP!$B:$D,2,0),\"\")","v":""},{"$f":"IFERROR(VLOOKUP(AD438,CadMP!$B:$D,2,0),\"\")","v":""},{"$f":"IFERROR(VLOOKUP(AE438,CadMP!$B:$D,2,0),\"\")","v":""},{"$f":"IFERROR(VLOOKUP(AF438,CadMP!$B:$D,2,0),\"\")","v":""},{"$f":"IFERROR(VLOOKUP(AG438,CadMP!$B:$D,2,0),\"\")","v":""},{"$f":"IFERROR(VLOOKUP(AH438,CadMP!$B:$D,2,0),\"\")","v":""},{"$f":"IFERROR(VLOOKUP(AI438,CadMP!$B:$D,2,0),\"\")","v":""},{"$f":"IFERROR(VLOOKUP(AJ438,CadMP!$B:$D,2,0),\"\")","v":""},{"$f":"IFERROR(VLOOKUP(AK438,CadMP!$B:$D,2,0),\"\")","v":""},{"$f":"IFERROR(VLOOKUP(W438,CadMP!$B:$D,3,0),\"\")","v":""},{"$f":"IFERROR(VLOOKUP(X438,CadMP!$B:$D,3,0),\"\")","v":""},{"$f":"IFERROR(VLOOKUP(Y438,CadMP!$B:$D,3,0),\"\")","v":""},{"$f":"IFERROR(VLOOKUP(Z438,CadMP!$B:$D,3,0),\"\")","v":""},{"$f":"IFERROR(VLOOKUP(AA438,CadMP!$B:$D,3,0),\"\")","v":""},{"$f":"IFERROR(VLOOKUP(AB438,CadMP!$B:$D,3,0),\"\")","v":""},{"$f":"IFERROR(VLOOKUP(AC438,CadMP!$B:$D,3,0),\"\")","v":""},{"$f":"IFERROR(VLOOKUP(AD438,CadMP!$B:$D,3,0),\"\")","v":""},{"$f":"IFERROR(VLOOKUP(AE438,CadMP!$B:$D,3,0),\"\")","v":""},{"$f":"IFERROR(VLOOKUP(AF438,CadMP!$B:$D,3,0),\"\")","v":""},{"$f":"IFERROR(VLOOKUP(AG438,CadMP!$B:$D,3,0),\"\")","v":""},{"$f":"IFERROR(VLOOKUP(AH438,CadMP!$B:$D,3,0),\"\")","v":""},{"$f":"IFERROR(VLOOKUP(AI438,CadMP!$B:$D,3,0),\"\")","v":""},{"$f":"IFERROR(VLOOKUP(AJ438,CadMP!$B:$D,3,0),\"\")","v":""},{"$f":"IFERROR(VLOOKUP(AK438,CadMP!$B:$D,3,0),\"\")","v":""},0,0,0,0,0,0,0,0,0,0,0,0,0,0,0]
[462,null,null,0,0,null,null,null,null,null,null,0,0,null,null,null,null,null,null,null,1,0,null,null,null,null,null,null,null,null,null,null,null,null,null,null,null,null,null,null,null,null,null,null,null,null,null,null,null,null,null,null,{"$f":"IFERROR(VLOOKUP(W463,CadMP!$B:$D,2,0),\"\")","v":""},{"$f":"IFERROR(VLOOKUP(X463,CadMP!$B:$D,2,0),\"\")","v":""},{"$f":"IFERROR(VLOOKUP(Y463,CadMP!$B:$D,2,0),\"\")","v":""},{"$f":"IFERROR(VLOOKUP(Z463,CadMP!$B:$D,2,0),\"\")","v":""},{"$f":"IFERROR(VLOOKUP(AA463,CadMP!$B:$D,2,0),\"\")","v":""},{"$f":"IFERROR(VLOOKUP(AB463,CadMP!$B:$D,2,0),\"\")","v":""},{"$f":"IFERROR(VLOOKUP(AC463,CadMP!$B:$D,2,0),\"\")","v":""},{"$f":"IFERROR(VLOOKUP(AD463,CadMP!$B:$D,2,0),\"\")","v":""},{"$f":"IFERROR(VLOOKUP(AE463,CadMP!$B:$D,2,0),\"\")","v":""},{"$f":"IFERROR(VLOOKUP(AF463,CadMP!$B:$D,2,0),\"\")","v":""},{"$f":"IFERROR(VLOOKUP(AG463,CadMP!$B:$D,2,0),\"\")","v":""},{"$f":"IFERROR(VLOOKUP(AH463,CadMP!$B:$D,2,0),\"\")","v":""},{"$f":"IFERROR(VLOOKUP(AI463,CadMP!$B:$D,2,0),\"\")","v":""},{"$f":"IFERROR(VLOOKUP(AJ463,CadMP!$B:$D,2,0),\"\")","v":""},{"$f":"IFERROR(VLOOKUP(AK463,CadMP!$B:$D,2,0),\"\")","v":""},{"$f":"IFERROR(VLOOKUP(W463,CadMP!$B:$D,3,0),\"\")","v":""},{"$f":"IFERROR(VLOOKUP(X463,CadMP!$B:$D,3,0),\"\")","v":""},{"$f":"IFERROR(VLOOKUP(Y463,CadMP!$B:$D,3,0),\"\")","v":""},{"$f":"IFERROR(VLOOKUP(Z463,CadMP!$B:$D,3,0),\"\")","v":""},{"$f":"IFERROR(VLOOKUP(AA463,CadMP!$B:$D,3,0),\"\")","v":""},{"$f":"IFERROR(VLOOKUP(AB463,CadMP!$B:$D,3,0),\"\")","v":""},{"$f":"IFERROR(VLOOKUP(AC463,CadMP!$B:$D,3,0),\"\")","v":""},{"$f":"IFERROR(VLOOKUP(AD463,CadMP!$B:$D,3,0),\"\")","v":""},{"$f":"IFERROR(VLOOKUP(AE463,CadMP!$B:$D,3,0),\"\")","v":""},{"$f":"IFERROR(VLOOKUP(AF463,CadMP!$B:$D,3,0),\"\")","v":""},{"$f":"IFERROR(VLOOKUP(AG463,CadMP!$B:$D,3,0),\"\")","v":""},{"$f":"IFERROR(VLOOKUP(AH463,CadMP!$B:$D,3,0),\"\")","v":""},{"$f":"IFERROR(VLOOKUP(AI463,CadMP!$B:$D,3,0),\"\")","v":""},{"$f":"IFERROR(VLOOKUP(AJ463,CadMP!$B:$D,3,0),\"\")","v":""},{"$f":"IFERROR(VLOOKUP(AK463,CadMP!$B:$D,3,0),\"\")","v":""},0,0,0,0,0,0,0,0,0,0,0,0,0,0,0]
[492,null,null,0,0,null,null,null,null,null,null,0,0,null,null,null,null,null,null,null,1,0,null,null,null,null,null,null,null,null,null,null,null,null,null,null,null,null,null,null,null,null,null,null,null,null,null,null,null,null,null,null,{"$f":"IFERROR(VLOOKUP(W493,CadMP!$B:$D,2,0),\"\")","v":""},{"$f":"IFERROR(VLOOKUP(X493,CadMP!$B:$D,2,0),\"\")","v":""},{"$f":"IFERROR(VLOOKUP(Y493,CadMP!$B:$D,2,0),\"\")","v":""},{"$f":"IFERROR(VLOOKUP(Z493,CadMP!$B:$D,2,0),\"\")","v":""},{"$f":"IFERROR(VLOOKUP(AA493,CadMP!$B:$D,2,0),\"\")","v":""},{"$f":"IFERROR(VLOOKUP(AB493,CadMP!$B:$D,2,0),\"\")","v":""},{"$f":"IFERROR(VLOOKUP(AC493,CadMP!$B:$D,2,0),\"\")","v":""},{"$f":"IFERROR(VLOOKUP(AD493,CadMP!$B:$D,2,0),\"\")","v":""},{"$f":"IFERROR(VLOOKUP(AE493,CadMP!$B:$D,2,0),\"\")","v":""},{"$f":"IFERROR(VLOOKUP(AF493,CadMP!$B:$D,2,0),\"\")","v":""},{"$f":"IFERROR(VLOOKUP(AG493,CadMP!$B:$D,2,0),\"\")","v":""},{"$f":"IFERROR(VLOOKUP(AH493,CadMP!$B:$D,2,0),\"\")","v":""},{"$f":"IFERROR(VLOOKUP(AI493,CadMP!$B:$D,2,0),\"\")","v":""},{"$f":"IFERROR(VLOOKUP(AJ493,CadMP!$B:$D,2,0),\"\")","v":""},{"$f":"IFERROR(VLOOKUP(AK493,CadMP!$B:$D,2,0),\"\")","v":""},{"$f":"IFERROR(VLOOKUP(W493,CadMP!$B:$D,3,0),\"\")","v":""},{"$f":"IFERROR(VLOOKUP(X493,CadMP!$B:$D,3,0),\"\")","v":""},{"$f":"IFERROR(VLOOKUP(Y493,CadMP!$B:$D,3,0),\"\")","v":""},{"$f":"IFERROR(VLOOKUP(Z493,CadMP!$B:$D,3,0),\"\")","v":""},{"$f":"IFERROR(VLOOKUP(AA493,CadMP!$B:$D,3,0),\"\")","v":""},{"$f":"IFERROR(VLOOKUP(AB493,CadMP!$B:$D,3,0),\"\")","v":""},{"$f":"IFERROR(VLOOKUP(AC493,CadMP!$B:$D,3,0),\"\")","v":""},{"$f":"IFERROR(VLOOKUP(AD493,CadMP!$B:$D,3,0),\"\")","v":""},{"$f":"IFERROR(VLOOKUP(AE493,CadMP!$B:$D,3,0),\"\")","v":""},{"$f":"IFERROR(VLOOKUP(AF493,CadMP!$B:$D,3,0),\"\")","v":""},{"$f":"IFERROR(VLOOKUP(AG493,CadMP!$B:$D,3,0),\"\")","v":""},{"$f":"IFERROR(VLOOKUP(AH493,CadMP!$B:$D,3,0),\"\")","v":""},{"$f":"IFERROR(VLOOKUP(AI493,CadMP!$B:$D,3,0),\"\")","v":""},{"$f":"IFERROR(VLOOKUP(AJ493,CadMP!$B:$D,3,0),\"\")","v":""},{"$f":"IFERROR(VLOOKUP(AK493,CadMP!$B:$D,3,0),\"\")","v":""},0,0,0,0,0,0,0,0,0,0,0,0,0,0,0]
[499,null,null,0,0,null,null,null,null,null,null,0,0,null,null,null,null,null,null,null,1,0,null,null,null,null,null,null,null,null,null,null,null,null,null,null,null,null,null,null,null,null,null,null,null,null,null,null,null,null,null,null,{"$f":"IFERROR(VLOOKUP(W500,CadMP!$B:$D,2,0),\"\")","v":""},{"$f":"IFERROR(VLOOKUP(X500,CadMP!$B:$D,2,0),\"\")","v":""},{"$f":"IFERROR(VLOOKUP(Y500,CadMP!$B:$D,2,0),\"\")","v":""},{"$f":"IFERROR(VLOOKUP(Z500,CadMP!$B:$D,2,0),\"\")","v":""},{"$f":"IFERROR(VLOOKUP(AA500,CadMP!$B:$D,2,0),\"\")","v":""},{"$f":"IFERROR(VLOOKUP(AB500,CadMP!$B:$D,2,0),\"\")","v":""},{"$f":"IFERROR(VLOOKUP(AC500,CadMP!$B:$D,2,0),\"\")","v":""},{"$f":"IFERROR(VLOOKUP(AD500,CadMP!$B:$D,2,0),\"\")","v":""},{"$f":"IFERROR(VLOOKUP(AE500,CadMP!$B:$D,2,0),\"\")","v":""},{"$f":"IFERROR(VLOOKUP(AF500,CadMP!$B:$D,2,0),\"\")","v":""},{"$f":"IFERROR(VLOOKUP(AG500,CadMP!$B:$D,2,0),\"\")","v":""},{"$f":"IFERROR(VLOOKUP(AH500,CadMP!$B:$D,2,0),\"\")","v":""},{"$f":"IFERROR(VLOOKUP(AI500,CadMP!$B:$D,2,0),\"\")","v":""},{"$f":"IFERROR(VLOOKUP(AJ500,CadMP!$B:$D,2,0),\"\")","v":""},{"$f":"IFERROR(VLOOKUP(AK500,CadMP!$B:$D,2,0),\"\")","v":""},{"$f":"IFERROR(VLOOKUP(W500,CadMP!$B:$D,3,0),\"\")","v":""},{"$f":"IFERROR(VLOOKUP(X500,CadMP!$B:$D,3,0),\"\")","v":""},{"$f":"IFERROR(VLOOKUP(Y500,CadMP!$B:$D,3,0),\"\")","v":""},{"$f":"IFERROR(VLOOKUP(Z500,CadMP!$B:$D,3,0),\"\")","v":""},{"$f":"IFERROR(VLOOKUP(AA500,CadMP!$B:$D,3,0),\"\")","v":""},{"$f":"IFERROR(VLOOKUP(AB500,CadMP!$B:$D,3,0),\"\")","v":""},{"$f":"IFERROR(VLOOKUP(AC500,CadMP!$B:$D,3,0),\"\")","v":""},{"$f":"IFERROR(VLOOKUP(AD500,CadMP!$B:$D,3,0),\"\")","v":""},{"$f":"IFERROR(VLOOKUP(AE500,CadMP!$B:$D,3,0),\"\")","v":""},{"$f":"IFERROR(VLOOKUP(AF500,CadMP!$B:$D,3,0),\"\")","v":""},{"$f":"IFERROR(VLOOKUP(AG500,CadMP!$B:$D,3,0),\"\")","v":""},{"$f":"IFERROR(VLOOKUP(AH500,CadMP!$B:$D,3,0),\"\")","v":""},{"$f":"IFERROR(VLOOKUP(AI500,CadMP!$B:$D,3,0),\"\")","v":""},{"$f":"IFERROR(VLOOKUP(AJ500,CadMP!$B:$D,3,0),\"\")","v":""},{"$f":"IFERROR(VLOOKUP(AK500,CadMP!$B:$D,3,0),\"\")","v":""},0,0,0,0,0,0,0,0,0,0,0,0,0,0,0]
[524,null,null,0,0,null,null,null,null,null,null,0,0,null,null,null,null,null,null,null,1,0,null,null,null,null,null,null,null,null,null,null,null,null,null,null,null,null,null,null,null,null,null,null,null,null,null,null,null,null,null,null,{"$f":"IFERROR(VLOOKUP(W525,CadMP!$B:$D,2,0),\"\")","v":""},{"$f":"IFERROR(VLOOKUP(X525,CadMP!$B:$D,2,0),\"\")","v":""},{"$f":"IFERROR(VLOOKUP(Y525,CadMP!$B:$D,2,0),\"\")","v":""},{"$f":"IFERROR(VLOOKUP(Z525,CadMP!$B:$D,2,0),\"\")","v":""},{"$f":"IFERROR(VLOOKUP(AA525,CadMP!$B:$D,2,0),\"\")","v":""},{"$f":"IFERROR(VLOOKUP(AB525,CadMP!$B:$D,2,0),\"\")","v":""},{"$f":"IFERROR(VLOOKUP(AC525,CadMP!$B:$D,2,0),\"\")","v":""},{"$f":"IFERROR(VLOOKUP(AD525,CadMP!$B:$D,2,0),\"\")","v":""},{"$f":"IFERROR(VLOOKUP(AE525,CadMP!$B:$D,2,0),\"\")","v":""},{"$f":"IFERROR(VLOOKUP(AF525,CadMP!$B:$D,2,0),\"\")","v":""},{"$f":"IFERROR(VLOOKUP(AG525,CadMP!$B:$D,2,0),\"\")","v":""},{"$f":"IFERROR(VLOOKUP(AH525,CadMP!$B:$D,2,0),\"\")","v":""},{"$f":"IFERROR(VLOOKUP(AI525,CadMP!$B:$D,2,0),\"\")","v":""},{"$f":"IFERROR(VLOOKUP(AJ525,CadMP!$B:$D,2,0),\"\")","v":""},{"$f":"IFERROR(VLOOKUP(AK525,CadMP!$B:$D,2,0),\"\")","v":""},{"$f":"IFERROR(VLOOKUP(W525,CadMP!$B:$D,3,0),\"\")","v":""},{"$f":"IFERROR(VLOOKUP(X525,CadMP!$B:$D,3,0),\"\")","v":""},{"$f":"IFERROR(VLOOKUP(Y525,CadMP!$B:$D,3,0),\"\")","v":""},{"$f":"IFERROR(VLOOKUP(Z525,CadMP!$B:$D,3,0),\"\")","v":""},{"$f":"IFERROR(VLOOKUP(AA525,CadMP!$B:$D,3,0),\"\")","v":""},{"$f":"IFERROR(VLOOKUP(AB525,CadMP!$B:$D,3,0),\"\")","v":""},{"$f":"IFERROR(VLOOKUP(AC525,CadMP!$B:$D,3,0),\"\")","v":""},{"$f":"IFERROR(VLOOKUP(AD525,CadMP!$B:$D,3,0),\"\")","v":""},{"$f":"IFERROR(VLOOKUP(AE525,CadMP!$B:$D,3,0),\"\")","v":""},{"$f":"IFERROR(VLOOKUP(AF525,CadMP!$B:$D,3,0),\"\")","v":""},{"$f":"IFERROR(VLOOKUP(AG525,CadMP!$B:$D,3,0),\"\")","v":""},{"$f":"IFERROR(VLOOKUP(AH525,CadMP!$B:$D,3,0),\"\")","v":""},{"$f":"IFERROR(VLOOKUP(AI525,CadMP!$B:$D,3,0),\"\")","v":""},{"$f":"IFERROR(VLOOKUP(AJ525,CadMP!$B:$D,3,0),\"\")","v":""},{"$f":"IFERROR(VLOOKUP(AK525,CadMP!$B:$D,3,0),\"\")","v":""},0,0,0,0,0,0,0,0,0,0,0,0,0,0,0]
[543,null,null,0,0,null,null,null,null,null,null,0,0,null,null,null,null,null,null,null,1,0,null,null,null,null,null,null,null,null,null,null,null,null,null,null,null,null,null,null,null,null,null,null,null,null,null,null,null,null,null,null,{"$f":"IFERROR(VLOOKUP(W544,CadMP!$B:$D,2,0),\"\")","v":""},{"$f":"IFERROR(VLOOKUP(X544,CadMP!$B:$D,2,0),\"\")","v":""},{"$f":"IFERROR(VLOOKUP(Y544,CadMP!$B:$D,2,0),\"\")","v":""},{"$f":"IFERROR(VLOOKUP(Z544,CadMP!$B:$D,2,0),\"\")","v":""},{"$f":"IFERROR(VLOOKUP(AA544,CadMP!$B:$D,2,0),\"\")","v":""},{"$f":"IFERROR(VLOOKUP(AB544,CadMP!$B:$D,2,0),\"\")","v":""},{"$f":"IFERROR(VLOOKUP(AC544,CadMP!$B:$D,2,0),\"\")","v":""},{"$f":"IFERROR(VLOOKUP(AD544,CadMP!$B:$D,2,0),\"\")","v":""},{"$f":"IFERROR(VLOOKUP(AE544,CadMP!$B:$D,2,0),\"\")","v":""},{"$f":"IFERROR(VLOOKUP(AF544,CadMP!$B:$D,2,0),\"\")","v":""},{"$f":"IFERROR(VLOOKUP(AG544,CadMP!$B:$D,2,0),\"\")","v":""},{"$f":"IFERROR(VLOOKUP(AH544,CadMP!$B:$D,2,0),\"\")","v":""},{"$f":"IFERROR(VLOOKUP(AI544,CadMP!$B:$D,2,0),\"\")","v":""},{"$f":"IFERROR(VLOOKUP(AJ544,CadMP!$B:$D,2,0),\"\")","v":""},{"$f":"IFERROR(VLOOKUP(AK544,CadMP!$B:$D,2,0),\"\")","v":""},{"$f":"IFERROR(VLOOKUP(W544,CadMP!$B:$D,3,0),\"\")","v":""},{"$f":"IFERROR(VLOOKUP(X544,CadMP!$B:$D,3,0),\"\")","v":""},{"$f":"IFERROR(VLOOKUP(Y544,CadMP!$B:$D,3,0),\"\")","v":""},{"$f":"IFERROR(VLOOKUP(Z544,CadMP!$B:$D,3,0),\"\")","v":""},{"$f":"IFERROR(VLOOKUP(AA544,CadMP!$B:$D,3,0),\"\")","v":""},{"$f":"IFERROR(VLOOKUP(AB544,CadMP!$B:$D,3,0),\"\")","v":""},{"$f":"IFERROR(VLOOKUP(AC544,CadMP!$B:$D,3,0),\"\")","v":""},{"$f":"IFERROR(VLOOKUP(AD544,CadMP!$B:$D,3,0),\"\")","v":""},{"$f":"IFERROR(VLOOKUP(AE544,CadMP!$B:$D,3,0),\"\")","v":""},{"$f":"IFERROR(VLOOKUP(AF544,CadMP!$B:$D,3,0),\"\")","v":""},{"$f":"IFERROR(VLOOKUP(AG544,CadMP!$B:$D,3,0),\"\")","v":""},{"$f":"IFERROR(VLOOKUP(AH544,CadMP!$B:$D,3,0),\"\")","v":""},{"$f":"IFERROR(VLOOKUP(AI544,CadMP!$B:$D,3,0),\"\")","v":""},{"$f":"IFERROR(VLOOKUP(AJ544,CadMP!$B:$D,3,0),\"\")","v":""},{"$f":"IFERROR(VLOOKUP(AK544,CadMP!$B:$D,3,0),\"\")","v":""},0,0,0,0,0,0,0,0,0,0,0,0,0,0,0]
[551,null,null,0,0,null,null,null,null,null,null,0,0,null,null,null,null,null,null,null,1,0,null,null,null,null,null,null,null,null,null,null,null,null,null,null,null,null,null,null,null,null,null,null,null,null,null,null,null,null,null,null,{"$f":"IFERROR(VLOOKUP(W552,CadMP!$B:$D,2,0),\"\")","v":""},{"$f":"IFERROR(VLOOKUP(X552,CadMP!$B:$D,2,0),\"\")","v":""},{"$f":"IFERROR(VLOOKUP(Y552,CadMP!$B:$D,2,0),\"\")","v":""},{"$f":"IFERROR(VLOOKUP(Z552,CadMP!$B:$D,2,0),\"\")","v":""},{"$f":"IFERROR(VLOOKUP(AA552,CadMP!$B:$D,2,0),\"\")","v":""},{"$f":"IFERROR(VLOOKUP(AB552,CadMP!$B:$D,2,0),\"\")","v":""},{"$f":"IFERROR(VLOOKUP(AC552,CadMP!$B:$D,2,0),\"\")","v":""},{"$f":"IFERROR(VLOOKUP(AD552,CadMP!$B:$D,2,0),\"\")","v":""},{"$f":"IFERROR(VLOOKUP(AE552,CadMP!$B:$D,2,0),\"\")","v":""},{"$f":"IFERROR(VLOOKUP(AF552,CadMP!$B:$D,2,0),\"\")","v":""},{"$f":"IFERROR(VLOOKUP(AG552,CadMP!$B:$D,2,0),\"\")","v":""},{"$f":"IFERROR(VLOOKUP(AH552,CadMP!$B:$D,2,0),\"\")","v":""},{"$f":"IFERROR(VLOOKUP(AI552,CadMP!$B:$D,2,0),\"\")","v":""},{"$f":"IFERROR(VLOOKUP(AJ552,CadMP!$B:$D,2,0),\"\")","v":""},{"$f":"IFERROR(VLOOKUP(AK552,CadMP!$B:$D,2,0),\"\")","v":""},{"$f":"IFERROR(VLOOKUP(W552,CadMP!$B:$D,3,0),\"\")","v":""},{"$f":"IFERROR(VLOOKUP(X552,CadMP!$B:$D,3,0),\"\")","v":""},{"$f":"IFERROR(VLOOKUP(Y552,CadMP!$B:$D,3,0),\"\")","v":""},{"$f":"IFERROR(VLOOKUP(Z552,CadMP!$B:$D,3,0),\"\")","v":""},{"$f":"IFERROR(VLOOKUP(AA552,CadMP!$B:$D,3,0),\"\")","v":""},{"$f":"IFERROR(VLOOKUP(AB552,CadMP!$B:$D,3,0),\"\")","v":""},{"$f":"IFERROR(VLOOKUP(AC552,CadMP!$B:$D,3,0),\"\")","v":""},{"$f":"IFERROR(VLOOKUP(AD552,CadMP!$B:$D,3,0),\"\")","v":""},{"$f":"IFERROR(VLOOKUP(AE552,CadMP!$B:$D,3,0),\"\")","v":""},{"$f":"IFERROR(VLOOKUP(AF552,CadMP!$B:$D,3,0),\"\")","v":""},{"$f":"IFERROR(VLOOKUP(AG552,CadMP!$B:$D,3,0),\"\")","v":""},{"$f":"IFERROR(VLOOKUP(AH552,CadMP!$B:$D,3,0),\"\")","v":""},{"$f":"IFERROR(VLOOKUP(AI552,CadMP!$B:$D,3,0),\"\")","v":""},{"$f":"IFERROR(VLOOKUP(AJ552,CadMP!$B:$D,3,0),\"\")","v":""},{"$f":"IFERROR(VLOOKUP(AK552,CadMP!$B:$D,3,0),\"\")","v":""},0,0,0,0,0,0,0,0,0,0,0,0,0,0,0]
[586,null,null,0,0,null,null,null,null,null,null,0,0,null,null,null,null,null,null,null,1,0,null,null,null,null,null,null,null,null,null,null,null,null,null,null,null,null,null,null,null,null,null,null,null,null,null,null,null,null,null,null,{"$f":"IFERROR(VLOOKUP(W587,CadMP!$B:$D,2,0),\"\")","v":""},{"$f":"IFERROR(VLOOKUP(X587,CadMP!$B:$D,2,0),\"\")","v":""},{"$f":"IFERROR(VLOOKUP(Y587,CadMP!$B:$D,2,0),\"\")","v":""},{"$f":"IFERROR(VLOOKUP(Z587,CadMP!$B:$D,2,0),\"\")","v":""},{"$f":"IFERROR(VLOOKUP(AA587,CadMP!$B:$D,2,0),\"\")","v":""},{"$f":"IFERROR(VLOOKUP(AB587,CadMP!$B:$D,2,0),\"\")","v":""},{"$f":"IFERROR(VLOOKUP(AC587,CadMP!$B:$D,2,0),\"\")","v":""},{"$f":"IFERROR(VLOOKUP(AD587,CadMP!$B:$D,2,0),\"\")","v":""},{"$f":"IFERROR(VLOOKUP(AE587,CadMP!$B:$D,2,0),\"\")","v":""},{"$f":"IFERROR(VLOOKUP(AF587,CadMP!$B:$D,2,0),\"\")","v":""},{"$f":"IFERROR(VLOOKUP(AG587,CadMP!$B:$D,2,0),\"\")","v":""},{"$f":"IFERROR(VLOOKUP(AH587,CadMP!$B:$D,2,0),\"\")","v":""},{"$f":"IFERROR(VLOOKUP(AI587,CadMP!$B:$D,2,0),\"\")","v":""},{"$f":"IFERROR(VLOOKUP(AJ587,CadMP!$B:$D,2,0),\"\")","v":""},{"$f":"IFERROR(VLOOKUP(AK587,CadMP!$B:$D,2,0),\"\")","v":""},{"$f":"IFERROR(VLOOKUP(W587,CadMP!$B:$D,3,0),\"\")","v":""},{"$f":"IFERROR(VLOOKUP(X587,CadMP!$B:$D,3,0),\"\")","v":""},{"$f":"IFERROR(VLOOKUP(Y587,CadMP!$B:$D,3,0),\"\")","v":""},{"$f":"IFERROR(VLOOKUP(Z587,CadMP!$B:$D,3,0),\"\")","v":""},{"$f":"IFERROR(VLOOKUP(AA587,CadMP!$B:$D,3,0),\"\")","v":""},{"$f":"IFERROR(VLOOKUP(AB587,CadMP!$B:$D,3,0),\"\")","v":""},{"$f":"IFERROR(VLOOKUP(AC587,CadMP!$B:$D,3,0),\"\")","v":""},{"$f":"IFERROR(VLOOKUP(AD587,CadMP!$B:$D,3,0),\"\")","v":""},{"$f":"IFERROR(VLOOKUP(AE587,CadMP!$B:$D,3,0),\"\")","v":""},{"$f":"IFERROR(VLOOKUP(AF587,CadMP!$B:$D,3,0),\"\")","v":""},{"$f":"IFERROR(VLOOKUP(AG587,CadMP!$B:$D,3,0),\"\")","v":""},{"$f":"IFERROR(VLOOKUP(AH587,CadMP!$B:$D,3,0),\"\")","v":""},{"$f":"IFERROR(VLOOKUP(AI587,CadMP!$B:$D,3,0),\"\")","v":""},{"$f":"IFERROR(VLOOKUP(AJ587,CadMP!$B:$D,3,0),\"\")","v":""},{"$f":"IFERROR(VLOOKUP(AK587,CadMP!$B:$D,3,0),\"\")","v":""},0,0,0,0,0,0,0,0,0,0,0,0,0,0,0]
[605,null,null,0,0,null,null,null,null,null,null,0,0,null,null,null,null,null,null,null,1,0,null,null,null,null,null,null,null,null,null,null,null,null,null,null,null,null,null,null,null,null,null,null,null,null,null,null,null,null,null,null,{"$f":"IFERROR(VLOOKUP(W606,CadMP!$B:$D,2,0),\"\")","v":""},{"$f":"IFERROR(VLOOKUP(X606,CadMP!$B:$D,2,0),\"\")","v":""},{"$f":"IFERROR(VLOOKUP(Y606,CadMP!$B:$D,2,0),\"\")","v":""},{"$f":"IFERROR(VLOOKUP(Z606,CadMP!$B:$D,2,0),\"\")","v":""},{"$f":"IFERROR(VLOOKUP(AA606,CadMP!$B:$D,2,0),\"\")","v":""},{"$f":"IFERROR(VLOOKUP(AB606,CadMP!$B:$D,2,0),\"\")","v":""},{"$f":"IFERROR(VLOOKUP(AC606,CadMP!$B:$D,2,0),\"\")","v":""},{"$f":"IFERROR(VLOOKUP(AD606,CadMP!$B:$D,2,0),\"\")","v":""},{"$f":"IFERROR(VLOOKUP(AE606,CadMP!$B:$D,2,0),\"\")","v":""},{"$f":"IFERROR(VLOOKUP(AF606,CadMP!$B:$D,2,0),\"\")","v":""},{"$f":"IFERROR(VLOOKUP(AG606,CadMP!$B:$D,2,0),\"\")","v":""},{"$f":"IFERROR(VLOOKUP(AH606,CadMP!$B:$D,2,0),\"\")","v":""},{"$f":"IFERROR(VLOOKUP(AI606,CadMP!$B:$D,2,0),\"\")","v":""},{"$f":"IFERROR(VLOOKUP(AJ606,CadMP!$B:$D,2,0),\"\")","v":""},{"$f":"IFERROR(VLOOKUP(AK606,CadMP!$B:$D,2,0),\"\")","v":""},{"$f":"IFERROR(VLOOKUP(W606,CadMP!$B:$D,3,0),\"\")","v":""},{"$f":"IFERROR(VLOOKUP(X606,CadMP!$B:$D,3,0),\"\")","v":""},{"$f":"IFERROR(VLOOKUP(Y606,CadMP!$B:$D,3,0),\"\")","v":""},{"$f":"IFERROR(VLOOKUP(Z606,CadMP!$B:$D,3,0),\"\")","v":""},{"$f":"IFERROR(VLOOKUP(AA606,CadMP!$B:$D,3,0),\"\")","v":""},{"$f":"IFERROR(VLOOKUP(AB606,CadMP!$B:$D,3,0),\"\")","v":""},{"$f":"IFERROR(VLOOKUP(AC606,CadMP!$B:$D,3,0),\"\")","v":""},{"$f":"IFERROR(VLOOKUP(AD606,CadMP!$B:$D,3,0),\"\")","v":""},{"$f":"IFERROR(VLOOKUP(AE606,CadMP!$B:$D,3,0),\"\")","v":""},{"$f":"IFERROR(VLOOKUP(AF606,CadMP!$B:$D,3,0),\"\")","v":""},{"$f":"IFERROR(VLOOKUP(AG606,CadMP!$B:$D,3,0),\"\")","v":""},{"$f":"IFERROR(VLOOKUP(AH606,CadMP!$B:$D,3,0),\"\")","v":""},{"$f":"IFERROR(VLOOKUP(AI606,CadMP!$B:$D,3,0),\"\")","v":""},{"$f":"IFERROR(VLOOKUP(AJ606,CadMP!$B:$D,3,0),\"\")","v":""},{"$f":"IFERROR(VLOOKUP(AK606,CadMP!$B:$D,3,0),\"\")","v":""},0,0,0,0,0,0,0,0,0,0,0,0,0,0,0]
[611,null,null,0,0,null,null,null,null,null,null,0,0,null,null,null,null,null,null,null,1,0,null,null,null,null,null,null,null,null,null,null,null,null,null,null,null,null,null,null,null,null,null,null,null,null,null,null,null,null,null,null,{"$f":"IFERROR(VLOOKUP(W612,CadMP!$B:$D,2,0),\"\")","v":""},{"$f":"IFERROR(VLOOKUP(X612,CadMP!$B:$D,2,0),\"\")","v":""},{"$f":"IFERROR(VLOOKUP(Y612,CadMP!$B:$D,2,0),\"\")","v":""},{"$f":"IFERROR(VLOOKUP(Z612,CadMP!$B:$D,2,0),\"\")","v":""},{"$f":"IFERROR(VLOOKUP(AA612,CadMP!$B:$D,2,0),\"\")","v":""},{"$f":"IFERROR(VLOOKUP(AB612,CadMP!$B:$D,2,0),\"\")","v":""},{"$f":"IFERROR(VLOOKUP(AC612,CadMP!$B:$D,2,0),\"\")","v":""},{"$f":"IFERROR(VLOOKUP(AD612,CadMP!$B:$D,2,0),\"\")","v":""},{"$f":"IFERROR(VLOOKUP(AE612,CadMP!$B:$D,2,0),\"\")","v":""},{"$f":"IFERROR(VLOOKUP(AF612,CadMP!$B:$D,2,0),\"\")","v":""},{"$f":"IFERROR(VLOOKUP(AG612,CadMP!$B:$D,2,0),\"\")","v":""},{"$f":"IFERROR(VLOOKUP(AH612,CadMP!$B:$D,2,0),\"\")","v":""},{"$f":"IFERROR(VLOOKUP(AI612,CadMP!$B:$D,2,0),\"\")","v":""},{"$f":"IFERROR(VLOOKUP(AJ612,CadMP!$B:$D,2,0),\"\")","v":""},{"$f":"IFERROR(VLOOKUP(AK612,CadMP!$B:$D,2,0),\"\")","v":""},{"$f":"IFERROR(VLOOKUP(W612,CadMP!$B:$D,3,0),\"\")","v":""},{"$f":"IFERROR(VLOOKUP(X612,CadMP!$B:$D,3,0),\"\")","v":""},{"$f":"IFERROR(VLOOKUP(Y612,CadMP!$B:$D,3,0),\"\")","v":""},{"$f":"IFERROR(VLOOKUP(Z612,CadMP!$B:$D,3,0),\"\")","v":""},{"$f":"IFERROR(VLOOKUP(AA612,CadMP!$B:$D,3,0),\"\")","v":""},{"$f":"IFERROR(VLOOKUP(AB612,CadMP!$B:$D,3,0),\"\")","v":""},{"$f":"IFERROR(VLOOKUP(AC612,CadMP!$B:$D,3,0),\"\")","v":""},{"$f":"IFERROR(VLOOKUP(AD612,CadMP!$B:$D,3,0),\"\")","v":""},{"$f":"IFERROR(VLOOKUP(AE612,CadMP!$B:$D,3,0),\"\")","v":""},{"$f":"IFERROR(VLOOKUP(AF612,CadMP!$B:$D,3,0),\"\")","v":""},{"$f":"IFERROR(VLOOKUP(AG612,CadMP!$B:$D,3,0),\"\")","v":""},{"$f":"IFERROR(VLOOKUP(AH612,CadMP!$B:$D,3,0),\"\")","v":""},{"$f":"IFERROR(VLOOKUP(AI612,CadMP!$B:$D,3,0),\"\")","v":""},{"$f":"IFERROR(VLOOKUP(AJ612,CadMP!$B:$D,3,0),\"\")","v":""},{"$f":"IFERROR(VLOOKUP(AK612,CadMP!$B:$D,3,0),\"\")","v":""},0,0,0,0,0,0,0,0,0,0,0,0,0,0,0]
[642,null,null,{"$f":"SUM(CE643:CS643)","v":0},{"$f":"SUM(F643:K643)","v":0},null,null,null,null,null,null,{"$f":"SUM(D643:E643)","v":0},{"$f":"SUM(N643:T643)","v":0},null,null,null,null,null,null,null,{"$f":"(100)/(100-M643)","v":1},{"$f":"L643*U643","v":0},null,null,null,null,null,null,null,null,null,null,null,null,null,null,null,null,null,null,null,null,null,null,null,null,null,null,null,null,null,null,{"$f":"IFERROR(VLOOKUP(W643,CadMP!$B:$D,2,0),\"\")","v":""},{"$f":"IFERROR(VLOOKUP(X643,CadMP!$B:$D,2,0),\"\")","v":""},{"$f":"IFERROR(VLOOKUP(Y643,CadMP!$B:$D,2,0),\"\")","v":""},{"$f":"IFERROR(VLOOKUP(Z643,CadMP!$B:$D,2,0),\"\")","v":""},{"$f":"IFERROR(VLOOKUP(AA643,CadMP!$B:$D,2,0),\"\")","v":""},{"$f":"IFERROR(VLOOKUP(AB643,CadMP!$B:$D,2,0),\"\")","v":""},{"$f":"IFERROR(VLOOKUP(AC643,CadMP!$B:$D,2,0),\"\")","v":""},{"$f":"IFERROR(VLOOKUP(AD643,CadMP!$B:$D,2,0),\"\")","v":""},{"$f":"IFERROR(VLOOKUP(AE643,CadMP!$B:$D,2,0),\"\")","v":""},{"$f":"IFERROR(VLOOKUP(AF643,CadMP!$B:$D,2,0),\"\")","v":""},{"$f":"IFERROR(VLOOKUP(AG643,CadMP!$B:$D,2,0),\"\")","v":""},{"$f":"IFERROR(VLOOKUP(AH643,CadMP!$B:$D,2,0),\"\")","v":""},{"$f":"IFERROR(VLOOKUP(AI643,CadMP!$B:$D,2,0),\"\")","v":""},{"$f":"IFERROR(VLOOKUP(AJ643,CadMP!$B:$D,2,0),\"\")","v":""},{"$f":"IFERROR(VLOOKUP(AK643,CadMP!$B:$D,2,0),\"\")","v":""},{"$f":"IFERROR(VLOOKUP(W643,CadMP!$B:$D,3,0),\"\")","v":""},{"$f":"IFERROR(VLOOKUP(X643,CadMP!$B:$D,3,0),\"\")","v":""},{"$f":"IFERROR(VLOOKUP(Y643,CadMP!$B:$D,3,0),\"\")","v":""},{"$f":"IFERROR(VLOOKUP(Z643,CadMP!$B:$D,3,0),\"\")","v":""},{"$f":"IFERROR(VLOOKUP(AA643,CadMP!$B:$D,3,0),\"\")","v":""},{"$f":"IFERROR(VLOOKUP(AB643,CadMP!$B:$D,3,0),\"\")","v":""},{"$f":"IFERROR(VLOOKUP(AC643,CadMP!$B:$D,3,0),\"\")","v":""},{"$f":"IFERROR(VLOOKUP(AD643,CadMP!$B:$D,3,0),\"\")","v":""},{"$f":"IFERROR(VLOOKUP(AE643,CadMP!$B:$D,3,0),\"\")","v":""},{"$f":"IFERROR(VLOOKUP(AF643,CadMP!$B:$D,3,0),\"\")","v":""},{"$f":"IFERROR(VLOOKUP(AG643,CadMP!$B:$D,3,0),\"\")","v":""},{"$f":"IFERROR(VLOOKUP(AH643,CadMP!$B:$D,3,0),\"\")","v":""},{"$f":"IFERROR(VLOOKUP(AI643,CadMP!$B:$D,3,0),\"\")","v":""},{"$f":"IFERROR(VLOOKUP(AJ643,CadMP!$B:$D,3,0),\"\")","v":""},{"$f":"IFERROR(VLOOKUP(AK643,CadMP!$B:$D,3,0),\"\")","v":""},{"$f":"IFERROR(AL643*BP643,0)","v":0},{"$f":"IFERROR(AM643*BQ643,0)","v":0},{"$f":"IFERROR(AN643*BR643,0)","v":0},{"$f":"IFERROR(AO643*BS643,0)","v":0},{"$f":"IFERROR(AP643*BT643,0)","v":0},{"$f":"IFERROR(AQ643*BU643,0)","v":0},{"$f":"IFERROR(AR643*BV643,0)","v":0},{"$f":"IFERROR(AS643*BW643,0)","v":0},{"$f":"IFERROR(AT643*BX643,0)","v":0},{"$f":"IFERROR(AU643*BY643,0)","v":0},{"$f":"IFERROR(AV643*BZ643,0)","v":0},{"$f":"IFERROR(AW643*CA643,0)","v":0},{"$f":"IFERROR(AX643*CB643,0)","v":0},{"$f":"IFERROR(AY643*CC643,0)","v":0},{"$f":"IFERROR(AZ643*CD643,0)","v":0}]
[654,null,null,0,0,null,null,null,null,null,null,0,0,null,null,null,null,null,null,null,1,0,null,null,null,null,null,null,null,null,null,null,null,null,null,null,null,null,null,null,null,null,null,null,null,null,null,null,null,null,null,null,{"$f":"IFERROR(VLOOKUP(W655,CadMP!$B:$D,2,0),\"\")","v":""},{"$f":"IFERROR(VLOOKUP(X655,CadMP!$B:$D,2,0),\"\")","v":""},{"$f":"IFERROR(VLOOKUP(Y655,CadMP!$B:$D,2,0),\"\")","v":""},{"$f":"IFERROR(VLOOKUP(Z655,CadMP!$B:$D,2,0),\"\")","v":""},{"$f":"IFERROR(VLOOKUP(AA655,CadMP!$B:$D,2,0),\"\")","v":""},{"$f":"IFERROR(VLOOKUP(AB655,CadMP!$B:$D,2,0),\"\")","v":""},{"$f":"IFERROR(VLOOKUP(AC655,CadMP!$B:$D,2,0),\"\")","v":""},{"$f":"IFERROR(VLOOKUP(AD655,CadMP!$B:$D,2,0),\"\")","v":""},{"$f":"IFERROR(VLOOKUP(AE655,CadMP!$B:$D,2,0),\"\")","v":""},{"$f":"IFERROR(VLOOKUP(AF655,CadMP!$B:$D,2,0),\"\")","v":""},{"$f":"IFERROR(VLOOKUP(AG655,CadMP!$B:$D,2,0),\"\")","v":""},{"$f":"IFERROR(VLOOKUP(AH655,CadMP!$B:$D,2,0),\"\")","v":""},{"$f":"IFERROR(VLOOKUP(AI655,CadMP!$B:$D,2,0),\"\")","v":""},{"$f":"IFERROR(VLOOKUP(AJ655,CadMP!$B:$D,2,0),\"\")","v":""},{"$f":"IFERROR(VLOOKUP(AK655,CadMP!$B:$D,2,0),\"\")","v":""},{"$f":"IFERROR(VLOOKUP(W655,CadMP!$B:$D,3,0),\"\")","v":""},{"$f":"IFERROR(VLOOKUP(X655,CadMP!$B:$D,3,0),\"\")","v":""},{"$f":"IFERROR(VLOOKUP(Y655,CadMP!$B:$D,3,0),\"\")","v":""},{"$f":"IFERROR(VLOOKUP(Z655,CadMP!$B:$D,3,0),\"\")","v":""},{"$f":"IFERROR(VLOOKUP(AA655,CadMP!$B:$D,3,0),\"\")","v":""},{"$f":"IFERROR(VLOOKUP(AB655,CadMP!$B:$D,3,0),\"\")","v":""},{"$f":"IFERROR(VLOOKUP(AC655,CadMP!$B:$D,3,0),\"\")","v":""},{"$f":"IFERROR(VLOOKUP(AD655,CadMP!$B:$D,3,0),\"\")","v":""},{"$f":"IFERROR(VLOOKUP(AE655,CadMP!$B:$D,3,0),\"\")","v":""},{"$f":"IFERROR(VLOOKUP(AF655,CadMP!$B:$D,3,0),\"\")","v":""},{"$f":"IFERROR(VLOOKUP(AG655,CadMP!$B:$D,3,0),\"\")","v":""},{"$f":"IFERROR(VLOOKUP(AH655,CadMP!$B:$D,3,0),\"\")","v":""},{"$f":"IFERROR(VLOOKUP(AI655,CadMP!$B:$D,3,0),\"\")","v":""},{"$f":"IFERROR(VLOOKUP(AJ655,CadMP!$B:$D,3,0),\"\")","v":""},{"$f":"IFERROR(VLOOKUP(AK655,CadMP!$B:$D,3,0),\"\")","v":""},0,0,0,0,0,0,0,0,0,0,0,0,0,0,0]
[673,null,null,0,0,null,null,null,null,null,null,0,0,null,null,null,null,null,null,null,1,0,null,null,null,null,null,null,null,null,null,null,null,null,null,null,null,null,null,null,null,null,null,null,null,null,null,null,null,null,null,null,{"$f":"IFERROR(VLOOKUP(W674,CadMP!$B:$D,2,0),\"\")","v":""},{"$f":"IFERROR(VLOOKUP(X674,CadMP!$B:$D,2,0),\"\")","v":""},{"$f":"IFERROR(VLOOKUP(Y674,CadMP!$B:$D,2,0),\"\")","v":""},{"$f":"IFERROR(VLOOKUP(Z674,CadMP!$B:$D,2,0),\"\")","v":""},{"$f":"IFERROR(VLOOKUP(AA674,CadMP!$B:$D,2,0),\"\")","v":""},{"$f":"IFERROR(VLOOKUP(AB674,CadMP!$B:$D,2,0),\"\")","v":""},{"$f":"IFERROR(VLOOKUP(AC674,CadMP!$B:$D,2,0),\"\")","v":""},{"$f":"IFERROR(VLOOKUP(AD674,CadMP!$B:$D,2,0),\"\")","v":""},{"$f":"IFERROR(VLOOKUP(AE674,CadMP!$B:$D,2,0),\"\")","v":""},{"$f":"IFERROR(VLOOKUP(AF674,CadMP!$B:$D,2,0),\"\")","v":""},{"$f":"IFERROR(VLOOKUP(AG674,CadMP!$B:$D,2,0),\"\")","v":""},{"$f":"IFERROR(VLOOKUP(AH674,CadMP!$B:$D,2,0),\"\")","v":""},{"$f":"IFERROR(VLOOKUP(AI674,CadMP!$B:$D,2,0),\"\")","v":""},{"$f":"IFERROR(VLOOKUP(AJ674,CadMP!$B:$D,2,0),\"\")","v":""},{"$f":"IFERROR(VLOOKUP(AK674,CadMP!$B:$D,2,0),\"\")","v":""},{"$f":"IFERROR(VLOOKUP(W674,CadMP!$B:$D,3,0),\"\")","v":""},{"$f":"IFERROR(VLOOKUP(X674,CadMP!$B:$D,3,0),\"\")","v":""},{"$f":"IFERROR(VLOOKUP(Y674,CadMP!$B:$D,3,0),\"\")","v":""},{"$f":"IFERROR(VLOOKUP(Z674,CadMP!$B:$D,3,0),\"\")","v":""},{"$f":"IFERROR(VLOOKUP(AA674,CadMP!$B:$D,3,0),\"\")","v":""},{"$f":"IFERROR(VLOOKUP(AB674,CadMP!$B:$D,3,0),\"\")","v":""},{"$f":"IFERROR(VLOOKUP(AC674,CadMP!$B:$D,3,0),\"\")","v":""},{"$f":"IFERROR(VLOOKUP(AD674,CadMP!$B:$D,3,0),\"\")","v":""},{"$f":"IFERROR(VLOOKUP(AE674,CadMP!$B:$D,3,0),\"\")","v":""},{"$f":"IFERROR(VLOOKUP(AF674,CadMP!$B:$D,3,0),\"\")","v":""},{"$f":"IFERROR(VLOOKUP(AG674,CadMP!$B:$D,3,0),\"\")","v":""},{"$f":"IFERROR(VLOOKUP(AH674,CadMP!$B:$D,3,0),\"\")","v":""},{"$f":"IFERROR(VLOOKUP(AI674,CadMP!$B:$D,3,0),\"\")","v":""},{"$f":"IFERROR(VLOOKUP(AJ674,CadMP!$B:$D,3,0),\"\")","v":""},{"$f":"IFERROR(VLOOKUP(AK674,CadMP!$B:$D,3,0),\"\")","v":""},0,0,0,0,0,0,0,0,0,0,0,0,0,0,0]
[692,null,null,0,0,null,null,null,null,null,null,0,0,null,null,null,null,null,null,null,1,0,null,null,null,null,null,null,null,null,null,null,null,null,null,null,null,null,null,null,null,null,null,null,null,null,null,null,null,null,null,null,{"$f":"IFERROR(VLOOKUP(W693,CadMP!$B:$D,2,0),\"\")","v":""},{"$f":"IFERROR(VLOOKUP(X693,CadMP!$B:$D,2,0),\"\")","v":""},{"$f":"IFERROR(VLOOKUP(Y693,CadMP!$B:$D,2,0),\"\")","v":""},{"$f":"IFERROR(VLOOKUP(Z693,CadMP!$B:$D,2,0),\"\")","v":""},{"$f":"IFERROR(VLOOKUP(AA693,CadMP!$B:$D,2,0),\"\")","v":""},{"$f":"IFERROR(VLOOKUP(AB693,CadMP!$B:$D,2,0),\"\")","v":""},{"$f":"IFERROR(VLOOKUP(AC693,CadMP!$B:$D,2,0),\"\")","v":""},{"$f":"IFERROR(VLOOKUP(AD693,CadMP!$B:$D,2,0),\"\")","v":""},{"$f":"IFERROR(VLOOKUP(AE693,CadMP!$B:$D,2,0),\"\")","v":""},{"$f":"IFERROR(VLOOKUP(AF693,CadMP!$B:$D,2,0),\"\")","v":""},{"$f":"IFERROR(VLOOKUP(AG693,CadMP!$B:$D,2,0),\"\")","v":""},{"$f":"IFERROR(VLOOKUP(AH693,CadMP!$B:$D,2,0),\"\")","v":""},{"$f":"IFERROR(VLOOKUP(AI693,CadMP!$B:$D,2,0),\"\")","v":""},{"$f":"IFERROR(VLOOKUP(AJ693,CadMP!$B:$D,2,0),\"\")","v":""},{"$f":"IFERROR(VLOOKUP(AK693,CadMP!$B:$D,2,0),\"\")","v":""},{"$f":"IFERROR(VLOOKUP(W693,CadMP!$B:$D,3,0),\"\")","v":""},{"$f":"IFERROR(VLOOKUP(X693,CadMP!$B:$D,3,0),\"\")","v":""},{"$f":"IFERROR(VLOOKUP(Y693,CadMP!$B:$D,3,0),\"\")","v":""},{"$f":"IFERROR(VLOOKUP(Z693,CadMP!$B:$D,3,0),\"\")","v":""},{"$f":"IFERROR(VLOOKUP(AA693,CadMP!$B:$D,3,0),\"\")","v":""},{"$f":"IFERROR(VLOOKUP(AB693,CadMP!$B:$D,3,0),\"\")","v":""},{"$f":"IFERROR(VLOOKUP(AC693,CadMP!$B:$D,3,0),\"\")","v":""},{"$f":"IFERROR(VLOOKUP(AD693,CadMP!$B:$D,3,0),\"\")","v":""},{"$f":"IFERROR(VLOOKUP(AE693,CadMP!$B:$D,3,0),\"\")","v":""},{"$f":"IFERROR(VLOOKUP(AF693,CadMP!$B:$D,3,0),\"\")","v":""},{"$f":"IFERROR(VLOOKUP(AG693,CadMP!$B:$D,3,0),\"\")","v":""},{"$f":"IFERROR(VLOOKUP(AH693,CadMP!$B:$D,3,0),\"\")","v":""},{"$f":"IFERROR(VLOOKUP(AI693,CadMP!$B:$D,3,0),\"\")","v":""},{"$f":"IFERROR(VLOOKUP(AJ693,CadMP!$B:$D,3,0),\"\")","v":""},{"$f":"IFERROR(VLOOKUP(AK693,CadMP!$B:$D,3,0),\"\")","v":""},0,0,0,0,0,0,0,0,0,0,0,0,0,0,0]
[701,null,null,0,0,null,null,null,null,null,null,0,0,null,null,null,null,null,null,null,1,0,null,null,null,null,null,null,null,null,null,null,null,null,null,null,null,null,null,null,null,null,null,null,null,null,null,null,null,null,null,null,{"$f":"IFERROR(VLOOKUP(W702,CadMP!$B:$D,2,0),\"\")","v":""},{"$f":"IFERROR(VLOOKUP(X702,CadMP!$B:$D,2,0),\"\")","v":""},{"$f":"IFERROR(VLOOKUP(Y702,CadMP!$B:$D,2,0),\"\")","v":""},{"$f":"IFERROR(VLOOKUP(Z702,CadMP!$B:$D,2,0),\"\")","v":""},{"$f":"IFERROR(VLOOKUP(AA702,CadMP!$B:$D,2,0),\"\")","v":""},{"$f":"IFERROR(VLOOKUP(AB702,CadMP!$B:$D,2,0),\"\")","v":""},{"$f":"IFERROR(VLOOKUP(AC702,CadMP!$B:$D,2,0),\"\")","v":""},{"$f":"IFERROR(VLOOKUP(AD702,CadMP!$B:$D,2,0),\"\")","v":""},{"$f":"IFERROR(VLOOKUP(AE702,CadMP!$B:$D,2,0),\"\")","v":""},{"$f":"IFERROR(VLOOKUP(AF702,CadMP!$B:$D,2,0),\"\")","v":""},{"$f":"IFERROR(VLOOKUP(AG702,CadMP!$B:$D,2,0),\"\")","v":""},{"$f":"IFERROR(VLOOKUP(AH702,CadMP!$B:$D,2,0),\"\")","v":""},{"$f":"IFERROR(VLOOKUP(AI702,CadMP!$B:$D,2,0),\"\")","v":""},{"$f":"IFERROR(VLOOKUP(AJ702,CadMP!$B:$D,2,0),\"\")","v":""},{"$f":"IFERROR(VLOOKUP(AK702,CadMP!$B:$D,2,0),\"\")","v":""},{"$f":"IFERROR(VLOOKUP(W702,CadMP!$B:$D,3,0),\"\")","v":""},{"$f":"IFERROR(VLOOKUP(X702,CadMP!$B:$D,3,0),\"\")","v":""},{"$f":"IFERROR(VLOOKUP(Y702,CadMP!$B:$D,3,0),\"\")","v":""},{"$f":"IFERROR(VLOOKUP(Z702,CadMP!$B:$D,3,0),\"\")","v":""},{"$f":"IFERROR(VLOOKUP(AA702,CadMP!$B:$D,3,0),\"\")","v":""},{"$f":"IFERROR(VLOOKUP(AB702,CadMP!$B:$D,3,0),\"\")","v":""},{"$f":"IFERROR(VLOOKUP(AC702,CadMP!$B:$D,3,0),\"\")","v":""},{"$f":"IFERROR(VLOOKUP(AD702,CadMP!$B:$D,3,0),\"\")","v":""},{"$f":"IFERROR(VLOOKUP(AE702,CadMP!$B:$D,3,0),\"\")","v":""},{"$f":"IFERROR(VLOOKUP(AF702,CadMP!$B:$D,3,0),\"\")","v":""},{"$f":"IFERROR(VLOOKUP(AG702,CadMP!$B:$D,3,0),\"\")","v":""},{"$f":"IFERROR(VLOOKUP(AH702,CadMP!$B:$D,3,0),\"\")","v":""},{"$f":"IFERROR(VLOOKUP(AI702,CadMP!$B:$D,3,0),\"\")","v":""},{"$f":"IFERROR(VLOOKUP(AJ702,CadMP!$B:$D,3,0),\"\")","v":""},{"$f":"IFERROR(VLOOKUP(AK702,CadMP!$B:$D,3,0),\"\")","v":""},0,0,0,0,0,0,0,0,0,0,0,0,0,0,0]
[735,null,null,0,0,null,null,null,null,null,null,0,0,null,null,null,null,null,null,null,1,0,null,null,null,null,null,null,null,null,null,null,null,null,null,null,null,null,null,null,null,null,null,null,null,null,null,null,null,null,null,null,{"$f":"IFERROR(VLOOKUP(W736,CadMP!$B:$D,2,0),\"\")","v":""},{"$f":"IFERROR(VLOOKUP(X736,CadMP!$B:$D,2,0),\"\")","v":""},{"$f":"IFERROR(VLOOKUP(Y736,CadMP!$B:$D,2,0),\"\")","v":""},{"$f":"IFERROR(VLOOKUP(Z736,CadMP!$B:$D,2,0),\"\")","v":""},{"$f":"IFERROR(VLOOKUP(AA736,CadMP!$B:$D,2,0),\"\")","v":""},{"$f":"IFERROR(VLOOKUP(AB736,CadMP!$B:$D,2,0),\"\")","v":""},{"$f":"IFERROR(VLOOKUP(AC736,CadMP!$B:$D,2,0),\"\")","v":""},{"$f":"IFERROR(VLOOKUP(AD736,CadMP!$B:$D,2,0),\"\")","v":""},{"$f":"IFERROR(VLOOKUP(AE736,CadMP!$B:$D,2,0),\"\")","v":""},{"$f":"IFERROR(VLOOKUP(AF736,CadMP!$B:$D,2,0),\"\")","v":""},{"$f":"IFERROR(VLOOKUP(AG736,CadMP!$B:$D,2,0),\"\")","v":""},{"$f":"IFERROR(VLOOKUP(AH736,CadMP!$B:$D,2,0),\"\")","v":""},{"$f":"IFERROR(VLOOKUP(AI736,CadMP!$B:$D,2,0),\"\")","v":""},{"$f":"IFERROR(VLOOKUP(AJ736,CadMP!$B:$D,2,0),\"\")","v":""},{"$f":"IFERROR(VLOOKUP(AK736,CadMP!$B:$D,2,0),\"\")","v":""},{"$f":"IFERROR(VLOOKUP(W736,CadMP!$B:$D,3,0),\"\")","v":""},{"$f":"IFERROR(VLOOKUP(X736,CadMP!$B:$D,3,0),\"\")","v":""},{"$f":"IFERROR(VLOOKUP(Y736,CadMP!$B:$D,3,0),\"\")","v":""},{"$f":"IFERROR(VLOOKUP(Z736,CadMP!$B:$D,3,0),\"\")","v":""},{"$f":"IFERROR(VLOOKUP(AA736,CadMP!$B:$D,3,0),\"\")","v":""},{"$f":"IFERROR(VLOOKUP(AB736,CadMP!$B:$D,3,0),\"\")","v":""},{"$f":"IFERROR(VLOOKUP(AC736,CadMP!$B:$D,3,0),\"\")","v":""},{"$f":"IFERROR(VLOOKUP(AD736,CadMP!$B:$D,3,0),\"\")","v":""},{"$f":"IFERROR(VLOOKUP(AE736,CadMP!$B:$D,3,0),\"\")","v":""},{"$f":"IFERROR(VLOOKUP(AF736,CadMP!$B:$D,3,0),\"\")","v":""},{"$f":"IFERROR(VLOOKUP(AG736,CadMP!$B:$D,3,0),\"\")","v":""},{"$f":"IFERROR(VLOOKUP(AH736,CadMP!$B:$D,3,0),\"\")","v":""},{"$f":"IFERROR(VLOOKUP(AI736,CadMP!$B:$D,3,0),\"\")","v":""},{"$f":"IFERROR(VLOOKUP(AJ736,CadMP!$B:$D,3,0),\"\")","v":""},{"$f":"IFERROR(VLOOKUP(AK736,CadMP!$B:$D,3,0),\"\")","v":""},0,0,0,0,0,0,0,0,0,0,0,0,0,0,0]
[754,null,null,0,0,null,null,null,null,null,null,0,0,null,null,null,null,null,null,null,1,0,null,null,null,null,null,null,null,null,null,null,null,null,null,null,null,null,null,null,null,null,null,null,null,null,null,null,null,null,null,null,{"$f":"IFERROR(VLOOKUP(W755,CadMP!$B:$D,2,0),\"\")","v":""},{"$f":"IFERROR(VLOOKUP(X755,CadMP!$B:$D,2,0),\"\")","v":""},{"$f":"IFERROR(VLOOKUP(Y755,CadMP!$B:$D,2,0),\"\")","v":""},{"$f":"IFERROR(VLOOKUP(Z755,CadMP!$B:$D,2,0),\"\")","v":""},{"$f":"IFERROR(VLOOKUP(AA755,CadMP!$B:$D,2,0),\"\")","v":""},{"$f":"IFERROR(VLOOKUP(AB755,CadMP!$B:$D,2,0),\"\")","v":""},{"$f":"IFERROR(VLOOKUP(AC755,CadMP!$B:$D,2,0),\"\")","v":""},{"$f":"IFERROR(VLOOKUP(AD755,CadMP!$B:$D,2,0),\"\")","v":""},{"$f":"IFERROR(VLOOKUP(AE755,CadMP!$B:$D,2,0),\"\")","v":""},{"$f":"IFERROR(VLOOKUP(AF755,CadMP!$B:$D,2,0),\"\")","v":""},{"$f":"IFERROR(VLOOKUP(AG755,CadMP!$B:$D,2,0),\"\")","v":""},{"$f":"IFERROR(VLOOKUP(AH755,CadMP!$B:$D,2,0),\"\")","v":""},{"$f":"IFERROR(VLOOKUP(AI755,CadMP!$B:$D,2,0),\"\")","v":""},{"$f":"IFERROR(VLOOKUP(AJ755,CadMP!$B:$D,2,0),\"\")","v":""},{"$f":"IFERROR(VLOOKUP(AK755,CadMP!$B:$D,2,0),\"\")","v":""},{"$f":"IFERROR(VLOOKUP(W755,CadMP!$B:$D,3,0),\"\")","v":""},{"$f":"IFERROR(VLOOKUP(X755,CadMP!$B:$D,3,0),\"\")","v":""},{"$f":"IFERROR(VLOOKUP(Y755,CadMP!$B:$D,3,0),\"\")","v":""},{"$f":"IFERROR(VLOOKUP(Z755,CadMP!$B:$D,3,0),\"\")","v":""},{"$f":"IFERROR(VLOOKUP(AA755,CadMP!$B:$D,3,0),\"\")","v":""},{"$f":"IFERROR(VLOOKUP(AB755,CadMP!$B:$D,3,0),\"\")","v":""},{"$f":"IFERROR(VLOOKUP(AC755,CadMP!$B:$D,3,0),\"\")","v":""},{"$f":"IFERROR(VLOOKUP(AD755,CadMP!$B:$D,3,0),\"\")","v":""},{"$f":"IFERROR(VLOOKUP(AE755,CadMP!$B:$D,3,0),\"\")","v":""},{"$f":"IFERROR(VLOOKUP(AF755,CadMP!$B:$D,3,0),\"\")","v":""},{"$f":"IFERROR(VLOOKUP(AG755,CadMP!$B:$D,3,0),\"\")","v":""},{"$f":"IFERROR(VLOOKUP(AH755,CadMP!$B:$D,3,0),\"\")","v":""},{"$f":"IFERROR(VLOOKUP(AI755,CadMP!$B:$D,3,0),\"\")","v":""},{"$f":"IFERROR(VLOOKUP(AJ755,CadMP!$B:$D,3,0),\"\")","v":""},{"$f":"IFERROR(VLOOKUP(AK755,CadMP!$B:$D,3,0),\"\")","v":""},0,0,0,0,0,0,0,0,0,0,0,0,0,0,0]
[760,null,null,0,0,null,null,null,null,null,null,0,0,null,null,null,null,null,null,null,1,0,null,null,null,null,null,null,null,null,null,null,null,null,null,null,null,null,null,null,null,null,null,null,null,null,null,null,null,null,null,null,{"$f":"IFERROR(VLOOKUP(W761,CadMP!$B:$D,2,0),\"\")","v":""},{"$f":"IFERROR(VLOOKUP(X761,CadMP!$B:$D,2,0),\"\")","v":""},{"$f":"IFERROR(VLOOKUP(Y761,CadMP!$B:$D,2,0),\"\")","v":""},{"$f":"IFERROR(VLOOKUP(Z761,CadMP!$B:$D,2,0),\"\")","v":""},{"$f":"IFERROR(VLOOKUP(AA761,CadMP!$B:$D,2,0),\"\")","v":""},{"$f":"IFERROR(VLOOKUP(AB761,CadMP!$B:$D,2,0),\"\")","v":""},{"$f":"IFERROR(VLOOKUP(AC761,CadMP!$B:$D,2,0),\"\")","v":""},{"$f":"IFERROR(VLOOKUP(AD761,CadMP!$B:$D,2,0),\"\")","v":""},{"$f":"IFERROR(VLOOKUP(AE761,CadMP!$B:$D,2,0),\"\")","v":""},{"$f":"IFERROR(VLOOKUP(AF761,CadMP!$B:$D,2,0),\"\")","v":""},{"$f":"IFERROR(VLOOKUP(AG761,CadMP!$B:$D,2,0),\"\")","v":""},{"$f":"IFERROR(VLOOKUP(AH761,CadMP!$B:$D,2,0),\"\")","v":""},{"$f":"IFERROR(VLOOKUP(AI761,CadMP!$B:$D,2,0),\"\")","v":""},{"$f":"IFERROR(VLOOKUP(AJ761,CadMP!$B:$D,2,0),\"\")","v":""},{"$f":"IFERROR(VLOOKUP(AK761,CadMP!$B:$D,2,0),\"\")","v":""},{"$f":"IFERROR(VLOOKUP(W761,CadMP!$B:$D,3,0),\"\")","v":""},{"$f":"IFERROR(VLOOKUP(X761,CadMP!$B:$D,3,0),\"\")","v":""},{"$f":"IFERROR(VLOOKUP(Y761,CadMP!$B:$D,3,0),\"\")","v":""},{"$f":"IFERROR(VLOOKUP(Z761,CadMP!$B:$D,3,0),\"\")","v":""},{"$f":"IFERROR(VLOOKUP(AA761,CadMP!$B:$D,3,0),\"\")","v":""},{"$f":"IFERROR(VLOOKUP(AB761,CadMP!$B:$D,3,0),\"\")","v":""},{"$f":"IFERROR(VLOOKUP(AC761,CadMP!$B:$D,3,0),\"\")","v":""},{"$f":"IFERROR(VLOOKUP(AD761,CadMP!$B:$D,3,0),\"\")","v":""},{"$f":"IFERROR(VLOOKUP(AE761,CadMP!$B:$D,3,0),\"\")","v":""},{"$f":"IFERROR(VLOOKUP(AF761,CadMP!$B:$D,3,0),\"\")","v":""},{"$f":"IFERROR(VLOOKUP(AG761,CadMP!$B:$D,3,0),\"\")","v":""},{"$f":"IFERROR(VLOOKUP(AH761,CadMP!$B:$D,3,0),\"\")","v":""},{"$f":"IFERROR(VLOOKUP(AI761,CadMP!$B:$D,3,0),\"\")","v":""},{"$f":"IFERROR(VLOOKUP(AJ761,CadMP!$B:$D,3,0),\"\")","v":""},{"$f":"IFERROR(VLOOKUP(AK761,CadMP!$B:$D,3,0),\"\")","v":""},0,0,0,0,0,0,0,0,0,0,0,0,0,0,0]
[792,null,null,0,0,null,null,null,null,null,null,0,0,null,null,null,null,null,null,null,1,0,null,null,null,null,null,null,null,null,null,null,null,null,null,null,null,null,null,null,null,null,null,null,null,null,null,null,null,null,null,null,{"$f":"IFERROR(VLOOKUP(W793,CadMP!$B:$D,2,0),\"\")","v":""},{"$f":"IFERROR(VLOOKUP(X793,CadMP!$B:$D,2,0),\"\")","v":""},{"$f":"IFERROR(VLOOKUP(Y793,CadMP!$B:$D,2,0),\"\")","v":""},{"$f":"IFERROR(VLOOKUP(Z793,CadMP!$B:$D,2,0),\"\")","v":""},{"$f":"IFERROR(VLOOKUP(AA793,CadMP!$B:$D,2,0),\"\")","v":""},{"$f":"IFERROR(VLOOKUP(AB793,CadMP!$B:$D,2,0),\"\")","v":""},{"$f":"IFERROR(VLOOKUP(AC793,CadMP!$B:$D,2,0),\"\")","v":""},{"$f":"IFERROR(VLOOKUP(AD793,CadMP!$B:$D,2,0),\"\")","v":""},{"$f":"IFERROR(VLOOKUP(AE793,CadMP!$B:$D,2,0),\"\")","v":""},{"$f":"IFERROR(VLOOKUP(AF793,CadMP!$B:$D,2,0),\"\")","v":""},{"$f":"IFERROR(VLOOKUP(AG793,CadMP!$B:$D,2,0),\"\")","v":""},{"$f":"IFERROR(VLOOKUP(AH793,CadMP!$B:$D,2,0),\"\")","v":""},{"$f":"IFERROR(VLOOKUP(AI793,CadMP!$B:$D,2,0),\"\")","v":""},{"$f":"IFERROR(VLOOKUP(AJ793,CadMP!$B:$D,2,0),\"\")","v":""},{"$f":"IFERROR(VLOOKUP(AK793,CadMP!$B:$D,2,0),\"\")","v":""},{"$f":"IFERROR(VLOOKUP(W793,CadMP!$B:$D,3,0),\"\")","v":""},{"$f":"IFERROR(VLOOKUP(X793,CadMP!$B:$D,3,0),\"\")","v":""},{"$f":"IFERROR(VLOOKUP(Y793,CadMP!$B:$D,3,0),\"\")","v":""},{"$f":"IFERROR(VLOOKUP(Z793,CadMP!$B:$D,3,0),\"\")","v":""},{"$f":"IFERROR(VLOOKUP(AA793,CadMP!$B:$D,3,0),\"\")","v":""},{"$f":"IFERROR(VLOOKUP(AB793,CadMP!$B:$D,3,0),\"\")","v":""},{"$f":"IFERROR(VLOOKUP(AC793,CadMP!$B:$D,3,0),\"\")","v":""},{"$f":"IFERROR(VLOOKUP(AD793,CadMP!$B:$D,3,0),\"\")","v":""},{"$f":"IFERROR(VLOOKUP(AE793,CadMP!$B:$D,3,0),\"\")","v":""},{"$f":"IFERROR(VLOOKUP(AF793,CadMP!$B:$D,3,0),\"\")","v":""},{"$f":"IFERROR(VLOOKUP(AG793,CadMP!$B:$D,3,0),\"\")","v":""},{"$f":"IFERROR(VLOOKUP(AH793,CadMP!$B:$D,3,0),\"\")","v":""},{"$f":"IFERROR(VLOOKUP(AI793,CadMP!$B:$D,3,0),\"\")","v":""},{"$f":"IFERROR(VLOOKUP(AJ793,CadMP!$B:$D,3,0),\"\")","v":""},{"$f":"IFERROR(VLOOKUP(AK793,CadMP!$B:$D,3,0),\"\")","v":""},0,0,0,0,0,0,0,0,0,0,0,0,0,0,0]
[803,null,null,0,0,null,null,null,null,null,null,0,0,null,null,null,null,null,null,null,1,0,null,null,null,null,null,null,null,null,null,null,null,null,null,null,null,null,null,null,null,null,null,null,null,null,null,null,null,null,null,null,{"$f":"IFERROR(VLOOKUP(W804,CadMP!$B:$D,2,0),\"\")","v":""},{"$f":"IFERROR(VLOOKUP(X804,CadMP!$B:$D,2,0),\"\")","v":""},{"$f":"IFERROR(VLOOKUP(Y804,CadMP!$B:$D,2,0),\"\")","v":""},{"$f":"IFERROR(VLOOKUP(Z804,CadMP!$B:$D,2,0),\"\")","v":""},{"$f":"IFERROR(VLOOKUP(AA804,CadMP!$B:$D,2,0),\"\")","v":""},{"$f":"IFERROR(VLOOKUP(AB804,CadMP!$B:$D,2,0),\"\")","v":""},{"$f":"IFERROR(VLOOKUP(AC804,CadMP!$B:$D,2,0),\"\")","v":""},{"$f":"IFERROR(VLOOKUP(AD804,CadMP!$B:$D,2,0),\"\")","v":""},{"$f":"IFERROR(VLOOKUP(AE804,CadMP!$B:$D,2,0),\"\")","v":""},{"$f":"IFERROR(VLOOKUP(AF804,CadMP!$B:$D,2,0),\"\")","v":""},{"$f":"IFERROR(VLOOKUP(AG804,CadMP!$B:$D,2,0),\"\")","v":""},{"$f":"IFERROR(VLOOKUP(AH804,CadMP!$B:$D,2,0),\"\")","v":""},{"$f":"IFERROR(VLOOKUP(AI804,CadMP!$B:$D,2,0),\"\")","v":""},{"$f":"IFERROR(VLOOKUP(AJ804,CadMP!$B:$D,2,0),\"\")","v":""},{"$f":"IFERROR(VLOOKUP(AK804,CadMP!$B:$D,2,0),\"\")","v":""},{"$f":"IFERROR(VLOOKUP(W804,CadMP!$B:$D,3,0),\"\")","v":""},{"$f":"IFERROR(VLOOKUP(X804,CadMP!$B:$D,3,0),\"\")","v":""},{"$f":"IFERROR(VLOOKUP(Y804,CadMP!$B:$D,3,0),\"\")","v":""},{"$f":"IFERROR(VLOOKUP(Z804,CadMP!$B:$D,3,0),\"\")","v":""},{"$f":"IFERROR(VLOOKUP(AA804,CadMP!$B:$D,3,0),\"\")","v":""},{"$f":"IFERROR(VLOOKUP(AB804,CadMP!$B:$D,3,0),\"\")","v":""},{"$f":"IFERROR(VLOOKUP(AC804,CadMP!$B:$D,3,0),\"\")","v":""},{"$f":"IFERROR(VLOOKUP(AD804,CadMP!$B:$D,3,0),\"\")","v":""},{"$f":"IFERROR(VLOOKUP(AE804,CadMP!$B:$D,3,0),\"\")","v":""},{"$f":"IFERROR(VLOOKUP(AF804,CadMP!$B:$D,3,0),\"\")","v":""},{"$f":"IFERROR(VLOOKUP(AG804,CadMP!$B:$D,3,0),\"\")","v":""},{"$f":"IFERROR(VLOOKUP(AH804,CadMP!$B:$D,3,0),\"\")","v":""},{"$f":"IFERROR(VLOOKUP(AI804,CadMP!$B:$D,3,0),\"\")","v":""},{"$f":"IFERROR(VLOOKUP(AJ804,CadMP!$B:$D,3,0),\"\")","v":""},{"$f":"IFERROR(VLOOKUP(AK804,CadMP!$B:$D,3,0),\"\")","v":""},0,0,0,0,0,0,0,0,0,0,0,0,0,0,0]
[822,null,null,0,0,null,null,null,null,null,null,0,0,null,null,null,null,null,null,null,1,0,null,null,null,null,null,null,null,null,null,null,null,null,null,null,null,null,null,null,null,null,null,null,null,null,null,null,null,null,null,null,{"$f":"IFERROR(VLOOKUP(W823,CadMP!$B:$D,2,0),\"\")","v":""},{"$f":"IFERROR(VLOOKUP(X823,CadMP!$B:$D,2,0),\"\")","v":""},{"$f":"IFERROR(VLOOKUP(Y823,CadMP!$B:$D,2,0),\"\")","v":""},{"$f":"IFERROR(VLOOKUP(Z823,CadMP!$B:$D,2,0),\"\")","v":""},{"$f":"IFERROR(VLOOKUP(AA823,CadMP!$B:$D,2,0),\"\")","v":""},{"$f":"IFERROR(VLOOKUP(AB823,CadMP!$B:$D,2,0),\"\")","v":""},{"$f":"IFERROR(VLOOKUP(AC823,CadMP!$B:$D,2,0),\"\")","v":""},{"$f":"IFERROR(VLOOKUP(AD823,CadMP!$B:$D,2,0),\"\")","v":""},{"$f":"IFERROR(VLOOKUP(AE823,CadMP!$B:$D,2,0),\"\")","v":""},{"$f":"IFERROR(VLOOKUP(AF823,CadMP!$B:$D,2,0),\"\")","v":""},{"$f":"IFERROR(VLOOKUP(AG823,CadMP!$B:$D,2,0),\"\")","v":""},{"$f":"IFERROR(VLOOKUP(AH823,CadMP!$B:$D,2,0),\"\")","v":""},{"$f":"IFERROR(VLOOKUP(AI823,CadMP!$B:$D,2,0),\"\")","v":""},{"$f":"IFERROR(VLOOKUP(AJ823,CadMP!$B:$D,2,0),\"\")","v":""},{"$f":"IFERROR(VLOOKUP(AK823,CadMP!$B:$D,2,0),\"\")","v":""},{"$f":"IFERROR(VLOOKUP(W823,CadMP!$B:$D,3,0),\"\")","v":""},{"$f":"IFERROR(VLOOKUP(X823,CadMP!$B:$D,3,0),\"\")","v":""},{"$f":"IFERROR(VLOOKUP(Y823,CadMP!$B:$D,3,0),\"\")","v":""},{"$f":"IFERROR(VLOOKUP(Z823,CadMP!$B:$D,3,0),\"\")","v":""},{"$f":"IFERROR(VLOOKUP(AA823,CadMP!$B:$D,3,0),\"\")","v":""},{"$f":"IFERROR(VLOOKUP(AB823,CadMP!$B:$D,3,0),\"\")","v":""},{"$f":"IFERROR(VLOOKUP(AC823,CadMP!$B:$D,3,0),\"\")","v":""},{"$f":"IFERROR(VLOOKUP(AD823,CadMP!$B:$D,3,0),\"\")","v":""},{"$f":"IFERROR(VLOOKUP(AE823,CadMP!$B:$D,3,0),\"\")","v":""},{"$f":"IFERROR(VLOOKUP(AF823,CadMP!$B:$D,3,0),\"\")","v":""},{"$f":"IFERROR(VLOOKUP(AG823,CadMP!$B:$D,3,0),\"\")","v":""},{"$f":"IFERROR(VLOOKUP(AH823,CadMP!$B:$D,3,0),\"\")","v":""},{"$f":"IFERROR(VLOOKUP(AI823,CadMP!$B:$D,3,0),\"\")","v":""},{"$f":"IFERROR(VLOOKUP(AJ823,CadMP!$B:$D,3,0),\"\")","v":""},{"$f":"IFERROR(VLOOKUP(AK823,CadMP!$B:$D,3,0),\"\")","v":""},0,0,0,0,0,0,0,0,0,0,0,0,0,0,0]
[841,null,null,0,0,null,null,null,null,null,null,0,0,null,null,null,null,null,null,null,1,0,null,null,null,null,null,null,null,null,null,null,null,null,null,null,null,null,null,null,null,null,null,null,null,null,null,null,null,null,null,null,{"$f":"IFERROR(VLOOKUP(W842,CadMP!$B:$D,2,0),\"\")","v":""},{"$f":"IFERROR(VLOOKUP(X842,CadMP!$B:$D,2,0),\"\")","v":""},{"$f":"IFERROR(VLOOKUP(Y842,CadMP!$B:$D,2,0),\"\")","v":""},{"$f":"IFERROR(VLOOKUP(Z842,CadMP!$B:$D,2,0),\"\")","v":""},{"$f":"IFERROR(VLOOKUP(AA842,CadMP!$B:$D,2,0),\"\")","v":""},{"$f":"IFERROR(VLOOKUP(AB842,CadMP!$B:$D,2,0),\"\")","v":""},{"$f":"IFERROR(VLOOKUP(AC842,CadMP!$B:$D,2,0),\"\")","v":""},{"$f":"IFERROR(VLOOKUP(AD842,CadMP!$B:$D,2,0),\"\")","v":""},{"$f":"IFERROR(VLOOKUP(AE842,CadMP!$B:$D,2,0),\"\")","v":""},{"$f":"IFERROR(VLOOKUP(AF842,CadMP!$B:$D,2,0),\"\")","v":""},{"$f":"IFERROR(VLOOKUP(AG842,CadMP!$B:$D,2,0),\"\")","v":""},{"$f":"IFERROR(VLOOKUP(AH842,CadMP!$B:$D,2,0),\"\")","v":""},{"$f":"IFERROR(VLOOKUP(AI842,CadMP!$B:$D,2,0),\"\")","v":""},{"$f":"IFERROR(VLOOKUP(AJ842,CadMP!$B:$D,2,0),\"\")","v":""},{"$f":"IFERROR(VLOOKUP(AK842,CadMP!$B:$D,2,0),\"\")","v":""},{"$f":"IFERROR(VLOOKUP(W842,CadMP!$B:$D,3,0),\"\")","v":""},{"$f":"IFERROR(VLOOKUP(X842,CadMP!$B:$D,3,0),\"\")","v":""},{"$f":"IFERROR(VLOOKUP(Y842,CadMP!$B:$D,3,0),\"\")","v":""},{"$f":"IFERROR(VLOOKUP(Z842,CadMP!$B:$D,3,0),\"\")","v":""},{"$f":"IFERROR(VLOOKUP(AA842,CadMP!$B:$D,3,0),\"\")","v":""},{"$f":"IFERROR(VLOOKUP(AB842,CadMP!$B:$D,3,0),\"\")","v":""},{"$f":"IFERROR(VLOOKUP(AC842,CadMP!$B:$D,3,0),\"\")","v":""},{"$f":"IFERROR(VLOOKUP(AD842,CadMP!$B:$D,3,0),\"\")","v":""},{"$f":"IFERROR(VLOOKUP(AE842,CadMP!$B:$D,3,0),\"\")","v":""},{"$f":"IFERROR(VLOOKUP(AF842,CadMP!$B:$D,3,0),\"\")","v":""},{"$f":"IFERROR(VLOOKUP(AG842,CadMP!$B:$D,3,0),\"\")","v":""},{"$f":"IFERROR(VLOOKUP(AH842,CadMP!$B:$D,3,0),\"\")","v":""},{"$f":"IFERROR(VLOOKUP(AI842,CadMP!$B:$D,3,0),\"\")","v":""},{"$f":"IFERROR(VLOOKUP(AJ842,CadMP!$B:$D,3,0),\"\")","v":""},{"$f":"IFERROR(VLOOKUP(AK842,CadMP!$B:$D,3,0),\"\")","v":""},0,0,0,0,0,0,0,0,0,0,0,0,0,0,0]
[851,null,null,0,0,null,null,null,null,null,null,0,0,null,null,null,null,null,null,null,1,0,null,null,null,null,null,null,null,null,null,null,null,null,null,null,null,null,null,null,null,null,null,null,null,null,null,null,null,null,null,null,{"$f":"IFERROR(VLOOKUP(W852,CadMP!$B:$D,2,0),\"\")","v":""},{"$f":"IFERROR(VLOOKUP(X852,CadMP!$B:$D,2,0),\"\")","v":""},{"$f":"IFERROR(VLOOKUP(Y852,CadMP!$B:$D,2,0),\"\")","v":""},{"$f":"IFERROR(VLOOKUP(Z852,CadMP!$B:$D,2,0),\"\")","v":""},{"$f":"IFERROR(VLOOKUP(AA852,CadMP!$B:$D,2,0),\"\")","v":""},{"$f":"IFERROR(VLOOKUP(AB852,CadMP!$B:$D,2,0),\"\")","v":""},{"$f":"IFERROR(VLOOKUP(AC852,CadMP!$B:$D,2,0),\"\")","v":""},{"$f":"IFERROR(VLOOKUP(AD852,CadMP!$B:$D,2,0),\"\")","v":""},{"$f":"IFERROR(VLOOKUP(AE852,CadMP!$B:$D,2,0),\"\")","v":""},{"$f":"IFERROR(VLOOKUP(AF852,CadMP!$B:$D,2,0),\"\")","v":""},{"$f":"IFERROR(VLOOKUP(AG852,CadMP!$B:$D,2,0),\"\")","v":""},{"$f":"IFERROR(VLOOKUP(AH852,CadMP!$B:$D,2,0),\"\")","v":""},{"$f":"IFERROR(VLOOKUP(AI852,CadMP!$B:$D,2,0),\"\")","v":""},{"$f":"IFERROR(VLOOKUP(AJ852,CadMP!$B:$D,2,0),\"\")","v":""},{"$f":"IFERROR(VLOOKUP(AK852,CadMP!$B:$D,2,0),\"\")","v":""},{"$f":"IFERROR(VLOOKUP(W852,CadMP!$B:$D,3,0),\"\")","v":""},{"$f":"IFERROR(VLOOKUP(X852,CadMP!$B:$D,3,0),\"\")","v":""},{"$f":"IFERROR(VLOOKUP(Y852,CadMP!$B:$D,3,0),\"\")","v":""},{"$f":"IFERROR(VLOOKUP(Z852,CadMP!$B:$D,3,0),\"\")","v":""},{"$f":"IFERROR(VLOOKUP(AA852,CadMP!$B:$D,3,0),\"\")","v":""},{"$f":"IFERROR(VLOOKUP(AB852,CadMP!$B:$D,3,0),\"\")","v":""},{"$f":"IFERROR(VLOOKUP(AC852,CadMP!$B:$D,3,0),\"\")","v":""},{"$f":"IFERROR(VLOOKUP(AD852,CadMP!$B:$D,3,0),\"\")","v":""},{"$f":"IFERROR(VLOOKUP(AE852,CadMP!$B:$D,3,0),\"\")","v":""},{"$f":"IFERROR(VLOOKUP(AF852,CadMP!$B:$D,3,0),\"\")","v":""},{"$f":"IFERROR(VLOOKUP(AG852,CadMP!$B:$D,3,0),\"\")","v":""},{"$f":"IFERROR(VLOOKUP(AH852,CadMP!$B:$D,3,0),\"\")","v":""},{"$f":"IFERROR(VLOOKUP(AI852,CadMP!$B:$D,3,0),\"\")","v":""},{"$f":"IFERROR(VLOOKUP(AJ852,CadMP!$B:$D,3,0),\"\")","v":""},{"$f":"IFERROR(VLOOKUP(AK852,CadMP!$B:$D,3,0),\"\")","v":""},0,0,0,0,0,0,0,0,0,0,0,0,0,0,0]
[884,null,null,0,0,null,null,null,null,null,null,0,0,null,null,null,null,null,null,null,1,0,null,null,null,null,null,null,null,null,null,null,null,null,null,null,null,null,null,null,null,null,null,null,null,null,null,null,null,null,null,null,{"$f":"IFERROR(VLOOKUP(W885,CadMP!$B:$D,2,0),\"\")","v":""},{"$f":"IFERROR(VLOOKUP(X885,CadMP!$B:$D,2,0),\"\")","v":""},{"$f":"IFERROR(VLOOKUP(Y885,CadMP!$B:$D,2,0),\"\")","v":""},{"$f":"IFERROR(VLOOKUP(Z885,CadMP!$B:$D,2,0),\"\")","v":""},{"$f":"IFERROR(VLOOKUP(AA885,CadMP!$B:$D,2,0),\"\")","v":""},{"$f":"IFERROR(VLOOKUP(AB885,CadMP!$B:$D,2,0),\"\")","v":""},{"$f":"IFERROR(VLOOKUP(AC885,CadMP!$B:$D,2,0),\"\")","v":""},{"$f":"IFERROR(VLOOKUP(AD885,CadMP!$B:$D,2,0),\"\")","v":""},{"$f":"IFERROR(VLOOKUP(AE885,CadMP!$B:$D,2,0),\"\")","v":""},{"$f":"IFERROR(VLOOKUP(AF885,CadMP!$B:$D,2,0),\"\")","v":""},{"$f":"IFERROR(VLOOKUP(AG885,CadMP!$B:$D,2,0),\"\")","v":""},{"$f":"IFERROR(VLOOKUP(AH885,CadMP!$B:$D,2,0),\"\")","v":""},{"$f":"IFERROR(VLOOKUP(AI885,CadMP!$B:$D,2,0),\"\")","v":""},{"$f":"IFERROR(VLOOKUP(AJ885,CadMP!$B:$D,2,0),\"\")","v":""},{"$f":"IFERROR(VLOOKUP(AK885,CadMP!$B:$D,2,0),\"\")","v":""},{"$f":"IFERROR(VLOOKUP(W885,CadMP!$B:$D,3,0),\"\")","v":""},{"$f":"IFERROR(VLOOKUP(X885,CadMP!$B:$D,3,0),\"\")","v":""},{"$f":"IFERROR(VLOOKUP(Y885,CadMP!$B:$D,3,0),\"\")","v":""},{"$f":"IFERROR(VLOOKUP(Z885,CadMP!$B:$D,3,0),\"\")","v":""},{"$f":"IFERROR(VLOOKUP(AA885,CadMP!$B:$D,3,0),\"\")","v":""},{"$f":"IFERROR(VLOOKUP(AB885,CadMP!$B:$D,3,0),\"\")","v":""},{"$f":"IFERROR(VLOOKUP(AC885,CadMP!$B:$D,3,0),\"\")","v":""},{"$f":"IFERROR(VLOOKUP(AD885,CadMP!$B:$D,3,0),\"\")","v":""},{"$f":"IFERROR(VLOOKUP(AE885,CadMP!$B:$D,3,0),\"\")","v":""},{"$f":"IFERROR(VLOOKUP(AF885,CadMP!$B:$D,3,0),\"\")","v":""},{"$f":"IFERROR(VLOOKUP(AG885,CadMP!$B:$D,3,0),\"\")","v":""},{"$f":"IFERROR(VLOOKUP(AH885,CadMP!$B:$D,3,0),\"\")","v":""},{"$f":"IFERROR(VLOOKUP(AI885,CadMP!$B:$D,3,0),\"\")","v":""},{"$f":"IFERROR(VLOOKUP(AJ885,CadMP!$B:$D,3,0),\"\")","v":""},{"$f":"IFERROR(VLOOKUP(AK885,CadMP!$B:$D,3,0),\"\")","v":""},0,0,0,0,0,0,0,0,0,0,0,0,0,0,0]
[903,null,null,0,0,null,null,null,null,null,null,0,0,null,null,null,null,null,null,null,1,0,null,null,null,null,null,null,null,null,null,null,null,null,null,null,null,null,null,null,null,null,null,null,null,null,null,null,null,null,null,null,{"$f":"IFERROR(VLOOKUP(W904,CadMP!$B:$D,2,0),\"\")","v":""},{"$f":"IFERROR(VLOOKUP(X904,CadMP!$B:$D,2,0),\"\")","v":""},{"$f":"IFERROR(VLOOKUP(Y904,CadMP!$B:$D,2,0),\"\")","v":""},{"$f":"IFERROR(VLOOKUP(Z904,CadMP!$B:$D,2,0),\"\")","v":""},{"$f":"IFERROR(VLOOKUP(AA904,CadMP!$B:$D,2,0),\"\")","v":""},{"$f":"IFERROR(VLOOKUP(AB904,CadMP!$B:$D,2,0),\"\")","v":""},{"$f":"IFERROR(VLOOKUP(AC904,CadMP!$B:$D,2,0),\"\")","v":""},{"$f":"IFERROR(VLOOKUP(AD904,CadMP!$B:$D,2,0),\"\")","v":""},{"$f":"IFERROR(VLOOKUP(AE904,CadMP!$B:$D,2,0),\"\")","v":""},{"$f":"IFERROR(VLOOKUP(AF904,CadMP!$B:$D,2,0),\"\")","v":""},{"$f":"IFERROR(VLOOKUP(AG904,CadMP!$B:$D,2,0),\"\")","v":""},{"$f":"IFERROR(VLOOKUP(AH904,CadMP!$B:$D,2,0),\"\")","v":""},{"$f":"IFERROR(VLOOKUP(AI904,CadMP!$B:$D,2,0),\"\")","v":""},{"$f":"IFERROR(VLOOKUP(AJ904,CadMP!$B:$D,2,0),\"\")","v":""},{"$f":"IFERROR(VLOOKUP(AK904,CadMP!$B:$D,2,0),\"\")","v":""},{"$f":"IFERROR(VLOOKUP(W904,CadMP!$B:$D,3,0),\"\")","v":""},{"$f":"IFERROR(VLOOKUP(X904,CadMP!$B:$D,3,0),\"\")","v":""},{"$f":"IFERROR(VLOOKUP(Y904,CadMP!$B:$D,3,0),\"\")","v":""},{"$f":"IFERROR(VLOOKUP(Z904,CadMP!$B:$D,3,0),\"\")","v":""},{"$f":"IFERROR(VLOOKUP(AA904,CadMP!$B:$D,3,0),\"\")","v":""},{"$f":"IFERROR(VLOOKUP(AB904,CadMP!$B:$D,3,0),\"\")","v":""},{"$f":"IFERROR(VLOOKUP(AC904,CadMP!$B:$D,3,0),\"\")","v":""},{"$f":"IFERROR(VLOOKUP(AD904,CadMP!$B:$D,3,0),\"\")","v":""},{"$f":"IFERROR(VLOOKUP(AE904,CadMP!$B:$D,3,0),\"\")","v":""},{"$f":"IFERROR(VLOOKUP(AF904,CadMP!$B:$D,3,0),\"\")","v":""},{"$f":"IFERROR(VLOOKUP(AG904,CadMP!$B:$D,3,0),\"\")","v":""},{"$f":"IFERROR(VLOOKUP(AH904,CadMP!$B:$D,3,0),\"\")","v":""},{"$f":"IFERROR(VLOOKUP(AI904,CadMP!$B:$D,3,0),\"\")","v":""},{"$f":"IFERROR(VLOOKUP(AJ904,CadMP!$B:$D,3,0),\"\")","v":""},{"$f":"IFERROR(VLOOKUP(AK904,CadMP!$B:$D,3,0),\"\")","v":""},0,0,0,0,0,0,0,0,0,0,0,0,0,0,0]
[909,null,null,0,0,null,null,null,null,null,null,0,0,null,null,null,null,null,null,null,1,0,null,null,null,null,null,null,null,null,null,null,null,null,null,null,null,null,null,null,null,null,null,null,null,null,null,null,null,null,null,null,{"$f":"IFERROR(VLOOKUP(W910,CadMP!$B:$D,2,0),\"\")","v":""},{"$f":"IFERROR(VLOOKUP(X910,CadMP!$B:$D,2,0),\"\")","v":""},{"$f":"IFERROR(VLOOKUP(Y910,CadMP!$B:$D,2,0),\"\")","v":""},{"$f":"IFERROR(VLOOKUP(Z910,CadMP!$B:$D,2,0),\"\")","v":""},{"$f":"IFERROR(VLOOKUP(AA910,CadMP!$B:$D,2,0),\"\")","v":""},{"$f":"IFERROR(VLOOKUP(AB910,CadMP!$B:$D,2,0),\"\")","v":""},{"$f":"IFERROR(VLOOKUP(AC910,CadMP!$B:$D,2,0),\"\")","v":""},{"$f":"IFERROR(VLOOKUP(AD910,CadMP!$B:$D,2,0),\"\")","v":""},{"$f":"IFERROR(VLOOKUP(AE910,CadMP!$B:$D,2,0),\"\")","v":""},{"$f":"IFERROR(VLOOKUP(AF910,CadMP!$B:$D,2,0),\"\")","v":""},{"$f":"IFERROR(VLOOKUP(AG910,CadMP!$B:$D,2,0),\"\")","v":""},{"$f":"IFERROR(VLOOKUP(AH910,CadMP!$B:$D,2,0),\"\")","v":""},{"$f":"IFERROR(VLOOKUP(AI910,CadMP!$B:$D,2,0),\"\")","v":""},{"$f":"IFERROR(VLOOKUP(AJ910,CadMP!$B:$D,2,0),\"\")","v":""},{"$f":"IFERROR(VLOOKUP(AK910,CadMP!$B:$D,2,0),\"\")","v":""},{"$f":"IFERROR(VLOOKUP(W910,CadMP!$B:$D,3,0),\"\")","v":""},{"$f":"IFERROR(VLOOKUP(X910,CadMP!$B:$D,3,0),\"\")","v":""},{"$f":"IFERROR(VLOOKUP(Y910,CadMP!$B:$D,3,0),\"\")","v":""},{"$f":"IFERROR(VLOOKUP(Z910,CadMP!$B:$D,3,0),\"\")","v":""},{"$f":"IFERROR(VLOOKUP(AA910,CadMP!$B:$D,3,0),\"\")","v":""},{"$f":"IFERROR(VLOOKUP(AB910,CadMP!$B:$D,3,0),\"\")","v":""},{"$f":"IFERROR(VLOOKUP(AC910,CadMP!$B:$D,3,0),\"\")","v":""},{"$f":"IFERROR(VLOOKUP(AD910,CadMP!$B:$D,3,0),\"\")","v":""},{"$f":"IFERROR(VLOOKUP(AE910,CadMP!$B:$D,3,0),\"\")","v":""},{"$f":"IFERROR(VLOOKUP(AF910,CadMP!$B:$D,3,0),\"\")","v":""},{"$f":"IFERROR(VLOOKUP(AG910,CadMP!$B:$D,3,0),\"\")","v":""},{"$f":"IFERROR(VLOOKUP(AH910,CadMP!$B:$D,3,0),\"\")","v":""},{"$f":"IFERROR(VLOOKUP(AI910,CadMP!$B:$D,3,0),\"\")","v":""},{"$f":"IFERROR(VLOOKUP(AJ910,CadMP!$B:$D,3,0),\"\")","v":""},{"$f":"IFERROR(VLOOKUP(AK910,CadMP!$B:$D,3,0),\"\")","v":""},0,0,0,0,0,0,0,0,0,0,0,0,0,0,0]
[942,null,null,0,0,null,null,null,null,null,null,0,0,null,null,null,null,null,null,null,1,0,null,null,null,null,null,null,null,null,null,null,null,null,null,null,null,null,null,null,null,null,null,null,null,null,null,null,null,null,null,null,{"$f":"IFERROR(VLOOKUP(W943,CadMP!$B:$D,2,0),\"\")","v":""},{"$f":"IFERROR(VLOOKUP(X943,CadMP!$B:$D,2,0),\"\")","v":""},{"$f":"IFERROR(VLOOKUP(Y943,CadMP!$B:$D,2,0),\"\")","v":""},{"$f":"IFERROR(VLOOKUP(Z943,CadMP!$B:$D,2,0),\"\")","v":""},{"$f":"IFERROR(VLOOKUP(AA943,CadMP!$B:$D,2,0),\"\")","v":""},{"$f":"IFERROR(VLOOKUP(AB943,CadMP!$B:$D,2,0),\"\")","v":""},{"$f":"IFERROR(VLOOKUP(AC943,CadMP!$B:$D,2,0),\"\")","v":""},{"$f":"IFERROR(VLOOKUP(AD943,CadMP!$B:$D,2,0),\"\")","v":""},{"$f":"IFERROR(VLOOKUP(AE943,CadMP!$B:$D,2,0),\"\")","v":""},{"$f":"IFERROR(VLOOKUP(AF943,CadMP!$B:$D,2,0),\"\")","v":""},{"$f":"IFERROR(VLOOKUP(AG943,CadMP!$B:$D,2,0),\"\")","v":""},{"$f":"IFERROR(VLOOKUP(AH943,CadMP!$B:$D,2,0),\"\")","v":""},{"$f":"IFERROR(VLOOKUP(AI943,CadMP!$B:$D,2,0),\"\")","v":""},{"$f":"IFERROR(VLOOKUP(AJ943,CadMP!$B:$D,2,0),\"\")","v":""},{"$f":"IFERROR(VLOOKUP(AK943,CadMP!$B:$D,2,0),\"\")","v":""},{"$f":"IFERROR(VLOOKUP(W943,CadMP!$B:$D,3,0),\"\")","v":""},{"$f":"IFERROR(VLOOKUP(X943,CadMP!$B:$D,3,0),\"\")","v":""},{"$f":"IFERROR(VLOOKUP(Y943,CadMP!$B:$D,3,0),\"\")","v":""},{"$f":"IFERROR(VLOOKUP(Z943,CadMP!$B:$D,3,0),\"\")","v":""},{"$f":"IFERROR(VLOOKUP(AA943,CadMP!$B:$D,3,0),\"\")","v":""},{"$f":"IFERROR(VLOOKUP(AB943,CadMP!$B:$D,3,0),\"\")","v":""},{"$f":"IFERROR(VLOOKUP(AC943,CadMP!$B:$D,3,0),\"\")","v":""},{"$f":"IFERROR(VLOOKUP(AD943,CadMP!$B:$D,3,0),\"\")","v":""},{"$f":"IFERROR(VLOOKUP(AE943,CadMP!$B:$D,3,0),\"\")","v":""},{"$f":"IFERROR(VLOOKUP(AF943,CadMP!$B:$D,3,0),\"\")","v":""},{"$f":"IFERROR(VLOOKUP(AG943,CadMP!$B:$D,3,0),\"\")","v":""},{"$f":"IFERROR(VLOOKUP(AH943,CadMP!$B:$D,3,0),\"\")","v":""},{"$f":"IFERROR(VLOOKUP(AI943,CadMP!$B:$D,3,0),\"\")","v":""},{"$f":"IFERROR(VLOOKUP(AJ943,CadMP!$B:$D,3,0),\"\")","v":""},{"$f":"IFERROR(VLOOKUP(AK943,CadMP!$B:$D,3,0),\"\")","v":""},0,0,0,0,0,0,0,0,0,0,0,0,0,0,0]
[952,null,null,0,0,null,null,null,null,null,null,0,0,null,null,null,null,null,null,null,1,0,null,null,null,null,null,null,null,null,null,null,null,null,null,null,null,null,null,null,null,null,null,null,null,null,null,null,null,null,null,null,{"$f":"IFERROR(VLOOKUP(W953,CadMP!$B:$D,2,0),\"\")","v":""},{"$f":"IFERROR(VLOOKUP(X953,CadMP!$B:$D,2,0),\"\")","v":""},{"$f":"IFERROR(VLOOKUP(Y953,CadMP!$B:$D,2,0),\"\")","v":""},{"$f":"IFERROR(VLOOKUP(Z953,CadMP!$B:$D,2,0),\"\")","v":""},{"$f":"IFERROR(VLOOKUP(AA953,CadMP!$B:$D,2,0),\"\")","v":""},{"$f":"IFERROR(VLOOKUP(AB953,CadMP!$B:$D,2,0),\"\")","v":""},{"$f":"IFERROR(VLOOKUP(AC953,CadMP!$B:$D,2,0),\"\")","v":""},{"$f":"IFERROR(VLOOKUP(AD953,CadMP!$B:$D,2,0),\"\")","v":""},{"$f":"IFERROR(VLOOKUP(AE953,CadMP!$B:$D,2,0),\"\")","v":""},{"$f":"IFERROR(VLOOKUP(AF953,CadMP!$B:$D,2,0),\"\")","v":""},{"$f":"IFERROR(VLOOKUP(AG953,CadMP!$B:$D,2,0),\"\")","v":""},{"$f":"IFERROR(VLOOKUP(AH953,CadMP!$B:$D,2,0),\"\")","v":""},{"$f":"IFERROR(VLOOKUP(AI953,CadMP!$B:$D,2,0),\"\")","v":""},{"$f":"IFERROR(VLOOKUP(AJ953,CadMP!$B:$D,2,0),\"\")","v":""},{"$f":"IFERROR(VLOOKUP(AK953,CadMP!$B:$D,2,0),\"\")","v":""},{"$f":"IFERROR(VLOOKUP(W953,CadMP!$B:$D,3,0),\"\")","v":""},{"$f":"IFERROR(VLOOKUP(X953,CadMP!$B:$D,3,0),\"\")","v":""},{"$f":"IFERROR(VLOOKUP(Y953,CadMP!$B:$D,3,0),\"\")","v":""},{"$f":"IFERROR(VLOOKUP(Z953,CadMP!$B:$D,3,0),\"\")","v":""},{"$f":"IFERROR(VLOOKUP(AA953,CadMP!$B:$D,3,0),\"\")","v":""},{"$f":"IFERROR(VLOOKUP(AB953,CadMP!$B:$D,3,0),\"\")","v":""},{"$f":"IFERROR(VLOOKUP(AC953,CadMP!$B:$D,3,0),\"\")","v":""},{"$f":"IFERROR(VLOOKUP(AD953,CadMP!$B:$D,3,0),\"\")","v":""},{"$f":"IFERROR(VLOOKUP(AE953,CadMP!$B:$D,3,0),\"\")","v":""},{"$f":"IFERROR(VLOOKUP(AF953,CadMP!$B:$D,3,0),\"\")","v":""},{"$f":"IFERROR(VLOOKUP(AG953,CadMP!$B:$D,3,0),\"\")","v":""},{"$f":"IFERROR(VLOOKUP(AH953,CadMP!$B:$D,3,0),\"\")","v":""},{"$f":"IFERROR(VLOOKUP(AI953,CadMP!$B:$D,3,0),\"\")","v":""},{"$f":"IFERROR(VLOOKUP(AJ953,CadMP!$B:$D,3,0),\"\")","v":""},{"$f":"IFERROR(VLOOKUP(AK953,CadMP!$B:$D,3,0),\"\")","v":""},0,0,0,0,0,0,0,0,0,0,0,0,0,0,0]
[971,null,null,0,0,null,null,null,null,null,null,0,0,null,null,null,null,null,null,null,1,0,null,null,null,null,null,null,null,null,null,null,null,null,null,null,null,null,null,null,null,null,null,null,null,null,null,null,null,null,null,null,{"$f":"IFERROR(VLOOKUP(W972,CadMP!$B:$D,2,0),\"\")","v":""},{"$f":"IFERROR(VLOOKUP(X972,CadMP!$B:$D,2,0),\"\")","v":""},{"$f":"IFERROR(VLOOKUP(Y972,CadMP!$B:$D,2,0),\"\")","v":""},{"$f":"IFERROR(VLOOKUP(Z972,CadMP!$B:$D,2,0),\"\")","v":""},{"$f":"IFERROR(VLOOKUP(AA972,CadMP!$B:$D,2,0),\"\")","v":""},{"$f":"IFERROR(VLOOKUP(AB972,CadMP!$B:$D,2,0),\"\")","v":""},{"$f":"IFERROR(VLOOKUP(AC972,CadMP!$B:$D,2,0),\"\")","v":""},{"$f":"IFERROR(VLOOKUP(AD972,CadMP!$B:$D,2,0),\"\")","v":""},{"$f":"IFERROR(VLOOKUP(AE972,CadMP!$B:$D,2,0),\"\")","v":""},{"$f":"IFERROR(VLOOKUP(AF972,CadMP!$B:$D,2,0),\"\")","v":""},{"$f":"IFERROR(VLOOKUP(AG972,CadMP!$B:$D,2,0),\"\")","v":""},{"$f":"IFERROR(VLOOKUP(AH972,CadMP!$B:$D,2,0),\"\")","v":""},{"$f":"IFERROR(VLOOKUP(AI972,CadMP!$B:$D,2,0),\"\")","v":""},{"$f":"IFERROR(VLOOKUP(AJ972,CadMP!$B:$D,2,0),\"\")","v":""},{"$f":"IFERROR(VLOOKUP(AK972,CadMP!$B:$D,2,0),\"\")","v":""},{"$f":"IFERROR(VLOOKUP(W972,CadMP!$B:$D,3,0),\"\")","v":""},{"$f":"IFERROR(VLOOKUP(X972,CadMP!$B:$D,3,0),\"\")","v":""},{"$f":"IFERROR(VLOOKUP(Y972,CadMP!$B:$D,3,0),\"\")","v":""},{"$f":"IFERROR(VLOOKUP(Z972,CadMP!$B:$D,3,0),\"\")","v":""},{"$f":"IFERROR(VLOOKUP(AA972,CadMP!$B:$D,3,0),\"\")","v":""},{"$f":"IFERROR(VLOOKUP(AB972,CadMP!$B:$D,3,0),\"\")","v":""},{"$f":"IFERROR(VLOOKUP(AC972,CadMP!$B:$D,3,0),\"\")","v":""},{"$f":"IFERROR(VLOOKUP(AD972,CadMP!$B:$D,3,0),\"\")","v":""},{"$f":"IFERROR(VLOOKUP(AE972,CadMP!$B:$D,3,0),\"\")","v":""},{"$f":"IFERROR(VLOOKUP(AF972,CadMP!$B:$D,3,0),\"\")","v":""},{"$f":"IFERROR(VLOOKUP(AG972,CadMP!$B:$D,3,0),\"\")","v":""},{"$f":"IFERROR(VLOOKUP(AH972,CadMP!$B:$D,3,0),\"\")","v":""},{"$f":"IFERROR(VLOOKUP(AI972,CadMP!$B:$D,3,0),\"\")","v":""},{"$f":"IFERROR(VLOOKUP(AJ972,CadMP!$B:$D,3,0),\"\")","v":""},{"$f":"IFERROR(VLOOKUP(AK972,CadMP!$B:$D,3,0),\"\")","v":""},0,0,0,0,0,0,0,0,0,0,0,0,0,0,0]
[990,null,null,0,0,null,null,null,null,null,null,0,0,null,null,null,null,null,null,null,1,0,null,null,null,null,null,null,null,null,null,null,null,null,null,null,null,null,null,null,null,null,null,null,null,null,null,null,null,null,null,null,{"$f":"IFERROR(VLOOKUP(W991,CadMP!$B:$D,2,0),\"\")","v":""},{"$f":"IFERROR(VLOOKUP(X991,CadMP!$B:$D,2,0),\"\")","v":""},{"$f":"IFERROR(VLOOKUP(Y991,CadMP!$B:$D,2,0),\"\")","v":""},{"$f":"IFERROR(VLOOKUP(Z991,CadMP!$B:$D,2,0),\"\")","v":""},{"$f":"IFERROR(VLOOKUP(AA991,CadMP!$B:$D,2,0),\"\")","v":""},{"$f":"IFERROR(VLOOKUP(AB991,CadMP!$B:$D,2,0),\"\")","v":""},{"$f":"IFERROR(VLOOKUP(AC991,CadMP!$B:$D,2,0),\"\")","v":""},{"$f":"IFERROR(VLOOKUP(AD991,CadMP!$B:$D,2,0),\"\")","v":""},{"$f":"IFERROR(VLOOKUP(AE991,CadMP!$B:$D,2,0),\"\")","v":""},{"$f":"IFERROR(VLOOKUP(AF991,CadMP!$B:$D,2,0),\"\")","v":""},{"$f":"IFERROR(VLOOKUP(AG991,CadMP!$B:$D,2,0),\"\")","v":""},{"$f":"IFERROR(VLOOKUP(AH991,CadMP!$B:$D,2,0),\"\")","v":""},{"$f":"IFERROR(VLOOKUP(AI991,CadMP!$B:$D,2,0),\"\")","v":""},{"$f":"IFERROR(VLOOKUP(AJ991,CadMP!$B:$D,2,0),\"\")","v":""},{"$f":"IFERROR(VLOOKUP(AK991,CadMP!$B:$D,2,0),\"\")","v":""},{"$f":"IFERROR(VLOOKUP(W991,CadMP!$B:$D,3,0),\"\")","v":""},{"$f":"IFERROR(VLOOKUP(X991,CadMP!$B:$D,3,0),\"\")","v":""},{"$f":"IFERROR(VLOOKUP(Y991,CadMP!$B:$D,3,0),\"\")","v":""},{"$f":"IFERROR(VLOOKUP(Z991,CadMP!$B:$D,3,0),\"\")","v":""},{"$f":"IFERROR(VLOOKUP(AA991,CadMP!$B:$D,3,0),\"\")","v":""},{"$f":"IFERROR(VLOOKUP(AB991,CadMP!$B:$D,3,0),\"\")","v":""},{"$f":"IFERROR(VLOOKUP(AC991,CadMP!$B:$D,3,0),\"\")","v":""},{"$f":"IFERROR(VLOOKUP(AD991,CadMP!$B:$D,3,0),\"\")","v":""},{"$f":"IFERROR(VLOOKUP(AE991,CadMP!$B:$D,3,0),\"\")","v":""},{"$f":"IFERROR(VLOOKUP(AF991,CadMP!$B:$D,3,0),\"\")","v":""},{"$f":"IFERROR(VLOOKUP(AG991,CadMP!$B:$D,3,0),\"\")","v":""},{"$f":"IFERROR(VLOOKUP(AH991,CadMP!$B:$D,3,0),\"\")","v":""},{"$f":"IFERROR(VLOOKUP(AI991,CadMP!$B:$D,3,0),\"\")","v":""},{"$f":"IFERROR(VLOOKUP(AJ991,CadMP!$B:$D,3,0),\"\")","v":""},{"$f":"IFERROR(VLOOKUP(AK991,CadMP!$B:$D,3,0),\"\")","v":""},0,0,0,0,0,0,0,0,0,0,0,0,0,0,0]
[1001,null,null,0,0,null,null,null,null,null,null,0,0,null,null,null,null,null,null,null,1,0,null,null,null,null,null,null,null,null,null,null,null,null,null,null,null,null,null,null,null,null,null,null,null,null,null,null,null,null,null,null,{"$f":"IFERROR(VLOOKUP(W1002,CadMP!$B:$D,2,0),\"\")","v":""},{"$f":"IFERROR(VLOOKUP(X1002,CadMP!$B:$D,2,0),\"\")","v":""},{"$f":"IFERROR(VLOOKUP(Y1002,CadMP!$B:$D,2,0),\"\")","v":""},{"$f":"IFERROR(VLOOKUP(Z1002,CadMP!$B:$D,2,0),\"\")","v":""},{"$f":"IFERROR(VLOOKUP(AA1002,CadMP!$B:$D,2,0),\"\")","v":""},{"$f":"IFERROR(VLOOKUP(AB1002,CadMP!$B:$D,2,0),\"\")","v":""},{"$f":"IFERROR(VLOOKUP(AC1002,CadMP!$B:$D,2,0),\"\")","v":""},{"$f":"IFERROR(VLOOKUP(AD1002,CadMP!$B:$D,2,0),\"\")","v":""},{"$f":"IFERROR(VLOOKUP(AE1002,CadMP!$B:$D,2,0),\"\")","v":""},{"$f":"IFERROR(VLOOKUP(AF1002,CadMP!$B:$D,2,0),\"\")","v":""},{"$f":"IFERROR(VLOOKUP(AG1002,CadMP!$B:$D,2,0),\"\")","v":""},{"$f":"IFERROR(VLOOKUP(AH1002,CadMP!$B:$D,2,0),\"\")","v":""},{"$f":"IFERROR(VLOOKUP(AI1002,CadMP!$B:$D,2,0),\"\")","v":""},{"$f":"IFERROR(VLOOKUP(AJ1002,CadMP!$B:$D,2,0),\"\")","v":""},{"$f":"IFERROR(VLOOKUP(AK1002,CadMP!$B:$D,2,0),\"\")","v":""},{"$f":"IFERROR(VLOOKUP(W1002,CadMP!$B:$D,3,0),\"\")","v":""},{"$f":"IFERROR(VLOOKUP(X1002,CadMP!$B:$D,3,0),\"\")","v":""},{"$f":"IFERROR(VLOOKUP(Y1002,CadMP!$B:$D,3,0),\"\")","v":""},{"$f":"IFERROR(VLOOKUP(Z1002,CadMP!$B:$D,3,0),\"\")","v":""},{"$f":"IFERROR(VLOOKUP(AA1002,CadMP!$B:$D,3,0),\"\")","v":""},{"$f":"IFERROR(VLOOKUP(AB1002,CadMP!$B:$D,3,0),\"\")","v":""},{"$f":"IFERROR(VLOOKUP(AC1002,CadMP!$B:$D,3,0),\"\")","v":""},{"$f":"IFERROR(VLOOKUP(AD1002,CadMP!$B:$D,3,0),\"\")","v":""},{"$f":"IFERROR(VLOOKUP(AE1002,CadMP!$B:$D,3,0),\"\")","v":""},{"$f":"IFERROR(VLOOKUP(AF1002,CadMP!$B:$D,3,0),\"\")","v":""},{"$f":"IFERROR(VLOOKUP(AG1002,CadMP!$B:$D,3,0),\"\")","v":""},{"$f":"IFERROR(VLOOKUP(AH1002,CadMP!$B:$D,3,0),\"\")","v":""},{"$f":"IFERROR(VLOOKUP(AI1002,CadMP!$B:$D,3,0),\"\")","v":""},{"$f":"IFERROR(VLOOKUP(AJ1002,CadMP!$B:$D,3,0),\"\")","v":""},{"$f":"IFERROR(VLOOKUP(AK1002,CadMP!$B:$D,3,0),\"\")","v":""},0,0,0,0,0,0,0,0,0,0,0,0,0,0,0]
[1033,null,null,0,0,null,null,null,null,null,null,0,0,null,null,null,null,null,null,null,1,0,null,null,null,null,null,null,null,null,null,null,null,null,null,null,null,null,null,null,null,null,null,null,null,null,null,null,null,null,null,null,{"$f":"IFERROR(VLOOKUP(W1034,CadMP!$B:$D,2,0),\"\")","v":""},{"$f":"IFERROR(VLOOKUP(X1034,CadMP!$B:$D,2,0),\"\")","v":""},{"$f":"IFERROR(VLOOKUP(Y1034,CadMP!$B:$D,2,0),\"\")","v":""},{"$f":"IFERROR(VLOOKUP(Z1034,CadMP!$B:$D,2,0),\"\")","v":""},{"$f":"IFERROR(VLOOKUP(AA1034,CadMP!$B:$D,2,0),\"\")","v":""},{"$f":"IFERROR(VLOOKUP(AB1034,CadMP!$B:$D,2,0),\"\")","v":""},{"$f":"IFERROR(VLOOKUP(AC1034,CadMP!$B:$D,2,0),\"\")","v":""},{"$f":"IFERROR(VLOOKUP(AD1034,CadMP!$B:$D,2,0),\"\")","v":""},{"$f":"IFERROR(VLOOKUP(AE1034,CadMP!$B:$D,2,0),\"\")","v":""},{"$f":"IFERROR(VLOOKUP(AF1034,CadMP!$B:$D,2,0),\"\")","v":""},{"$f":"IFERROR(VLOOKUP(AG1034,CadMP!$B:$D,2,0),\"\")","v":""},{"$f":"IFERROR(VLOOKUP(AH1034,CadMP!$B:$D,2,0),\"\")","v":""},{"$f":"IFERROR(VLOOKUP(AI1034,CadMP!$B:$D,2,0),\"\")","v":""},{"$f":"IFERROR(VLOOKUP(AJ1034,CadMP!$B:$D,2,0),\"\")","v":""},{"$f":"IFERROR(VLOOKUP(AK1034,CadMP!$B:$D,2,0),\"\")","v":""},{"$f":"IFERROR(VLOOKUP(W1034,CadMP!$B:$D,3,0),\"\")","v":""},{"$f":"IFERROR(VLOOKUP(X1034,CadMP!$B:$D,3,0),\"\")","v":""},{"$f":"IFERROR(VLOOKUP(Y1034,CadMP!$B:$D,3,0),\"\")","v":""},{"$f":"IFERROR(VLOOKUP(Z1034,CadMP!$B:$D,3,0),\"\")","v":""},{"$f":"IFERROR(VLOOKUP(AA1034,CadMP!$B:$D,3,0),\"\")","v":""},{"$f":"IFERROR(VLOOKUP(AB1034,CadMP!$B:$D,3,0),\"\")","v":""},{"$f":"IFERROR(VLOOKUP(AC1034,CadMP!$B:$D,3,0),\"\")","v":""},{"$f":"IFERROR(VLOOKUP(AD1034,CadMP!$B:$D,3,0),\"\")","v":""},{"$f":"IFERROR(VLOOKUP(AE1034,CadMP!$B:$D,3,0),\"\")","v":""},{"$f":"IFERROR(VLOOKUP(AF1034,CadMP!$B:$D,3,0),\"\")","v":""},{"$f":"IFERROR(VLOOKUP(AG1034,CadMP!$B:$D,3,0),\"\")","v":""},{"$f":"IFERROR(VLOOKUP(AH1034,CadMP!$B:$D,3,0),\"\")","v":""},{"$f":"IFERROR(VLOOKUP(AI1034,CadMP!$B:$D,3,0),\"\")","v":""},{"$f":"IFERROR(VLOOKUP(AJ1034,CadMP!$B:$D,3,0),\"\")","v":""},{"$f":"IFERROR(VLOOKUP(AK1034,CadMP!$B:$D,3,0),\"\")","v":""},0,0,0,0,0,0,0,0,0,0,0,0,0,0,0]
[1039,null,null,0,0,null,null,null,null,null,null,0,0,null,null,null,null,null,null,null,1,0,null,null,null,null,null,null,null,null,null,null,null,null,null,null,null,null,null,null,null,null,null,null,null,null,null,null,null,null,null,null,{"$f":"IFERROR(VLOOKUP(W1040,CadMP!$B:$D,2,0),\"\")","v":""},{"$f":"IFERROR(VLOOKUP(X1040,CadMP!$B:$D,2,0),\"\")","v":""},{"$f":"IFERROR(VLOOKUP(Y1040,CadMP!$B:$D,2,0),\"\")","v":""},{"$f":"IFERROR(VLOOKUP(Z1040,CadMP!$B:$D,2,0),\"\")","v":""},{"$f":"IFERROR(VLOOKUP(AA1040,CadMP!$B:$D,2,0),\"\")","v":""},{"$f":"IFERROR(VLOOKUP(AB1040,CadMP!$B:$D,2,0),\"\")","v":""},{"$f":"IFERROR(VLOOKUP(AC1040,CadMP!$B:$D,2,0),\"\")","v":""},{"$f":"IFERROR(VLOOKUP(AD1040,CadMP!$B:$D,2,0),\"\")","v":""},{"$f":"IFERROR(VLOOKUP(AE1040,CadMP!$B:$D,2,0),\"\")","v":""},{"$f":"IFERROR(VLOOKUP(AF1040,CadMP!$B:$D,2,0),\"\")","v":""},{"$f":"IFERROR(VLOOKUP(AG1040,CadMP!$B:$D,2,0),\"\")","v":""},{"$f":"IFERROR(VLOOKUP(AH1040,CadMP!$B:$D,2,0),\"\")","v":""},{"$f":"IFERROR(VLOOKUP(AI1040,CadMP!$B:$D,2,0),\"\")","v":""},{"$f":"IFERROR(VLOOKUP(AJ1040,CadMP!$B:$D,2,0),\"\")","v":""},{"$f":"IFERROR(VLOOKUP(AK1040,CadMP!$B:$D,2,0),\"\")","v":""},{"$f":"IFERROR(VLOOKUP(W1040,CadMP!$B:$D,3,0),\"\")","v":""},{"$f":"IFERROR(VLOOKUP(X1040,CadMP!$B:$D,3,0),\"\")","v":""},{"$f":"IFERROR(VLOOKUP(Y1040,CadMP!$B:$D,3,0),\"\")","v":""},{"$f":"IFERROR(VLOOKUP(Z1040,CadMP!$B:$D,3,0),\"\")","v":""},{"$f":"IFERROR(VLOOKUP(AA1040,CadMP!$B:$D,3,0),\"\")","v":""},{"$f":"IFERROR(VLOOKUP(AB1040,CadMP!$B:$D,3,0),\"\")","v":""},{"$f":"IFERROR(VLOOKUP(AC1040,CadMP!$B:$D,3,0),\"\")","v":""},{"$f":"IFERROR(VLOOKUP(AD1040,CadMP!$B:$D,3,0),\"\")","v":""},{"$f":"IFERROR(VLOOKUP(AE1040,CadMP!$B:$D,3,0),\"\")","v":""},{"$f":"IFERROR(VLOOKUP(AF1040,CadMP!$B:$D,3,0),\"\")","v":""},{"$f":"IFERROR(VLOOKUP(AG1040,CadMP!$B:$D,3,0),\"\")","v":""},{"$f":"IFERROR(VLOOKUP(AH1040,CadMP!$B:$D,3,0),\"\")","v":""},{"$f":"IFERROR(VLOOKUP(AI1040,CadMP!$B:$D,3,0),\"\")","v":""},{"$f":"IFERROR(VLOOKUP(AJ1040,CadMP!$B:$D,3,0),\"\")","v":""},{"$f":"IFERROR(VLOOKUP(AK1040,CadMP!$B:$D,3,0),\"\")","v":""},0,0,0,0,0,0,0,0,0,0,0,0,0,0,0]
[1058,null,null,0,0,null,null,null,null,null,null,0,0,null,null,null,null,null,null,null,1,0,null,null,null,null,null,null,null,null,null,null,null,null,null,null,null,null,null,null,null,null,null,null,null,null,null,null,null,null,null,null,{"$f":"IFERROR(VLOOKUP(W1059,CadMP!$B:$D,2,0),\"\")","v":""},{"$f":"IFERROR(VLOOKUP(X1059,CadMP!$B:$D,2,0),\"\")","v":""},{"$f":"IFERROR(VLOOKUP(Y1059,CadMP!$B:$D,2,0),\"\")","v":""},{"$f":"IFERROR(VLOOKUP(Z1059,CadMP!$B:$D,2,0),\"\")","v":""},{"$f":"IFERROR(VLOOKUP(AA1059,CadMP!$B:$D,2,0),\"\")","v":""},{"$f":"IFERROR(VLOOKUP(AB1059,CadMP!$B:$D,2,0),\"\")","v":""},{"$f":"IFERROR(VLOOKUP(AC1059,CadMP!$B:$D,2,0),\"\")","v":""},{"$f":"IFERROR(VLOOKUP(AD1059,CadMP!$B:$D,2,0),\"\")","v":""},{"$f":"IFERROR(VLOOKUP(AE1059,CadMP!$B:$D,2,0),\"\")","v":""},{"$f":"IFERROR(VLOOKUP(AF1059,CadMP!$B:$D,2,0),\"\")","v":""},{"$f":"IFERROR(VLOOKUP(AG1059,CadMP!$B:$D,2,0),\"\")","v":""},{"$f":"IFERROR(VLOOKUP(AH1059,CadMP!$B:$D,2,0),\"\")","v":""},{"$f":"IFERROR(VLOOKUP(AI1059,CadMP!$B:$D,2,0),\"\")","v":""},{"$f":"IFERROR(VLOOKUP(AJ1059,CadMP!$B:$D,2,0),\"\")","v":""},{"$f":"IFERROR(VLOOKUP(AK1059,CadMP!$B:$D,2,0),\"\")","v":""},{"$f":"IFERROR(VLOOKUP(W1059,CadMP!$B:$D,3,0),\"\")","v":""},{"$f":"IFERROR(VLOOKUP(X1059,CadMP!$B:$D,3,0),\"\")","v":""},{"$f":"IFERROR(VLOOKUP(Y1059,CadMP!$B:$D,3,0),\"\")","v":""},{"$f":"IFERROR(VLOOKUP(Z1059,CadMP!$B:$D,3,0),\"\")","v":""},{"$f":"IFERROR(VLOOKUP(AA1059,CadMP!$B:$D,3,0),\"\")","v":""},{"$f":"IFERROR(VLOOKUP(AB1059,CadMP!$B:$D,3,0),\"\")","v":""},{"$f":"IFERROR(VLOOKUP(AC1059,CadMP!$B:$D,3,0),\"\")","v":""},{"$f":"IFERROR(VLOOKUP(AD1059,CadMP!$B:$D,3,0),\"\")","v":""},{"$f":"IFERROR(VLOOKUP(AE1059,CadMP!$B:$D,3,0),\"\")","v":""},{"$f":"IFERROR(VLOOKUP(AF1059,CadMP!$B:$D,3,0),\"\")","v":""},{"$f":"IFERROR(VLOOKUP(AG1059,CadMP!$B:$D,3,0),\"\")","v":""},{"$f":"IFERROR(VLOOKUP(AH1059,CadMP!$B:$D,3,0),\"\")","v":""},{"$f":"IFERROR(VLOOKUP(AI1059,CadMP!$B:$D,3,0),\"\")","v":""},{"$f":"IFERROR(VLOOKUP(AJ1059,CadMP!$B:$D,3,0),\"\")","v":""},{"$f":"IFERROR(VLOOKUP(AK1059,CadMP!$B:$D,3,0),\"\")","v":""},0,0,0,0,0,0,0,0,0,0,0,0,0,0,0]
[1092,null,null,0,0,null,null,null,null,null,null,0,0,null,null,null,null,null,null,null,1,0,null,null,null,null,null,null,null,null,null,null,null,null,null,null,null,null,null,null,null,null,null,null,null,null,null,null,null,null,null,null,{"$f":"IFERROR(VLOOKUP(W1093,CadMP!$B:$D,2,0),\"\")","v":""},{"$f":"IFERROR(VLOOKUP(X1093,CadMP!$B:$D,2,0),\"\")","v":""},{"$f":"IFERROR(VLOOKUP(Y1093,CadMP!$B:$D,2,0),\"\")","v":""},{"$f":"IFERROR(VLOOKUP(Z1093,CadMP!$B:$D,2,0),\"\")","v":""},{"$f":"IFERROR(VLOOKUP(AA1093,CadMP!$B:$D,2,0),\"\")","v":""},{"$f":"IFERROR(VLOOKUP(AB1093,CadMP!$B:$D,2,0),\"\")","v":""},{"$f":"IFERROR(VLOOKUP(AC1093,CadMP!$B:$D,2,0),\"\")","v":""},{"$f":"IFERROR(VLOOKUP(AD1093,CadMP!$B:$D,2,0),\"\")","v":""},{"$f":"IFERROR(VLOOKUP(AE1093,CadMP!$B:$D,2,0),\"\")","v":""},{"$f":"IFERROR(VLOOKUP(AF1093,CadMP!$B:$D,2,0),\"\")","v":""},{"$f":"IFERROR(VLOOKUP(AG1093,CadMP!$B:$D,2,0),\"\")","v":""},{"$f":"IFERROR(VLOOKUP(AH1093,CadMP!$B:$D,2,0),\"\")","v":""},{"$f":"IFERROR(VLOOKUP(AI1093,CadMP!$B:$D,2,0),\"\")","v":""},{"$f":"IFERROR(VLOOKUP(AJ1093,CadMP!$B:$D,2,0),\"\")","v":""},{"$f":"IFERROR(VLOOKUP(AK1093,CadMP!$B:$D,2,0),\"\")","v":""},{"$f":"IFERROR(VLOOKUP(W1093,CadMP!$B:$D,3,0),\"\")","v":""},{"$f":"IFERROR(VLOOKUP(X1093,CadMP!$B:$D,3,0),\"\")","v":""},{"$f":"IFERROR(VLOOKUP(Y1093,CadMP!$B:$D,3,0),\"\")","v":""},{"$f":"IFERROR(VLOOKUP(Z1093,CadMP!$B:$D,3,0),\"\")","v":""},{"$f":"IFERROR(VLOOKUP(AA1093,CadMP!$B:$D,3,0),\"\")","v":""},{"$f":"IFERROR(VLOOKUP(AB1093,CadMP!$B:$D,3,0),\"\")","v":""},{"$f":"IFERROR(VLOOKUP(AC1093,CadMP!$B:$D,3,0),\"\")","v":""},{"$f":"IFERROR(VLOOKUP(AD1093,CadMP!$B:$D,3,0),\"\")","v":""},{"$f":"IFERROR(VLOOKUP(AE1093,CadMP!$B:$D,3,0),\"\")","v":""},{"$f":"IFERROR(VLOOKUP(AF1093,CadMP!$B:$D,3,0),\"\")","v":""},{"$f":"IFERROR(VLOOKUP(AG1093,CadMP!$B:$D,3,0),\"\")","v":""},{"$f":"IFERROR(VLOOKUP(AH1093,CadMP!$B:$D,3,0),\"\")","v":""},{"$f":"IFERROR(VLOOKUP(AI1093,CadMP!$B:$D,3,0),\"\")","v":""},{"$f":"IFERROR(VLOOKUP(AJ1093,CadMP!$B:$D,3,0),\"\")","v":""},{"$f":"IFERROR(VLOOKUP(AK1093,CadMP!$B:$D,3,0),\"\")","v":""},0,0,0,0,0,0,0,0,0,0,0,0,0,0,0]
[1101,null,null,0,0,null,null,null,null,null,null,0,0,null,null,null,null,null,null,null,1,0,null,null,null,null,null,null,null,null,null,null,null,null,null,null,null,null,null,null,null,null,null,null,null,null,null,null,null,null,null,null,{"$f":"IFERROR(VLOOKUP(W1102,CadMP!$B:$D,2,0),\"\")","v":""},{"$f":"IFERROR(VLOOKUP(X1102,CadMP!$B:$D,2,0),\"\")","v":""},{"$f":"IFERROR(VLOOKUP(Y1102,CadMP!$B:$D,2,0),\"\")","v":""},{"$f":"IFERROR(VLOOKUP(Z1102,CadMP!$B:$D,2,0),\"\")","v":""},{"$f":"IFERROR(VLOOKUP(AA1102,CadMP!$B:$D,2,0),\"\")","v":""},{"$f":"IFERROR(VLOOKUP(AB1102,CadMP!$B:$D,2,0),\"\")","v":""},{"$f":"IFERROR(VLOOKUP(AC1102,CadMP!$B:$D,2,0),\"\")","v":""},{"$f":"IFERROR(VLOOKUP(AD1102,CadMP!$B:$D,2,0),\"\")","v":""},{"$f":"IFERROR(VLOOKUP(AE1102,CadMP!$B:$D,2,0),\"\")","v":""},{"$f":"IFERROR(VLOOKUP(AF1102,CadMP!$B:$D,2,0),\"\")","v":""},{"$f":"IFERROR(VLOOKUP(AG1102,CadMP!$B:$D,2,0),\"\")","v":""},{"$f":"IFERROR(VLOOKUP(AH1102,CadMP!$B:$D,2,0),\"\")","v":""},{"$f":"IFERROR(VLOOKUP(AI1102,CadMP!$B:$D,2,0),\"\")","v":""},{"$f":"IFERROR(VLOOKUP(AJ1102,CadMP!$B:$D,2,0),\"\")","v":""},{"$f":"IFERROR(VLOOKUP(AK1102,CadMP!$B:$D,2,0),\"\")","v":""},{"$f":"IFERROR(VLOOKUP(W1102,CadMP!$B:$D,3,0),\"\")","v":""},{"$f":"IFERROR(VLOOKUP(X1102,CadMP!$B:$D,3,0),\"\")","v":""},{"$f":"IFERROR(VLOOKUP(Y1102,CadMP!$B:$D,3,0),\"\")","v":""},{"$f":"IFERROR(VLOOKUP(Z1102,CadMP!$B:$D,3,0),\"\")","v":""},{"$f":"IFERROR(VLOOKUP(AA1102,CadMP!$B:$D,3,0),\"\")","v":""},{"$f":"IFERROR(VLOOKUP(AB1102,CadMP!$B:$D,3,0),\"\")","v":""},{"$f":"IFERROR(VLOOKUP(AC1102,CadMP!$B:$D,3,0),\"\")","v":""},{"$f":"IFERROR(VLOOKUP(AD1102,CadMP!$B:$D,3,0),\"\")","v":""},{"$f":"IFERROR(VLOOKUP(AE1102,CadMP!$B:$D,3,0),\"\")","v":""},{"$f":"IFERROR(VLOOKUP(AF1102,CadMP!$B:$D,3,0),\"\")","v":""},{"$f":"IFERROR(VLOOKUP(AG1102,CadMP!$B:$D,3,0),\"\")","v":""},{"$f":"IFERROR(VLOOKUP(AH1102,CadMP!$B:$D,3,0),\"\")","v":""},{"$f":"IFERROR(VLOOKUP(AI1102,CadMP!$B:$D,3,0),\"\")","v":""},{"$f":"IFERROR(VLOOKUP(AJ1102,CadMP!$B:$D,3,0),\"\")","v":""},{"$f":"IFERROR(VLOOKUP(AK1102,CadMP!$B:$D,3,0),\"\")","v":""},0,0,0,0,0,0,0,0,0,0,0,0,0,0,0]
[1120,null,null,0,0,null,null,null,null,null,null,0,0,null,null,null,null,null,null,null,1,0,null,null,null,null,null,null,null,null,null,null,null,null,null,null,null,null,null,null,null,null,null,null,null,null,null,null,null,null,null,null,{"$f":"IFERROR(VLOOKUP(W1121,CadMP!$B:$D,2,0),\"\")","v":""},{"$f":"IFERROR(VLOOKUP(X1121,CadMP!$B:$D,2,0),\"\")","v":""},{"$f":"IFERROR(VLOOKUP(Y1121,CadMP!$B:$D,2,0),\"\")","v":""},{"$f":"IFERROR(VLOOKUP(Z1121,CadMP!$B:$D,2,0),\"\")","v":""},{"$f":"IFERROR(VLOOKUP(AA1121,CadMP!$B:$D,2,0),\"\")","v":""},{"$f":"IFERROR(VLOOKUP(AB1121,CadMP!$B:$D,2,0),\"\")","v":""},{"$f":"IFERROR(VLOOKUP(AC1121,CadMP!$B:$D,2,0),\"\")","v":""},{"$f":"IFERROR(VLOOKUP(AD1121,CadMP!$B:$D,2,0),\"\")","v":""},{"$f":"IFERROR(VLOOKUP(AE1121,CadMP!$B:$D,2,0),\"\")","v":""},{"$f":"IFERROR(VLOOKUP(AF1121,CadMP!$B:$D,2,0),\"\")","v":""},{"$f":"IFERROR(VLOOKUP(AG1121,CadMP!$B:$D,2,0),\"\")","v":""},{"$f":"IFERROR(VLOOKUP(AH1121,CadMP!$B:$D,2,0),\"\")","v":""},{"$f":"IFERROR(VLOOKUP(AI1121,CadMP!$B:$D,2,0),\"\")","v":""},{"$f":"IFERROR(VLOOKUP(AJ1121,CadMP!$B:$D,2,0),\"\")","v":""},{"$f":"IFERROR(VLOOKUP(AK1121,CadMP!$B:$D,2,0),\"\")","v":""},{"$f":"IFERROR(VLOOKUP(W1121,CadMP!$B:$D,3,0),\"\")","v":""},{"$f":"IFERROR(VLOOKUP(X1121,CadMP!$B:$D,3,0),\"\")","v":""},{"$f":"IFERROR(VLOOKUP(Y1121,CadMP!$B:$D,3,0),\"\")","v":""},{"$f":"IFERROR(VLOOKUP(Z1121,CadMP!$B:$D,3,0),\"\")","v":""},{"$f":"IFERROR(VLOOKUP(AA1121,CadMP!$B:$D,3,0),\"\")","v":""},{"$f":"IFERROR(VLOOKUP(AB1121,CadMP!$B:$D,3,0),\"\")","v":""},{"$f":"IFERROR(VLOOKUP(AC1121,CadMP!$B:$D,3,0),\"\")","v":""},{"$f":"IFERROR(VLOOKUP(AD1121,CadMP!$B:$D,3,0),\"\")","v":""},{"$f":"IFERROR(VLOOKUP(AE1121,CadMP!$B:$D,3,0),\"\")","v":""},{"$f":"IFERROR(VLOOKUP(AF1121,CadMP!$B:$D,3,0),\"\")","v":""},{"$f":"IFERROR(VLOOKUP(AG1121,CadMP!$B:$D,3,0),\"\")","v":""},{"$f":"IFERROR(VLOOKUP(AH1121,CadMP!$B:$D,3,0),\"\")","v":""},{"$f":"IFERROR(VLOOKUP(AI1121,CadMP!$B:$D,3,0),\"\")","v":""},{"$f":"IFERROR(VLOOKUP(AJ1121,CadMP!$B:$D,3,0),\"\")","v":""},{"$f":"IFERROR(VLOOKUP(AK1121,CadMP!$B:$D,3,0),\"\")","v":""},0,0,0,0,0,0,0,0,0,0,0,0,0,0,0]
[1139,null,null,0,0,null,null,null,null,null,null,0,0,null,null,null,null,null,null,null,1,0,null,null,null,null,null,null,null,null,null,null,null,null,null,null,null,null,null,null,null,null,null,null,null,null,null,null,null,null,null,null,{"$f":"IFERROR(VLOOKUP(W1140,CadMP!$B:$D,2,0),\"\")","v":""},{"$f":"IFERROR(VLOOKUP(X1140,CadMP!$B:$D,2,0),\"\")","v":""},{"$f":"IFERROR(VLOOKUP(Y1140,CadMP!$B:$D,2,0),\"\")","v":""},{"$f":"IFERROR(VLOOKUP(Z1140,CadMP!$B:$D,2,0),\"\")","v":""},{"$f":"IFERROR(VLOOKUP(AA1140,CadMP!$B:$D,2,0),\"\")","v":""},{"$f":"IFERROR(VLOOKUP(AB1140,CadMP!$B:$D,2,0),\"\")","v":""},{"$f":"IFERROR(VLOOKUP(AC1140,CadMP!$B:$D,2,0),\"\")","v":""},{"$f":"IFERROR(VLOOKUP(AD1140,CadMP!$B:$D,2,0),\"\")","v":""},{"$f":"IFERROR(VLOOKUP(AE1140,CadMP!$B:$D,2,0),\"\")","v":""},{"$f":"IFERROR(VLOOKUP(AF1140,CadMP!$B:$D,2,0),\"\")","v":""},{"$f":"IFERROR(VLOOKUP(AG1140,CadMP!$B:$D,2,0),\"\")","v":""},{"$f":"IFERROR(VLOOKUP(AH1140,CadMP!$B:$D,2,0),\"\")","v":""},{"$f":"IFERROR(VLOOKUP(AI1140,CadMP!$B:$D,2,0),\"\")","v":""},{"$f":"IFERROR(VLOOKUP(AJ1140,CadMP!$B:$D,2,0),\"\")","v":""},{"$f":"IFERROR(VLOOKUP(AK1140,CadMP!$B:$D,2,0),\"\")","v":""},{"$f":"IFERROR(VLOOKUP(W1140,CadMP!$B:$D,3,0),\"\")","v":""},{"$f":"IFERROR(VLOOKUP(X1140,CadMP!$B:$D,3,0),\"\")","v":""},{"$f":"IFERROR(VLOOKUP(Y1140,CadMP!$B:$D,3,0),\"\")","v":""},{"$f":"IFERROR(VLOOKUP(Z1140,CadMP!$B:$D,3,0),\"\")","v":""},{"$f":"IFERROR(VLOOKUP(AA1140,CadMP!$B:$D,3,0),\"\")","v":""},{"$f":"IFERROR(VLOOKUP(AB1140,CadMP!$B:$D,3,0),\"\")","v":""},{"$f":"IFERROR(VLOOKUP(AC1140,CadMP!$B:$D,3,0),\"\")","v":""},{"$f":"IFERROR(VLOOKUP(AD1140,CadMP!$B:$D,3,0),\"\")","v":""},{"$f":"IFERROR(VLOOKUP(AE1140,CadMP!$B:$D,3,0),\"\")","v":""},{"$f":"IFERROR(VLOOKUP(AF1140,CadMP!$B:$D,3,0),\"\")","v":""},{"$f":"IFERROR(VLOOKUP(AG1140,CadMP!$B:$D,3,0),\"\")","v":""},{"$f":"IFERROR(VLOOKUP(AH1140,CadMP!$B:$D,3,0),\"\")","v":""},{"$f":"IFERROR(VLOOKUP(AI1140,CadMP!$B:$D,3,0),\"\")","v":""},{"$f":"IFERROR(VLOOKUP(AJ1140,CadMP!$B:$D,3,0),\"\")","v":""},{"$f":"IFERROR(VLOOKUP(AK1140,CadMP!$B:$D,3,0),\"\")","v":""},0,0,0,0,0,0,0,0,0,0,0,0,0,0,0]
[1151,null,null,0,0,null,null,null,null,null,null,0,0,null,null,null,null,null,null,null,1,0,null,null,null,null,null,null,null,null,null,null,null,null,null,null,null,null,null,null,null,null,null,null,null,null,null,null,null,null,null,null,{"$f":"IFERROR(VLOOKUP(W1152,CadMP!$B:$D,2,0),\"\")","v":""},{"$f":"IFERROR(VLOOKUP(X1152,CadMP!$B:$D,2,0),\"\")","v":""},{"$f":"IFERROR(VLOOKUP(Y1152,CadMP!$B:$D,2,0),\"\")","v":""},{"$f":"IFERROR(VLOOKUP(Z1152,CadMP!$B:$D,2,0),\"\")","v":""},{"$f":"IFERROR(VLOOKUP(AA1152,CadMP!$B:$D,2,0),\"\")","v":""},{"$f":"IFERROR(VLOOKUP(AB1152,CadMP!$B:$D,2,0),\"\")","v":""},{"$f":"IFERROR(VLOOKUP(AC1152,CadMP!$B:$D,2,0),\"\")","v":""},{"$f":"IFERROR(VLOOKUP(AD1152,CadMP!$B:$D,2,0),\"\")","v":""},{"$f":"IFERROR(VLOOKUP(AE1152,CadMP!$B:$D,2,0),\"\")","v":""},{"$f":"IFERROR(VLOOKUP(AF1152,CadMP!$B:$D,2,0),\"\")","v":""},{"$f":"IFERROR(VLOOKUP(AG1152,CadMP!$B:$D,2,0),\"\")","v":""},{"$f":"IFERROR(VLOOKUP(AH1152,CadMP!$B:$D,2,0),\"\")","v":""},{"$f":"IFERROR(VLOOKUP(AI1152,CadMP!$B:$D,2,0),\"\")","v":""},{"$f":"IFERROR(VLOOKUP(AJ1152,CadMP!$B:$D,2,0),\"\")","v":""},{"$f":"IFERROR(VLOOKUP(AK1152,CadMP!$B:$D,2,0),\"\")","v":""},{"$f":"IFERROR(VLOOKUP(W1152,CadMP!$B:$D,3,0),\"\")","v":""},{"$f":"IFERROR(VLOOKUP(X1152,CadMP!$B:$D,3,0),\"\")","v":""},{"$f":"IFERROR(VLOOKUP(Y1152,CadMP!$B:$D,3,0),\"\")","v":""},{"$f":"IFERROR(VLOOKUP(Z1152,CadMP!$B:$D,3,0),\"\")","v":""},{"$f":"IFERROR(VLOOKUP(AA1152,CadMP!$B:$D,3,0),\"\")","v":""},{"$f":"IFERROR(VLOOKUP(AB1152,CadMP!$B:$D,3,0),\"\")","v":""},{"$f":"IFERROR(VLOOKUP(AC1152,CadMP!$B:$D,3,0),\"\")","v":""},{"$f":"IFERROR(VLOOKUP(AD1152,CadMP!$B:$D,3,0),\"\")","v":""},{"$f":"IFERROR(VLOOKUP(AE1152,CadMP!$B:$D,3,0),\"\")","v":""},{"$f":"IFERROR(VLOOKUP(AF1152,CadMP!$B:$D,3,0),\"\")","v":""},{"$f":"IFERROR(VLOOKUP(AG1152,CadMP!$B:$D,3,0),\"\")","v":""},{"$f":"IFERROR(VLOOKUP(AH1152,CadMP!$B:$D,3,0),\"\")","v":""},{"$f":"IFERROR(VLOOKUP(AI1152,CadMP!$B:$D,3,0),\"\")","v":""},{"$f":"IFERROR(VLOOKUP(AJ1152,CadMP!$B:$D,3,0),\"\")","v":""},{"$f":"IFERROR(VLOOKUP(AK1152,CadMP!$B:$D,3,0),\"\")","v":""},0,0,0,0,0,0,0,0,0,0,0,0,0,0,0]
[1182,null,null,0,0,null,null,null,null,null,null,0,0,null,null,null,null,null,null,null,1,0,null,null,null,null,null,null,null,null,null,null,null,null,null,null,null,null,null,null,null,null,null,null,null,null,null,null,null,null,null,null,{"$f":"IFERROR(VLOOKUP(W1183,CadMP!$B:$D,2,0),\"\")","v":""},{"$f":"IFERROR(VLOOKUP(X1183,CadMP!$B:$D,2,0),\"\")","v":""},{"$f":"IFERROR(VLOOKUP(Y1183,CadMP!$B:$D,2,0),\"\")","v":""},{"$f":"IFERROR(VLOOKUP(Z1183,CadMP!$B:$D,2,0),\"\")","v":""},{"$f":"IFERROR(VLOOKUP(AA1183,CadMP!$B:$D,2,0),\"\")","v":""},{"$f":"IFERROR(VLOOKUP(AB1183,CadMP!$B:$D,2,0),\"\")","v":""},{"$f":"IFERROR(VLOOKUP(AC1183,CadMP!$B:$D,2,0),\"\")","v":""},{"$f":"IFERROR(VLOOKUP(AD1183,CadMP!$B:$D,2,0),\"\")","v":""},{"$f":"IFERROR(VLOOKUP(AE1183,CadMP!$B:$D,2,0),\"\")","v":""},{"$f":"IFERROR(VLOOKUP(AF1183,CadMP!$B:$D,2,0),\"\")","v":""},{"$f":"IFERROR(VLOOKUP(AG1183,CadMP!$B:$D,2,0),\"\")","v":""},{"$f":"IFERROR(VLOOKUP(AH1183,CadMP!$B:$D,2,0),\"\")","v":""},{"$f":"IFERROR(VLOOKUP(AI1183,CadMP!$B:$D,2,0),\"\")","v":""},{"$f":"IFERROR(VLOOKUP(AJ1183,CadMP!$B:$D,2,0),\"\")","v":""},{"$f":"IFERROR(VLOOKUP(AK1183,CadMP!$B:$D,2,0),\"\")","v":""},{"$f":"IFERROR(VLOOKUP(W1183,CadMP!$B:$D,3,0),\"\")","v":""},{"$f":"IFERROR(VLOOKUP(X1183,CadMP!$B:$D,3,0),\"\")","v":""},{"$f":"IFERROR(VLOOKUP(Y1183,CadMP!$B:$D,3,0),\"\")","v":""},{"$f":"IFERROR(VLOOKUP(Z1183,CadMP!$B:$D,3,0),\"\")","v":""},{"$f":"IFERROR(VLOOKUP(AA1183,CadMP!$B:$D,3,0),\"\")","v":""},{"$f":"IFERROR(VLOOKUP(AB1183,CadMP!$B:$D,3,0),\"\")","v":""},{"$f":"IFERROR(VLOOKUP(AC1183,CadMP!$B:$D,3,0),\"\")","v":""},{"$f":"IFERROR(VLOOKUP(AD1183,CadMP!$B:$D,3,0),\"\")","v":""},{"$f":"IFERROR(VLOOKUP(AE1183,CadMP!$B:$D,3,0),\"\")","v":""},{"$f":"IFERROR(VLOOKUP(AF1183,CadMP!$B:$D,3,0),\"\")","v":""},{"$f":"IFERROR(VLOOKUP(AG1183,CadMP!$B:$D,3,0),\"\")","v":""},{"$f":"IFERROR(VLOOKUP(AH1183,CadMP!$B:$D,3,0),\"\")","v":""},{"$f":"IFERROR(VLOOKUP(AI1183,CadMP!$B:$D,3,0),\"\")","v":""},{"$f":"IFERROR(VLOOKUP(AJ1183,CadMP!$B:$D,3,0),\"\")","v":""},{"$f":"IFERROR(VLOOKUP(AK1183,CadMP!$B:$D,3,0),\"\")","v":""},0,0,0,0,0,0,0,0,0,0,0,0,0,0,0]
[1188,null,null,0,0,null,null,null,null,null,null,0,0,null,null,null,null,null,null,null,1,0,null,null,null,null,null,null,null,null,null,null,null,null,null,null,null,null,null,null,null,null,null,null,null,null,null,null,null,null,null,null,{"$f":"IFERROR(VLOOKUP(W1189,CadMP!$B:$D,2,0),\"\")","v":""},{"$f":"IFERROR(VLOOKUP(X1189,CadMP!$B:$D,2,0),\"\")","v":""},{"$f":"IFERROR(VLOOKUP(Y1189,CadMP!$B:$D,2,0),\"\")","v":""},{"$f":"IFERROR(VLOOKUP(Z1189,CadMP!$B:$D,2,0),\"\")","v":""},{"$f":"IFERROR(VLOOKUP(AA1189,CadMP!$B:$D,2,0),\"\")","v":""},{"$f":"IFERROR(VLOOKUP(AB1189,CadMP!$B:$D,2,0),\"\")","v":""},{"$f":"IFERROR(VLOOKUP(AC1189,CadMP!$B:$D,2,0),\"\")","v":""},{"$f":"IFERROR(VLOOKUP(AD1189,CadMP!$B:$D,2,0),\"\")","v":""},{"$f":"IFERROR(VLOOKUP(AE1189,CadMP!$B:$D,2,0),\"\")","v":""},{"$f":"IFERROR(VLOOKUP(AF1189,CadMP!$B:$D,2,0),\"\")","v":""},{"$f":"IFERROR(VLOOKUP(AG1189,CadMP!$B:$D,2,0),\"\")","v":""},{"$f":"IFERROR(VLOOKUP(AH1189,CadMP!$B:$D,2,0),\"\")","v":""},{"$f":"IFERROR(VLOOKUP(AI1189,CadMP!$B:$D,2,0),\"\")","v":""},{"$f":"IFERROR(VLOOKUP(AJ1189,CadMP!$B:$D,2,0),\"\")","v":""},{"$f":"IFERROR(VLOOKUP(AK1189,CadMP!$B:$D,2,0),\"\")","v":""},{"$f":"IFERROR(VLOOKUP(W1189,CadMP!$B:$D,3,0),\"\")","v":""},{"$f":"IFERROR(VLOOKUP(X1189,CadMP!$B:$D,3,0),\"\")","v":""},{"$f":"IFERROR(VLOOKUP(Y1189,CadMP!$B:$D,3,0),\"\")","v":""},{"$f":"IFERROR(VLOOKUP(Z1189,CadMP!$B:$D,3,0),\"\")","v":""},{"$f":"IFERROR(VLOOKUP(AA1189,CadMP!$B:$D,3,0),\"\")","v":""},{"$f":"IFERROR(VLOOKUP(AB1189,CadMP!$B:$D,3,0),\"\")","v":""},{"$f":"IFERROR(VLOOKUP(AC1189,CadMP!$B:$D,3,0),\"\")","v":""},{"$f":"IFERROR(VLOOKUP(AD1189,CadMP!$B:$D,3,0),\"\")","v":""},{"$f":"IFERROR(VLOOKUP(AE1189,CadMP!$B:$D,3,0),\"\")","v":""},{"$f":"IFERROR(VLOOKUP(AF1189,CadMP!$B:$D,3,0),\"\")","v":""},{"$f":"IFERROR(VLOOKUP(AG1189,CadMP!$B:$D,3,0),\"\")","v":""},{"$f":"IFERROR(VLOOKUP(AH1189,CadMP!$B:$D,3,0),\"\")","v":""},{"$f":"IFERROR(VLOOKUP(AI1189,CadMP!$B:$D,3,0),\"\")","v":""},{"$f":"IFERROR(VLOOKUP(AJ1189,CadMP!$B:$D,3,0),\"\")","v":""},{"$f":"IFERROR(VLOOKUP(AK1189,CadMP!$B:$D,3,0),\"\")","v":""},0,0,0,0,0,0,0,0,0,0,0,0,0,0,0]
[1207,null,null,0,0,null,null,null,null,null,null,0,0,null,null,null,null,null,null,null,1,0,null,null,null,null,null,null,null,null,null,null,null,null,null,null,null,null,null,null,null,null,null,null,null,null,null,null,null,null,null,null,{"$f":"IFERROR(VLOOKUP(W1208,CadMP!$B:$D,2,0),\"\")","v":""},{"$f":"IFERROR(VLOOKUP(X1208,CadMP!$B:$D,2,0),\"\")","v":""},{"$f":"IFERROR(VLOOKUP(Y1208,CadMP!$B:$D,2,0),\"\")","v":""},{"$f":"IFERROR(VLOOKUP(Z1208,CadMP!$B:$D,2,0),\"\")","v":""},{"$f":"IFERROR(VLOOKUP(AA1208,CadMP!$B:$D,2,0),\"\")","v":""},{"$f":"IFERROR(VLOOKUP(AB1208,CadMP!$B:$D,2,0),\"\")","v":""},{"$f":"IFERROR(VLOOKUP(AC1208,CadMP!$B:$D,2,0),\"\")","v":""},{"$f":"IFERROR(VLOOKUP(AD1208,CadMP!$B:$D,2,0),\"\")","v":""},{"$f":"IFERROR(VLOOKUP(AE1208,CadMP!$B:$D,2,0),\"\")","v":""},{"$f":"IFERROR(VLOOKUP(AF1208,CadMP!$B:$D,2,0),\"\")","v":""},{"$f":"IFERROR(VLOOKUP(AG1208,CadMP!$B:$D,2,0),\"\")","v":""},{"$f":"IFERROR(VLOOKUP(AH1208,CadMP!$B:$D,2,0),\"\")","v":""},{"$f":"IFERROR(VLOOKUP(AI1208,CadMP!$B:$D,2,0),\"\")","v":""},{"$f":"IFERROR(VLOOKUP(AJ1208,CadMP!$B:$D,2,0),\"\")","v":""},{"$f":"IFERROR(VLOOKUP(AK1208,CadMP!$B:$D,2,0),\"\")","v":""},{"$f":"IFERROR(VLOOKUP(W1208,CadMP!$B:$D,3,0),\"\")","v":""},{"$f":"IFERROR(VLOOKUP(X1208,CadMP!$B:$D,3,0),\"\")","v":""},{"$f":"IFERROR(VLOOKUP(Y1208,CadMP!$B:$D,3,0),\"\")","v":""},{"$f":"IFERROR(VLOOKUP(Z1208,CadMP!$B:$D,3,0),\"\")","v":""},{"$f":"IFERROR(VLOOKUP(AA1208,CadMP!$B:$D,3,0),\"\")","v":""},{"$f":"IFERROR(VLOOKUP(AB1208,CadMP!$B:$D,3,0),\"\")","v":""},{"$f":"IFERROR(VLOOKUP(AC1208,CadMP!$B:$D,3,0),\"\")","v":""},{"$f":"IFERROR(VLOOKUP(AD1208,CadMP!$B:$D,3,0),\"\")","v":""},{"$f":"IFERROR(VLOOKUP(AE1208,CadMP!$B:$D,3,0),\"\")","v":""},{"$f":"IFERROR(VLOOKUP(AF1208,CadMP!$B:$D,3,0),\"\")","v":""},{"$f":"IFERROR(VLOOKUP(AG1208,CadMP!$B:$D,3,0),\"\")","v":""},{"$f":"IFERROR(VLOOKUP(AH1208,CadMP!$B:$D,3,0),\"\")","v":""},{"$f":"IFERROR(VLOOKUP(AI1208,CadMP!$B:$D,3,0),\"\")","v":""},{"$f":"IFERROR(VLOOKUP(AJ1208,CadMP!$B:$D,3,0),\"\")","v":""},{"$f":"IFERROR(VLOOKUP(AK1208,CadMP!$B:$D,3,0),\"\")","v":""},0,0,0,0,0,0,0,0,0,0,0,0,0,0,0]
[1242,null,null,0,0,null,null,null,null,null,null,0,0,null,null,null,null,null,null,null,1,0,null,null,null,null,null,null,null,null,null,null,null,null,null,null,null,null,null,null,null,null,null,null,null,null,null,null,null,null,null,null,{"$f":"IFERROR(VLOOKUP(W1243,CadMP!$B:$D,2,0),\"\")","v":""},{"$f":"IFERROR(VLOOKUP(X1243,CadMP!$B:$D,2,0),\"\")","v":""},{"$f":"IFERROR(VLOOKUP(Y1243,CadMP!$B:$D,2,0),\"\")","v":""},{"$f":"IFERROR(VLOOKUP(Z1243,CadMP!$B:$D,2,0),\"\")","v":""},{"$f":"IFERROR(VLOOKUP(AA1243,CadMP!$B:$D,2,0),\"\")","v":""},{"$f":"IFERROR(VLOOKUP(AB1243,CadMP!$B:$D,2,0),\"\")","v":""},{"$f":"IFERROR(VLOOKUP(AC1243,CadMP!$B:$D,2,0),\"\")","v":""},{"$f":"IFERROR(VLOOKUP(AD1243,CadMP!$B:$D,2,0),\"\")","v":""},{"$f":"IFERROR(VLOOKUP(AE1243,CadMP!$B:$D,2,0),\"\")","v":""},{"$f":"IFERROR(VLOOKUP(AF1243,CadMP!$B:$D,2,0),\"\")","v":""},{"$f":"IFERROR(VLOOKUP(AG1243,CadMP!$B:$D,2,0),\"\")","v":""},{"$f":"IFERROR(VLOOKUP(AH1243,CadMP!$B:$D,2,0),\"\")","v":""},{"$f":"IFERROR(VLOOKUP(AI1243,CadMP!$B:$D,2,0),\"\")","v":""},{"$f":"IFERROR(VLOOKUP(AJ1243,CadMP!$B:$D,2,0),\"\")","v":""},{"$f":"IFERROR(VLOOKUP(AK1243,CadMP!$B:$D,2,0),\"\")","v":""},{"$f":"IFERROR(VLOOKUP(W1243,CadMP!$B:$D,3,0),\"\")","v":""},{"$f":"IFERROR(VLOOKUP(X1243,CadMP!$B:$D,3,0),\"\")","v":""},{"$f":"IFERROR(VLOOKUP(Y1243,CadMP!$B:$D,3,0),\"\")","v":""},{"$f":"IFERROR(VLOOKUP(Z1243,CadMP!$B:$D,3,0),\"\")","v":""},{"$f":"IFERROR(VLOOKUP(AA1243,CadMP!$B:$D,3,0),\"\")","v":""},{"$f":"IFERROR(VLOOKUP(AB1243,CadMP!$B:$D,3,0),\"\")","v":""},{"$f":"IFERROR(VLOOKUP(AC1243,CadMP!$B:$D,3,0),\"\")","v":""},{"$f":"IFERROR(VLOOKUP(AD1243,CadMP!$B:$D,3,0),\"\")","v":""},{"$f":"IFERROR(VLOOKUP(AE1243,CadMP!$B:$D,3,0),\"\")","v":""},{"$f":"IFERROR(VLOOKUP(AF1243,CadMP!$B:$D,3,0),\"\")","v":""},{"$f":"IFERROR(VLOOKUP(AG1243,CadMP!$B:$D,3,0),\"\")","v":""},{"$f":"IFERROR(VLOOKUP(AH1243,CadMP!$B:$D,3,0),\"\")","v":""},{"$f":"IFERROR(VLOOKUP(AI1243,CadMP!$B:$D,3,0),\"\")","v":""},{"$f":"IFERROR(VLOOKUP(AJ1243,CadMP!$B:$D,3,0),\"\")","v":""},{"$f":"IFERROR(VLOOKUP(AK1243,CadMP!$B:$D,3,0),\"\")","v":""},0,0,0,0,0,0,0,0,0,0,0,0,0,0,0]
[1250,null,null,0,0,null,null,null,null,null,null,0,0,null,null,null,null,null,null,null,1,0,null,null,null,null,null,null,null,null,null,null,null,null,null,null,null,null,null,null,null,null,null,null,null,null,null,null,null,null,null,null,{"$f":"IFERROR(VLOOKUP(W1251,CadMP!$B:$D,2,0),\"\")","v":""},{"$f":"IFERROR(VLOOKUP(X1251,CadMP!$B:$D,2,0),\"\")","v":""},{"$f":"IFERROR(VLOOKUP(Y1251,CadMP!$B:$D,2,0),\"\")","v":""},{"$f":"IFERROR(VLOOKUP(Z1251,CadMP!$B:$D,2,0),\"\")","v":""},{"$f":"IFERROR(VLOOKUP(AA1251,CadMP!$B:$D,2,0),\"\")","v":""},{"$f":"IFERROR(VLOOKUP(AB1251,CadMP!$B:$D,2,0),\"\")","v":""},{"$f":"IFERROR(VLOOKUP(AC1251,CadMP!$B:$D,2,0),\"\")","v":""},{"$f":"IFERROR(VLOOKUP(AD1251,CadMP!$B:$D,2,0),\"\")","v":""},{"$f":"IFERROR(VLOOKUP(AE1251,CadMP!$B:$D,2,0),\"\")","v":""},{"$f":"IFERROR(VLOOKUP(AF1251,CadMP!$B:$D,2,0),\"\")","v":""},{"$f":"IFERROR(VLOOKUP(AG1251,CadMP!$B:$D,2,0),\"\")","v":""},{"$f":"IFERROR(VLOOKUP(AH1251,CadMP!$B:$D,2,0),\"\")","v":""},{"$f":"IFERROR(VLOOKUP(AI1251,CadMP!$B:$D,2,0),\"\")","v":""},{"$f":"IFERROR(VLOOKUP(AJ1251,CadMP!$B:$D,2,0),\"\")","v":""},{"$f":"IFERROR(VLOOKUP(AK1251,CadMP!$B:$D,2,0),\"\")","v":""},{"$f":"IFERROR(VLOOKUP(W1251,CadMP!$B:$D,3,0),\"\")","v":""},{"$f":"IFERROR(VLOOKUP(X1251,CadMP!$B:$D,3,0),\"\")","v":""},{"$f":"IFERROR(VLOOKUP(Y1251,CadMP!$B:$D,3,0),\"\")","v":""},{"$f":"IFERROR(VLOOKUP(Z1251,CadMP!$B:$D,3,0),\"\")","v":""},{"$f":"IFERROR(VLOOKUP(AA1251,CadMP!$B:$D,3,0),\"\")","v":""},{"$f":"IFERROR(VLOOKUP(AB1251,CadMP!$B:$D,3,0),\"\")","v":""},{"$f":"IFERROR(VLOOKUP(AC1251,CadMP!$B:$D,3,0),\"\")","v":""},{"$f":"IFERROR(VLOOKUP(AD1251,CadMP!$B:$D,3,0),\"\")","v":""},{"$f":"IFERROR(VLOOKUP(AE1251,CadMP!$B:$D,3,0),\"\")","v":""},{"$f":"IFERROR(VLOOKUP(AF1251,CadMP!$B:$D,3,0),\"\")","v":""},{"$f":"IFERROR(VLOOKUP(AG1251,CadMP!$B:$D,3,0),\"\")","v":""},{"$f":"IFERROR(VLOOKUP(AH1251,CadMP!$B:$D,3,0),\"\")","v":""},{"$f":"IFERROR(VLOOKUP(AI1251,CadMP!$B:$D,3,0),\"\")","v":""},{"$f":"IFERROR(VLOOKUP(AJ1251,CadMP!$B:$D,3,0),\"\")","v":""},{"$f":"IFERROR(VLOOKUP(AK1251,CadMP!$B:$D,3,0),\"\")","v":""},0,0,0,0,0,0,0,0,0,0,0,0,0,0,0]
[1269,null,null,0,0,null,null,null,null,null,null,0,0,null,null,null,null,null,null,null,1,0,null,null,null,null,null,null,null,null,null,null,null,null,null,null,null,null,null,null,null,null,null,null,null,null,null,null,null,null,null,null,{"$f":"IFERROR(VLOOKUP(W1270,CadMP!$B:$D,2,0),\"\")","v":""},{"$f":"IFERROR(VLOOKUP(X1270,CadMP!$B:$D,2,0),\"\")","v":""},{"$f":"IFERROR(VLOOKUP(Y1270,CadMP!$B:$D,2,0),\"\")","v":""},{"$f":"IFERROR(VLOOKUP(Z1270,CadMP!$B:$D,2,0),\"\")","v":""},{"$f":"IFERROR(VLOOKUP(AA1270,CadMP!$B:$D,2,0),\"\")","v":""},{"$f":"IFERROR(VLOOKUP(AB1270,CadMP!$B:$D,2,0),\"\")","v":""},{"$f":"IFERROR(VLOOKUP(AC1270,CadMP!$B:$D,2,0),\"\")","v":""},{"$f":"IFERROR(VLOOKUP(AD1270,CadMP!$B:$D,2,0),\"\")","v":""},{"$f":"IFERROR(VLOOKUP(AE1270,CadMP!$B:$D,2,0),\"\")","v":""},{"$f":"IFERROR(VLOOKUP(AF1270,CadMP!$B:$D,2,0),\"\")","v":""},{"$f":"IFERROR(VLOOKUP(AG1270,CadMP!$B:$D,2,0),\"\")","v":""},{"$f":"IFERROR(VLOOKUP(AH1270,CadMP!$B:$D,2,0),\"\")","v":""},{"$f":"IFERROR(VLOOKUP(AI1270,CadMP!$B:$D,2,0),\"\")","v":""},{"$f":"IFERROR(VLOOKUP(AJ1270,CadMP!$B:$D,2,0),\"\")","v":""},{"$f":"IFERROR(VLOOKUP(AK1270,CadMP!$B:$D,2,0),\"\")","v":""},{"$f":"IFERROR(VLOOKUP(W1270,CadMP!$B:$D,3,0),\"\")","v":""},{"$f":"IFERROR(VLOOKUP(X1270,CadMP!$B:$D,3,0),\"\")","v":""},{"$f":"IFERROR(VLOOKUP(Y1270,CadMP!$B:$D,3,0),\"\")","v":""},{"$f":"IFERROR(VLOOKUP(Z1270,CadMP!$B:$D,3,0),\"\")","v":""},{"$f":"IFERROR(VLOOKUP(AA1270,CadMP!$B:$D,3,0),\"\")","v":""},{"$f":"IFERROR(VLOOKUP(AB1270,CadMP!$B:$D,3,0),\"\")","v":""},{"$f":"IFERROR(VLOOKUP(AC1270,CadMP!$B:$D,3,0),\"\")","v":""},{"$f":"IFERROR(VLOOKUP(AD1270,CadMP!$B:$D,3,0),\"\")","v":""},{"$f":"IFERROR(VLOOKUP(AE1270,CadMP!$B:$D,3,0),\"\")","v":""},{"$f":"IFERROR(VLOOKUP(AF1270,CadMP!$B:$D,3,0),\"\")","v":""},{"$f":"IFERROR(VLOOKUP(AG1270,CadMP!$B:$D,3,0),\"\")","v":""},{"$f":"IFERROR(VLOOKUP(AH1270,CadMP!$B:$D,3,0),\"\")","v":""},{"$f":"IFERROR(VLOOKUP(AI1270,CadMP!$B:$D,3,0),\"\")","v":""},{"$f":"IFERROR(VLOOKUP(AJ1270,CadMP!$B:$D,3,0),\"\")","v":""},{"$f":"IFERROR(VLOOKUP(AK1270,CadMP!$B:$D,3,0),\"\")","v":""},0,0,0,0,0,0,0,0,0,0,0,0,0,0,0]
[1294,null,null,0,0,null,null,null,null,null,null,0,0,null,null,null,null,null,null,null,1,0,null,null,null,null,null,null,null,null,null,null,null,null,null,null,null,null,null,null,null,null,null,null,null,null,null,null,null,null,null,null,{"$f":"IFERROR(VLOOKUP(W1295,CadMP!$B:$D,2,0),\"\")","v":""},{"$f":"IFERROR(VLOOKUP(X1295,CadMP!$B:$D,2,0),\"\")","v":""},{"$f":"IFERROR(VLOOKUP(Y1295,CadMP!$B:$D,2,0),\"\")","v":""},{"$f":"IFERROR(VLOOKUP(Z1295,CadMP!$B:$D,2,0),\"\")","v":""},{"$f":"IFERROR(VLOOKUP(AA1295,CadMP!$B:$D,2,0),\"\")","v":""},{"$f":"IFERROR(VLOOKUP(AB1295,CadMP!$B:$D,2,0),\"\")","v":""},{"$f":"IFERROR(VLOOKUP(AC1295,CadMP!$B:$D,2,0),\"\")","v":""},{"$f":"IFERROR(VLOOKUP(AD1295,CadMP!$B:$D,2,0),\"\")","v":""},{"$f":"IFERROR(VLOOKUP(AE1295,CadMP!$B:$D,2,0),\"\")","v":""},{"$f":"IFERROR(VLOOKUP(AF1295,CadMP!$B:$D,2,0),\"\")","v":""},{"$f":"IFERROR(VLOOKUP(AG1295,CadMP!$B:$D,2,0),\"\")","v":""},{"$f":"IFERROR(VLOOKUP(AH1295,CadMP!$B:$D,2,0),\"\")","v":""},{"$f":"IFERROR(VLOOKUP(AI1295,CadMP!$B:$D,2,0),\"\")","v":""},{"$f":"IFERROR(VLOOKUP(AJ1295,CadMP!$B:$D,2,0),\"\")","v":""},{"$f":"IFERROR(VLOOKUP(AK1295,CadMP!$B:$D,2,0),\"\")","v":""},{"$f":"IFERROR(VLOOKUP(W1295,CadMP!$B:$D,3,0),\"\")","v":""},{"$f":"IFERROR(VLOOKUP(X1295,CadMP!$B:$D,3,0),\"\")","v":""},{"$f":"IFERROR(VLOOKUP(Y1295,CadMP!$B:$D,3,0),\"\")","v":""},{"$f":"IFERROR(VLOOKUP(Z1295,CadMP!$B:$D,3,0),\"\")","v":""},{"$f":"IFERROR(VLOOKUP(AA1295,CadMP!$B:$D,3,0),\"\")","v":""},{"$f":"IFERROR(VLOOKUP(AB1295,CadMP!$B:$D,3,0),\"\")","v":""},{"$f":"IFERROR(VLOOKUP(AC1295,CadMP!$B:$D,3,0),\"\")","v":""},{"$f":"IFERROR(VLOOKUP(AD1295,CadMP!$B:$D,3,0),\"\")","v":""},{"$f":"IFERROR(VLOOKUP(AE1295,CadMP!$B:$D,3,0),\"\")","v":""},{"$f":"IFERROR(VLOOKUP(AF1295,CadMP!$B:$D,3,0),\"\")","v":""},{"$f":"IFERROR(VLOOKUP(AG1295,CadMP!$B:$D,3,0),\"\")","v":""},{"$f":"IFERROR(VLOOKUP(AH1295,CadMP!$B:$D,3,0),\"\")","v":""},{"$f":"IFERROR(VLOOKUP(AI1295,CadMP!$B:$D,3,0),\"\")","v":""},{"$f":"IFERROR(VLOOKUP(AJ1295,CadMP!$B:$D,3,0),\"\")","v":""},{"$f":"IFERROR(VLOOKUP(AK1295,CadMP!$B:$D,3,0),\"\")","v":""},0,0,0,0,0,0,0,0,0,0,0,0,0,0,0]
[1301,null,null,0,0,null,null,null,null,null,null,0,0,null,null,null,null,null,null,null,1,0,null,null,null,null,null,null,null,null,null,null,null,null,null,null,null,null,null,null,null,null,null,null,null,null,null,null,null,null,null,null,{"$f":"IFERROR(VLOOKUP(W1302,CadMP!$B:$D,2,0),\"\")","v":""},{"$f":"IFERROR(VLOOKUP(X1302,CadMP!$B:$D,2,0),\"\")","v":""},{"$f":"IFERROR(VLOOKUP(Y1302,CadMP!$B:$D,2,0),\"\")","v":""},{"$f":"IFERROR(VLOOKUP(Z1302,CadMP!$B:$D,2,0),\"\")","v":""},{"$f":"IFERROR(VLOOKUP(AA1302,CadMP!$B:$D,2,0),\"\")","v":""},{"$f":"IFERROR(VLOOKUP(AB1302,CadMP!$B:$D,2,0),\"\")","v":""},{"$f":"IFERROR(VLOOKUP(AC1302,CadMP!$B:$D,2,0),\"\")","v":""},{"$f":"IFERROR(VLOOKUP(AD1302,CadMP!$B:$D,2,0),\"\")","v":""},{"$f":"IFERROR(VLOOKUP(AE1302,CadMP!$B:$D,2,0),\"\")","v":""},{"$f":"IFERROR(VLOOKUP(AF1302,CadMP!$B:$D,2,0),\"\")","v":""},{"$f":"IFERROR(VLOOKUP(AG1302,CadMP!$B:$D,2,0),\"\")","v":""},{"$f":"IFERROR(VLOOKUP(AH1302,CadMP!$B:$D,2,0),\"\")","v":""},{"$f":"IFERROR(VLOOKUP(AI1302,CadMP!$B:$D,2,0),\"\")","v":""},{"$f":"IFERROR(VLOOKUP(AJ1302,CadMP!$B:$D,2,0),\"\")","v":""},{"$f":"IFERROR(VLOOKUP(AK1302,CadMP!$B:$D,2,0),\"\")","v":""},{"$f":"IFERROR(VLOOKUP(W1302,CadMP!$B:$D,3,0),\"\")","v":""},{"$f":"IFERROR(VLOOKUP(X1302,CadMP!$B:$D,3,0),\"\")","v":""},{"$f":"IFERROR(VLOOKUP(Y1302,CadMP!$B:$D,3,0),\"\")","v":""},{"$f":"IFERROR(VLOOKUP(Z1302,CadMP!$B:$D,3,0),\"\")","v":""},{"$f":"IFERROR(VLOOKUP(AA1302,CadMP!$B:$D,3,0),\"\")","v":""},{"$f":"IFERROR(VLOOKUP(AB1302,CadMP!$B:$D,3,0),\"\")","v":""},{"$f":"IFERROR(VLOOKUP(AC1302,CadMP!$B:$D,3,0),\"\")","v":""},{"$f":"IFERROR(VLOOKUP(AD1302,CadMP!$B:$D,3,0),\"\")","v":""},{"$f":"IFERROR(VLOOKUP(AE1302,CadMP!$B:$D,3,0),\"\")","v":""},{"$f":"IFERROR(VLOOKUP(AF1302,CadMP!$B:$D,3,0),\"\")","v":""},{"$f":"IFERROR(VLOOKUP(AG1302,CadMP!$B:$D,3,0),\"\")","v":""},{"$f":"IFERROR(VLOOKUP(AH1302,CadMP!$B:$D,3,0),\"\")","v":""},{"$f":"IFERROR(VLOOKUP(AI1302,CadMP!$B:$D,3,0),\"\")","v":""},{"$f":"IFERROR(VLOOKUP(AJ1302,CadMP!$B:$D,3,0),\"\")","v":""},{"$f":"IFERROR(VLOOKUP(AK1302,CadMP!$B:$D,3,0),\"\")","v":""},0,0,0,0,0,0,0,0,0,0,0,0,0,0,0]
[1331,null,null,0,0,null,null,null,null,null,null,0,0,null,null,null,null,null,null,null,1,0,null,null,null,null,null,null,null,null,null,null,null,null,null,null,null,null,null,null,null,null,null,null,null,null,null,null,null,null,null,null,{"$f":"IFERROR(VLOOKUP(W1332,CadMP!$B:$D,2,0),\"\")","v":""},{"$f":"IFERROR(VLOOKUP(X1332,CadMP!$B:$D,2,0),\"\")","v":""},{"$f":"IFERROR(VLOOKUP(Y1332,CadMP!$B:$D,2,0),\"\")","v":""},{"$f":"IFERROR(VLOOKUP(Z1332,CadMP!$B:$D,2,0),\"\")","v":""},{"$f":"IFERROR(VLOOKUP(AA1332,CadMP!$B:$D,2,0),\"\")","v":""},{"$f":"IFERROR(VLOOKUP(AB1332,CadMP!$B:$D,2,0),\"\")","v":""},{"$f":"IFERROR(VLOOKUP(AC1332,CadMP!$B:$D,2,0),\"\")","v":""},{"$f":"IFERROR(VLOOKUP(AD1332,CadMP!$B:$D,2,0),\"\")","v":""},{"$f":"IFERROR(VLOOKUP(AE1332,CadMP!$B:$D,2,0),\"\")","v":""},{"$f":"IFERROR(VLOOKUP(AF1332,CadMP!$B:$D,2,0),\"\")","v":""},{"$f":"IFERROR(VLOOKUP(AG1332,CadMP!$B:$D,2,0),\"\")","v":""},{"$f":"IFERROR(VLOOKUP(AH1332,CadMP!$B:$D,2,0),\"\")","v":""},{"$f":"IFERROR(VLOOKUP(AI1332,CadMP!$B:$D,2,0),\"\")","v":""},{"$f":"IFERROR(VLOOKUP(AJ1332,CadMP!$B:$D,2,0),\"\")","v":""},{"$f":"IFERROR(VLOOKUP(AK1332,CadMP!$B:$D,2,0),\"\")","v":""},{"$f":"IFERROR(VLOOKUP(W1332,CadMP!$B:$D,3,0),\"\")","v":""},{"$f":"IFERROR(VLOOKUP(X1332,CadMP!$B:$D,3,0),\"\")","v":""},{"$f":"IFERROR(VLOOKUP(Y1332,CadMP!$B:$D,3,0),\"\")","v":""},{"$f":"IFERROR(VLOOKUP(Z1332,CadMP!$B:$D,3,0),\"\")","v":""},{"$f":"IFERROR(VLOOKUP(AA1332,CadMP!$B:$D,3,0),\"\")","v":""},{"$f":"IFERROR(VLOOKUP(AB1332,CadMP!$B:$D,3,0),\"\")","v":""},{"$f":"IFERROR(VLOOKUP(AC1332,CadMP!$B:$D,3,0),\"\")","v":""},{"$f":"IFERROR(VLOOKUP(AD1332,CadMP!$B:$D,3,0),\"\")","v":""},{"$f":"IFERROR(VLOOKUP(AE1332,CadMP!$B:$D,3,0),\"\")","v":""},{"$f":"IFERROR(VLOOKUP(AF1332,CadMP!$B:$D,3,0),\"\")","v":""},{"$f":"IFERROR(VLOOKUP(AG1332,CadMP!$B:$D,3,0),\"\")","v":""},{"$f":"IFERROR(VLOOKUP(AH1332,CadMP!$B:$D,3,0),\"\")","v":""},{"$f":"IFERROR(VLOOKUP(AI1332,CadMP!$B:$D,3,0),\"\")","v":""},{"$f":"IFERROR(VLOOKUP(AJ1332,CadMP!$B:$D,3,0),\"\")","v":""},{"$f":"IFERROR(VLOOKUP(AK1332,CadMP!$B:$D,3,0),\"\")","v":""},0,0,0,0,0,0,0,0,0,0,0,0,0,0,0]
[1337,null,null,0,0,null,null,null,null,null,null,0,0,null,null,null,null,null,null,null,1,0,null,null,null,null,null,null,null,null,null,null,null,null,null,null,null,null,null,null,null,null,null,null,null,null,null,null,null,null,null,null,{"$f":"IFERROR(VLOOKUP(W1338,CadMP!$B:$D,2,0),\"\")","v":""},{"$f":"IFERROR(VLOOKUP(X1338,CadMP!$B:$D,2,0),\"\")","v":""},{"$f":"IFERROR(VLOOKUP(Y1338,CadMP!$B:$D,2,0),\"\")","v":""},{"$f":"IFERROR(VLOOKUP(Z1338,CadMP!$B:$D,2,0),\"\")","v":""},{"$f":"IFERROR(VLOOKUP(AA1338,CadMP!$B:$D,2,0),\"\")","v":""},{"$f":"IFERROR(VLOOKUP(AB1338,CadMP!$B:$D,2,0),\"\")","v":""},{"$f":"IFERROR(VLOOKUP(AC1338,CadMP!$B:$D,2,0),\"\")","v":""},{"$f":"IFERROR(VLOOKUP(AD1338,CadMP!$B:$D,2,0),\"\")","v":""},{"$f":"IFERROR(VLOOKUP(AE1338,CadMP!$B:$D,2,0),\"\")","v":""},{"$f":"IFERROR(VLOOKUP(AF1338,CadMP!$B:$D,2,0),\"\")","v":""},{"$f":"IFERROR(VLOOKUP(AG1338,CadMP!$B:$D,2,0),\"\")","v":""},{"$f":"IFERROR(VLOOKUP(AH1338,CadMP!$B:$D,2,0),\"\")","v":""},{"$f":"IFERROR(VLOOKUP(AI1338,CadMP!$B:$D,2,0),\"\")","v":""},{"$f":"IFERROR(VLOOKUP(AJ1338,CadMP!$B:$D,2,0),\"\")","v":""},{"$f":"IFERROR(VLOOKUP(AK1338,CadMP!$B:$D,2,0),\"\")","v":""},{"$f":"IFERROR(VLOOKUP(W1338,CadMP!$B:$D,3,0),\"\")","v":""},{"$f":"IFERROR(VLOOKUP(X1338,CadMP!$B:$D,3,0),\"\")","v":""},{"$f":"IFERROR(VLOOKUP(Y1338,CadMP!$B:$D,3,0),\"\")","v":""},{"$f":"IFERROR(VLOOKUP(Z1338,CadMP!$B:$D,3,0),\"\")","v":""},{"$f":"IFERROR(VLOOKUP(AA1338,CadMP!$B:$D,3,0),\"\")","v":""},{"$f":"IFERROR(VLOOKUP(AB1338,CadMP!$B:$D,3,0),\"\")","v":""},{"$f":"IFERROR(VLOOKUP(AC1338,CadMP!$B:$D,3,0),\"\")","v":""},{"$f":"IFERROR(VLOOKUP(AD1338,CadMP!$B:$D,3,0),\"\")","v":""},{"$f":"IFERROR(VLOOKUP(AE1338,CadMP!$B:$D,3,0),\"\")","v":""},{"$f":"IFERROR(VLOOKUP(AF1338,CadMP!$B:$D,3,0),\"\")","v":""},{"$f":"IFERROR(VLOOKUP(AG1338,CadMP!$B:$D,3,0),\"\")","v":""},{"$f":"IFERROR(VLOOKUP(AH1338,CadMP!$B:$D,3,0),\"\")","v":""},{"$f":"IFERROR(VLOOKUP(AI1338,CadMP!$B:$D,3,0),\"\")","v":""},{"$f":"IFERROR(VLOOKUP(AJ1338,CadMP!$B:$D,3,0),\"\")","v":""},{"$f":"IFERROR(VLOOKUP(AK1338,CadMP!$B:$D,3,0),\"\")","v":""},0,0,0,0,0,0,0,0,0,0,0,0,0,0,0]
[1356,null,null,0,0,null,null,null,null,null,null,0,0,null,null,null,null,null,null,null,1,0,null,null,null,null,null,null,null,null,null,null,null,null,null,null,null,null,null,null,null,null,null,null,null,null,null,null,null,null,null,null,{"$f":"IFERROR(VLOOKUP(W1357,CadMP!$B:$D,2,0),\"\")","v":""},{"$f":"IFERROR(VLOOKUP(X1357,CadMP!$B:$D,2,0),\"\")","v":""},{"$f":"IFERROR(VLOOKUP(Y1357,CadMP!$B:$D,2,0),\"\")","v":""},{"$f":"IFERROR(VLOOKUP(Z1357,CadMP!$B:$D,2,0),\"\")","v":""},{"$f":"IFERROR(VLOOKUP(AA1357,CadMP!$B:$D,2,0),\"\")","v":""},{"$f":"IFERROR(VLOOKUP(AB1357,CadMP!$B:$D,2,0),\"\")","v":""},{"$f":"IFERROR(VLOOKUP(AC1357,CadMP!$B:$D,2,0),\"\")","v":""},{"$f":"IFERROR(VLOOKUP(AD1357,CadMP!$B:$D,2,0),\"\")","v":""},{"$f":"IFERROR(VLOOKUP(AE1357,CadMP!$B:$D,2,0),\"\")","v":""},{"$f":"IFERROR(VLOOKUP(AF1357,CadMP!$B:$D,2,0),\"\")","v":""},{"$f":"IFERROR(VLOOKUP(AG1357,CadMP!$B:$D,2,0),\"\")","v":""},{"$f":"IFERROR(VLOOKUP(AH1357,CadMP!$B:$D,2,0),\"\")","v":""},{"$f":"IFERROR(VLOOKUP(AI1357,CadMP!$B:$D,2,0),\"\")","v":""},{"$f":"IFERROR(VLOOKUP(AJ1357,CadMP!$B:$D,2,0),\"\")","v":""},{"$f":"IFERROR(VLOOKUP(AK1357,CadMP!$B:$D,2,0),\"\")","v":""},{"$f":"IFERROR(VLOOKUP(W1357,CadMP!$B:$D,3,0),\"\")","v":""},{"$f":"IFERROR(VLOOKUP(X1357,CadMP!$B:$D,3,0),\"\")","v":""},{"$f":"IFERROR(VLOOKUP(Y1357,CadMP!$B:$D,3,0),\"\")","v":""},{"$f":"IFERROR(VLOOKUP(Z1357,CadMP!$B:$D,3,0),\"\")","v":""},{"$f":"IFERROR(VLOOKUP(AA1357,CadMP!$B:$D,3,0),\"\")","v":""},{"$f":"IFERROR(VLOOKUP(AB1357,CadMP!$B:$D,3,0),\"\")","v":""},{"$f":"IFERROR(VLOOKUP(AC1357,CadMP!$B:$D,3,0),\"\")","v":""},{"$f":"IFERROR(VLOOKUP(AD1357,CadMP!$B:$D,3,0),\"\")","v":""},{"$f":"IFERROR(VLOOKUP(AE1357,CadMP!$B:$D,3,0),\"\")","v":""},{"$f":"IFERROR(VLOOKUP(AF1357,CadMP!$B:$D,3,0),\"\")","v":""},{"$f":"IFERROR(VLOOKUP(AG1357,CadMP!$B:$D,3,0),\"\")","v":""},{"$f":"IFERROR(VLOOKUP(AH1357,CadMP!$B:$D,3,0),\"\")","v":""},{"$f":"IFERROR(VLOOKUP(AI1357,CadMP!$B:$D,3,0),\"\")","v":""},{"$f":"IFERROR(VLOOKUP(AJ1357,CadMP!$B:$D,3,0),\"\")","v":""},{"$f":"IFERROR(VLOOKUP(AK1357,CadMP!$B:$D,3,0),\"\")","v":""},0,0,0,0,0,0,0,0,0,0,0,0,0,0,0]
[1392,null,null,0,0,null,null,null,null,null,null,0,0,null,null,null,null,null,null,null,1,0,null,null,null,null,null,null,null,null,null,null,null,null,null,null,null,null,null,null,null,null,null,null,null,null,null,null,null,null,null,null,{"$f":"IFERROR(VLOOKUP(W1393,CadMP!$B:$D,2,0),\"\")","v":""},{"$f":"IFERROR(VLOOKUP(X1393,CadMP!$B:$D,2,0),\"\")","v":""},{"$f":"IFERROR(VLOOKUP(Y1393,CadMP!$B:$D,2,0),\"\")","v":""},{"$f":"IFERROR(VLOOKUP(Z1393,CadMP!$B:$D,2,0),\"\")","v":""},{"$f":"IFERROR(VLOOKUP(AA1393,CadMP!$B:$D,2,0),\"\")","v":""},{"$f":"IFERROR(VLOOKUP(AB1393,CadMP!$B:$D,2,0),\"\")","v":""},{"$f":"IFERROR(VLOOKUP(AC1393,CadMP!$B:$D,2,0),\"\")","v":""},{"$f":"IFERROR(VLOOKUP(AD1393,CadMP!$B:$D,2,0),\"\")","v":""},{"$f":"IFERROR(VLOOKUP(AE1393,CadMP!$B:$D,2,0),\"\")","v":""},{"$f":"IFERROR(VLOOKUP(AF1393,CadMP!$B:$D,2,0),\"\")","v":""},{"$f":"IFERROR(VLOOKUP(AG1393,CadMP!$B:$D,2,0),\"\")","v":""},{"$f":"IFERROR(VLOOKUP(AH1393,CadMP!$B:$D,2,0),\"\")","v":""},{"$f":"IFERROR(VLOOKUP(AI1393,CadMP!$B:$D,2,0),\"\")","v":""},{"$f":"IFERROR(VLOOKUP(AJ1393,CadMP!$B:$D,2,0),\"\")","v":""},{"$f":"IFERROR(VLOOKUP(AK1393,CadMP!$B:$D,2,0),\"\")","v":""},{"$f":"IFERROR(VLOOKUP(W1393,CadMP!$B:$D,3,0),\"\")","v":""},{"$f":"IFERROR(VLOOKUP(X1393,CadMP!$B:$D,3,0),\"\")","v":""},{"$f":"IFERROR(VLOOKUP(Y1393,CadMP!$B:$D,3,0),\"\")","v":""},{"$f":"IFERROR(VLOOKUP(Z1393,CadMP!$B:$D,3,0),\"\")","v":""},{"$f":"IFERROR(VLOOKUP(AA1393,CadMP!$B:$D,3,0),\"\")","v":""},{"$f":"IFERROR(VLOOKUP(AB1393,CadMP!$B:$D,3,0),\"\")","v":""},{"$f":"IFERROR(VLOOKUP(AC1393,CadMP!$B:$D,3,0),\"\")","v":""},{"$f":"IFERROR(VLOOKUP(AD1393,CadMP!$B:$D,3,0),\"\")","v":""},{"$f":"IFERROR(VLOOKUP(AE1393,CadMP!$B:$D,3,0),\"\")","v":""},{"$f":"IFERROR(VLOOKUP(AF1393,CadMP!$B:$D,3,0),\"\")","v":""},{"$f":"IFERROR(VLOOKUP(AG1393,CadMP!$B:$D,3,0),\"\")","v":""},{"$f":"IFERROR(VLOOKUP(AH1393,CadMP!$B:$D,3,0),\"\")","v":""},{"$f":"IFERROR(VLOOKUP(AI1393,CadMP!$B:$D,3,0),\"\")","v":""},{"$f":"IFERROR(VLOOKUP(AJ1393,CadMP!$B:$D,3,0),\"\")","v":""},{"$f":"IFERROR(VLOOKUP(AK1393,CadMP!$B:$D,3,0),\"\")","v":""},0,0,0,0,0,0,0,0,0,0,0,0,0,0,0]
[1399,null,null,0,0,null,null,null,null,null,null,0,0,null,null,null,null,null,null,null,1,0,null,null,null,null,null,null,null,null,null,null,null,null,null,null,null,null,null,null,null,null,null,null,null,null,null,null,null,null,null,null,{"$f":"IFERROR(VLOOKUP(W1400,CadMP!$B:$D,2,0),\"\")","v":""},{"$f":"IFERROR(VLOOKUP(X1400,CadMP!$B:$D,2,0),\"\")","v":""},{"$f":"IFERROR(VLOOKUP(Y1400,CadMP!$B:$D,2,0),\"\")","v":""},{"$f":"IFERROR(VLOOKUP(Z1400,CadMP!$B:$D,2,0),\"\")","v":""},{"$f":"IFERROR(VLOOKUP(AA1400,CadMP!$B:$D,2,0),\"\")","v":""},{"$f":"IFERROR(VLOOKUP(AB1400,CadMP!$B:$D,2,0),\"\")","v":""},{"$f":"IFERROR(VLOOKUP(AC1400,CadMP!$B:$D,2,0),\"\")","v":""},{"$f":"IFERROR(VLOOKUP(AD1400,CadMP!$B:$D,2,0),\"\")","v":""},{"$f":"IFERROR(VLOOKUP(AE1400,CadMP!$B:$D,2,0),\"\")","v":""},{"$f":"IFERROR(VLOOKUP(AF1400,CadMP!$B:$D,2,0),\"\")","v":""},{"$f":"IFERROR(VLOOKUP(AG1400,CadMP!$B:$D,2,0),\"\")","v":""},{"$f":"IFERROR(VLOOKUP(AH1400,CadMP!$B:$D,2,0),\"\")","v":""},{"$f":"IFERROR(VLOOKUP(AI1400,CadMP!$B:$D,2,0),\"\")","v":""},{"$f":"IFERROR(VLOOKUP(AJ1400,CadMP!$B:$D,2,0),\"\")","v":""},{"$f":"IFERROR(VLOOKUP(AK1400,CadMP!$B:$D,2,0),\"\")","v":""},{"$f":"IFERROR(VLOOKUP(W1400,CadMP!$B:$D,3,0),\"\")","v":""},{"$f":"IFERROR(VLOOKUP(X1400,CadMP!$B:$D,3,0),\"\")","v":""},{"$f":"IFERROR(VLOOKUP(Y1400,CadMP!$B:$D,3,0),\"\")","v":""},{"$f":"IFERROR(VLOOKUP(Z1400,CadMP!$B:$D,3,0),\"\")","v":""},{"$f":"IFERROR(VLOOKUP(AA1400,CadMP!$B:$D,3,0),\"\")","v":""},{"$f":"IFERROR(VLOOKUP(AB1400,CadMP!$B:$D,3,0),\"\")","v":""},{"$f":"IFERROR(VLOOKUP(AC1400,CadMP!$B:$D,3,0),\"\")","v":""},{"$f":"IFERROR(VLOOKUP(AD1400,CadMP!$B:$D,3,0),\"\")","v":""},{"$f":"IFERROR(VLOOKUP(AE1400,CadMP!$B:$D,3,0),\"\")","v":""},{"$f":"IFERROR(VLOOKUP(AF1400,CadMP!$B:$D,3,0),\"\")","v":""},{"$f":"IFERROR(VLOOKUP(AG1400,CadMP!$B:$D,3,0),\"\")","v":""},{"$f":"IFERROR(VLOOKUP(AH1400,CadMP!$B:$D,3,0),\"\")","v":""},{"$f":"IFERROR(VLOOKUP(AI1400,CadMP!$B:$D,3,0),\"\")","v":""},{"$f":"IFERROR(VLOOKUP(AJ1400,CadMP!$B:$D,3,0),\"\")","v":""},{"$f":"IFERROR(VLOOKUP(AK1400,CadMP!$B:$D,3,0),\"\")","v":""},0,0,0,0,0,0,0,0,0,0,0,0,0,0,0]
[1418,null,null,0,0,null,null,null,null,null,null,0,0,null,null,null,null,null,null,null,1,0,null,null,null,null,null,null,null,null,null,null,null,null,null,null,null,null,null,null,null,null,null,null,null,null,null,null,null,null,null,null,{"$f":"IFERROR(VLOOKUP(W1419,CadMP!$B:$D,2,0),\"\")","v":""},{"$f":"IFERROR(VLOOKUP(X1419,CadMP!$B:$D,2,0),\"\")","v":""},{"$f":"IFERROR(VLOOKUP(Y1419,CadMP!$B:$D,2,0),\"\")","v":""},{"$f":"IFERROR(VLOOKUP(Z1419,CadMP!$B:$D,2,0),\"\")","v":""},{"$f":"IFERROR(VLOOKUP(AA1419,CadMP!$B:$D,2,0),\"\")","v":""},{"$f":"IFERROR(VLOOKUP(AB1419,CadMP!$B:$D,2,0),\"\")","v":""},{"$f":"IFERROR(VLOOKUP(AC1419,CadMP!$B:$D,2,0),\"\")","v":""},{"$f":"IFERROR(VLOOKUP(AD1419,CadMP!$B:$D,2,0),\"\")","v":""},{"$f":"IFERROR(VLOOKUP(AE1419,CadMP!$B:$D,2,0),\"\")","v":""},{"$f":"IFERROR(VLOOKUP(AF1419,CadMP!$B:$D,2,0),\"\")","v":""},{"$f":"IFERROR(VLOOKUP(AG1419,CadMP!$B:$D,2,0),\"\")","v":""},{"$f":"IFERROR(VLOOKUP(AH1419,CadMP!$B:$D,2,0),\"\")","v":""},{"$f":"IFERROR(VLOOKUP(AI1419,CadMP!$B:$D,2,0),\"\")","v":""},{"$f":"IFERROR(VLOOKUP(AJ1419,CadMP!$B:$D,2,0),\"\")","v":""},{"$f":"IFERROR(VLOOKUP(AK1419,CadMP!$B:$D,2,0),\"\")","v":""},{"$f":"IFERROR(VLOOKUP(W1419,CadMP!$B:$D,3,0),\"\")","v":""},{"$f":"IFERROR(VLOOKUP(X1419,CadMP!$B:$D,3,0),\"\")","v":""},{"$f":"IFERROR(VLOOKUP(Y1419,CadMP!$B:$D,3,0),\"\")","v":""},{"$f":"IFERROR(VLOOKUP(Z1419,CadMP!$B:$D,3,0),\"\")","v":""},{"$f":"IFERROR(VLOOKUP(AA1419,CadMP!$B:$D,3,0),\"\")","v":""},{"$f":"IFERROR(VLOOKUP(AB1419,CadMP!$B:$D,3,0),\"\")","v":""},{"$f":"IFERROR(VLOOKUP(AC1419,CadMP!$B:$D,3,0),\"\")","v":""},{"$f":"IFERROR(VLOOKUP(AD1419,CadMP!$B:$D,3,0),\"\")","v":""},{"$f":"IFERROR(VLOOKUP(AE1419,CadMP!$B:$D,3,0),\"\")","v":""},{"$f":"IFERROR(VLOOKUP(AF1419,CadMP!$B:$D,3,0),\"\")","v":""},{"$f":"IFERROR(VLOOKUP(AG1419,CadMP!$B:$D,3,0),\"\")","v":""},{"$f":"IFERROR(VLOOKUP(AH1419,CadMP!$B:$D,3,0),\"\")","v":""},{"$f":"IFERROR(VLOOKUP(AI1419,CadMP!$B:$D,3,0),\"\")","v":""},{"$f":"IFERROR(VLOOKUP(AJ1419,CadMP!$B:$D,3,0),\"\")","v":""},{"$f":"IFERROR(VLOOKUP(AK1419,CadMP!$B:$D,3,0),\"\")","v":""},0,0,0,0,0,0,0,0,0,0,0,0,0,0,0]
[1443,null,null,0,0,null,null,null,null,null,null,0,0,null,null,null,null,null,null,null,1,0,null,null,null,null,null,null,null,null,null,null,null,null,null,null,null,null,null,null,null,null,null,null,null,null,null,null,null,null,null,null,{"$f":"IFERROR(VLOOKUP(W1444,CadMP!$B:$D,2,0),\"\")","v":""},{"$f":"IFERROR(VLOOKUP(X1444,CadMP!$B:$D,2,0),\"\")","v":""},{"$f":"IFERROR(VLOOKUP(Y1444,CadMP!$B:$D,2,0),\"\")","v":""},{"$f":"IFERROR(VLOOKUP(Z1444,CadMP!$B:$D,2,0),\"\")","v":""},{"$f":"IFERROR(VLOOKUP(AA1444,CadMP!$B:$D,2,0),\"\")","v":""},{"$f":"IFERROR(VLOOKUP(AB1444,CadMP!$B:$D,2,0),\"\")","v":""},{"$f":"IFERROR(VLOOKUP(AC1444,CadMP!$B:$D,2,0),\"\")","v":""},{"$f":"IFERROR(VLOOKUP(AD1444,CadMP!$B:$D,2,0),\"\")","v":""},{"$f":"IFERROR(VLOOKUP(AE1444,CadMP!$B:$D,2,0),\"\")","v":""},{"$f":"IFERROR(VLOOKUP(AF1444,CadMP!$B:$D,2,0),\"\")","v":""},{"$f":"IFERROR(VLOOKUP(AG1444,CadMP!$B:$D,2,0),\"\")","v":""},{"$f":"IFERROR(VLOOKUP(AH1444,CadMP!$B:$D,2,0),\"\")","v":""},{"$f":"IFERROR(VLOOKUP(AI1444,CadMP!$B:$D,2,0),\"\")","v":""},{"$f":"IFERROR(VLOOKUP(AJ1444,CadMP!$B:$D,2,0),\"\")","v":""},{"$f":"IFERROR(VLOOKUP(AK1444,CadMP!$B:$D,2,0),\"\")","v":""},{"$f":"IFERROR(VLOOKUP(W1444,CadMP!$B:$D,3,0),\"\")","v":""},{"$f":"IFERROR(VLOOKUP(X1444,CadMP!$B:$D,3,0),\"\")","v":""},{"$f":"IFERROR(VLOOKUP(Y1444,CadMP!$B:$D,3,0),\"\")","v":""},{"$f":"IFERROR(VLOOKUP(Z1444,CadMP!$B:$D,3,0),\"\")","v":""},{"$f":"IFERROR(VLOOKUP(AA1444,CadMP!$B:$D,3,0),\"\")","v":""},{"$f":"IFERROR(VLOOKUP(AB1444,CadMP!$B:$D,3,0),\"\")","v":""},{"$f":"IFERROR(VLOOKUP(AC1444,CadMP!$B:$D,3,0),\"\")","v":""},{"$f":"IFERROR(VLOOKUP(AD1444,CadMP!$B:$D,3,0),\"\")","v":""},{"$f":"IFERROR(VLOOKUP(AE1444,CadMP!$B:$D,3,0),\"\")","v":""},{"$f":"IFERROR(VLOOKUP(AF1444,CadMP!$B:$D,3,0),\"\")","v":""},{"$f":"IFERROR(VLOOKUP(AG1444,CadMP!$B:$D,3,0),\"\")","v":""},{"$f":"IFERROR(VLOOKUP(AH1444,CadMP!$B:$D,3,0),\"\")","v":""},{"$f":"IFERROR(VLOOKUP(AI1444,CadMP!$B:$D,3,0),\"\")","v":""},{"$f":"IFERROR(VLOOKUP(AJ1444,CadMP!$B:$D,3,0),\"\")","v":""},{"$f":"IFERROR(VLOOKUP(AK1444,CadMP!$B:$D,3,0),\"\")","v":""},0,0,0,0,0,0,0,0,0,0,0,0,0,0,0]
[1451,null,null,0,0,null,null,null,null,null,null,0,0,null,null,null,null,null,null,null,1,0,null,null,null,null,null,null,null,null,null,null,null,null,null,null,null,null,null,null,null,null,null,null,null,null,null,null,null,null,null,null,{"$f":"IFERROR(VLOOKUP(W1452,CadMP!$B:$D,2,0),\"\")","v":""},{"$f":"IFERROR(VLOOKUP(X1452,CadMP!$B:$D,2,0),\"\")","v":""},{"$f":"IFERROR(VLOOKUP(Y1452,CadMP!$B:$D,2,0),\"\")","v":""},{"$f":"IFERROR(VLOOKUP(Z1452,CadMP!$B:$D,2,0),\"\")","v":""},{"$f":"IFERROR(VLOOKUP(AA1452,CadMP!$B:$D,2,0),\"\")","v":""},{"$f":"IFERROR(VLOOKUP(AB1452,CadMP!$B:$D,2,0),\"\")","v":""},{"$f":"IFERROR(VLOOKUP(AC1452,CadMP!$B:$D,2,0),\"\")","v":""},{"$f":"IFERROR(VLOOKUP(AD1452,CadMP!$B:$D,2,0),\"\")","v":""},{"$f":"IFERROR(VLOOKUP(AE1452,CadMP!$B:$D,2,0),\"\")","v":""},{"$f":"IFERROR(VLOOKUP(AF1452,CadMP!$B:$D,2,0),\"\")","v":""},{"$f":"IFERROR(VLOOKUP(AG1452,CadMP!$B:$D,2,0),\"\")","v":""},{"$f":"IFERROR(VLOOKUP(AH1452,CadMP!$B:$D,2,0),\"\")","v":""},{"$f":"IFERROR(VLOOKUP(AI1452,CadMP!$B:$D,2,0),\"\")","v":""},{"$f":"IFERROR(VLOOKUP(AJ1452,CadMP!$B:$D,2,0),\"\")","v":""},{"$f":"IFERROR(VLOOKUP(AK1452,CadMP!$B:$D,2,0),\"\")","v":""},{"$f":"IFERROR(VLOOKUP(W1452,CadMP!$B:$D,3,0),\"\")","v":""},{"$f":"IFERROR(VLOOKUP(X1452,CadMP!$B:$D,3,0),\"\")","v":""},{"$f":"IFERROR(VLOOKUP(Y1452,CadMP!$B:$D,3,0),\"\")","v":""},{"$f":"IFERROR(VLOOKUP(Z1452,CadMP!$B:$D,3,0),\"\")","v":""},{"$f":"IFERROR(VLOOKUP(AA1452,CadMP!$B:$D,3,0),\"\")","v":""},{"$f":"IFERROR(VLOOKUP(AB1452,CadMP!$B:$D,3,0),\"\")","v":""},{"$f":"IFERROR(VLOOKUP(AC1452,CadMP!$B:$D,3,0),\"\")","v":""},{"$f":"IFERROR(VLOOKUP(AD1452,CadMP!$B:$D,3,0),\"\")","v":""},{"$f":"IFERROR(VLOOKUP(AE1452,CadMP!$B:$D,3,0),\"\")","v":""},{"$f":"IFERROR(VLOOKUP(AF1452,CadMP!$B:$D,3,0),\"\")","v":""},{"$f":"IFERROR(VLOOKUP(AG1452,CadMP!$B:$D,3,0),\"\")","v":""},{"$f":"IFERROR(VLOOKUP(AH1452,CadMP!$B:$D,3,0),\"\")","v":""},{"$f":"IFERROR(VLOOKUP(AI1452,CadMP!$B:$D,3,0),\"\")","v":""},{"$f":"IFERROR(VLOOKUP(AJ1452,CadMP!$B:$D,3,0),\"\")","v":""},{"$f":"IFERROR(VLOOKUP(AK1452,CadMP!$B:$D,3,0),\"\")","v":""},0,0,0,0,0,0,0,0,0,0,0,0,0,0,0]
[1480,null,null,0,0,null,null,null,null,null,null,0,0,null,null,null,null,null,null,null,1,0,null,null,null,null,null,null,null,null,null,null,null,null,null,null,null,null,null,null,null,null,null,null,null,null,null,null,null,null,null,null,{"$f":"IFERROR(VLOOKUP(W1481,CadMP!$B:$D,2,0),\"\")","v":""},{"$f":"IFERROR(VLOOKUP(X1481,CadMP!$B:$D,2,0),\"\")","v":""},{"$f":"IFERROR(VLOOKUP(Y1481,CadMP!$B:$D,2,0),\"\")","v":""},{"$f":"IFERROR(VLOOKUP(Z1481,CadMP!$B:$D,2,0),\"\")","v":""},{"$f":"IFERROR(VLOOKUP(AA1481,CadMP!$B:$D,2,0),\"\")","v":""},{"$f":"IFERROR(VLOOKUP(AB1481,CadMP!$B:$D,2,0),\"\")","v":""},{"$f":"IFERROR(VLOOKUP(AC1481,CadMP!$B:$D,2,0),\"\")","v":""},{"$f":"IFERROR(VLOOKUP(AD1481,CadMP!$B:$D,2,0),\"\")","v":""},{"$f":"IFERROR(VLOOKUP(AE1481,CadMP!$B:$D,2,0),\"\")","v":""},{"$f":"IFERROR(VLOOKUP(AF1481,CadMP!$B:$D,2,0),\"\")","v":""},{"$f":"IFERROR(VLOOKUP(AG1481,CadMP!$B:$D,2,0),\"\")","v":""},{"$f":"IFERROR(VLOOKUP(AH1481,CadMP!$B:$D,2,0),\"\")","v":""},{"$f":"IFERROR(VLOOKUP(AI1481,CadMP!$B:$D,2,0),\"\")","v":""},{"$f":"IFERROR(VLOOKUP(AJ1481,CadMP!$B:$D,2,0),\"\")","v":""},{"$f":"IFERROR(VLOOKUP(AK1481,CadMP!$B:$D,2,0),\"\")","v":""},{"$f":"IFERROR(VLOOKUP(W1481,CadMP!$B:$D,3,0),\"\")","v":""},{"$f":"IFERROR(VLOOKUP(X1481,CadMP!$B:$D,3,0),\"\")","v":""},{"$f":"IFERROR(VLOOKUP(Y1481,CadMP!$B:$D,3,0),\"\")","v":""},{"$f":"IFERROR(VLOOKUP(Z1481,CadMP!$B:$D,3,0),\"\")","v":""},{"$f":"IFERROR(VLOOKUP(AA1481,CadMP!$B:$D,3,0),\"\")","v":""},{"$f":"IFERROR(VLOOKUP(AB1481,CadMP!$B:$D,3,0),\"\")","v":""},{"$f":"IFERROR(VLOOKUP(AC1481,CadMP!$B:$D,3,0),\"\")","v":""},{"$f":"IFERROR(VLOOKUP(AD1481,CadMP!$B:$D,3,0),\"\")","v":""},{"$f":"IFERROR(VLOOKUP(AE1481,CadMP!$B:$D,3,0),\"\")","v":""},{"$f":"IFERROR(VLOOKUP(AF1481,CadMP!$B:$D,3,0),\"\")","v":""},{"$f":"IFERROR(VLOOKUP(AG1481,CadMP!$B:$D,3,0),\"\")","v":""},{"$f":"IFERROR(VLOOKUP(AH1481,CadMP!$B:$D,3,0),\"\")","v":""},{"$f":"IFERROR(VLOOKUP(AI1481,CadMP!$B:$D,3,0),\"\")","v":""},{"$f":"IFERROR(VLOOKUP(AJ1481,CadMP!$B:$D,3,0),\"\")","v":""},{"$f":"IFERROR(VLOOKUP(AK1481,CadMP!$B:$D,3,0),\"\")","v":""},0,0,0,0,0,0,0,0,0,0,0,0,0,0,0]
[1505,null,null,0,0,null,null,null,null,null,null,0,0,null,null,null,null,null,null,null,1,0,null,null,null,null,null,null,null,null,null,null,null,null,null,null,null,null,null,null,null,null,null,null,null,null,null,null,null,null,null,null,{"$f":"IFERROR(VLOOKUP(W1506,CadMP!$B:$D,2,0),\"\")","v":""},{"$f":"IFERROR(VLOOKUP(X1506,CadMP!$B:$D,2,0),\"\")","v":""},{"$f":"IFERROR(VLOOKUP(Y1506,CadMP!$B:$D,2,0),\"\")","v":""},{"$f":"IFERROR(VLOOKUP(Z1506,CadMP!$B:$D,2,0),\"\")","v":""},{"$f":"IFERROR(VLOOKUP(AA1506,CadMP!$B:$D,2,0),\"\")","v":""},{"$f":"IFERROR(VLOOKUP(AB1506,CadMP!$B:$D,2,0),\"\")","v":""},{"$f":"IFERROR(VLOOKUP(AC1506,CadMP!$B:$D,2,0),\"\")","v":""},{"$f":"IFERROR(VLOOKUP(AD1506,CadMP!$B:$D,2,0),\"\")","v":""},{"$f":"IFERROR(VLOOKUP(AE1506,CadMP!$B:$D,2,0),\"\")","v":""},{"$f":"IFERROR(VLOOKUP(AF1506,CadMP!$B:$D,2,0),\"\")","v":""},{"$f":"IFERROR(VLOOKUP(AG1506,CadMP!$B:$D,2,0),\"\")","v":""},{"$f":"IFERROR(VLOOKUP(AH1506,CadMP!$B:$D,2,0),\"\")","v":""},{"$f":"IFERROR(VLOOKUP(AI1506,CadMP!$B:$D,2,0),\"\")","v":""},{"$f":"IFERROR(VLOOKUP(AJ1506,CadMP!$B:$D,2,0),\"\")","v":""},{"$f":"IFERROR(VLOOKUP(AK1506,CadMP!$B:$D,2,0),\"\")","v":""},{"$f":"IFERROR(VLOOKUP(W1506,CadMP!$B:$D,3,0),\"\")","v":""},{"$f":"IFERROR(VLOOKUP(X1506,CadMP!$B:$D,3,0),\"\")","v":""},{"$f":"IFERROR(VLOOKUP(Y1506,CadMP!$B:$D,3,0),\"\")","v":""},{"$f":"IFERROR(VLOOKUP(Z1506,CadMP!$B:$D,3,0),\"\")","v":""},{"$f":"IFERROR(VLOOKUP(AA1506,CadMP!$B:$D,3,0),\"\")","v":""},{"$f":"IFERROR(VLOOKUP(AB1506,CadMP!$B:$D,3,0),\"\")","v":""},{"$f":"IFERROR(VLOOKUP(AC1506,CadMP!$B:$D,3,0),\"\")","v":""},{"$f":"IFERROR(VLOOKUP(AD1506,CadMP!$B:$D,3,0),\"\")","v":""},{"$f":"IFERROR(VLOOKUP(AE1506,CadMP!$B:$D,3,0),\"\")","v":""},{"$f":"IFERROR(VLOOKUP(AF1506,CadMP!$B:$D,3,0),\"\")","v":""},{"$f":"IFERROR(VLOOKUP(AG1506,CadMP!$B:$D,3,0),\"\")","v":""},{"$f":"IFERROR(VLOOKUP(AH1506,CadMP!$B:$D,3,0),\"\")","v":""},{"$f":"IFERROR(VLOOKUP(AI1506,CadMP!$B:$D,3,0),\"\")","v":""},{"$f":"IFERROR(VLOOKUP(AJ1506,CadMP!$B:$D,3,0),\"\")","v":""},{"$f":"IFERROR(VLOOKUP(AK1506,CadMP!$B:$D,3,0),\"\")","v":""},0,0,0,0,0,0,0,0,0,0,0,0,0,0,0]
[1524,null,null,0,0,null,null,null,null,null,null,0,0,null,null,null,null,null,null,null,1,0,null,null,null,null,null,null,null,null,null,null,null,null,null,null,null,null,null,null,null,null,null,null,null,null,null,null,null,null,null,null,{"$f":"IFERROR(VLOOKUP(W1525,CadMP!$B:$D,2,0),\"\")","v":""},{"$f":"IFERROR(VLOOKUP(X1525,CadMP!$B:$D,2,0),\"\")","v":""},{"$f":"IFERROR(VLOOKUP(Y1525,CadMP!$B:$D,2,0),\"\")","v":""},{"$f":"IFERROR(VLOOKUP(Z1525,CadMP!$B:$D,2,0),\"\")","v":""},{"$f":"IFERROR(VLOOKUP(AA1525,CadMP!$B:$D,2,0),\"\")","v":""},{"$f":"IFERROR(VLOOKUP(AB1525,CadMP!$B:$D,2,0),\"\")","v":""},{"$f":"IFERROR(VLOOKUP(AC1525,CadMP!$B:$D,2,0),\"\")","v":""},{"$f":"IFERROR(VLOOKUP(AD1525,CadMP!$B:$D,2,0),\"\")","v":""},{"$f":"IFERROR(VLOOKUP(AE1525,CadMP!$B:$D,2,0),\"\")","v":""},{"$f":"IFERROR(VLOOKUP(AF1525,CadMP!$B:$D,2,0),\"\")","v":""},{"$f":"IFERROR(VLOOKUP(AG1525,CadMP!$B:$D,2,0),\"\")","v":""},{"$f":"IFERROR(VLOOKUP(AH1525,CadMP!$B:$D,2,0),\"\")","v":""},{"$f":"IFERROR(VLOOKUP(AI1525,CadMP!$B:$D,2,0),\"\")","v":""},{"$f":"IFERROR(VLOOKUP(AJ1525,CadMP!$B:$D,2,0),\"\")","v":""},{"$f":"IFERROR(VLOOKUP(AK1525,CadMP!$B:$D,2,0),\"\")","v":""},{"$f":"IFERROR(VLOOKUP(W1525,CadMP!$B:$D,3,0),\"\")","v":""},{"$f":"IFERROR(VLOOKUP(X1525,CadMP!$B:$D,3,0),\"\")","v":""},{"$f":"IFERROR(VLOOKUP(Y1525,CadMP!$B:$D,3,0),\"\")","v":""},{"$f":"IFERROR(VLOOKUP(Z1525,CadMP!$B:$D,3,0),\"\")","v":""},{"$f":"IFERROR(VLOOKUP(AA1525,CadMP!$B:$D,3,0),\"\")","v":""},{"$f":"IFERROR(VLOOKUP(AB1525,CadMP!$B:$D,3,0),\"\")","v":""},{"$f":"IFERROR(VLOOKUP(AC1525,CadMP!$B:$D,3,0),\"\")","v":""},{"$f":"IFERROR(VLOOKUP(AD1525,CadMP!$B:$D,3,0),\"\")","v":""},{"$f":"IFERROR(VLOOKUP(AE1525,CadMP!$B:$D,3,0),\"\")","v":""},{"$f":"IFERROR(VLOOKUP(AF1525,CadMP!$B:$D,3,0),\"\")","v":""},{"$f":"IFERROR(VLOOKUP(AG1525,CadMP!$B:$D,3,0),\"\")","v":""},{"$f":"IFERROR(VLOOKUP(AH1525,CadMP!$B:$D,3,0),\"\")","v":""},{"$f":"IFERROR(VLOOKUP(AI1525,CadMP!$B:$D,3,0),\"\")","v":""},{"$f":"IFERROR(VLOOKUP(AJ1525,CadMP!$B:$D,3,0),\"\")","v":""},{"$f":"IFERROR(VLOOKUP(AK1525,CadMP!$B:$D,3,0),\"\")","v":""},0,0,0,0,0,0,0,0,0,0,0,0,0,0,0]
[1542,null,null,0,0,null,null,null,null,null,null,0,0,null,null,null,null,null,null,null,1,0,null,null,null,null,null,null,null,null,null,null,null,null,null,null,null,null,null,null,null,null,null,null,null,null,null,null,null,null,null,null,{"$f":"IFERROR(VLOOKUP(W1543,CadMP!$B:$D,2,0),\"\")","v":""},{"$f":"IFERROR(VLOOKUP(X1543,CadMP!$B:$D,2,0),\"\")","v":""},{"$f":"IFERROR(VLOOKUP(Y1543,CadMP!$B:$D,2,0),\"\")","v":""},{"$f":"IFERROR(VLOOKUP(Z1543,CadMP!$B:$D,2,0),\"\")","v":""},{"$f":"IFERROR(VLOOKUP(AA1543,CadMP!$B:$D,2,0),\"\")","v":""},{"$f":"IFERROR(VLOOKUP(AB1543,CadMP!$B:$D,2,0),\"\")","v":""},{"$f":"IFERROR(VLOOKUP(AC1543,CadMP!$B:$D,2,0),\"\")","v":""},{"$f":"IFERROR(VLOOKUP(AD1543,CadMP!$B:$D,2,0),\"\")","v":""},{"$f":"IFERROR(VLOOKUP(AE1543,CadMP!$B:$D,2,0),\"\")","v":""},{"$f":"IFERROR(VLOOKUP(AF1543,CadMP!$B:$D,2,0),\"\")","v":""},{"$f":"IFERROR(VLOOKUP(AG1543,CadMP!$B:$D,2,0),\"\")","v":""},{"$f":"IFERROR(VLOOKUP(AH1543,CadMP!$B:$D,2,0),\"\")","v":""},{"$f":"IFERROR(VLOOKUP(AI1543,CadMP!$B:$D,2,0),\"\")","v":""},{"$f":"IFERROR(VLOOKUP(AJ1543,CadMP!$B:$D,2,0),\"\")","v":""},{"$f":"IFERROR(VLOOKUP(AK1543,CadMP!$B:$D,2,0),\"\")","v":""},{"$f":"IFERROR(VLOOKUP(W1543,CadMP!$B:$D,3,0),\"\")","v":""},{"$f":"IFERROR(VLOOKUP(X1543,CadMP!$B:$D,3,0),\"\")","v":""},{"$f":"IFERROR(VLOOKUP(Y1543,CadMP!$B:$D,3,0),\"\")","v":""},{"$f":"IFERROR(VLOOKUP(Z1543,CadMP!$B:$D,3,0),\"\")","v":""},{"$f":"IFERROR(VLOOKUP(AA1543,CadMP!$B:$D,3,0),\"\")","v":""},{"$f":"IFERROR(VLOOKUP(AB1543,CadMP!$B:$D,3,0),\"\")","v":""},{"$f":"IFERROR(VLOOKUP(AC1543,CadMP!$B:$D,3,0),\"\")","v":""},{"$f":"IFERROR(VLOOKUP(AD1543,CadMP!$B:$D,3,0),\"\")","v":""},{"$f":"IFERROR(VLOOKUP(AE1543,CadMP!$B:$D,3,0),\"\")","v":""},{"$f":"IFERROR(VLOOKUP(AF1543,CadMP!$B:$D,3,0),\"\")","v":""},{"$f":"IFERROR(VLOOKUP(AG1543,CadMP!$B:$D,3,0),\"\")","v":""},{"$f":"IFERROR(VLOOKUP(AH1543,CadMP!$B:$D,3,0),\"\")","v":""},{"$f":"IFERROR(VLOOKUP(AI1543,CadMP!$B:$D,3,0),\"\")","v":""},{"$f":"IFERROR(VLOOKUP(AJ1543,CadMP!$B:$D,3,0),\"\")","v":""},{"$f":"IFERROR(VLOOKUP(AK1543,CadMP!$B:$D,3,0),\"\")","v":""},0,0,0,0,0,0,0,0,0,0,0,0,0,0,0]
[1548,null,null,0,0,null,null,null,null,null,null,0,0,null,null,null,null,null,null,null,1,0,null,null,null,null,null,null,null,null,null,null,null,null,null,null,null,null,null,null,null,null,null,null,null,null,null,null,null,null,null,null,{"$f":"IFERROR(VLOOKUP(W1549,CadMP!$B:$D,2,0),\"\")","v":""},{"$f":"IFERROR(VLOOKUP(X1549,CadMP!$B:$D,2,0),\"\")","v":""},{"$f":"IFERROR(VLOOKUP(Y1549,CadMP!$B:$D,2,0),\"\")","v":""},{"$f":"IFERROR(VLOOKUP(Z1549,CadMP!$B:$D,2,0),\"\")","v":""},{"$f":"IFERROR(VLOOKUP(AA1549,CadMP!$B:$D,2,0),\"\")","v":""},{"$f":"IFERROR(VLOOKUP(AB1549,CadMP!$B:$D,2,0),\"\")","v":""},{"$f":"IFERROR(VLOOKUP(AC1549,CadMP!$B:$D,2,0),\"\")","v":""},{"$f":"IFERROR(VLOOKUP(AD1549,CadMP!$B:$D,2,0),\"\")","v":""},{"$f":"IFERROR(VLOOKUP(AE1549,CadMP!$B:$D,2,0),\"\")","v":""},{"$f":"IFERROR(VLOOKUP(AF1549,CadMP!$B:$D,2,0),\"\")","v":""},{"$f":"IFERROR(VLOOKUP(AG1549,CadMP!$B:$D,2,0),\"\")","v":""},{"$f":"IFERROR(VLOOKUP(AH1549,CadMP!$B:$D,2,0),\"\")","v":""},{"$f":"IFERROR(VLOOKUP(AI1549,CadMP!$B:$D,2,0),\"\")","v":""},{"$f":"IFERROR(VLOOKUP(AJ1549,CadMP!$B:$D,2,0),\"\")","v":""},{"$f":"IFERROR(VLOOKUP(AK1549,CadMP!$B:$D,2,0),\"\")","v":""},{"$f":"IFERROR(VLOOKUP(W1549,CadMP!$B:$D,3,0),\"\")","v":""},{"$f":"IFERROR(VLOOKUP(X1549,CadMP!$B:$D,3,0),\"\")","v":""},{"$f":"IFERROR(VLOOKUP(Y1549,CadMP!$B:$D,3,0),\"\")","v":""},{"$f":"IFERROR(VLOOKUP(Z1549,CadMP!$B:$D,3,0),\"\")","v":""},{"$f":"IFERROR(VLOOKUP(AA1549,CadMP!$B:$D,3,0),\"\")","v":""},{"$f":"IFERROR(VLOOKUP(AB1549,CadMP!$B:$D,3,0),\"\")","v":""},{"$f":"IFERROR(VLOOKUP(AC1549,CadMP!$B:$D,3,0),\"\")","v":""},{"$f":"IFERROR(VLOOKUP(AD1549,CadMP!$B:$D,3,0),\"\")","v":""},{"$f":"IFERROR(VLOOKUP(AE1549,CadMP!$B:$D,3,0),\"\")","v":""},{"$f":"IFERROR(VLOOKUP(AF1549,CadMP!$B:$D,3,0),\"\")","v":""},{"$f":"IFERROR(VLOOKUP(AG1549,CadMP!$B:$D,3,0),\"\")","v":""},{"$f":"IFERROR(VLOOKUP(AH1549,CadMP!$B:$D,3,0),\"\")","v":""},{"$f":"IFERROR(VLOOKUP(AI1549,CadMP!$B:$D,3,0),\"\")","v":""},{"$f":"IFERROR(VLOOKUP(AJ1549,CadMP!$B:$D,3,0),\"\")","v":""},{"$f":"IFERROR(VLOOKUP(AK1549,CadMP!$B:$D,3,0),\"\")","v":""},0,0,0,0,0,0,0,0,0,0,0,0,0,0,0]
[1567,null,null,0,0,null,null,null,null,null,null,0,0,null,null,null,null,null,null,null,1,0,null,null,null,null,null,null,null,null,null,null,null,null,null,null,null,null,null,null,null,null,null,null,null,null,null,null,null,null,null,null,{"$f":"IFERROR(VLOOKUP(W1568,CadMP!$B:$D,2,0),\"\")","v":""},{"$f":"IFERROR(VLOOKUP(X1568,CadMP!$B:$D,2,0),\"\")","v":""},{"$f":"IFERROR(VLOOKUP(Y1568,CadMP!$B:$D,2,0),\"\")","v":""},{"$f":"IFERROR(VLOOKUP(Z1568,CadMP!$B:$D,2,0),\"\")","v":""},{"$f":"IFERROR(VLOOKUP(AA1568,CadMP!$B:$D,2,0),\"\")","v":""},{"$f":"IFERROR(VLOOKUP(AB1568,CadMP!$B:$D,2,0),\"\")","v":""},{"$f":"IFERROR(VLOOKUP(AC1568,CadMP!$B:$D,2,0),\"\")","v":""},{"$f":"IFERROR(VLOOKUP(AD1568,CadMP!$B:$D,2,0),\"\")","v":""},{"$f":"IFERROR(VLOOKUP(AE1568,CadMP!$B:$D,2,0),\"\")","v":""},{"$f":"IFERROR(VLOOKUP(AF1568,CadMP!$B:$D,2,0),\"\")","v":""},{"$f":"IFERROR(VLOOKUP(AG1568,CadMP!$B:$D,2,0),\"\")","v":""},{"$f":"IFERROR(VLOOKUP(AH1568,CadMP!$B:$D,2,0),\"\")","v":""},{"$f":"IFERROR(VLOOKUP(AI1568,CadMP!$B:$D,2,0),\"\")","v":""},{"$f":"IFERROR(VLOOKUP(AJ1568,CadMP!$B:$D,2,0),\"\")","v":""},{"$f":"IFERROR(VLOOKUP(AK1568,CadMP!$B:$D,2,0),\"\")","v":""},{"$f":"IFERROR(VLOOKUP(W1568,CadMP!$B:$D,3,0),\"\")","v":""},{"$f":"IFERROR(VLOOKUP(X1568,CadMP!$B:$D,3,0),\"\")","v":""},{"$f":"IFERROR(VLOOKUP(Y1568,CadMP!$B:$D,3,0),\"\")","v":""},{"$f":"IFERROR(VLOOKUP(Z1568,CadMP!$B:$D,3,0),\"\")","v":""},{"$f":"IFERROR(VLOOKUP(AA1568,CadMP!$B:$D,3,0),\"\")","v":""},{"$f":"IFERROR(VLOOKUP(AB1568,CadMP!$B:$D,3,0),\"\")","v":""},{"$f":"IFERROR(VLOOKUP(AC1568,CadMP!$B:$D,3,0),\"\")","v":""},{"$f":"IFERROR(VLOOKUP(AD1568,CadMP!$B:$D,3,0),\"\")","v":""},{"$f":"IFERROR(VLOOKUP(AE1568,CadMP!$B:$D,3,0),\"\")","v":""},{"$f":"IFERROR(VLOOKUP(AF1568,CadMP!$B:$D,3,0),\"\")","v":""},{"$f":"IFERROR(VLOOKUP(AG1568,CadMP!$B:$D,3,0),\"\")","v":""},{"$f":"IFERROR(VLOOKUP(AH1568,CadMP!$B:$D,3,0),\"\")","v":""},{"$f":"IFERROR(VLOOKUP(AI1568,CadMP!$B:$D,3,0),\"\")","v":""},{"$f":"IFERROR(VLOOKUP(AJ1568,CadMP!$B:$D,3,0),\"\")","v":""},{"$f":"IFERROR(VLOOKUP(AK1568,CadMP!$B:$D,3,0),\"\")","v":""},0,0,0,0,0,0,0,0,0,0,0,0,0,0,0]
[1592,null,null,0,0,null,null,null,null,null,null,0,0,null,null,null,null,null,null,null,1,0,null,null,null,null,null,null,null,null,null,null,null,null,null,null,null,null,null,null,null,null,null,null,null,null,null,null,null,null,null,null,{"$f":"IFERROR(VLOOKUP(W1593,CadMP!$B:$D,2,0),\"\")","v":""},{"$f":"IFERROR(VLOOKUP(X1593,CadMP!$B:$D,2,0),\"\")","v":""},{"$f":"IFERROR(VLOOKUP(Y1593,CadMP!$B:$D,2,0),\"\")","v":""},{"$f":"IFERROR(VLOOKUP(Z1593,CadMP!$B:$D,2,0),\"\")","v":""},{"$f":"IFERROR(VLOOKUP(AA1593,CadMP!$B:$D,2,0),\"\")","v":""},{"$f":"IFERROR(VLOOKUP(AB1593,CadMP!$B:$D,2,0),\"\")","v":""},{"$f":"IFERROR(VLOOKUP(AC1593,CadMP!$B:$D,2,0),\"\")","v":""},{"$f":"IFERROR(VLOOKUP(AD1593,CadMP!$B:$D,2,0),\"\")","v":""},{"$f":"IFERROR(VLOOKUP(AE1593,CadMP!$B:$D,2,0),\"\")","v":""},{"$f":"IFERROR(VLOOKUP(AF1593,CadMP!$B:$D,2,0),\"\")","v":""},{"$f":"IFERROR(VLOOKUP(AG1593,CadMP!$B:$D,2,0),\"\")","v":""},{"$f":"IFERROR(VLOOKUP(AH1593,CadMP!$B:$D,2,0),\"\")","v":""},{"$f":"IFERROR(VLOOKUP(AI1593,CadMP!$B:$D,2,0),\"\")","v":""},{"$f":"IFERROR(VLOOKUP(AJ1593,CadMP!$B:$D,2,0),\"\")","v":""},{"$f":"IFERROR(VLOOKUP(AK1593,CadMP!$B:$D,2,0),\"\")","v":""},{"$f":"IFERROR(VLOOKUP(W1593,CadMP!$B:$D,3,0),\"\")","v":""},{"$f":"IFERROR(VLOOKUP(X1593,CadMP!$B:$D,3,0),\"\")","v":""},{"$f":"IFERROR(VLOOKUP(Y1593,CadMP!$B:$D,3,0),\"\")","v":""},{"$f":"IFERROR(VLOOKUP(Z1593,CadMP!$B:$D,3,0),\"\")","v":""},{"$f":"IFERROR(VLOOKUP(AA1593,CadMP!$B:$D,3,0),\"\")","v":""},{"$f":"IFERROR(VLOOKUP(AB1593,CadMP!$B:$D,3,0),\"\")","v":""},{"$f":"IFERROR(VLOOKUP(AC1593,CadMP!$B:$D,3,0),\"\")","v":""},{"$f":"IFERROR(VLOOKUP(AD1593,CadMP!$B:$D,3,0),\"\")","v":""},{"$f":"IFERROR(VLOOKUP(AE1593,CadMP!$B:$D,3,0),\"\")","v":""},{"$f":"IFERROR(VLOOKUP(AF1593,CadMP!$B:$D,3,0),\"\")","v":""},{"$f":"IFERROR(VLOOKUP(AG1593,CadMP!$B:$D,3,0),\"\")","v":""},{"$f":"IFERROR(VLOOKUP(AH1593,CadMP!$B:$D,3,0),\"\")","v":""},{"$f":"IFERROR(VLOOKUP(AI1593,CadMP!$B:$D,3,0),\"\")","v":""},{"$f":"IFERROR(VLOOKUP(AJ1593,CadMP!$B:$D,3,0),\"\")","v":""},{"$f":"IFERROR(VLOOKUP(AK1593,CadMP!$B:$D,3,0),\"\")","v":""},0,0,0,0,0,0,0,0,0,0,0,0,0,0,0]
[1601,null,null,0,0,null,null,null,null,null,null,0,0,null,null,null,null,null,null,null,1,0,null,null,null,null,null,null,null,null,null,null,null,null,null,null,null,null,null,null,null,null,null,null,null,null,null,null,null,null,null,null,{"$f":"IFERROR(VLOOKUP(W1602,CadMP!$B:$D,2,0),\"\")","v":""},{"$f":"IFERROR(VLOOKUP(X1602,CadMP!$B:$D,2,0),\"\")","v":""},{"$f":"IFERROR(VLOOKUP(Y1602,CadMP!$B:$D,2,0),\"\")","v":""},{"$f":"IFERROR(VLOOKUP(Z1602,CadMP!$B:$D,2,0),\"\")","v":""},{"$f":"IFERROR(VLOOKUP(AA1602,CadMP!$B:$D,2,0),\"\")","v":""},{"$f":"IFERROR(VLOOKUP(AB1602,CadMP!$B:$D,2,0),\"\")","v":""},{"$f":"IFERROR(VLOOKUP(AC1602,CadMP!$B:$D,2,0),\"\")","v":""},{"$f":"IFERROR(VLOOKUP(AD1602,CadMP!$B:$D,2,0),\"\")","v":""},{"$f":"IFERROR(VLOOKUP(AE1602,CadMP!$B:$D,2,0),\"\")","v":""},{"$f":"IFERROR(VLOOKUP(AF1602,CadMP!$B:$D,2,0),\"\")","v":""},{"$f":"IFERROR(VLOOKUP(AG1602,CadMP!$B:$D,2,0),\"\")","v":""},{"$f":"IFERROR(VLOOKUP(AH1602,CadMP!$B:$D,2,0),\"\")","v":""},{"$f":"IFERROR(VLOOKUP(AI1602,CadMP!$B:$D,2,0),\"\")","v":""},{"$f":"IFERROR(VLOOKUP(AJ1602,CadMP!$B:$D,2,0),\"\")","v":""},{"$f":"IFERROR(VLOOKUP(AK1602,CadMP!$B:$D,2,0),\"\")","v":""},{"$f":"IFERROR(VLOOKUP(W1602,CadMP!$B:$D,3,0),\"\")","v":""},{"$f":"IFERROR(VLOOKUP(X1602,CadMP!$B:$D,3,0),\"\")","v":""},{"$f":"IFERROR(VLOOKUP(Y1602,CadMP!$B:$D,3,0),\"\")","v":""},{"$f":"IFERROR(VLOOKUP(Z1602,CadMP!$B:$D,3,0),\"\")","v":""},{"$f":"IFERROR(VLOOKUP(AA1602,CadMP!$B:$D,3,0),\"\")","v":""},{"$f":"IFERROR(VLOOKUP(AB1602,CadMP!$B:$D,3,0),\"\")","v":""},{"$f":"IFERROR(VLOOKUP(AC1602,CadMP!$B:$D,3,0),\"\")","v":""},{"$f":"IFERROR(VLOOKUP(AD1602,CadMP!$B:$D,3,0),\"\")","v":""},{"$f":"IFERROR(VLOOKUP(AE1602,CadMP!$B:$D,3,0),\"\")","v":""},{"$f":"IFERROR(VLOOKUP(AF1602,CadMP!$B:$D,3,0),\"\")","v":""},{"$f":"IFERROR(VLOOKUP(AG1602,CadMP!$B:$D,3,0),\"\")","v":""},{"$f":"IFERROR(VLOOKUP(AH1602,CadMP!$B:$D,3,0),\"\")","v":""},{"$f":"IFERROR(VLOOKUP(AI1602,CadMP!$B:$D,3,0),\"\")","v":""},{"$f":"IFERROR(VLOOKUP(AJ1602,CadMP!$B:$D,3,0),\"\")","v":""},{"$f":"IFERROR(VLOOKUP(AK1602,CadMP!$B:$D,3,0),\"\")","v":""},0,0,0,0,0,0,0,0,0,0,0,0,0,0,0]
[1629,null,null,0,0,null,null,null,null,null,null,0,0,null,null,null,null,null,null,null,1,0,null,null,null,null,null,null,null,null,null,null,null,null,null,null,null,null,null,null,null,null,null,null,null,null,null,null,null,null,null,null,{"$f":"IFERROR(VLOOKUP(W1630,CadMP!$B:$D,2,0),\"\")","v":""},{"$f":"IFERROR(VLOOKUP(X1630,CadMP!$B:$D,2,0),\"\")","v":""},{"$f":"IFERROR(VLOOKUP(Y1630,CadMP!$B:$D,2,0),\"\")","v":""},{"$f":"IFERROR(VLOOKUP(Z1630,CadMP!$B:$D,2,0),\"\")","v":""},{"$f":"IFERROR(VLOOKUP(AA1630,CadMP!$B:$D,2,0),\"\")","v":""},{"$f":"IFERROR(VLOOKUP(AB1630,CadMP!$B:$D,2,0),\"\")","v":""},{"$f":"IFERROR(VLOOKUP(AC1630,CadMP!$B:$D,2,0),\"\")","v":""},{"$f":"IFERROR(VLOOKUP(AD1630,CadMP!$B:$D,2,0),\"\")","v":""},{"$f":"IFERROR(VLOOKUP(AE1630,CadMP!$B:$D,2,0),\"\")","v":""},{"$f":"IFERROR(VLOOKUP(AF1630,CadMP!$B:$D,2,0),\"\")","v":""},{"$f":"IFERROR(VLOOKUP(AG1630,CadMP!$B:$D,2,0),\"\")","v":""},{"$f":"IFERROR(VLOOKUP(AH1630,CadMP!$B:$D,2,0),\"\")","v":""},{"$f":"IFERROR(VLOOKUP(AI1630,CadMP!$B:$D,2,0),\"\")","v":""},{"$f":"IFERROR(VLOOKUP(AJ1630,CadMP!$B:$D,2,0),\"\")","v":""},{"$f":"IFERROR(VLOOKUP(AK1630,CadMP!$B:$D,2,0),\"\")","v":""},{"$f":"IFERROR(VLOOKUP(W1630,CadMP!$B:$D,3,0),\"\")","v":""},{"$f":"IFERROR(VLOOKUP(X1630,CadMP!$B:$D,3,0),\"\")","v":""},{"$f":"IFERROR(VLOOKUP(Y1630,CadMP!$B:$D,3,0),\"\")","v":""},{"$f":"IFERROR(VLOOKUP(Z1630,CadMP!$B:$D,3,0),\"\")","v":""},{"$f":"IFERROR(VLOOKUP(AA1630,CadMP!$B:$D,3,0),\"\")","v":""},{"$f":"IFERROR(VLOOKUP(AB1630,CadMP!$B:$D,3,0),\"\")","v":""},{"$f":"IFERROR(VLOOKUP(AC1630,CadMP!$B:$D,3,0),\"\")","v":""},{"$f":"IFERROR(VLOOKUP(AD1630,CadMP!$B:$D,3,0),\"\")","v":""},{"$f":"IFERROR(VLOOKUP(AE1630,CadMP!$B:$D,3,0),\"\")","v":""},{"$f":"IFERROR(VLOOKUP(AF1630,CadMP!$B:$D,3,0),\"\")","v":""},{"$f":"IFERROR(VLOOKUP(AG1630,CadMP!$B:$D,3,0),\"\")","v":""},{"$f":"IFERROR(VLOOKUP(AH1630,CadMP!$B:$D,3,0),\"\")","v":""},{"$f":"IFERROR(VLOOKUP(AI1630,CadMP!$B:$D,3,0),\"\")","v":""},{"$f":"IFERROR(VLOOKUP(AJ1630,CadMP!$B:$D,3,0),\"\")","v":""},{"$f":"IFERROR(VLOOKUP(AK1630,CadMP!$B:$D,3,0),\"\")","v":""},0,0,0,0,0,0,0,0,0,0,0,0,0,0,0]
[1654,null,null,0,0,null,null,null,null,null,null,0,0,null,null,null,null,null,null,null,1,0,null,null,null,null,null,null,null,null,null,null,null,null,null,null,null,null,null,null,null,null,null,null,null,null,null,null,null,null,null,null,{"$f":"IFERROR(VLOOKUP(W1655,CadMP!$B:$D,2,0),\"\")","v":""},{"$f":"IFERROR(VLOOKUP(X1655,CadMP!$B:$D,2,0),\"\")","v":""},{"$f":"IFERROR(VLOOKUP(Y1655,CadMP!$B:$D,2,0),\"\")","v":""},{"$f":"IFERROR(VLOOKUP(Z1655,CadMP!$B:$D,2,0),\"\")","v":""},{"$f":"IFERROR(VLOOKUP(AA1655,CadMP!$B:$D,2,0),\"\")","v":""},{"$f":"IFERROR(VLOOKUP(AB1655,CadMP!$B:$D,2,0),\"\")","v":""},{"$f":"IFERROR(VLOOKUP(AC1655,CadMP!$B:$D,2,0),\"\")","v":""},{"$f":"IFERROR(VLOOKUP(AD1655,CadMP!$B:$D,2,0),\"\")","v":""},{"$f":"IFERROR(VLOOKUP(AE1655,CadMP!$B:$D,2,0),\"\")","v":""},{"$f":"IFERROR(VLOOKUP(AF1655,CadMP!$B:$D,2,0),\"\")","v":""},{"$f":"IFERROR(VLOOKUP(AG1655,CadMP!$B:$D,2,0),\"\")","v":""},{"$f":"IFERROR(VLOOKUP(AH1655,CadMP!$B:$D,2,0),\"\")","v":""},{"$f":"IFERROR(VLOOKUP(AI1655,CadMP!$B:$D,2,0),\"\")","v":""},{"$f":"IFERROR(VLOOKUP(AJ1655,CadMP!$B:$D,2,0),\"\")","v":""},{"$f":"IFERROR(VLOOKUP(AK1655,CadMP!$B:$D,2,0),\"\")","v":""},{"$f":"IFERROR(VLOOKUP(W1655,CadMP!$B:$D,3,0),\"\")","v":""},{"$f":"IFERROR(VLOOKUP(X1655,CadMP!$B:$D,3,0),\"\")","v":""},{"$f":"IFERROR(VLOOKUP(Y1655,CadMP!$B:$D,3,0),\"\")","v":""},{"$f":"IFERROR(VLOOKUP(Z1655,CadMP!$B:$D,3,0),\"\")","v":""},{"$f":"IFERROR(VLOOKUP(AA1655,CadMP!$B:$D,3,0),\"\")","v":""},{"$f":"IFERROR(VLOOKUP(AB1655,CadMP!$B:$D,3,0),\"\")","v":""},{"$f":"IFERROR(VLOOKUP(AC1655,CadMP!$B:$D,3,0),\"\")","v":""},{"$f":"IFERROR(VLOOKUP(AD1655,CadMP!$B:$D,3,0),\"\")","v":""},{"$f":"IFERROR(VLOOKUP(AE1655,CadMP!$B:$D,3,0),\"\")","v":""},{"$f":"IFERROR(VLOOKUP(AF1655,CadMP!$B:$D,3,0),\"\")","v":""},{"$f":"IFERROR(VLOOKUP(AG1655,CadMP!$B:$D,3,0),\"\")","v":""},{"$f":"IFERROR(VLOOKUP(AH1655,CadMP!$B:$D,3,0),\"\")","v":""},{"$f":"IFERROR(VLOOKUP(AI1655,CadMP!$B:$D,3,0),\"\")","v":""},{"$f":"IFERROR(VLOOKUP(AJ1655,CadMP!$B:$D,3,0),\"\")","v":""},{"$f":"IFERROR(VLOOKUP(AK1655,CadMP!$B:$D,3,0),\"\")","v":""},0,0,0,0,0,0,0,0,0,0,0,0,0,0,0]
[1673,null,null,0,0,null,null,null,null,null,null,0,0,null,null,null,null,null,null,null,1,0,null,null,null,null,null,null,null,null,null,null,null,null,null,null,null,null,null,null,null,null,null,null,null,null,null,null,null,null,null,null,{"$f":"IFERROR(VLOOKUP(W1674,CadMP!$B:$D,2,0),\"\")","v":""},{"$f":"IFERROR(VLOOKUP(X1674,CadMP!$B:$D,2,0),\"\")","v":""},{"$f":"IFERROR(VLOOKUP(Y1674,CadMP!$B:$D,2,0),\"\")","v":""},{"$f":"IFERROR(VLOOKUP(Z1674,CadMP!$B:$D,2,0),\"\")","v":""},{"$f":"IFERROR(VLOOKUP(AA1674,CadMP!$B:$D,2,0),\"\")","v":""},{"$f":"IFERROR(VLOOKUP(AB1674,CadMP!$B:$D,2,0),\"\")","v":""},{"$f":"IFERROR(VLOOKUP(AC1674,CadMP!$B:$D,2,0),\"\")","v":""},{"$f":"IFERROR(VLOOKUP(AD1674,CadMP!$B:$D,2,0),\"\")","v":""},{"$f":"IFERROR(VLOOKUP(AE1674,CadMP!$B:$D,2,0),\"\")","v":""},{"$f":"IFERROR(VLOOKUP(AF1674,CadMP!$B:$D,2,0),\"\")","v":""},{"$f":"IFERROR(VLOOKUP(AG1674,CadMP!$B:$D,2,0),\"\")","v":""},{"$f":"IFERROR(VLOOKUP(AH1674,CadMP!$B:$D,2,0),\"\")","v":""},{"$f":"IFERROR(VLOOKUP(AI1674,CadMP!$B:$D,2,0),\"\")","v":""},{"$f":"IFERROR(VLOOKUP(AJ1674,CadMP!$B:$D,2,0),\"\")","v":""},{"$f":"IFERROR(VLOOKUP(AK1674,CadMP!$B:$D,2,0),\"\")","v":""},{"$f":"IFERROR(VLOOKUP(W1674,CadMP!$B:$D,3,0),\"\")","v":""},{"$f":"IFERROR(VLOOKUP(X1674,CadMP!$B:$D,3,0),\"\")","v":""},{"$f":"IFERROR(VLOOKUP(Y1674,CadMP!$B:$D,3,0),\"\")","v":""},{"$f":"IFERROR(VLOOKUP(Z1674,CadMP!$B:$D,3,0),\"\")","v":""},{"$f":"IFERROR(VLOOKUP(AA1674,CadMP!$B:$D,3,0),\"\")","v":""},{"$f":"IFERROR(VLOOKUP(AB1674,CadMP!$B:$D,3,0),\"\")","v":""},{"$f":"IFERROR(VLOOKUP(AC1674,CadMP!$B:$D,3,0),\"\")","v":""},{"$f":"IFERROR(VLOOKUP(AD1674,CadMP!$B:$D,3,0),\"\")","v":""},{"$f":"IFERROR(VLOOKUP(AE1674,CadMP!$B:$D,3,0),\"\")","v":""},{"$f":"IFERROR(VLOOKUP(AF1674,CadMP!$B:$D,3,0),\"\")","v":""},{"$f":"IFERROR(VLOOKUP(AG1674,CadMP!$B:$D,3,0),\"\")","v":""},{"$f":"IFERROR(VLOOKUP(AH1674,CadMP!$B:$D,3,0),\"\")","v":""},{"$f":"IFERROR(VLOOKUP(AI1674,CadMP!$B:$D,3,0),\"\")","v":""},{"$f":"IFERROR(VLOOKUP(AJ1674,CadMP!$B:$D,3,0),\"\")","v":""},{"$f":"IFERROR(VLOOKUP(AK1674,CadMP!$B:$D,3,0),\"\")","v":""},0,0,0,0,0,0,0,0,0,0,0,0,0,0,0]
[1678,null,null,0,0,null,null,null,null,null,null,0,0,null,null,null,null,null,null,null,1,0,null,null,null,null,null,null,null,null,null,null,null,null,null,null,null,null,null,null,null,null,null,null,null,null,null,null,null,null,null,null,{"$f":"IFERROR(VLOOKUP(W1679,CadMP!$B:$D,2,0),\"\")","v":""},{"$f":"IFERROR(VLOOKUP(X1679,CadMP!$B:$D,2,0),\"\")","v":""},{"$f":"IFERROR(VLOOKUP(Y1679,CadMP!$B:$D,2,0),\"\")","v":""},{"$f":"IFERROR(VLOOKUP(Z1679,CadMP!$B:$D,2,0),\"\")","v":""},{"$f":"IFERROR(VLOOKUP(AA1679,CadMP!$B:$D,2,0),\"\")","v":""},{"$f":"IFERROR(VLOOKUP(AB1679,CadMP!$B:$D,2,0),\"\")","v":""},{"$f":"IFERROR(VLOOKUP(AC1679,CadMP!$B:$D,2,0),\"\")","v":""},{"$f":"IFERROR(VLOOKUP(AD1679,CadMP!$B:$D,2,0),\"\")","v":""},{"$f":"IFERROR(VLOOKUP(AE1679,CadMP!$B:$D,2,0),\"\")","v":""},{"$f":"IFERROR(VLOOKUP(AF1679,CadMP!$B:$D,2,0),\"\")","v":""},{"$f":"IFERROR(VLOOKUP(AG1679,CadMP!$B:$D,2,0),\"\")","v":""},{"$f":"IFERROR(VLOOKUP(AH1679,CadMP!$B:$D,2,0),\"\")","v":""},{"$f":"IFERROR(VLOOKUP(AI1679,CadMP!$B:$D,2,0),\"\")","v":""},{"$f":"IFERROR(VLOOKUP(AJ1679,CadMP!$B:$D,2,0),\"\")","v":""},{"$f":"IFERROR(VLOOKUP(AK1679,CadMP!$B:$D,2,0),\"\")","v":""},{"$f":"IFERROR(VLOOKUP(W1679,CadMP!$B:$D,3,0),\"\")","v":""},{"$f":"IFERROR(VLOOKUP(X1679,CadMP!$B:$D,3,0),\"\")","v":""},{"$f":"IFERROR(VLOOKUP(Y1679,CadMP!$B:$D,3,0),\"\")","v":""},{"$f":"IFERROR(VLOOKUP(Z1679,CadMP!$B:$D,3,0),\"\")","v":""},{"$f":"IFERROR(VLOOKUP(AA1679,CadMP!$B:$D,3,0),\"\")","v":""},{"$f":"IFERROR(VLOOKUP(AB1679,CadMP!$B:$D,3,0),\"\")","v":""},{"$f":"IFERROR(VLOOKUP(AC1679,CadMP!$B:$D,3,0),\"\")","v":""},{"$f":"IFERROR(VLOOKUP(AD1679,CadMP!$B:$D,3,0),\"\")","v":""},{"$f":"IFERROR(VLOOKUP(AE1679,CadMP!$B:$D,3,0),\"\")","v":""},{"$f":"IFERROR(VLOOKUP(AF1679,CadMP!$B:$D,3,0),\"\")","v":""},{"$f":"IFERROR(VLOOKUP(AG1679,CadMP!$B:$D,3,0),\"\")","v":""},{"$f":"IFERROR(VLOOKUP(AH1679,CadMP!$B:$D,3,0),\"\")","v":""},{"$f":"IFERROR(VLOOKUP(AI1679,CadMP!$B:$D,3,0),\"\")","v":""},{"$f":"IFERROR(VLOOKUP(AJ1679,CadMP!$B:$D,3,0),\"\")","v":""},{"$f":"IFERROR(VLOOKUP(AK1679,CadMP!$B:$D,3,0),\"\")","v":""},0,0,0,0,0,0,0,0,0,0,0,0,0,0,0]
[1697,null,null,0,0,null,null,null,null,null,null,0,0,null,null,null,null,null,null,null,1,0,null,null,null,null,null,null,null,null,null,null,null,null,null,null,null,null,null,null,null,null,null,null,null,null,null,null,null,null,null,null,{"$f":"IFERROR(VLOOKUP(W1698,CadMP!$B:$D,2,0),\"\")","v":""},{"$f":"IFERROR(VLOOKUP(X1698,CadMP!$B:$D,2,0),\"\")","v":""},{"$f":"IFERROR(VLOOKUP(Y1698,CadMP!$B:$D,2,0),\"\")","v":""},{"$f":"IFERROR(VLOOKUP(Z1698,CadMP!$B:$D,2,0),\"\")","v":""},{"$f":"IFERROR(VLOOKUP(AA1698,CadMP!$B:$D,2,0),\"\")","v":""},{"$f":"IFERROR(VLOOKUP(AB1698,CadMP!$B:$D,2,0),\"\")","v":""},{"$f":"IFERROR(VLOOKUP(AC1698,CadMP!$B:$D,2,0),\"\")","v":""},{"$f":"IFERROR(VLOOKUP(AD1698,CadMP!$B:$D,2,0),\"\")","v":""},{"$f":"IFERROR(VLOOKUP(AE1698,CadMP!$B:$D,2,0),\"\")","v":""},{"$f":"IFERROR(VLOOKUP(AF1698,CadMP!$B:$D,2,0),\"\")","v":""},{"$f":"IFERROR(VLOOKUP(AG1698,CadMP!$B:$D,2,0),\"\")","v":""},{"$f":"IFERROR(VLOOKUP(AH1698,CadMP!$B:$D,2,0),\"\")","v":""},{"$f":"IFERROR(VLOOKUP(AI1698,CadMP!$B:$D,2,0),\"\")","v":""},{"$f":"IFERROR(VLOOKUP(AJ1698,CadMP!$B:$D,2,0),\"\")","v":""},{"$f":"IFERROR(VLOOKUP(AK1698,CadMP!$B:$D,2,0),\"\")","v":""},{"$f":"IFERROR(VLOOKUP(W1698,CadMP!$B:$D,3,0),\"\")","v":""},{"$f":"IFERROR(VLOOKUP(X1698,CadMP!$B:$D,3,0),\"\")","v":""},{"$f":"IFERROR(VLOOKUP(Y1698,CadMP!$B:$D,3,0),\"\")","v":""},{"$f":"IFERROR(VLOOKUP(Z1698,CadMP!$B:$D,3,0),\"\")","v":""},{"$f":"IFERROR(VLOOKUP(AA1698,CadMP!$B:$D,3,0),\"\")","v":""},{"$f":"IFERROR(VLOOKUP(AB1698,CadMP!$B:$D,3,0),\"\")","v":""},{"$f":"IFERROR(VLOOKUP(AC1698,CadMP!$B:$D,3,0),\"\")","v":""},{"$f":"IFERROR(VLOOKUP(AD1698,CadMP!$B:$D,3,0),\"\")","v":""},{"$f":"IFERROR(VLOOKUP(AE1698,CadMP!$B:$D,3,0),\"\")","v":""},{"$f":"IFERROR(VLOOKUP(AF1698,CadMP!$B:$D,3,0),\"\")","v":""},{"$f":"IFERROR(VLOOKUP(AG1698,CadMP!$B:$D,3,0),\"\")","v":""},{"$f":"IFERROR(VLOOKUP(AH1698,CadMP!$B:$D,3,0),\"\")","v":""},{"$f":"IFERROR(VLOOKUP(AI1698,CadMP!$B:$D,3,0),\"\")","v":""},{"$f":"IFERROR(VLOOKUP(AJ1698,CadMP!$B:$D,3,0),\"\")","v":""},{"$f":"IFERROR(VLOOKUP(AK1698,CadMP!$B:$D,3,0),\"\")","v":""},0,0,0,0,0,0,0,0,0,0,0,0,0,0,0]
[1716,null,null,0,0,null,null,null,null,null,null,0,0,null,null,null,null,null,null,null,1,0,null,null,null,null,null,null,null,null,null,null,null,null,null,null,null,null,null,null,null,null,null,null,null,null,null,null,null,null,null,null,{"$f":"IFERROR(VLOOKUP(W1717,CadMP!$B:$D,2,0),\"\")","v":""},{"$f":"IFERROR(VLOOKUP(X1717,CadMP!$B:$D,2,0),\"\")","v":""},{"$f":"IFERROR(VLOOKUP(Y1717,CadMP!$B:$D,2,0),\"\")","v":""},{"$f":"IFERROR(VLOOKUP(Z1717,CadMP!$B:$D,2,0),\"\")","v":""},{"$f":"IFERROR(VLOOKUP(AA1717,CadMP!$B:$D,2,0),\"\")","v":""},{"$f":"IFERROR(VLOOKUP(AB1717,CadMP!$B:$D,2,0),\"\")","v":""},{"$f":"IFERROR(VLOOKUP(AC1717,CadMP!$B:$D,2,0),\"\")","v":""},{"$f":"IFERROR(VLOOKUP(AD1717,CadMP!$B:$D,2,0),\"\")","v":""},{"$f":"IFERROR(VLOOKUP(AE1717,CadMP!$B:$D,2,0),\"\")","v":""},{"$f":"IFERROR(VLOOKUP(AF1717,CadMP!$B:$D,2,0),\"\")","v":""},{"$f":"IFERROR(VLOOKUP(AG1717,CadMP!$B:$D,2,0),\"\")","v":""},{"$f":"IFERROR(VLOOKUP(AH1717,CadMP!$B:$D,2,0),\"\")","v":""},{"$f":"IFERROR(VLOOKUP(AI1717,CadMP!$B:$D,2,0),\"\")","v":""},{"$f":"IFERROR(VLOOKUP(AJ1717,CadMP!$B:$D,2,0),\"\")","v":""},{"$f":"IFERROR(VLOOKUP(AK1717,CadMP!$B:$D,2,0),\"\")","v":""},{"$f":"IFERROR(VLOOKUP(W1717,CadMP!$B:$D,3,0),\"\")","v":""},{"$f":"IFERROR(VLOOKUP(X1717,CadMP!$B:$D,3,0),\"\")","v":""},{"$f":"IFERROR(VLOOKUP(Y1717,CadMP!$B:$D,3,0),\"\")","v":""},{"$f":"IFERROR(VLOOKUP(Z1717,CadMP!$B:$D,3,0),\"\")","v":""},{"$f":"IFERROR(VLOOKUP(AA1717,CadMP!$B:$D,3,0),\"\")","v":""},{"$f":"IFERROR(VLOOKUP(AB1717,CadMP!$B:$D,3,0),\"\")","v":""},{"$f":"IFERROR(VLOOKUP(AC1717,CadMP!$B:$D,3,0),\"\")","v":""},{"$f":"IFERROR(VLOOKUP(AD1717,CadMP!$B:$D,3,0),\"\")","v":""},{"$f":"IFERROR(VLOOKUP(AE1717,CadMP!$B:$D,3,0),\"\")","v":""},{"$f":"IFERROR(VLOOKUP(AF1717,CadMP!$B:$D,3,0),\"\")","v":""},{"$f":"IFERROR(VLOOKUP(AG1717,CadMP!$B:$D,3,0),\"\")","v":""},{"$f":"IFERROR(VLOOKUP(AH1717,CadMP!$B:$D,3,0),\"\")","v":""},{"$f":"IFERROR(VLOOKUP(AI1717,CadMP!$B:$D,3,0),\"\")","v":""},{"$f":"IFERROR(VLOOKUP(AJ1717,CadMP!$B:$D,3,0),\"\")","v":""},{"$f":"IFERROR(VLOOKUP(AK1717,CadMP!$B:$D,3,0),\"\")","v":""},0,0,0,0,0,0,0,0,0,0,0,0,0,0,0]
[1741,null,null,0,0,null,null,null,null,null,null,0,0,null,null,null,null,null,null,null,1,0,null,null,null,null,null,null,null,null,null,null,null,null,null,null,null,null,null,null,null,null,null,null,null,null,null,null,null,null,null,null,{"$f":"IFERROR(VLOOKUP(W1742,CadMP!$B:$D,2,0),\"\")","v":""},{"$f":"IFERROR(VLOOKUP(X1742,CadMP!$B:$D,2,0),\"\")","v":""},{"$f":"IFERROR(VLOOKUP(Y1742,CadMP!$B:$D,2,0),\"\")","v":""},{"$f":"IFERROR(VLOOKUP(Z1742,CadMP!$B:$D,2,0),\"\")","v":""},{"$f":"IFERROR(VLOOKUP(AA1742,CadMP!$B:$D,2,0),\"\")","v":""},{"$f":"IFERROR(VLOOKUP(AB1742,CadMP!$B:$D,2,0),\"\")","v":""},{"$f":"IFERROR(VLOOKUP(AC1742,CadMP!$B:$D,2,0),\"\")","v":""},{"$f":"IFERROR(VLOOKUP(AD1742,CadMP!$B:$D,2,0),\"\")","v":""},{"$f":"IFERROR(VLOOKUP(AE1742,CadMP!$B:$D,2,0),\"\")","v":""},{"$f":"IFERROR(VLOOKUP(AF1742,CadMP!$B:$D,2,0),\"\")","v":""},{"$f":"IFERROR(VLOOKUP(AG1742,CadMP!$B:$D,2,0),\"\")","v":""},{"$f":"IFERROR(VLOOKUP(AH1742,CadMP!$B:$D,2,0),\"\")","v":""},{"$f":"IFERROR(VLOOKUP(AI1742,CadMP!$B:$D,2,0),\"\")","v":""},{"$f":"IFERROR(VLOOKUP(AJ1742,CadMP!$B:$D,2,0),\"\")","v":""},{"$f":"IFERROR(VLOOKUP(AK1742,CadMP!$B:$D,2,0),\"\")","v":""},{"$f":"IFERROR(VLOOKUP(W1742,CadMP!$B:$D,3,0),\"\")","v":""},{"$f":"IFERROR(VLOOKUP(X1742,CadMP!$B:$D,3,0),\"\")","v":""},{"$f":"IFERROR(VLOOKUP(Y1742,CadMP!$B:$D,3,0),\"\")","v":""},{"$f":"IFERROR(VLOOKUP(Z1742,CadMP!$B:$D,3,0),\"\")","v":""},{"$f":"IFERROR(VLOOKUP(AA1742,CadMP!$B:$D,3,0),\"\")","v":""},{"$f":"IFERROR(VLOOKUP(AB1742,CadMP!$B:$D,3,0),\"\")","v":""},{"$f":"IFERROR(VLOOKUP(AC1742,CadMP!$B:$D,3,0),\"\")","v":""},{"$f":"IFERROR(VLOOKUP(AD1742,CadMP!$B:$D,3,0),\"\")","v":""},{"$f":"IFERROR(VLOOKUP(AE1742,CadMP!$B:$D,3,0),\"\")","v":""},{"$f":"IFERROR(VLOOKUP(AF1742,CadMP!$B:$D,3,0),\"\")","v":""},{"$f":"IFERROR(VLOOKUP(AG1742,CadMP!$B:$D,3,0),\"\")","v":""},{"$f":"IFERROR(VLOOKUP(AH1742,CadMP!$B:$D,3,0),\"\")","v":""},{"$f":"IFERROR(VLOOKUP(AI1742,CadMP!$B:$D,3,0),\"\")","v":""},{"$f":"IFERROR(VLOOKUP(AJ1742,CadMP!$B:$D,3,0),\"\")","v":""},{"$f":"IFERROR(VLOOKUP(AK1742,CadMP!$B:$D,3,0),\"\")","v":""},0,0,0,0,0,0,0,0,0,0,0,0,0,0,0]
[1751,null,null,0,0,null,null,null,null,null,null,0,0,null,null,null,null,null,null,null,1,0,null,null,null,null,null,null,null,null,null,null,null,null,null,null,null,null,null,null,null,null,null,null,null,null,null,null,null,null,null,null,{"$f":"IFERROR(VLOOKUP(W1752,CadMP!$B:$D,2,0),\"\")","v":""},{"$f":"IFERROR(VLOOKUP(X1752,CadMP!$B:$D,2,0),\"\")","v":""},{"$f":"IFERROR(VLOOKUP(Y1752,CadMP!$B:$D,2,0),\"\")","v":""},{"$f":"IFERROR(VLOOKUP(Z1752,CadMP!$B:$D,2,0),\"\")","v":""},{"$f":"IFERROR(VLOOKUP(AA1752,CadMP!$B:$D,2,0),\"\")","v":""},{"$f":"IFERROR(VLOOKUP(AB1752,CadMP!$B:$D,2,0),\"\")","v":""},{"$f":"IFERROR(VLOOKUP(AC1752,CadMP!$B:$D,2,0),\"\")","v":""},{"$f":"IFERROR(VLOOKUP(AD1752,CadMP!$B:$D,2,0),\"\")","v":""},{"$f":"IFERROR(VLOOKUP(AE1752,CadMP!$B:$D,2,0),\"\")","v":""},{"$f":"IFERROR(VLOOKUP(AF1752,CadMP!$B:$D,2,0),\"\")","v":""},{"$f":"IFERROR(VLOOKUP(AG1752,CadMP!$B:$D,2,0),\"\")","v":""},{"$f":"IFERROR(VLOOKUP(AH1752,CadMP!$B:$D,2,0),\"\")","v":""},{"$f":"IFERROR(VLOOKUP(AI1752,CadMP!$B:$D,2,0),\"\")","v":""},{"$f":"IFERROR(VLOOKUP(AJ1752,CadMP!$B:$D,2,0),\"\")","v":""},{"$f":"IFERROR(VLOOKUP(AK1752,CadMP!$B:$D,2,0),\"\")","v":""},{"$f":"IFERROR(VLOOKUP(W1752,CadMP!$B:$D,3,0),\"\")","v":""},{"$f":"IFERROR(VLOOKUP(X1752,CadMP!$B:$D,3,0),\"\")","v":""},{"$f":"IFERROR(VLOOKUP(Y1752,CadMP!$B:$D,3,0),\"\")","v":""},{"$f":"IFERROR(VLOOKUP(Z1752,CadMP!$B:$D,3,0),\"\")","v":""},{"$f":"IFERROR(VLOOKUP(AA1752,CadMP!$B:$D,3,0),\"\")","v":""},{"$f":"IFERROR(VLOOKUP(AB1752,CadMP!$B:$D,3,0),\"\")","v":""},{"$f":"IFERROR(VLOOKUP(AC1752,CadMP!$B:$D,3,0),\"\")","v":""},{"$f":"IFERROR(VLOOKUP(AD1752,CadMP!$B:$D,3,0),\"\")","v":""},{"$f":"IFERROR(VLOOKUP(AE1752,CadMP!$B:$D,3,0),\"\")","v":""},{"$f":"IFERROR(VLOOKUP(AF1752,CadMP!$B:$D,3,0),\"\")","v":""},{"$f":"IFERROR(VLOOKUP(AG1752,CadMP!$B:$D,3,0),\"\")","v":""},{"$f":"IFERROR(VLOOKUP(AH1752,CadMP!$B:$D,3,0),\"\")","v":""},{"$f":"IFERROR(VLOOKUP(AI1752,CadMP!$B:$D,3,0),\"\")","v":""},{"$f":"IFERROR(VLOOKUP(AJ1752,CadMP!$B:$D,3,0),\"\")","v":""},{"$f":"IFERROR(VLOOKUP(AK1752,CadMP!$B:$D,3,0),\"\")","v":""},0,0,0,0,0,0,0,0,0,0,0,0,0,0,0]
[1778,null,null,0,0,null,null,null,null,null,null,0,0,null,null,null,null,null,null,null,1,0,null,null,null,null,null,null,null,null,null,null,null,null,null,null,null,null,null,null,null,null,null,null,null,null,null,null,null,null,null,null,{"$f":"IFERROR(VLOOKUP(W1779,CadMP!$B:$D,2,0),\"\")","v":""},{"$f":"IFERROR(VLOOKUP(X1779,CadMP!$B:$D,2,0),\"\")","v":""},{"$f":"IFERROR(VLOOKUP(Y1779,CadMP!$B:$D,2,0),\"\")","v":""},{"$f":"IFERROR(VLOOKUP(Z1779,CadMP!$B:$D,2,0),\"\")","v":""},{"$f":"IFERROR(VLOOKUP(AA1779,CadMP!$B:$D,2,0),\"\")","v":""},{"$f":"IFERROR(VLOOKUP(AB1779,CadMP!$B:$D,2,0),\"\")","v":""},{"$f":"IFERROR(VLOOKUP(AC1779,CadMP!$B:$D,2,0),\"\")","v":""},{"$f":"IFERROR(VLOOKUP(AD1779,CadMP!$B:$D,2,0),\"\")","v":""},{"$f":"IFERROR(VLOOKUP(AE1779,CadMP!$B:$D,2,0),\"\")","v":""},{"$f":"IFERROR(VLOOKUP(AF1779,CadMP!$B:$D,2,0),\"\")","v":""},{"$f":"IFERROR(VLOOKUP(AG1779,CadMP!$B:$D,2,0),\"\")","v":""},{"$f":"IFERROR(VLOOKUP(AH1779,CadMP!$B:$D,2,0),\"\")","v":""},{"$f":"IFERROR(VLOOKUP(AI1779,CadMP!$B:$D,2,0),\"\")","v":""},{"$f":"IFERROR(VLOOKUP(AJ1779,CadMP!$B:$D,2,0),\"\")","v":""},{"$f":"IFERROR(VLOOKUP(AK1779,CadMP!$B:$D,2,0),\"\")","v":""},{"$f":"IFERROR(VLOOKUP(W1779,CadMP!$B:$D,3,0),\"\")","v":""},{"$f":"IFERROR(VLOOKUP(X1779,CadMP!$B:$D,3,0),\"\")","v":""},{"$f":"IFERROR(VLOOKUP(Y1779,CadMP!$B:$D,3,0),\"\")","v":""},{"$f":"IFERROR(VLOOKUP(Z1779,CadMP!$B:$D,3,0),\"\")","v":""},{"$f":"IFERROR(VLOOKUP(AA1779,CadMP!$B:$D,3,0),\"\")","v":""},{"$f":"IFERROR(VLOOKUP(AB1779,CadMP!$B:$D,3,0),\"\")","v":""},{"$f":"IFERROR(VLOOKUP(AC1779,CadMP!$B:$D,3,0),\"\")","v":""},{"$f":"IFERROR(VLOOKUP(AD1779,CadMP!$B:$D,3,0),\"\")","v":""},{"$f":"IFERROR(VLOOKUP(AE1779,CadMP!$B:$D,3,0),\"\")","v":""},{"$f":"IFERROR(VLOOKUP(AF1779,CadMP!$B:$D,3,0),\"\")","v":""},{"$f":"IFERROR(VLOOKUP(AG1779,CadMP!$B:$D,3,0),\"\")","v":""},{"$f":"IFERROR(VLOOKUP(AH1779,CadMP!$B:$D,3,0),\"\")","v":""},{"$f":"IFERROR(VLOOKUP(AI1779,CadMP!$B:$D,3,0),\"\")","v":""},{"$f":"IFERROR(VLOOKUP(AJ1779,CadMP!$B:$D,3,0),\"\")","v":""},{"$f":"IFERROR(VLOOKUP(AK1779,CadMP!$B:$D,3,0),\"\")","v":""},0,0,0,0,0,0,0,0,0,0,0,0,0,0,0]
[1803,null,null,0,0,null,null,null,null,null,null,0,0,null,null,null,null,null,null,null,1,0,null,null,null,null,null,null,null,null,null,null,null,null,null,null,null,null,null,null,null,null,null,null,null,null,null,null,null,null,null,null,{"$f":"IFERROR(VLOOKUP(W1804,CadMP!$B:$D,2,0),\"\")","v":""},{"$f":"IFERROR(VLOOKUP(X1804,CadMP!$B:$D,2,0),\"\")","v":""},{"$f":"IFERROR(VLOOKUP(Y1804,CadMP!$B:$D,2,0),\"\")","v":""},{"$f":"IFERROR(VLOOKUP(Z1804,CadMP!$B:$D,2,0),\"\")","v":""},{"$f":"IFERROR(VLOOKUP(AA1804,CadMP!$B:$D,2,0),\"\")","v":""},{"$f":"IFERROR(VLOOKUP(AB1804,CadMP!$B:$D,2,0),\"\")","v":""},{"$f":"IFERROR(VLOOKUP(AC1804,CadMP!$B:$D,2,0),\"\")","v":""},{"$f":"IFERROR(VLOOKUP(AD1804,CadMP!$B:$D,2,0),\"\")","v":""},{"$f":"IFERROR(VLOOKUP(AE1804,CadMP!$B:$D,2,0),\"\")","v":""},{"$f":"IFERROR(VLOOKUP(AF1804,CadMP!$B:$D,2,0),\"\")","v":""},{"$f":"IFERROR(VLOOKUP(AG1804,CadMP!$B:$D,2,0),\"\")","v":""},{"$f":"IFERROR(VLOOKUP(AH1804,CadMP!$B:$D,2,0),\"\")","v":""},{"$f":"IFERROR(VLOOKUP(AI1804,CadMP!$B:$D,2,0),\"\")","v":""},{"$f":"IFERROR(VLOOKUP(AJ1804,CadMP!$B:$D,2,0),\"\")","v":""},{"$f":"IFERROR(VLOOKUP(AK1804,CadMP!$B:$D,2,0),\"\")","v":""},{"$f":"IFERROR(VLOOKUP(W1804,CadMP!$B:$D,3,0),\"\")","v":""},{"$f":"IFERROR(VLOOKUP(X1804,CadMP!$B:$D,3,0),\"\")","v":""},{"$f":"IFERROR(VLOOKUP(Y1804,CadMP!$B:$D,3,0),\"\")","v":""},{"$f":"IFERROR(VLOOKUP(Z1804,CadMP!$B:$D,3,0),\"\")","v":""},{"$f":"IFERROR(VLOOKUP(AA1804,CadMP!$B:$D,3,0),\"\")","v":""},{"$f":"IFERROR(VLOOKUP(AB1804,CadMP!$B:$D,3,0),\"\")","v":""},{"$f":"IFERROR(VLOOKUP(AC1804,CadMP!$B:$D,3,0),\"\")","v":""},{"$f":"IFERROR(VLOOKUP(AD1804,CadMP!$B:$D,3,0),\"\")","v":""},{"$f":"IFERROR(VLOOKUP(AE1804,CadMP!$B:$D,3,0),\"\")","v":""},{"$f":"IFERROR(VLOOKUP(AF1804,CadMP!$B:$D,3,0),\"\")","v":""},{"$f":"IFERROR(VLOOKUP(AG1804,CadMP!$B:$D,3,0),\"\")","v":""},{"$f":"IFERROR(VLOOKUP(AH1804,CadMP!$B:$D,3,0),\"\")","v":""},{"$f":"IFERROR(VLOOKUP(AI1804,CadMP!$B:$D,3,0),\"\")","v":""},{"$f":"IFERROR(VLOOKUP(AJ1804,CadMP!$B:$D,3,0),\"\")","v":""},{"$f":"IFERROR(VLOOKUP(AK1804,CadMP!$B:$D,3,0),\"\")","v":""},0,0,0,0,0,0,0,0,0,0,0,0,0,0,0]
[1822,null,null,0,0,null,null,null,null,null,null,0,0,null,null,null,null,null,null,null,1,0,null,null,null,null,null,null,null,null,null,null,null,null,null,null,null,null,null,null,null,null,null,null,null,null,null,null,null,null,null,null,{"$f":"IFERROR(VLOOKUP(W1823,CadMP!$B:$D,2,0),\"\")","v":""},{"$f":"IFERROR(VLOOKUP(X1823,CadMP!$B:$D,2,0),\"\")","v":""},{"$f":"IFERROR(VLOOKUP(Y1823,CadMP!$B:$D,2,0),\"\")","v":""},{"$f":"IFERROR(VLOOKUP(Z1823,CadMP!$B:$D,2,0),\"\")","v":""},{"$f":"IFERROR(VLOOKUP(AA1823,CadMP!$B:$D,2,0),\"\")","v":""},{"$f":"IFERROR(VLOOKUP(AB1823,CadMP!$B:$D,2,0),\"\")","v":""},{"$f":"IFERROR(VLOOKUP(AC1823,CadMP!$B:$D,2,0),\"\")","v":""},{"$f":"IFERROR(VLOOKUP(AD1823,CadMP!$B:$D,2,0),\"\")","v":""},{"$f":"IFERROR(VLOOKUP(AE1823,CadMP!$B:$D,2,0),\"\")","v":""},{"$f":"IFERROR(VLOOKUP(AF1823,CadMP!$B:$D,2,0),\"\")","v":""},{"$f":"IFERROR(VLOOKUP(AG1823,CadMP!$B:$D,2,0),\"\")","v":""},{"$f":"IFERROR(VLOOKUP(AH1823,CadMP!$B:$D,2,0),\"\")","v":""},{"$f":"IFERROR(VLOOKUP(AI1823,CadMP!$B:$D,2,0),\"\")","v":""},{"$f":"IFERROR(VLOOKUP(AJ1823,CadMP!$B:$D,2,0),\"\")","v":""},{"$f":"IFERROR(VLOOKUP(AK1823,CadMP!$B:$D,2,0),\"\")","v":""},{"$f":"IFERROR(VLOOKUP(W1823,CadMP!$B:$D,3,0),\"\")","v":""},{"$f":"IFERROR(VLOOKUP(X1823,CadMP!$B:$D,3,0),\"\")","v":""},{"$f":"IFERROR(VLOOKUP(Y1823,CadMP!$B:$D,3,0),\"\")","v":""},{"$f":"IFERROR(VLOOKUP(Z1823,CadMP!$B:$D,3,0),\"\")","v":""},{"$f":"IFERROR(VLOOKUP(AA1823,CadMP!$B:$D,3,0),\"\")","v":""},{"$f":"IFERROR(VLOOKUP(AB1823,CadMP!$B:$D,3,0),\"\")","v":""},{"$f":"IFERROR(VLOOKUP(AC1823,CadMP!$B:$D,3,0),\"\")","v":""},{"$f":"IFERROR(VLOOKUP(AD1823,CadMP!$B:$D,3,0),\"\")","v":""},{"$f":"IFERROR(VLOOKUP(AE1823,CadMP!$B:$D,3,0),\"\")","v":""},{"$f":"IFERROR(VLOOKUP(AF1823,CadMP!$B:$D,3,0),\"\")","v":""},{"$f":"IFERROR(VLOOKUP(AG1823,CadMP!$B:$D,3,0),\"\")","v":""},{"$f":"IFERROR(VLOOKUP(AH1823,CadMP!$B:$D,3,0),\"\")","v":""},{"$f":"IFERROR(VLOOKUP(AI1823,CadMP!$B:$D,3,0),\"\")","v":""},{"$f":"IFERROR(VLOOKUP(AJ1823,CadMP!$B:$D,3,0),\"\")","v":""},{"$f":"IFERROR(VLOOKUP(AK1823,CadMP!$B:$D,3,0),\"\")","v":""},0,0,0,0,0,0,0,0,0,0,0,0,0,0,0]
[1828,null,null,0,0,null,null,null,null,null,null,0,0,null,null,null,null,null,null,null,1,0,null,null,null,null,null,null,null,null,null,null,null,null,null,null,null,null,null,null,null,null,null,null,null,null,null,null,null,null,null,null,{"$f":"IFERROR(VLOOKUP(W1829,CadMP!$B:$D,2,0),\"\")","v":""},{"$f":"IFERROR(VLOOKUP(X1829,CadMP!$B:$D,2,0),\"\")","v":""},{"$f":"IFERROR(VLOOKUP(Y1829,CadMP!$B:$D,2,0),\"\")","v":""},{"$f":"IFERROR(VLOOKUP(Z1829,CadMP!$B:$D,2,0),\"\")","v":""},{"$f":"IFERROR(VLOOKUP(AA1829,CadMP!$B:$D,2,0),\"\")","v":""},{"$f":"IFERROR(VLOOKUP(AB1829,CadMP!$B:$D,2,0),\"\")","v":""},{"$f":"IFERROR(VLOOKUP(AC1829,CadMP!$B:$D,2,0),\"\")","v":""},{"$f":"IFERROR(VLOOKUP(AD1829,CadMP!$B:$D,2,0),\"\")","v":""},{"$f":"IFERROR(VLOOKUP(AE1829,CadMP!$B:$D,2,0),\"\")","v":""},{"$f":"IFERROR(VLOOKUP(AF1829,CadMP!$B:$D,2,0),\"\")","v":""},{"$f":"IFERROR(VLOOKUP(AG1829,CadMP!$B:$D,2,0),\"\")","v":""},{"$f":"IFERROR(VLOOKUP(AH1829,CadMP!$B:$D,2,0),\"\")","v":""},{"$f":"IFERROR(VLOOKUP(AI1829,CadMP!$B:$D,2,0),\"\")","v":""},{"$f":"IFERROR(VLOOKUP(AJ1829,CadMP!$B:$D,2,0),\"\")","v":""},{"$f":"IFERROR(VLOOKUP(AK1829,CadMP!$B:$D,2,0),\"\")","v":""},{"$f":"IFERROR(VLOOKUP(W1829,CadMP!$B:$D,3,0),\"\")","v":""},{"$f":"IFERROR(VLOOKUP(X1829,CadMP!$B:$D,3,0),\"\")","v":""},{"$f":"IFERROR(VLOOKUP(Y1829,CadMP!$B:$D,3,0),\"\")","v":""},{"$f":"IFERROR(VLOOKUP(Z1829,CadMP!$B:$D,3,0),\"\")","v":""},{"$f":"IFERROR(VLOOKUP(AA1829,CadMP!$B:$D,3,0),\"\")","v":""},{"$f":"IFERROR(VLOOKUP(AB1829,CadMP!$B:$D,3,0),\"\")","v":""},{"$f":"IFERROR(VLOOKUP(AC1829,CadMP!$B:$D,3,0),\"\")","v":""},{"$f":"IFERROR(VLOOKUP(AD1829,CadMP!$B:$D,3,0),\"\")","v":""},{"$f":"IFERROR(VLOOKUP(AE1829,CadMP!$B:$D,3,0),\"\")","v":""},{"$f":"IFERROR(VLOOKUP(AF1829,CadMP!$B:$D,3,0),\"\")","v":""},{"$f":"IFERROR(VLOOKUP(AG1829,CadMP!$B:$D,3,0),\"\")","v":""},{"$f":"IFERROR(VLOOKUP(AH1829,CadMP!$B:$D,3,0),\"\")","v":""},{"$f":"IFERROR(VLOOKUP(AI1829,CadMP!$B:$D,3,0),\"\")","v":""},{"$f":"IFERROR(VLOOKUP(AJ1829,CadMP!$B:$D,3,0),\"\")","v":""},{"$f":"IFERROR(VLOOKUP(AK1829,CadMP!$B:$D,3,0),\"\")","v":""},0,0,0,0,0,0,0,0,0,0,0,0,0,0,0]
[1846,null,null,0,0,null,null,null,null,null,null,0,0,null,null,null,null,null,null,null,1,0,null,null,null,null,null,null,null,null,null,null,null,null,null,null,null,null,null,null,null,null,null,null,null,null,null,null,null,null,null,null,{"$f":"IFERROR(VLOOKUP(W1847,CadMP!$B:$D,2,0),\"\")","v":""},{"$f":"IFERROR(VLOOKUP(X1847,CadMP!$B:$D,2,0),\"\")","v":""},{"$f":"IFERROR(VLOOKUP(Y1847,CadMP!$B:$D,2,0),\"\")","v":""},{"$f":"IFERROR(VLOOKUP(Z1847,CadMP!$B:$D,2,0),\"\")","v":""},{"$f":"IFERROR(VLOOKUP(AA1847,CadMP!$B:$D,2,0),\"\")","v":""},{"$f":"IFERROR(VLOOKUP(AB1847,CadMP!$B:$D,2,0),\"\")","v":""},{"$f":"IFERROR(VLOOKUP(AC1847,CadMP!$B:$D,2,0),\"\")","v":""},{"$f":"IFERROR(VLOOKUP(AD1847,CadMP!$B:$D,2,0),\"\")","v":""},{"$f":"IFERROR(VLOOKUP(AE1847,CadMP!$B:$D,2,0),\"\")","v":""},{"$f":"IFERROR(VLOOKUP(AF1847,CadMP!$B:$D,2,0),\"\")","v":""},{"$f":"IFERROR(VLOOKUP(AG1847,CadMP!$B:$D,2,0),\"\")","v":""},{"$f":"IFERROR(VLOOKUP(AH1847,CadMP!$B:$D,2,0),\"\")","v":""},{"$f":"IFERROR(VLOOKUP(AI1847,CadMP!$B:$D,2,0),\"\")","v":""},{"$f":"IFERROR(VLOOKUP(AJ1847,CadMP!$B:$D,2,0),\"\")","v":""},{"$f":"IFERROR(VLOOKUP(AK1847,CadMP!$B:$D,2,0),\"\")","v":""},{"$f":"IFERROR(VLOOKUP(W1847,CadMP!$B:$D,3,0),\"\")","v":""},{"$f":"IFERROR(VLOOKUP(X1847,CadMP!$B:$D,3,0),\"\")","v":""},{"$f":"IFERROR(VLOOKUP(Y1847,CadMP!$B:$D,3,0),\"\")","v":""},{"$f":"IFERROR(VLOOKUP(Z1847,CadMP!$B:$D,3,0),\"\")","v":""},{"$f":"IFERROR(VLOOKUP(AA1847,CadMP!$B:$D,3,0),\"\")","v":""},{"$f":"IFERROR(VLOOKUP(AB1847,CadMP!$B:$D,3,0),\"\")","v":""},{"$f":"IFERROR(VLOOKUP(AC1847,CadMP!$B:$D,3,0),\"\")","v":""},{"$f":"IFERROR(VLOOKUP(AD1847,CadMP!$B:$D,3,0),\"\")","v":""},{"$f":"IFERROR(VLOOKUP(AE1847,CadMP!$B:$D,3,0),\"\")","v":""},{"$f":"IFERROR(VLOOKUP(AF1847,CadMP!$B:$D,3,0),\"\")","v":""},{"$f":"IFERROR(VLOOKUP(AG1847,CadMP!$B:$D,3,0),\"\")","v":""},{"$f":"IFERROR(VLOOKUP(AH1847,CadMP!$B:$D,3,0),\"\")","v":""},{"$f":"IFERROR(VLOOKUP(AI1847,CadMP!$B:$D,3,0),\"\")","v":""},{"$f":"IFERROR(VLOOKUP(AJ1847,CadMP!$B:$D,3,0),\"\")","v":""},{"$f":"IFERROR(VLOOKUP(AK1847,CadMP!$B:$D,3,0),\"\")","v":""},0,0,0,0,0,0,0,0,0,0,0,0,0,0,0]
[1865,null,null,0,0,null,null,null,null,null,null,0,0,null,null,null,null,null,null,null,1,0,null,null,null,null,null,null,null,null,null,null,null,null,null,null,null,null,null,null,null,null,null,null,null,null,null,null,null,null,null,null,{"$f":"IFERROR(VLOOKUP(W1866,CadMP!$B:$D,2,0),\"\")","v":""},{"$f":"IFERROR(VLOOKUP(X1866,CadMP!$B:$D,2,0),\"\")","v":""},{"$f":"IFERROR(VLOOKUP(Y1866,CadMP!$B:$D,2,0),\"\")","v":""},{"$f":"IFERROR(VLOOKUP(Z1866,CadMP!$B:$D,2,0),\"\")","v":""},{"$f":"IFERROR(VLOOKUP(AA1866,CadMP!$B:$D,2,0),\"\")","v":""},{"$f":"IFERROR(VLOOKUP(AB1866,CadMP!$B:$D,2,0),\"\")","v":""},{"$f":"IFERROR(VLOOKUP(AC1866,CadMP!$B:$D,2,0),\"\")","v":""},{"$f":"IFERROR(VLOOKUP(AD1866,CadMP!$B:$D,2,0),\"\")","v":""},{"$f":"IFERROR(VLOOKUP(AE1866,CadMP!$B:$D,2,0),\"\")","v":""},{"$f":"IFERROR(VLOOKUP(AF1866,CadMP!$B:$D,2,0),\"\")","v":""},{"$f":"IFERROR(VLOOKUP(AG1866,CadMP!$B:$D,2,0),\"\")","v":""},{"$f":"IFERROR(VLOOKUP(AH1866,CadMP!$B:$D,2,0),\"\")","v":""},{"$f":"IFERROR(VLOOKUP(AI1866,CadMP!$B:$D,2,0),\"\")","v":""},{"$f":"IFERROR(VLOOKUP(AJ1866,CadMP!$B:$D,2,0),\"\")","v":""},{"$f":"IFERROR(VLOOKUP(AK1866,CadMP!$B:$D,2,0),\"\")","v":""},{"$f":"IFERROR(VLOOKUP(W1866,CadMP!$B:$D,3,0),\"\")","v":""},{"$f":"IFERROR(VLOOKUP(X1866,CadMP!$B:$D,3,0),\"\")","v":""},{"$f":"IFERROR(VLOOKUP(Y1866,CadMP!$B:$D,3,0),\"\")","v":""},{"$f":"IFERROR(VLOOKUP(Z1866,CadMP!$B:$D,3,0),\"\")","v":""},{"$f":"IFERROR(VLOOKUP(AA1866,CadMP!$B:$D,3,0),\"\")","v":""},{"$f":"IFERROR(VLOOKUP(AB1866,CadMP!$B:$D,3,0),\"\")","v":""},{"$f":"IFERROR(VLOOKUP(AC1866,CadMP!$B:$D,3,0),\"\")","v":""},{"$f":"IFERROR(VLOOKUP(AD1866,CadMP!$B:$D,3,0),\"\")","v":""},{"$f":"IFERROR(VLOOKUP(AE1866,CadMP!$B:$D,3,0),\"\")","v":""},{"$f":"IFERROR(VLOOKUP(AF1866,CadMP!$B:$D,3,0),\"\")","v":""},{"$f":"IFERROR(VLOOKUP(AG1866,CadMP!$B:$D,3,0),\"\")","v":""},{"$f":"IFERROR(VLOOKUP(AH1866,CadMP!$B:$D,3,0),\"\")","v":""},{"$f":"IFERROR(VLOOKUP(AI1866,CadMP!$B:$D,3,0),\"\")","v":""},{"$f":"IFERROR(VLOOKUP(AJ1866,CadMP!$B:$D,3,0),\"\")","v":""},{"$f":"IFERROR(VLOOKUP(AK1866,CadMP!$B:$D,3,0),\"\")","v":""},0,0,0,0,0,0,0,0,0,0,0,0,0,0,0]
[1890,null,null,0,0,null,null,null,null,null,null,0,0,null,null,null,null,null,null,null,1,0,null,null,null,null,null,null,null,null,null,null,null,null,null,null,null,null,null,null,null,null,null,null,null,null,null,null,null,null,null,null,{"$f":"IFERROR(VLOOKUP(W1891,CadMP!$B:$D,2,0),\"\")","v":""},{"$f":"IFERROR(VLOOKUP(X1891,CadMP!$B:$D,2,0),\"\")","v":""},{"$f":"IFERROR(VLOOKUP(Y1891,CadMP!$B:$D,2,0),\"\")","v":""},{"$f":"IFERROR(VLOOKUP(Z1891,CadMP!$B:$D,2,0),\"\")","v":""},{"$f":"IFERROR(VLOOKUP(AA1891,CadMP!$B:$D,2,0),\"\")","v":""},{"$f":"IFERROR(VLOOKUP(AB1891,CadMP!$B:$D,2,0),\"\")","v":""},{"$f":"IFERROR(VLOOKUP(AC1891,CadMP!$B:$D,2,0),\"\")","v":""},{"$f":"IFERROR(VLOOKUP(AD1891,CadMP!$B:$D,2,0),\"\")","v":""},{"$f":"IFERROR(VLOOKUP(AE1891,CadMP!$B:$D,2,0),\"\")","v":""},{"$f":"IFERROR(VLOOKUP(AF1891,CadMP!$B:$D,2,0),\"\")","v":""},{"$f":"IFERROR(VLOOKUP(AG1891,CadMP!$B:$D,2,0),\"\")","v":""},{"$f":"IFERROR(VLOOKUP(AH1891,CadMP!$B:$D,2,0),\"\")","v":""},{"$f":"IFERROR(VLOOKUP(AI1891,CadMP!$B:$D,2,0),\"\")","v":""},{"$f":"IFERROR(VLOOKUP(AJ1891,CadMP!$B:$D,2,0),\"\")","v":""},{"$f":"IFERROR(VLOOKUP(AK1891,CadMP!$B:$D,2,0),\"\")","v":""},{"$f":"IFERROR(VLOOKUP(W1891,CadMP!$B:$D,3,0),\"\")","v":""},{"$f":"IFERROR(VLOOKUP(X1891,CadMP!$B:$D,3,0),\"\")","v":""},{"$f":"IFERROR(VLOOKUP(Y1891,CadMP!$B:$D,3,0),\"\")","v":""},{"$f":"IFERROR(VLOOKUP(Z1891,CadMP!$B:$D,3,0),\"\")","v":""},{"$f":"IFERROR(VLOOKUP(AA1891,CadMP!$B:$D,3,0),\"\")","v":""},{"$f":"IFERROR(VLOOKUP(AB1891,CadMP!$B:$D,3,0),\"\")","v":""},{"$f":"IFERROR(VLOOKUP(AC1891,CadMP!$B:$D,3,0),\"\")","v":""},{"$f":"IFERROR(VLOOKUP(AD1891,CadMP!$B:$D,3,0),\"\")","v":""},{"$f":"IFERROR(VLOOKUP(AE1891,CadMP!$B:$D,3,0),\"\")","v":""},{"$f":"IFERROR(VLOOKUP(AF1891,CadMP!$B:$D,3,0),\"\")","v":""},{"$f":"IFERROR(VLOOKUP(AG1891,CadMP!$B:$D,3,0),\"\")","v":""},{"$f":"IFERROR(VLOOKUP(AH1891,CadMP!$B:$D,3,0),\"\")","v":""},{"$f":"IFERROR(VLOOKUP(AI1891,CadMP!$B:$D,3,0),\"\")","v":""},{"$f":"IFERROR(VLOOKUP(AJ1891,CadMP!$B:$D,3,0),\"\")","v":""},{"$f":"IFERROR(VLOOKUP(AK1891,CadMP!$B:$D,3,0),\"\")","v":""},0,0,0,0,0,0,0,0,0,0,0,0,0,0,0]
[1901,null,null,0,0,null,null,null,null,null,null,0,0,null,null,null,null,null,null,null,1,0,null,null,null,null,null,null,null,null,null,null,null,null,null,null,null,null,null,null,null,null,null,null,null,null,null,null,null,null,null,null,{"$f":"IFERROR(VLOOKUP(W1902,CadMP!$B:$D,2,0),\"\")","v":""},{"$f":"IFERROR(VLOOKUP(X1902,CadMP!$B:$D,2,0),\"\")","v":""},{"$f":"IFERROR(VLOOKUP(Y1902,CadMP!$B:$D,2,0),\"\")","v":""},{"$f":"IFERROR(VLOOKUP(Z1902,CadMP!$B:$D,2,0),\"\")","v":""},{"$f":"IFERROR(VLOOKUP(AA1902,CadMP!$B:$D,2,0),\"\")","v":""},{"$f":"IFERROR(VLOOKUP(AB1902,CadMP!$B:$D,2,0),\"\")","v":""},{"$f":"IFERROR(VLOOKUP(AC1902,CadMP!$B:$D,2,0),\"\")","v":""},{"$f":"IFERROR(VLOOKUP(AD1902,CadMP!$B:$D,2,0),\"\")","v":""},{"$f":"IFERROR(VLOOKUP(AE1902,CadMP!$B:$D,2,0),\"\")","v":""},{"$f":"IFERROR(VLOOKUP(AF1902,CadMP!$B:$D,2,0),\"\")","v":""},{"$f":"IFERROR(VLOOKUP(AG1902,CadMP!$B:$D,2,0),\"\")","v":""},{"$f":"IFERROR(VLOOKUP(AH1902,CadMP!$B:$D,2,0),\"\")","v":""},{"$f":"IFERROR(VLOOKUP(AI1902,CadMP!$B:$D,2,0),\"\")","v":""},{"$f":"IFERROR(VLOOKUP(AJ1902,CadMP!$B:$D,2,0),\"\")","v":""},{"$f":"IFERROR(VLOOKUP(AK1902,CadMP!$B:$D,2,0),\"\")","v":""},{"$f":"IFERROR(VLOOKUP(W1902,CadMP!$B:$D,3,0),\"\")","v":""},{"$f":"IFERROR(VLOOKUP(X1902,CadMP!$B:$D,3,0),\"\")","v":""},{"$f":"IFERROR(VLOOKUP(Y1902,CadMP!$B:$D,3,0),\"\")","v":""},{"$f":"IFERROR(VLOOKUP(Z1902,CadMP!$B:$D,3,0),\"\")","v":""},{"$f":"IFERROR(VLOOKUP(AA1902,CadMP!$B:$D,3,0),\"\")","v":""},{"$f":"IFERROR(VLOOKUP(AB1902,CadMP!$B:$D,3,0),\"\")","v":""},{"$f":"IFERROR(VLOOKUP(AC1902,CadMP!$B:$D,3,0),\"\")","v":""},{"$f":"IFERROR(VLOOKUP(AD1902,CadMP!$B:$D,3,0),\"\")","v":""},{"$f":"IFERROR(VLOOKUP(AE1902,CadMP!$B:$D,3,0),\"\")","v":""},{"$f":"IFERROR(VLOOKUP(AF1902,CadMP!$B:$D,3,0),\"\")","v":""},{"$f":"IFERROR(VLOOKUP(AG1902,CadMP!$B:$D,3,0),\"\")","v":""},{"$f":"IFERROR(VLOOKUP(AH1902,CadMP!$B:$D,3,0),\"\")","v":""},{"$f":"IFERROR(VLOOKUP(AI1902,CadMP!$B:$D,3,0),\"\")","v":""},{"$f":"IFERROR(VLOOKUP(AJ1902,CadMP!$B:$D,3,0),\"\")","v":""},{"$f":"IFERROR(VLOOKUP(AK1902,CadMP!$B:$D,3,0),\"\")","v":""},0,0,0,0,0,0,0,0,0,0,0,0,0,0,0]
[1927,null,null,0,0,null,null,null,null,null,null,0,0,null,null,null,null,null,null,null,1,0,null,null,null,null,null,null,null,null,null,null,null,null,null,null,null,null,null,null,null,null,null,null,null,null,null,null,null,null,null,null,{"$f":"IFERROR(VLOOKUP(W1928,CadMP!$B:$D,2,0),\"\")","v":""},{"$f":"IFERROR(VLOOKUP(X1928,CadMP!$B:$D,2,0),\"\")","v":""},{"$f":"IFERROR(VLOOKUP(Y1928,CadMP!$B:$D,2,0),\"\")","v":""},{"$f":"IFERROR(VLOOKUP(Z1928,CadMP!$B:$D,2,0),\"\")","v":""},{"$f":"IFERROR(VLOOKUP(AA1928,CadMP!$B:$D,2,0),\"\")","v":""},{"$f":"IFERROR(VLOOKUP(AB1928,CadMP!$B:$D,2,0),\"\")","v":""},{"$f":"IFERROR(VLOOKUP(AC1928,CadMP!$B:$D,2,0),\"\")","v":""},{"$f":"IFERROR(VLOOKUP(AD1928,CadMP!$B:$D,2,0),\"\")","v":""},{"$f":"IFERROR(VLOOKUP(AE1928,CadMP!$B:$D,2,0),\"\")","v":""},{"$f":"IFERROR(VLOOKUP(AF1928,CadMP!$B:$D,2,0),\"\")","v":""},{"$f":"IFERROR(VLOOKUP(AG1928,CadMP!$B:$D,2,0),\"\")","v":""},{"$f":"IFERROR(VLOOKUP(AH1928,CadMP!$B:$D,2,0),\"\")","v":""},{"$f":"IFERROR(VLOOKUP(AI1928,CadMP!$B:$D,2,0),\"\")","v":""},{"$f":"IFERROR(VLOOKUP(AJ1928,CadMP!$B:$D,2,0),\"\")","v":""},{"$f":"IFERROR(VLOOKUP(AK1928,CadMP!$B:$D,2,0),\"\")","v":""},{"$f":"IFERROR(VLOOKUP(W1928,CadMP!$B:$D,3,0),\"\")","v":""},{"$f":"IFERROR(VLOOKUP(X1928,CadMP!$B:$D,3,0),\"\")","v":""},{"$f":"IFERROR(VLOOKUP(Y1928,CadMP!$B:$D,3,0),\"\")","v":""},{"$f":"IFERROR(VLOOKUP(Z1928,CadMP!$B:$D,3,0),\"\")","v":""},{"$f":"IFERROR(VLOOKUP(AA1928,CadMP!$B:$D,3,0),\"\")","v":""},{"$f":"IFERROR(VLOOKUP(AB1928,CadMP!$B:$D,3,0),\"\")","v":""},{"$f":"IFERROR(VLOOKUP(AC1928,CadMP!$B:$D,3,0),\"\")","v":""},{"$f":"IFERROR(VLOOKUP(AD1928,CadMP!$B:$D,3,0),\"\")","v":""},{"$f":"IFERROR(VLOOKUP(AE1928,CadMP!$B:$D,3,0),\"\")","v":""},{"$f":"IFERROR(VLOOKUP(AF1928,CadMP!$B:$D,3,0),\"\")","v":""},{"$f":"IFERROR(VLOOKUP(AG1928,CadMP!$B:$D,3,0),\"\")","v":""},{"$f":"IFERROR(VLOOKUP(AH1928,CadMP!$B:$D,3,0),\"\")","v":""},{"$f":"IFERROR(VLOOKUP(AI1928,CadMP!$B:$D,3,0),\"\")","v":""},{"$f":"IFERROR(VLOOKUP(AJ1928,CadMP!$B:$D,3,0),\"\")","v":""},{"$f":"IFERROR(VLOOKUP(AK1928,CadMP!$B:$D,3,0),\"\")","v":""},0,0,0,0,0,0,0,0,0,0,0,0,0,0,0]
[1952,null,null,0,0,null,null,null,null,null,null,0,0,null,null,null,null,null,null,null,1,0,null,null,null,null,null,null,null,null,null,null,null,null,null,null,null,null,null,null,null,null,null,null,null,null,null,null,null,null,null,null,{"$f":"IFERROR(VLOOKUP(W1953,CadMP!$B:$D,2,0),\"\")","v":""},{"$f":"IFERROR(VLOOKUP(X1953,CadMP!$B:$D,2,0),\"\")","v":""},{"$f":"IFERROR(VLOOKUP(Y1953,CadMP!$B:$D,2,0),\"\")","v":""},{"$f":"IFERROR(VLOOKUP(Z1953,CadMP!$B:$D,2,0),\"\")","v":""},{"$f":"IFERROR(VLOOKUP(AA1953,CadMP!$B:$D,2,0),\"\")","v":""},{"$f":"IFERROR(VLOOKUP(AB1953,CadMP!$B:$D,2,0),\"\")","v":""},{"$f":"IFERROR(VLOOKUP(AC1953,CadMP!$B:$D,2,0),\"\")","v":""},{"$f":"IFERROR(VLOOKUP(AD1953,CadMP!$B:$D,2,0),\"\")","v":""},{"$f":"IFERROR(VLOOKUP(AE1953,CadMP!$B:$D,2,0),\"\")","v":""},{"$f":"IFERROR(VLOOKUP(AF1953,CadMP!$B:$D,2,0),\"\")","v":""},{"$f":"IFERROR(VLOOKUP(AG1953,CadMP!$B:$D,2,0),\"\")","v":""},{"$f":"IFERROR(VLOOKUP(AH1953,CadMP!$B:$D,2,0),\"\")","v":""},{"$f":"IFERROR(VLOOKUP(AI1953,CadMP!$B:$D,2,0),\"\")","v":""},{"$f":"IFERROR(VLOOKUP(AJ1953,CadMP!$B:$D,2,0),\"\")","v":""},{"$f":"IFERROR(VLOOKUP(AK1953,CadMP!$B:$D,2,0),\"\")","v":""},{"$f":"IFERROR(VLOOKUP(W1953,CadMP!$B:$D,3,0),\"\")","v":""},{"$f":"IFERROR(VLOOKUP(X1953,CadMP!$B:$D,3,0),\"\")","v":""},{"$f":"IFERROR(VLOOKUP(Y1953,CadMP!$B:$D,3,0),\"\")","v":""},{"$f":"IFERROR(VLOOKUP(Z1953,CadMP!$B:$D,3,0),\"\")","v":""},{"$f":"IFERROR(VLOOKUP(AA1953,CadMP!$B:$D,3,0),\"\")","v":""},{"$f":"IFERROR(VLOOKUP(AB1953,CadMP!$B:$D,3,0),\"\")","v":""},{"$f":"IFERROR(VLOOKUP(AC1953,CadMP!$B:$D,3,0),\"\")","v":""},{"$f":"IFERROR(VLOOKUP(AD1953,CadMP!$B:$D,3,0),\"\")","v":""},{"$f":"IFERROR(VLOOKUP(AE1953,CadMP!$B:$D,3,0),\"\")","v":""},{"$f":"IFERROR(VLOOKUP(AF1953,CadMP!$B:$D,3,0),\"\")","v":""},{"$f":"IFERROR(VLOOKUP(AG1953,CadMP!$B:$D,3,0),\"\")","v":""},{"$f":"IFERROR(VLOOKUP(AH1953,CadMP!$B:$D,3,0),\"\")","v":""},{"$f":"IFERROR(VLOOKUP(AI1953,CadMP!$B:$D,3,0),\"\")","v":""},{"$f":"IFERROR(VLOOKUP(AJ1953,CadMP!$B:$D,3,0),\"\")","v":""},{"$f":"IFERROR(VLOOKUP(AK1953,CadMP!$B:$D,3,0),\"\")","v":""},0,0,0,0,0,0,0,0,0,0,0,0,0,0,0]
[1971,null,null,0,0,null,null,null,null,null,null,0,0,null,null,null,null,null,null,null,1,0,null,null,null,null,null,null,null,null,null,null,null,null,null,null,null,null,null,null,null,null,null,null,null,null,null,null,null,null,null,null,{"$f":"IFERROR(VLOOKUP(W1972,CadMP!$B:$D,2,0),\"\")","v":""},{"$f":"IFERROR(VLOOKUP(X1972,CadMP!$B:$D,2,0),\"\")","v":""},{"$f":"IFERROR(VLOOKUP(Y1972,CadMP!$B:$D,2,0),\"\")","v":""},{"$f":"IFERROR(VLOOKUP(Z1972,CadMP!$B:$D,2,0),\"\")","v":""},{"$f":"IFERROR(VLOOKUP(AA1972,CadMP!$B:$D,2,0),\"\")","v":""},{"$f":"IFERROR(VLOOKUP(AB1972,CadMP!$B:$D,2,0),\"\")","v":""},{"$f":"IFERROR(VLOOKUP(AC1972,CadMP!$B:$D,2,0),\"\")","v":""},{"$f":"IFERROR(VLOOKUP(AD1972,CadMP!$B:$D,2,0),\"\")","v":""},{"$f":"IFERROR(VLOOKUP(AE1972,CadMP!$B:$D,2,0),\"\")","v":""},{"$f":"IFERROR(VLOOKUP(AF1972,CadMP!$B:$D,2,0),\"\")","v":""},{"$f":"IFERROR(VLOOKUP(AG1972,CadMP!$B:$D,2,0),\"\")","v":""},{"$f":"IFERROR(VLOOKUP(AH1972,CadMP!$B:$D,2,0),\"\")","v":""},{"$f":"IFERROR(VLOOKUP(AI1972,CadMP!$B:$D,2,0),\"\")","v":""},{"$f":"IFERROR(VLOOKUP(AJ1972,CadMP!$B:$D,2,0),\"\")","v":""},{"$f":"IFERROR(VLOOKUP(AK1972,CadMP!$B:$D,2,0),\"\")","v":""},{"$f":"IFERROR(VLOOKUP(W1972,CadMP!$B:$D,3,0),\"\")","v":""},{"$f":"IFERROR(VLOOKUP(X1972,CadMP!$B:$D,3,0),\"\")","v":""},{"$f":"IFERROR(VLOOKUP(Y1972,CadMP!$B:$D,3,0),\"\")","v":""},{"$f":"IFERROR(VLOOKUP(Z1972,CadMP!$B:$D,3,0),\"\")","v":""},{"$f":"IFERROR(VLOOKUP(AA1972,CadMP!$B:$D,3,0),\"\")","v":""},{"$f":"IFERROR(VLOOKUP(AB1972,CadMP!$B:$D,3,0),\"\")","v":""},{"$f":"IFERROR(VLOOKUP(AC1972,CadMP!$B:$D,3,0),\"\")","v":""},{"$f":"IFERROR(VLOOKUP(AD1972,CadMP!$B:$D,3,0),\"\")","v":""},{"$f":"IFERROR(VLOOKUP(AE1972,CadMP!$B:$D,3,0),\"\")","v":""},{"$f":"IFERROR(VLOOKUP(AF1972,CadMP!$B:$D,3,0),\"\")","v":""},{"$f":"IFERROR(VLOOKUP(AG1972,CadMP!$B:$D,3,0),\"\")","v":""},{"$f":"IFERROR(VLOOKUP(AH1972,CadMP!$B:$D,3,0),\"\")","v":""},{"$f":"IFERROR(VLOOKUP(AI1972,CadMP!$B:$D,3,0),\"\")","v":""},{"$f":"IFERROR(VLOOKUP(AJ1972,CadMP!$B:$D,3,0),\"\")","v":""},{"$f":"IFERROR(VLOOKUP(AK1972,CadMP!$B:$D,3,0),\"\")","v":""},0,0,0,0,0,0,0,0,0,0,0,0,0,0,0]
[1978,null,null,0,0,null,null,null,null,null,null,0,0,null,null,null,null,null,null,null,1,0,null,null,null,null,null,null,null,null,null,null,null,null,null,null,null,null,null,null,null,null,null,null,null,null,null,null,null,null,null,null,{"$f":"IFERROR(VLOOKUP(W1979,CadMP!$B:$D,2,0),\"\")","v":""},{"$f":"IFERROR(VLOOKUP(X1979,CadMP!$B:$D,2,0),\"\")","v":""},{"$f":"IFERROR(VLOOKUP(Y1979,CadMP!$B:$D,2,0),\"\")","v":""},{"$f":"IFERROR(VLOOKUP(Z1979,CadMP!$B:$D,2,0),\"\")","v":""},{"$f":"IFERROR(VLOOKUP(AA1979,CadMP!$B:$D,2,0),\"\")","v":""},{"$f":"IFERROR(VLOOKUP(AB1979,CadMP!$B:$D,2,0),\"\")","v":""},{"$f":"IFERROR(VLOOKUP(AC1979,CadMP!$B:$D,2,0),\"\")","v":""},{"$f":"IFERROR(VLOOKUP(AD1979,CadMP!$B:$D,2,0),\"\")","v":""},{"$f":"IFERROR(VLOOKUP(AE1979,CadMP!$B:$D,2,0),\"\")","v":""},{"$f":"IFERROR(VLOOKUP(AF1979,CadMP!$B:$D,2,0),\"\")","v":""},{"$f":"IFERROR(VLOOKUP(AG1979,CadMP!$B:$D,2,0),\"\")","v":""},{"$f":"IFERROR(VLOOKUP(AH1979,CadMP!$B:$D,2,0),\"\")","v":""},{"$f":"IFERROR(VLOOKUP(AI1979,CadMP!$B:$D,2,0),\"\")","v":""},{"$f":"IFERROR(VLOOKUP(AJ1979,CadMP!$B:$D,2,0),\"\")","v":""},{"$f":"IFERROR(VLOOKUP(AK1979,CadMP!$B:$D,2,0),\"\")","v":""},{"$f":"IFERROR(VLOOKUP(W1979,CadMP!$B:$D,3,0),\"\")","v":""},{"$f":"IFERROR(VLOOKUP(X1979,CadMP!$B:$D,3,0),\"\")","v":""},{"$f":"IFERROR(VLOOKUP(Y1979,CadMP!$B:$D,3,0),\"\")","v":""},{"$f":"IFERROR(VLOOKUP(Z1979,CadMP!$B:$D,3,0),\"\")","v":""},{"$f":"IFERROR(VLOOKUP(AA1979,CadMP!$B:$D,3,0),\"\")","v":""},{"$f":"IFERROR(VLOOKUP(AB1979,CadMP!$B:$D,3,0),\"\")","v":""},{"$f":"IFERROR(VLOOKUP(AC1979,CadMP!$B:$D,3,0),\"\")","v":""},{"$f":"IFERROR(VLOOKUP(AD1979,CadMP!$B:$D,3,0),\"\")","v":""},{"$f":"IFERROR(VLOOKUP(AE1979,CadMP!$B:$D,3,0),\"\")","v":""},{"$f":"IFERROR(VLOOKUP(AF1979,CadMP!$B:$D,3,0),\"\")","v":""},{"$f":"IFERROR(VLOOKUP(AG1979,CadMP!$B:$D,3,0),\"\")","v":""},{"$f":"IFERROR(VLOOKUP(AH1979,CadMP!$B:$D,3,0),\"\")","v":""},{"$f":"IFERROR(VLOOKUP(AI1979,CadMP!$B:$D,3,0),\"\")","v":""},{"$f":"IFERROR(VLOOKUP(AJ1979,CadMP!$B:$D,3,0),\"\")","v":""},{"$f":"IFERROR(VLOOKUP(AK1979,CadMP!$B:$D,3,0),\"\")","v":""},0,0,0,0,0,0,0,0,0,0,0,0,0,0,0]
[1995,null,null,0,0,null,null,null,null,null,null,0,0,null,null,null,null,null,null,null,1,0,null,null,null,null,null,null,null,null,null,null,null,null,null,null,null,null,null,null,null,null,null,null,null,null,null,null,null,null,null,null,{"$f":"IFERROR(VLOOKUP(W1996,CadMP!$B:$D,2,0),\"\")","v":""},{"$f":"IFERROR(VLOOKUP(X1996,CadMP!$B:$D,2,0),\"\")","v":""},{"$f":"IFERROR(VLOOKUP(Y1996,CadMP!$B:$D,2,0),\"\")","v":""},{"$f":"IFERROR(VLOOKUP(Z1996,CadMP!$B:$D,2,0),\"\")","v":""},{"$f":"IFERROR(VLOOKUP(AA1996,CadMP!$B:$D,2,0),\"\")","v":""},{"$f":"IFERROR(VLOOKUP(AB1996,CadMP!$B:$D,2,0),\"\")","v":""},{"$f":"IFERROR(VLOOKUP(AC1996,CadMP!$B:$D,2,0),\"\")","v":""},{"$f":"IFERROR(VLOOKUP(AD1996,CadMP!$B:$D,2,0),\"\")","v":""},{"$f":"IFERROR(VLOOKUP(AE1996,CadMP!$B:$D,2,0),\"\")","v":""},{"$f":"IFERROR(VLOOKUP(AF1996,CadMP!$B:$D,2,0),\"\")","v":""},{"$f":"IFERROR(VLOOKUP(AG1996,CadMP!$B:$D,2,0),\"\")","v":""},{"$f":"IFERROR(VLOOKUP(AH1996,CadMP!$B:$D,2,0),\"\")","v":""},{"$f":"IFERROR(VLOOKUP(AI1996,CadMP!$B:$D,2,0),\"\")","v":""},{"$f":"IFERROR(VLOOKUP(AJ1996,CadMP!$B:$D,2,0),\"\")","v":""},{"$f":"IFERROR(VLOOKUP(AK1996,CadMP!$B:$D,2,0),\"\")","v":""},{"$f":"IFERROR(VLOOKUP(W1996,CadMP!$B:$D,3,0),\"\")","v":""},{"$f":"IFERROR(VLOOKUP(X1996,CadMP!$B:$D,3,0),\"\")","v":""},{"$f":"IFERROR(VLOOKUP(Y1996,CadMP!$B:$D,3,0),\"\")","v":""},{"$f":"IFERROR(VLOOKUP(Z1996,CadMP!$B:$D,3,0),\"\")","v":""},{"$f":"IFERROR(VLOOKUP(AA1996,CadMP!$B:$D,3,0),\"\")","v":""},{"$f":"IFERROR(VLOOKUP(AB1996,CadMP!$B:$D,3,0),\"\")","v":""},{"$f":"IFERROR(VLOOKUP(AC1996,CadMP!$B:$D,3,0),\"\")","v":""},{"$f":"IFERROR(VLOOKUP(AD1996,CadMP!$B:$D,3,0),\"\")","v":""},{"$f":"IFERROR(VLOOKUP(AE1996,CadMP!$B:$D,3,0),\"\")","v":""},{"$f":"IFERROR(VLOOKUP(AF1996,CadMP!$B:$D,3,0),\"\")","v":""},{"$f":"IFERROR(VLOOKUP(AG1996,CadMP!$B:$D,3,0),\"\")","v":""},{"$f":"IFERROR(VLOOKUP(AH1996,CadMP!$B:$D,3,0),\"\")","v":""},{"$f":"IFERROR(VLOOKUP(AI1996,CadMP!$B:$D,3,0),\"\")","v":""},{"$f":"IFERROR(VLOOKUP(AJ1996,CadMP!$B:$D,3,0),\"\")","v":""},{"$f":"IFERROR(VLOOKUP(AK1996,CadMP!$B:$D,3,0),\"\")","v":""},0,0,0,0,0,0,0,0,0,0,0,0,0,0,0]
[2014,null,null,0,0,null,null,null,null,null,null,0,0,null,null,null,null,null,null,null,1,0,null,null,null,null,null,null,null,null,null,null,null,null,null,null,null,null,null,null,null,null,null,null,null,null,null,null,null,null,null,null,{"$f":"IFERROR(VLOOKUP(W2015,CadMP!$B:$D,2,0),\"\")","v":""},{"$f":"IFERROR(VLOOKUP(X2015,CadMP!$B:$D,2,0),\"\")","v":""},{"$f":"IFERROR(VLOOKUP(Y2015,CadMP!$B:$D,2,0),\"\")","v":""},{"$f":"IFERROR(VLOOKUP(Z2015,CadMP!$B:$D,2,0),\"\")","v":""},{"$f":"IFERROR(VLOOKUP(AA2015,CadMP!$B:$D,2,0),\"\")","v":""},{"$f":"IFERROR(VLOOKUP(AB2015,CadMP!$B:$D,2,0),\"\")","v":""},{"$f":"IFERROR(VLOOKUP(AC2015,CadMP!$B:$D,2,0),\"\")","v":""},{"$f":"IFERROR(VLOOKUP(AD2015,CadMP!$B:$D,2,0),\"\")","v":""},{"$f":"IFERROR(VLOOKUP(AE2015,CadMP!$B:$D,2,0),\"\")","v":""},{"$f":"IFERROR(VLOOKUP(AF2015,CadMP!$B:$D,2,0),\"\")","v":""},{"$f":"IFERROR(VLOOKUP(AG2015,CadMP!$B:$D,2,0),\"\")","v":""},{"$f":"IFERROR(VLOOKUP(AH2015,CadMP!$B:$D,2,0),\"\")","v":""},{"$f":"IFERROR(VLOOKUP(AI2015,CadMP!$B:$D,2,0),\"\")","v":""},{"$f":"IFERROR(VLOOKUP(AJ2015,CadMP!$B:$D,2,0),\"\")","v":""},{"$f":"IFERROR(VLOOKUP(AK2015,CadMP!$B:$D,2,0),\"\")","v":""},{"$f":"IFERROR(VLOOKUP(W2015,CadMP!$B:$D,3,0),\"\")","v":""},{"$f":"IFERROR(VLOOKUP(X2015,CadMP!$B:$D,3,0),\"\")","v":""},{"$f":"IFERROR(VLOOKUP(Y2015,CadMP!$B:$D,3,0),\"\")","v":""},{"$f":"IFERROR(VLOOKUP(Z2015,CadMP!$B:$D,3,0),\"\")","v":""},{"$f":"IFERROR(VLOOKUP(AA2015,CadMP!$B:$D,3,0),\"\")","v":""},{"$f":"IFERROR(VLOOKUP(AB2015,CadMP!$B:$D,3,0),\"\")","v":""},{"$f":"IFERROR(VLOOKUP(AC2015,CadMP!$B:$D,3,0),\"\")","v":""},{"$f":"IFERROR(VLOOKUP(AD2015,CadMP!$B:$D,3,0),\"\")","v":""},{"$f":"IFERROR(VLOOKUP(AE2015,CadMP!$B:$D,3,0),\"\")","v":""},{"$f":"IFERROR(VLOOKUP(AF2015,CadMP!$B:$D,3,0),\"\")","v":""},{"$f":"IFERROR(VLOOKUP(AG2015,CadMP!$B:$D,3,0),\"\")","v":""},{"$f":"IFERROR(VLOOKUP(AH2015,CadMP!$B:$D,3,0),\"\")","v":""},{"$f":"IFERROR(VLOOKUP(AI2015,CadMP!$B:$D,3,0),\"\")","v":""},{"$f":"IFERROR(VLOOKUP(AJ2015,CadMP!$B:$D,3,0),\"\")","v":""},{"$f":"IFERROR(VLOOKUP(AK2015,CadMP!$B:$D,3,0),\"\")","v":""},0,0,0,0,0,0,0,0,0,0,0,0,0,0,0]
[2039,null,null,0,0,null,null,null,null,null,null,0,0,null,null,null,null,null,null,null,1,0,null,null,null,null,null,null,null,null,null,null,null,null,null,null,null,null,null,null,null,null,null,null,null,null,null,null,null,null,null,null,{"$f":"IFERROR(VLOOKUP(W2040,CadMP!$B:$D,2,0),\"\")","v":""},{"$f":"IFERROR(VLOOKUP(X2040,CadMP!$B:$D,2,0),\"\")","v":""},{"$f":"IFERROR(VLOOKUP(Y2040,CadMP!$B:$D,2,0),\"\")","v":""},{"$f":"IFERROR(VLOOKUP(Z2040,CadMP!$B:$D,2,0),\"\")","v":""},{"$f":"IFERROR(VLOOKUP(AA2040,CadMP!$B:$D,2,0),\"\")","v":""},{"$f":"IFERROR(VLOOKUP(AB2040,CadMP!$B:$D,2,0),\"\")","v":""},{"$f":"IFERROR(VLOOKUP(AC2040,CadMP!$B:$D,2,0),\"\")","v":""},{"$f":"IFERROR(VLOOKUP(AD2040,CadMP!$B:$D,2,0),\"\")","v":""},{"$f":"IFERROR(VLOOKUP(AE2040,CadMP!$B:$D,2,0),\"\")","v":""},{"$f":"IFERROR(VLOOKUP(AF2040,CadMP!$B:$D,2,0),\"\")","v":""},{"$f":"IFERROR(VLOOKUP(AG2040,CadMP!$B:$D,2,0),\"\")","v":""},{"$f":"IFERROR(VLOOKUP(AH2040,CadMP!$B:$D,2,0),\"\")","v":""},{"$f":"IFERROR(VLOOKUP(AI2040,CadMP!$B:$D,2,0),\"\")","v":""},{"$f":"IFERROR(VLOOKUP(AJ2040,CadMP!$B:$D,2,0),\"\")","v":""},{"$f":"IFERROR(VLOOKUP(AK2040,CadMP!$B:$D,2,0),\"\")","v":""},{"$f":"IFERROR(VLOOKUP(W2040,CadMP!$B:$D,3,0),\"\")","v":""},{"$f":"IFERROR(VLOOKUP(X2040,CadMP!$B:$D,3,0),\"\")","v":""},{"$f":"IFERROR(VLOOKUP(Y2040,CadMP!$B:$D,3,0),\"\")","v":""},{"$f":"IFERROR(VLOOKUP(Z2040,CadMP!$B:$D,3,0),\"\")","v":""},{"$f":"IFERROR(VLOOKUP(AA2040,CadMP!$B:$D,3,0),\"\")","v":""},{"$f":"IFERROR(VLOOKUP(AB2040,CadMP!$B:$D,3,0),\"\")","v":""},{"$f":"IFERROR(VLOOKUP(AC2040,CadMP!$B:$D,3,0),\"\")","v":""},{"$f":"IFERROR(VLOOKUP(AD2040,CadMP!$B:$D,3,0),\"\")","v":""},{"$f":"IFERROR(VLOOKUP(AE2040,CadMP!$B:$D,3,0),\"\")","v":""},{"$f":"IFERROR(VLOOKUP(AF2040,CadMP!$B:$D,3,0),\"\")","v":""},{"$f":"IFERROR(VLOOKUP(AG2040,CadMP!$B:$D,3,0),\"\")","v":""},{"$f":"IFERROR(VLOOKUP(AH2040,CadMP!$B:$D,3,0),\"\")","v":""},{"$f":"IFERROR(VLOOKUP(AI2040,CadMP!$B:$D,3,0),\"\")","v":""},{"$f":"IFERROR(VLOOKUP(AJ2040,CadMP!$B:$D,3,0),\"\")","v":""},{"$f":"IFERROR(VLOOKUP(AK2040,CadMP!$B:$D,3,0),\"\")","v":""},0,0,0,0,0,0,0,0,0,0,0,0,0,0,0]
[2051,null,null,0,0,null,null,null,null,null,null,0,0,null,null,null,null,null,null,null,1,0,null,null,null,null,null,null,null,null,null,null,null,null,null,null,null,null,null,null,null,null,null,null,null,null,null,null,null,null,null,null,{"$f":"IFERROR(VLOOKUP(W2052,CadMP!$B:$D,2,0),\"\")","v":""},{"$f":"IFERROR(VLOOKUP(X2052,CadMP!$B:$D,2,0),\"\")","v":""},{"$f":"IFERROR(VLOOKUP(Y2052,CadMP!$B:$D,2,0),\"\")","v":""},{"$f":"IFERROR(VLOOKUP(Z2052,CadMP!$B:$D,2,0),\"\")","v":""},{"$f":"IFERROR(VLOOKUP(AA2052,CadMP!$B:$D,2,0),\"\")","v":""},{"$f":"IFERROR(VLOOKUP(AB2052,CadMP!$B:$D,2,0),\"\")","v":""},{"$f":"IFERROR(VLOOKUP(AC2052,CadMP!$B:$D,2,0),\"\")","v":""},{"$f":"IFERROR(VLOOKUP(AD2052,CadMP!$B:$D,2,0),\"\")","v":""},{"$f":"IFERROR(VLOOKUP(AE2052,CadMP!$B:$D,2,0),\"\")","v":""},{"$f":"IFERROR(VLOOKUP(AF2052,CadMP!$B:$D,2,0),\"\")","v":""},{"$f":"IFERROR(VLOOKUP(AG2052,CadMP!$B:$D,2,0),\"\")","v":""},{"$f":"IFERROR(VLOOKUP(AH2052,CadMP!$B:$D,2,0),\"\")","v":""},{"$f":"IFERROR(VLOOKUP(AI2052,CadMP!$B:$D,2,0),\"\")","v":""},{"$f":"IFERROR(VLOOKUP(AJ2052,CadMP!$B:$D,2,0),\"\")","v":""},{"$f":"IFERROR(VLOOKUP(AK2052,CadMP!$B:$D,2,0),\"\")","v":""},{"$f":"IFERROR(VLOOKUP(W2052,CadMP!$B:$D,3,0),\"\")","v":""},{"$f":"IFERROR(VLOOKUP(X2052,CadMP!$B:$D,3,0),\"\")","v":""},{"$f":"IFERROR(VLOOKUP(Y2052,CadMP!$B:$D,3,0),\"\")","v":""},{"$f":"IFERROR(VLOOKUP(Z2052,CadMP!$B:$D,3,0),\"\")","v":""},{"$f":"IFERROR(VLOOKUP(AA2052,CadMP!$B:$D,3,0),\"\")","v":""},{"$f":"IFERROR(VLOOKUP(AB2052,CadMP!$B:$D,3,0),\"\")","v":""},{"$f":"IFERROR(VLOOKUP(AC2052,CadMP!$B:$D,3,0),\"\")","v":""},{"$f":"IFERROR(VLOOKUP(AD2052,CadMP!$B:$D,3,0),\"\")","v":""},{"$f":"IFERROR(VLOOKUP(AE2052,CadMP!$B:$D,3,0),\"\")","v":""},{"$f":"IFERROR(VLOOKUP(AF2052,CadMP!$B:$D,3,0),\"\")","v":""},{"$f":"IFERROR(VLOOKUP(AG2052,CadMP!$B:$D,3,0),\"\")","v":""},{"$f":"IFERROR(VLOOKUP(AH2052,CadMP!$B:$D,3,0),\"\")","v":""},{"$f":"IFERROR(VLOOKUP(AI2052,CadMP!$B:$D,3,0),\"\")","v":""},{"$f":"IFERROR(VLOOKUP(AJ2052,CadMP!$B:$D,3,0),\"\")","v":""},{"$f":"IFERROR(VLOOKUP(AK2052,CadMP!$B:$D,3,0),\"\")","v":""},0,0,0,0,0,0,0,0,0,0,0,0,0,0,0]
[2082,null,null,0,0,null,null,null,null,null,null,0,0,null,null,null,null,null,null,null,1,0,null,null,null,null,null,null,null,null,null,null,null,null,null,null,null,null,null,null,null,null,null,null,null,null,null,null,null,null,null,null,{"$f":"IFERROR(VLOOKUP(W2083,CadMP!$B:$D,2,0),\"\")","v":""},{"$f":"IFERROR(VLOOKUP(X2083,CadMP!$B:$D,2,0),\"\")","v":""},{"$f":"IFERROR(VLOOKUP(Y2083,CadMP!$B:$D,2,0),\"\")","v":""},{"$f":"IFERROR(VLOOKUP(Z2083,CadMP!$B:$D,2,0),\"\")","v":""},{"$f":"IFERROR(VLOOKUP(AA2083,CadMP!$B:$D,2,0),\"\")","v":""},{"$f":"IFERROR(VLOOKUP(AB2083,CadMP!$B:$D,2,0),\"\")","v":""},{"$f":"IFERROR(VLOOKUP(AC2083,CadMP!$B:$D,2,0),\"\")","v":""},{"$f":"IFERROR(VLOOKUP(AD2083,CadMP!$B:$D,2,0),\"\")","v":""},{"$f":"IFERROR(VLOOKUP(AE2083,CadMP!$B:$D,2,0),\"\")","v":""},{"$f":"IFERROR(VLOOKUP(AF2083,CadMP!$B:$D,2,0),\"\")","v":""},{"$f":"IFERROR(VLOOKUP(AG2083,CadMP!$B:$D,2,0),\"\")","v":""},{"$f":"IFERROR(VLOOKUP(AH2083,CadMP!$B:$D,2,0),\"\")","v":""},{"$f":"IFERROR(VLOOKUP(AI2083,CadMP!$B:$D,2,0),\"\")","v":""},{"$f":"IFERROR(VLOOKUP(AJ2083,CadMP!$B:$D,2,0),\"\")","v":""},{"$f":"IFERROR(VLOOKUP(AK2083,CadMP!$B:$D,2,0),\"\")","v":""},{"$f":"IFERROR(VLOOKUP(W2083,CadMP!$B:$D,3,0),\"\")","v":""},{"$f":"IFERROR(VLOOKUP(X2083,CadMP!$B:$D,3,0),\"\")","v":""},{"$f":"IFERROR(VLOOKUP(Y2083,CadMP!$B:$D,3,0),\"\")","v":""},{"$f":"IFERROR(VLOOKUP(Z2083,CadMP!$B:$D,3,0),\"\")","v":""},{"$f":"IFERROR(VLOOKUP(AA2083,CadMP!$B:$D,3,0),\"\")","v":""},{"$f":"IFERROR(VLOOKUP(AB2083,CadMP!$B:$D,3,0),\"\")","v":""},{"$f":"IFERROR(VLOOKUP(AC2083,CadMP!$B:$D,3,0),\"\")","v":""},{"$f":"IFERROR(VLOOKUP(AD2083,CadMP!$B:$D,3,0),\"\")","v":""},{"$f":"IFERROR(VLOOKUP(AE2083,CadMP!$B:$D,3,0),\"\")","v":""},{"$f":"IFERROR(VLOOKUP(AF2083,CadMP!$B:$D,3,0),\"\")","v":""},{"$f":"IFERROR(VLOOKUP(AG2083,CadMP!$B:$D,3,0),\"\")","v":""},{"$f":"IFERROR(VLOOKUP(AH2083,CadMP!$B:$D,3,0),\"\")","v":""},{"$f":"IFERROR(VLOOKUP(AI2083,CadMP!$B:$D,3,0),\"\")","v":""},{"$f":"IFERROR(VLOOKUP(AJ2083,CadMP!$B:$D,3,0),\"\")","v":""},{"$f":"IFERROR(VLOOKUP(AK2083,CadMP!$B:$D,3,0),\"\")","v":""},0,0,0,0,0,0,0,0,0,0,0,0,0,0,0]
[2101,null,null,0,0,null,null,null,null,null,null,0,0,null,null,null,null,null,null,null,1,0,null,null,null,null,null,null,null,null,null,null,null,null,null,null,null,null,null,null,null,null,null,null,null,null,null,null,null,null,null,null,{"$f":"IFERROR(VLOOKUP(W2102,CadMP!$B:$D,2,0),\"\")","v":""},{"$f":"IFERROR(VLOOKUP(X2102,CadMP!$B:$D,2,0),\"\")","v":""},{"$f":"IFERROR(VLOOKUP(Y2102,CadMP!$B:$D,2,0),\"\")","v":""},{"$f":"IFERROR(VLOOKUP(Z2102,CadMP!$B:$D,2,0),\"\")","v":""},{"$f":"IFERROR(VLOOKUP(AA2102,CadMP!$B:$D,2,0),\"\")","v":""},{"$f":"IFERROR(VLOOKUP(AB2102,CadMP!$B:$D,2,0),\"\")","v":""},{"$f":"IFERROR(VLOOKUP(AC2102,CadMP!$B:$D,2,0),\"\")","v":""},{"$f":"IFERROR(VLOOKUP(AD2102,CadMP!$B:$D,2,0),\"\")","v":""},{"$f":"IFERROR(VLOOKUP(AE2102,CadMP!$B:$D,2,0),\"\")","v":""},{"$f":"IFERROR(VLOOKUP(AF2102,CadMP!$B:$D,2,0),\"\")","v":""},{"$f":"IFERROR(VLOOKUP(AG2102,CadMP!$B:$D,2,0),\"\")","v":""},{"$f":"IFERROR(VLOOKUP(AH2102,CadMP!$B:$D,2,0),\"\")","v":""},{"$f":"IFERROR(VLOOKUP(AI2102,CadMP!$B:$D,2,0),\"\")","v":""},{"$f":"IFERROR(VLOOKUP(AJ2102,CadMP!$B:$D,2,0),\"\")","v":""},{"$f":"IFERROR(VLOOKUP(AK2102,CadMP!$B:$D,2,0),\"\")","v":""},{"$f":"IFERROR(VLOOKUP(W2102,CadMP!$B:$D,3,0),\"\")","v":""},{"$f":"IFERROR(VLOOKUP(X2102,CadMP!$B:$D,3,0),\"\")","v":""},{"$f":"IFERROR(VLOOKUP(Y2102,CadMP!$B:$D,3,0),\"\")","v":""},{"$f":"IFERROR(VLOOKUP(Z2102,CadMP!$B:$D,3,0),\"\")","v":""},{"$f":"IFERROR(VLOOKUP(AA2102,CadMP!$B:$D,3,0),\"\")","v":""},{"$f":"IFERROR(VLOOKUP(AB2102,CadMP!$B:$D,3,0),\"\")","v":""},{"$f":"IFERROR(VLOOKUP(AC2102,CadMP!$B:$D,3,0),\"\")","v":""},{"$f":"IFERROR(VLOOKUP(AD2102,CadMP!$B:$D,3,0),\"\")","v":""},{"$f":"IFERROR(VLOOKUP(AE2102,CadMP!$B:$D,3,0),\"\")","v":""},{"$f":"IFERROR(VLOOKUP(AF2102,CadMP!$B:$D,3,0),\"\")","v":""},{"$f":"IFERROR(VLOOKUP(AG2102,CadMP!$B:$D,3,0),\"\")","v":""},{"$f":"IFERROR(VLOOKUP(AH2102,CadMP!$B:$D,3,0),\"\")","v":""},{"$f":"IFERROR(VLOOKUP(AI2102,CadMP!$B:$D,3,0),\"\")","v":""},{"$f":"IFERROR(VLOOKUP(AJ2102,CadMP!$B:$D,3,0),\"\")","v":""},{"$f":"IFERROR(VLOOKUP(AK2102,CadMP!$B:$D,3,0),\"\")","v":""},0,0,0,0,0,0,0,0,0,0,0,0,0,0,0]
[2120,null,null,0,0,null,null,null,null,null,null,0,0,null,null,null,null,null,null,null,1,0,null,null,null,null,null,null,null,null,null,null,null,null,null,null,null,null,null,null,null,null,null,null,null,null,null,null,null,null,null,null,{"$f":"IFERROR(VLOOKUP(W2121,CadMP!$B:$D,2,0),\"\")","v":""},{"$f":"IFERROR(VLOOKUP(X2121,CadMP!$B:$D,2,0),\"\")","v":""},{"$f":"IFERROR(VLOOKUP(Y2121,CadMP!$B:$D,2,0),\"\")","v":""},{"$f":"IFERROR(VLOOKUP(Z2121,CadMP!$B:$D,2,0),\"\")","v":""},{"$f":"IFERROR(VLOOKUP(AA2121,CadMP!$B:$D,2,0),\"\")","v":""},{"$f":"IFERROR(VLOOKUP(AB2121,CadMP!$B:$D,2,0),\"\")","v":""},{"$f":"IFERROR(VLOOKUP(AC2121,CadMP!$B:$D,2,0),\"\")","v":""},{"$f":"IFERROR(VLOOKUP(AD2121,CadMP!$B:$D,2,0),\"\")","v":""},{"$f":"IFERROR(VLOOKUP(AE2121,CadMP!$B:$D,2,0),\"\")","v":""},{"$f":"IFERROR(VLOOKUP(AF2121,CadMP!$B:$D,2,0),\"\")","v":""},{"$f":"IFERROR(VLOOKUP(AG2121,CadMP!$B:$D,2,0),\"\")","v":""},{"$f":"IFERROR(VLOOKUP(AH2121,CadMP!$B:$D,2,0),\"\")","v":""},{"$f":"IFERROR(VLOOKUP(AI2121,CadMP!$B:$D,2,0),\"\")","v":""},{"$f":"IFERROR(VLOOKUP(AJ2121,CadMP!$B:$D,2,0),\"\")","v":""},{"$f":"IFERROR(VLOOKUP(AK2121,CadMP!$B:$D,2,0),\"\")","v":""},{"$f":"IFERROR(VLOOKUP(W2121,CadMP!$B:$D,3,0),\"\")","v":""},{"$f":"IFERROR(VLOOKUP(X2121,CadMP!$B:$D,3,0),\"\")","v":""},{"$f":"IFERROR(VLOOKUP(Y2121,CadMP!$B:$D,3,0),\"\")","v":""},{"$f":"IFERROR(VLOOKUP(Z2121,CadMP!$B:$D,3,0),\"\")","v":""},{"$f":"IFERROR(VLOOKUP(AA2121,CadMP!$B:$D,3,0),\"\")","v":""},{"$f":"IFERROR(VLOOKUP(AB2121,CadMP!$B:$D,3,0),\"\")","v":""},{"$f":"IFERROR(VLOOKUP(AC2121,CadMP!$B:$D,3,0),\"\")","v":""},{"$f":"IFERROR(VLOOKUP(AD2121,CadMP!$B:$D,3,0),\"\")","v":""},{"$f":"IFERROR(VLOOKUP(AE2121,CadMP!$B:$D,3,0),\"\")","v":""},{"$f":"IFERROR(VLOOKUP(AF2121,CadMP!$B:$D,3,0),\"\")","v":""},{"$f":"IFERROR(VLOOKUP(AG2121,CadMP!$B:$D,3,0),\"\")","v":""},{"$f":"IFERROR(VLOOKUP(AH2121,CadMP!$B:$D,3,0),\"\")","v":""},{"$f":"IFERROR(VLOOKUP(AI2121,CadMP!$B:$D,3,0),\"\")","v":""},{"$f":"IFERROR(VLOOKUP(AJ2121,CadMP!$B:$D,3,0),\"\")","v":""},{"$f":"IFERROR(VLOOKUP(AK2121,CadMP!$B:$D,3,0),\"\")","v":""},0,0,0,0,0,0,0,0,0,0,0,0,0,0,0]
[2128,null,null,0,0,null,null,null,null,null,null,0,0,null,null,null,null,null,null,null,1,0,null,null,null,null,null,null,null,null,null,null,null,null,null,null,null,null,null,null,null,null,null,null,null,null,null,null,null,null,null,null,{"$f":"IFERROR(VLOOKUP(W2129,CadMP!$B:$D,2,0),\"\")","v":""},{"$f":"IFERROR(VLOOKUP(X2129,CadMP!$B:$D,2,0),\"\")","v":""},{"$f":"IFERROR(VLOOKUP(Y2129,CadMP!$B:$D,2,0),\"\")","v":""},{"$f":"IFERROR(VLOOKUP(Z2129,CadMP!$B:$D,2,0),\"\")","v":""},{"$f":"IFERROR(VLOOKUP(AA2129,CadMP!$B:$D,2,0),\"\")","v":""},{"$f":"IFERROR(VLOOKUP(AB2129,CadMP!$B:$D,2,0),\"\")","v":""},{"$f":"IFERROR(VLOOKUP(AC2129,CadMP!$B:$D,2,0),\"\")","v":""},{"$f":"IFERROR(VLOOKUP(AD2129,CadMP!$B:$D,2,0),\"\")","v":""},{"$f":"IFERROR(VLOOKUP(AE2129,CadMP!$B:$D,2,0),\"\")","v":""},{"$f":"IFERROR(VLOOKUP(AF2129,CadMP!$B:$D,2,0),\"\")","v":""},{"$f":"IFERROR(VLOOKUP(AG2129,CadMP!$B:$D,2,0),\"\")","v":""},{"$f":"IFERROR(VLOOKUP(AH2129,CadMP!$B:$D,2,0),\"\")","v":""},{"$f":"IFERROR(VLOOKUP(AI2129,CadMP!$B:$D,2,0),\"\")","v":""},{"$f":"IFERROR(VLOOKUP(AJ2129,CadMP!$B:$D,2,0),\"\")","v":""},{"$f":"IFERROR(VLOOKUP(AK2129,CadMP!$B:$D,2,0),\"\")","v":""},{"$f":"IFERROR(VLOOKUP(W2129,CadMP!$B:$D,3,0),\"\")","v":""},{"$f":"IFERROR(VLOOKUP(X2129,CadMP!$B:$D,3,0),\"\")","v":""},{"$f":"IFERROR(VLOOKUP(Y2129,CadMP!$B:$D,3,0),\"\")","v":""},{"$f":"IFERROR(VLOOKUP(Z2129,CadMP!$B:$D,3,0),\"\")","v":""},{"$f":"IFERROR(VLOOKUP(AA2129,CadMP!$B:$D,3,0),\"\")","v":""},{"$f":"IFERROR(VLOOKUP(AB2129,CadMP!$B:$D,3,0),\"\")","v":""},{"$f":"IFERROR(VLOOKUP(AC2129,CadMP!$B:$D,3,0),\"\")","v":""},{"$f":"IFERROR(VLOOKUP(AD2129,CadMP!$B:$D,3,0),\"\")","v":""},{"$f":"IFERROR(VLOOKUP(AE2129,CadMP!$B:$D,3,0),\"\")","v":""},{"$f":"IFERROR(VLOOKUP(AF2129,CadMP!$B:$D,3,0),\"\")","v":""},{"$f":"IFERROR(VLOOKUP(AG2129,CadMP!$B:$D,3,0),\"\")","v":""},{"$f":"IFERROR(VLOOKUP(AH2129,CadMP!$B:$D,3,0),\"\")","v":""},{"$f":"IFERROR(VLOOKUP(AI2129,CadMP!$B:$D,3,0),\"\")","v":""},{"$f":"IFERROR(VLOOKUP(AJ2129,CadMP!$B:$D,3,0),\"\")","v":""},{"$f":"IFERROR(VLOOKUP(AK2129,CadMP!$B:$D,3,0),\"\")","v":""},0,0,0,0,0,0,0,0,0,0,0,0,0,0,0]
[2144,null,null,0,0,null,null,null,null,null,null,0,0,null,null,null,null,null,null,null,1,0,null,null,null,null,null,null,null,null,null,null,null,null,null,null,null,null,null,null,null,null,null,null,null,null,null,null,null,null,null,null,{"$f":"IFERROR(VLOOKUP(W2145,CadMP!$B:$D,2,0),\"\")","v":""},{"$f":"IFERROR(VLOOKUP(X2145,CadMP!$B:$D,2,0),\"\")","v":""},{"$f":"IFERROR(VLOOKUP(Y2145,CadMP!$B:$D,2,0),\"\")","v":""},{"$f":"IFERROR(VLOOKUP(Z2145,CadMP!$B:$D,2,0),\"\")","v":""},{"$f":"IFERROR(VLOOKUP(AA2145,CadMP!$B:$D,2,0),\"\")","v":""},{"$f":"IFERROR(VLOOKUP(AB2145,CadMP!$B:$D,2,0),\"\")","v":""},{"$f":"IFERROR(VLOOKUP(AC2145,CadMP!$B:$D,2,0),\"\")","v":""},{"$f":"IFERROR(VLOOKUP(AD2145,CadMP!$B:$D,2,0),\"\")","v":""},{"$f":"IFERROR(VLOOKUP(AE2145,CadMP!$B:$D,2,0),\"\")","v":""},{"$f":"IFERROR(VLOOKUP(AF2145,CadMP!$B:$D,2,0),\"\")","v":""},{"$f":"IFERROR(VLOOKUP(AG2145,CadMP!$B:$D,2,0),\"\")","v":""},{"$f":"IFERROR(VLOOKUP(AH2145,CadMP!$B:$D,2,0),\"\")","v":""},{"$f":"IFERROR(VLOOKUP(AI2145,CadMP!$B:$D,2,0),\"\")","v":""},{"$f":"IFERROR(VLOOKUP(AJ2145,CadMP!$B:$D,2,0),\"\")","v":""},{"$f":"IFERROR(VLOOKUP(AK2145,CadMP!$B:$D,2,0),\"\")","v":""},{"$f":"IFERROR(VLOOKUP(W2145,CadMP!$B:$D,3,0),\"\")","v":""},{"$f":"IFERROR(VLOOKUP(X2145,CadMP!$B:$D,3,0),\"\")","v":""},{"$f":"IFERROR(VLOOKUP(Y2145,CadMP!$B:$D,3,0),\"\")","v":""},{"$f":"IFERROR(VLOOKUP(Z2145,CadMP!$B:$D,3,0),\"\")","v":""},{"$f":"IFERROR(VLOOKUP(AA2145,CadMP!$B:$D,3,0),\"\")","v":""},{"$f":"IFERROR(VLOOKUP(AB2145,CadMP!$B:$D,3,0),\"\")","v":""},{"$f":"IFERROR(VLOOKUP(AC2145,CadMP!$B:$D,3,0),\"\")","v":""},{"$f":"IFERROR(VLOOKUP(AD2145,CadMP!$B:$D,3,0),\"\")","v":""},{"$f":"IFERROR(VLOOKUP(AE2145,CadMP!$B:$D,3,0),\"\")","v":""},{"$f":"IFERROR(VLOOKUP(AF2145,CadMP!$B:$D,3,0),\"\")","v":""},{"$f":"IFERROR(VLOOKUP(AG2145,CadMP!$B:$D,3,0),\"\")","v":""},{"$f":"IFERROR(VLOOKUP(AH2145,CadMP!$B:$D,3,0),\"\")","v":""},{"$f":"IFERROR(VLOOKUP(AI2145,CadMP!$B:$D,3,0),\"\")","v":""},{"$f":"IFERROR(VLOOKUP(AJ2145,CadMP!$B:$D,3,0),\"\")","v":""},{"$f":"IFERROR(VLOOKUP(AK2145,CadMP!$B:$D,3,0),\"\")","v":""},0,0,0,0,0,0,0,0,0,0,0,0,0,0,0]
[2163,null,null,0,0,null,null,null,null,null,null,0,0,null,null,null,null,null,null,null,1,0,null,null,null,null,null,null,null,null,null,null,null,null,null,null,null,null,null,null,null,null,null,null,null,null,null,null,null,null,null,null,{"$f":"IFERROR(VLOOKUP(W2164,CadMP!$B:$D,2,0),\"\")","v":""},{"$f":"IFERROR(VLOOKUP(X2164,CadMP!$B:$D,2,0),\"\")","v":""},{"$f":"IFERROR(VLOOKUP(Y2164,CadMP!$B:$D,2,0),\"\")","v":""},{"$f":"IFERROR(VLOOKUP(Z2164,CadMP!$B:$D,2,0),\"\")","v":""},{"$f":"IFERROR(VLOOKUP(AA2164,CadMP!$B:$D,2,0),\"\")","v":""},{"$f":"IFERROR(VLOOKUP(AB2164,CadMP!$B:$D,2,0),\"\")","v":""},{"$f":"IFERROR(VLOOKUP(AC2164,CadMP!$B:$D,2,0),\"\")","v":""},{"$f":"IFERROR(VLOOKUP(AD2164,CadMP!$B:$D,2,0),\"\")","v":""},{"$f":"IFERROR(VLOOKUP(AE2164,CadMP!$B:$D,2,0),\"\")","v":""},{"$f":"IFERROR(VLOOKUP(AF2164,CadMP!$B:$D,2,0),\"\")","v":""},{"$f":"IFERROR(VLOOKUP(AG2164,CadMP!$B:$D,2,0),\"\")","v":""},{"$f":"IFERROR(VLOOKUP(AH2164,CadMP!$B:$D,2,0),\"\")","v":""},{"$f":"IFERROR(VLOOKUP(AI2164,CadMP!$B:$D,2,0),\"\")","v":""},{"$f":"IFERROR(VLOOKUP(AJ2164,CadMP!$B:$D,2,0),\"\")","v":""},{"$f":"IFERROR(VLOOKUP(AK2164,CadMP!$B:$D,2,0),\"\")","v":""},{"$f":"IFERROR(VLOOKUP(W2164,CadMP!$B:$D,3,0),\"\")","v":""},{"$f":"IFERROR(VLOOKUP(X2164,CadMP!$B:$D,3,0),\"\")","v":""},{"$f":"IFERROR(VLOOKUP(Y2164,CadMP!$B:$D,3,0),\"\")","v":""},{"$f":"IFERROR(VLOOKUP(Z2164,CadMP!$B:$D,3,0),\"\")","v":""},{"$f":"IFERROR(VLOOKUP(AA2164,CadMP!$B:$D,3,0),\"\")","v":""},{"$f":"IFERROR(VLOOKUP(AB2164,CadMP!$B:$D,3,0),\"\")","v":""},{"$f":"IFERROR(VLOOKUP(AC2164,CadMP!$B:$D,3,0),\"\")","v":""},{"$f":"IFERROR(VLOOKUP(AD2164,CadMP!$B:$D,3,0),\"\")","v":""},{"$f":"IFERROR(VLOOKUP(AE2164,CadMP!$B:$D,3,0),\"\")","v":""},{"$f":"IFERROR(VLOOKUP(AF2164,CadMP!$B:$D,3,0),\"\")","v":""},{"$f":"IFERROR(VLOOKUP(AG2164,CadMP!$B:$D,3,0),\"\")","v":""},{"$f":"IFERROR(VLOOKUP(AH2164,CadMP!$B:$D,3,0),\"\")","v":""},{"$f":"IFERROR(VLOOKUP(AI2164,CadMP!$B:$D,3,0),\"\")","v":""},{"$f":"IFERROR(VLOOKUP(AJ2164,CadMP!$B:$D,3,0),\"\")","v":""},{"$f":"IFERROR(VLOOKUP(AK2164,CadMP!$B:$D,3,0),\"\")","v":""},0,0,0,0,0,0,0,0,0,0,0,0,0,0,0]
[2188,null,null,0,0,null,null,null,null,null,null,0,0,null,null,null,null,null,null,null,1,0,null,null,null,null,null,null,null,null,null,null,null,null,null,null,null,null,null,null,null,null,null,null,null,null,null,null,null,null,null,null,{"$f":"IFERROR(VLOOKUP(W2189,CadMP!$B:$D,2,0),\"\")","v":""},{"$f":"IFERROR(VLOOKUP(X2189,CadMP!$B:$D,2,0),\"\")","v":""},{"$f":"IFERROR(VLOOKUP(Y2189,CadMP!$B:$D,2,0),\"\")","v":""},{"$f":"IFERROR(VLOOKUP(Z2189,CadMP!$B:$D,2,0),\"\")","v":""},{"$f":"IFERROR(VLOOKUP(AA2189,CadMP!$B:$D,2,0),\"\")","v":""},{"$f":"IFERROR(VLOOKUP(AB2189,CadMP!$B:$D,2,0),\"\")","v":""},{"$f":"IFERROR(VLOOKUP(AC2189,CadMP!$B:$D,2,0),\"\")","v":""},{"$f":"IFERROR(VLOOKUP(AD2189,CadMP!$B:$D,2,0),\"\")","v":""},{"$f":"IFERROR(VLOOKUP(AE2189,CadMP!$B:$D,2,0),\"\")","v":""},{"$f":"IFERROR(VLOOKUP(AF2189,CadMP!$B:$D,2,0),\"\")","v":""},{"$f":"IFERROR(VLOOKUP(AG2189,CadMP!$B:$D,2,0),\"\")","v":""},{"$f":"IFERROR(VLOOKUP(AH2189,CadMP!$B:$D,2,0),\"\")","v":""},{"$f":"IFERROR(VLOOKUP(AI2189,CadMP!$B:$D,2,0),\"\")","v":""},{"$f":"IFERROR(VLOOKUP(AJ2189,CadMP!$B:$D,2,0),\"\")","v":""},{"$f":"IFERROR(VLOOKUP(AK2189,CadMP!$B:$D,2,0),\"\")","v":""},{"$f":"IFERROR(VLOOKUP(W2189,CadMP!$B:$D,3,0),\"\")","v":""},{"$f":"IFERROR(VLOOKUP(X2189,CadMP!$B:$D,3,0),\"\")","v":""},{"$f":"IFERROR(VLOOKUP(Y2189,CadMP!$B:$D,3,0),\"\")","v":""},{"$f":"IFERROR(VLOOKUP(Z2189,CadMP!$B:$D,3,0),\"\")","v":""},{"$f":"IFERROR(VLOOKUP(AA2189,CadMP!$B:$D,3,0),\"\")","v":""},{"$f":"IFERROR(VLOOKUP(AB2189,CadMP!$B:$D,3,0),\"\")","v":""},{"$f":"IFERROR(VLOOKUP(AC2189,CadMP!$B:$D,3,0),\"\")","v":""},{"$f":"IFERROR(VLOOKUP(AD2189,CadMP!$B:$D,3,0),\"\")","v":""},{"$f":"IFERROR(VLOOKUP(AE2189,CadMP!$B:$D,3,0),\"\")","v":""},{"$f":"IFERROR(VLOOKUP(AF2189,CadMP!$B:$D,3,0),\"\")","v":""},{"$f":"IFERROR(VLOOKUP(AG2189,CadMP!$B:$D,3,0),\"\")","v":""},{"$f":"IFERROR(VLOOKUP(AH2189,CadMP!$B:$D,3,0),\"\")","v":""},{"$f":"IFERROR(VLOOKUP(AI2189,CadMP!$B:$D,3,0),\"\")","v":""},{"$f":"IFERROR(VLOOKUP(AJ2189,CadMP!$B:$D,3,0),\"\")","v":""},{"$f":"IFERROR(VLOOKUP(AK2189,CadMP!$B:$D,3,0),\"\")","v":""},0,0,0,0,0,0,0,0,0,0,0,0,0,0,0]
[2201,null,null,0,0,null,null,null,null,null,null,0,0,null,null,null,null,null,null,null,1,0,null,null,null,null,null,null,null,null,null,null,null,null,null,null,null,null,null,null,null,null,null,null,null,null,null,null,null,null,null,null,{"$f":"IFERROR(VLOOKUP(W2202,CadMP!$B:$D,2,0),\"\")","v":""},{"$f":"IFERROR(VLOOKUP(X2202,CadMP!$B:$D,2,0),\"\")","v":""},{"$f":"IFERROR(VLOOKUP(Y2202,CadMP!$B:$D,2,0),\"\")","v":""},{"$f":"IFERROR(VLOOKUP(Z2202,CadMP!$B:$D,2,0),\"\")","v":""},{"$f":"IFERROR(VLOOKUP(AA2202,CadMP!$B:$D,2,0),\"\")","v":""},{"$f":"IFERROR(VLOOKUP(AB2202,CadMP!$B:$D,2,0),\"\")","v":""},{"$f":"IFERROR(VLOOKUP(AC2202,CadMP!$B:$D,2,0),\"\")","v":""},{"$f":"IFERROR(VLOOKUP(AD2202,CadMP!$B:$D,2,0),\"\")","v":""},{"$f":"IFERROR(VLOOKUP(AE2202,CadMP!$B:$D,2,0),\"\")","v":""},{"$f":"IFERROR(VLOOKUP(AF2202,CadMP!$B:$D,2,0),\"\")","v":""},{"$f":"IFERROR(VLOOKUP(AG2202,CadMP!$B:$D,2,0),\"\")","v":""},{"$f":"IFERROR(VLOOKUP(AH2202,CadMP!$B:$D,2,0),\"\")","v":""},{"$f":"IFERROR(VLOOKUP(AI2202,CadMP!$B:$D,2,0),\"\")","v":""},{"$f":"IFERROR(VLOOKUP(AJ2202,CadMP!$B:$D,2,0),\"\")","v":""},{"$f":"IFERROR(VLOOKUP(AK2202,CadMP!$B:$D,2,0),\"\")","v":""},{"$f":"IFERROR(VLOOKUP(W2202,CadMP!$B:$D,3,0),\"\")","v":""},{"$f":"IFERROR(VLOOKUP(X2202,CadMP!$B:$D,3,0),\"\")","v":""},{"$f":"IFERROR(VLOOKUP(Y2202,CadMP!$B:$D,3,0),\"\")","v":""},{"$f":"IFERROR(VLOOKUP(Z2202,CadMP!$B:$D,3,0),\"\")","v":""},{"$f":"IFERROR(VLOOKUP(AA2202,CadMP!$B:$D,3,0),\"\")","v":""},{"$f":"IFERROR(VLOOKUP(AB2202,CadMP!$B:$D,3,0),\"\")","v":""},{"$f":"IFERROR(VLOOKUP(AC2202,CadMP!$B:$D,3,0),\"\")","v":""},{"$f":"IFERROR(VLOOKUP(AD2202,CadMP!$B:$D,3,0),\"\")","v":""},{"$f":"IFERROR(VLOOKUP(AE2202,CadMP!$B:$D,3,0),\"\")","v":""},{"$f":"IFERROR(VLOOKUP(AF2202,CadMP!$B:$D,3,0),\"\")","v":""},{"$f":"IFERROR(VLOOKUP(AG2202,CadMP!$B:$D,3,0),\"\")","v":""},{"$f":"IFERROR(VLOOKUP(AH2202,CadMP!$B:$D,3,0),\"\")","v":""},{"$f":"IFERROR(VLOOKUP(AI2202,CadMP!$B:$D,3,0),\"\")","v":""},{"$f":"IFERROR(VLOOKUP(AJ2202,CadMP!$B:$D,3,0),\"\")","v":""},{"$f":"IFERROR(VLOOKUP(AK2202,CadMP!$B:$D,3,0),\"\")","v":""},0,0,0,0,0,0,0,0,0,0,0,0,0,0,0]
[2231,null,null,0,0,null,null,null,null,null,null,0,0,null,null,null,null,null,null,null,1,0,null,null,null,null,null,null,null,null,null,null,null,null,null,null,null,null,null,null,null,null,null,null,null,null,null,null,null,null,null,null,{"$f":"IFERROR(VLOOKUP(W2232,CadMP!$B:$D,2,0),\"\")","v":""},{"$f":"IFERROR(VLOOKUP(X2232,CadMP!$B:$D,2,0),\"\")","v":""},{"$f":"IFERROR(VLOOKUP(Y2232,CadMP!$B:$D,2,0),\"\")","v":""},{"$f":"IFERROR(VLOOKUP(Z2232,CadMP!$B:$D,2,0),\"\")","v":""},{"$f":"IFERROR(VLOOKUP(AA2232,CadMP!$B:$D,2,0),\"\")","v":""},{"$f":"IFERROR(VLOOKUP(AB2232,CadMP!$B:$D,2,0),\"\")","v":""},{"$f":"IFERROR(VLOOKUP(AC2232,CadMP!$B:$D,2,0),\"\")","v":""},{"$f":"IFERROR(VLOOKUP(AD2232,CadMP!$B:$D,2,0),\"\")","v":""},{"$f":"IFERROR(VLOOKUP(AE2232,CadMP!$B:$D,2,0),\"\")","v":""},{"$f":"IFERROR(VLOOKUP(AF2232,CadMP!$B:$D,2,0),\"\")","v":""},{"$f":"IFERROR(VLOOKUP(AG2232,CadMP!$B:$D,2,0),\"\")","v":""},{"$f":"IFERROR(VLOOKUP(AH2232,CadMP!$B:$D,2,0),\"\")","v":""},{"$f":"IFERROR(VLOOKUP(AI2232,CadMP!$B:$D,2,0),\"\")","v":""},{"$f":"IFERROR(VLOOKUP(AJ2232,CadMP!$B:$D,2,0),\"\")","v":""},{"$f":"IFERROR(VLOOKUP(AK2232,CadMP!$B:$D,2,0),\"\")","v":""},{"$f":"IFERROR(VLOOKUP(W2232,CadMP!$B:$D,3,0),\"\")","v":""},{"$f":"IFERROR(VLOOKUP(X2232,CadMP!$B:$D,3,0),\"\")","v":""},{"$f":"IFERROR(VLOOKUP(Y2232,CadMP!$B:$D,3,0),\"\")","v":""},{"$f":"IFERROR(VLOOKUP(Z2232,CadMP!$B:$D,3,0),\"\")","v":""},{"$f":"IFERROR(VLOOKUP(AA2232,CadMP!$B:$D,3,0),\"\")","v":""},{"$f":"IFERROR(VLOOKUP(AB2232,CadMP!$B:$D,3,0),\"\")","v":""},{"$f":"IFERROR(VLOOKUP(AC2232,CadMP!$B:$D,3,0),\"\")","v":""},{"$f":"IFERROR(VLOOKUP(AD2232,CadMP!$B:$D,3,0),\"\")","v":""},{"$f":"IFERROR(VLOOKUP(AE2232,CadMP!$B:$D,3,0),\"\")","v":""},{"$f":"IFERROR(VLOOKUP(AF2232,CadMP!$B:$D,3,0),\"\")","v":""},{"$f":"IFERROR(VLOOKUP(AG2232,CadMP!$B:$D,3,0),\"\")","v":""},{"$f":"IFERROR(VLOOKUP(AH2232,CadMP!$B:$D,3,0),\"\")","v":""},{"$f":"IFERROR(VLOOKUP(AI2232,CadMP!$B:$D,3,0),\"\")","v":""},{"$f":"IFERROR(VLOOKUP(AJ2232,CadMP!$B:$D,3,0),\"\")","v":""},{"$f":"IFERROR(VLOOKUP(AK2232,CadMP!$B:$D,3,0),\"\")","v":""},0,0,0,0,0,0,0,0,0,0,0,0,0,0,0]
[2250,null,null,0,0,null,null,null,null,null,null,0,0,null,null,null,null,null,null,null,1,0,null,null,null,null,null,null,null,null,null,null,null,null,null,null,null,null,null,null,null,null,null,null,null,null,null,null,null,null,null,null,{"$f":"IFERROR(VLOOKUP(W2251,CadMP!$B:$D,2,0),\"\")","v":""},{"$f":"IFERROR(VLOOKUP(X2251,CadMP!$B:$D,2,0),\"\")","v":""},{"$f":"IFERROR(VLOOKUP(Y2251,CadMP!$B:$D,2,0),\"\")","v":""},{"$f":"IFERROR(VLOOKUP(Z2251,CadMP!$B:$D,2,0),\"\")","v":""},{"$f":"IFERROR(VLOOKUP(AA2251,CadMP!$B:$D,2,0),\"\")","v":""},{"$f":"IFERROR(VLOOKUP(AB2251,CadMP!$B:$D,2,0),\"\")","v":""},{"$f":"IFERROR(VLOOKUP(AC2251,CadMP!$B:$D,2,0),\"\")","v":""},{"$f":"IFERROR(VLOOKUP(AD2251,CadMP!$B:$D,2,0),\"\")","v":""},{"$f":"IFERROR(VLOOKUP(AE2251,CadMP!$B:$D,2,0),\"\")","v":""},{"$f":"IFERROR(VLOOKUP(AF2251,CadMP!$B:$D,2,0),\"\")","v":""},{"$f":"IFERROR(VLOOKUP(AG2251,CadMP!$B:$D,2,0),\"\")","v":""},{"$f":"IFERROR(VLOOKUP(AH2251,CadMP!$B:$D,2,0),\"\")","v":""},{"$f":"IFERROR(VLOOKUP(AI2251,CadMP!$B:$D,2,0),\"\")","v":""},{"$f":"IFERROR(VLOOKUP(AJ2251,CadMP!$B:$D,2,0),\"\")","v":""},{"$f":"IFERROR(VLOOKUP(AK2251,CadMP!$B:$D,2,0),\"\")","v":""},{"$f":"IFERROR(VLOOKUP(W2251,CadMP!$B:$D,3,0),\"\")","v":""},{"$f":"IFERROR(VLOOKUP(X2251,CadMP!$B:$D,3,0),\"\")","v":""},{"$f":"IFERROR(VLOOKUP(Y2251,CadMP!$B:$D,3,0),\"\")","v":""},{"$f":"IFERROR(VLOOKUP(Z2251,CadMP!$B:$D,3,0),\"\")","v":""},{"$f":"IFERROR(VLOOKUP(AA2251,CadMP!$B:$D,3,0),\"\")","v":""},{"$f":"IFERROR(VLOOKUP(AB2251,CadMP!$B:$D,3,0),\"\")","v":""},{"$f":"IFERROR(VLOOKUP(AC2251,CadMP!$B:$D,3,0),\"\")","v":""},{"$f":"IFERROR(VLOOKUP(AD2251,CadMP!$B:$D,3,0),\"\")","v":""},{"$f":"IFERROR(VLOOKUP(AE2251,CadMP!$B:$D,3,0),\"\")","v":""},{"$f":"IFERROR(VLOOKUP(AF2251,CadMP!$B:$D,3,0),\"\")","v":""},{"$f":"IFERROR(VLOOKUP(AG2251,CadMP!$B:$D,3,0),\"\")","v":""},{"$f":"IFERROR(VLOOKUP(AH2251,CadMP!$B:$D,3,0),\"\")","v":""},{"$f":"IFERROR(VLOOKUP(AI2251,CadMP!$B:$D,3,0),\"\")","v":""},{"$f":"IFERROR(VLOOKUP(AJ2251,CadMP!$B:$D,3,0),\"\")","v":""},{"$f":"IFERROR(VLOOKUP(AK2251,CadMP!$B:$D,3,0),\"\")","v":""},0,0,0,0,0,0,0,0,0,0,0,0,0,0,0]
[2269,null,null,0,0,null,null,null,null,null,null,0,0,null,null,null,null,null,null,null,1,0,null,null,null,null,null,null,null,null,null,null,null,null,null,null,null,null,null,null,null,null,null,null,null,null,null,null,null,null,null,null,{"$f":"IFERROR(VLOOKUP(W2270,CadMP!$B:$D,2,0),\"\")","v":""},{"$f":"IFERROR(VLOOKUP(X2270,CadMP!$B:$D,2,0),\"\")","v":""},{"$f":"IFERROR(VLOOKUP(Y2270,CadMP!$B:$D,2,0),\"\")","v":""},{"$f":"IFERROR(VLOOKUP(Z2270,CadMP!$B:$D,2,0),\"\")","v":""},{"$f":"IFERROR(VLOOKUP(AA2270,CadMP!$B:$D,2,0),\"\")","v":""},{"$f":"IFERROR(VLOOKUP(AB2270,CadMP!$B:$D,2,0),\"\")","v":""},{"$f":"IFERROR(VLOOKUP(AC2270,CadMP!$B:$D,2,0),\"\")","v":""},{"$f":"IFERROR(VLOOKUP(AD2270,CadMP!$B:$D,2,0),\"\")","v":""},{"$f":"IFERROR(VLOOKUP(AE2270,CadMP!$B:$D,2,0),\"\")","v":""},{"$f":"IFERROR(VLOOKUP(AF2270,CadMP!$B:$D,2,0),\"\")","v":""},{"$f":"IFERROR(VLOOKUP(AG2270,CadMP!$B:$D,2,0),\"\")","v":""},{"$f":"IFERROR(VLOOKUP(AH2270,CadMP!$B:$D,2,0),\"\")","v":""},{"$f":"IFERROR(VLOOKUP(AI2270,CadMP!$B:$D,2,0),\"\")","v":""},{"$f":"IFERROR(VLOOKUP(AJ2270,CadMP!$B:$D,2,0),\"\")","v":""},{"$f":"IFERROR(VLOOKUP(AK2270,CadMP!$B:$D,2,0),\"\")","v":""},{"$f":"IFERROR(VLOOKUP(W2270,CadMP!$B:$D,3,0),\"\")","v":""},{"$f":"IFERROR(VLOOKUP(X2270,CadMP!$B:$D,3,0),\"\")","v":""},{"$f":"IFERROR(VLOOKUP(Y2270,CadMP!$B:$D,3,0),\"\")","v":""},{"$f":"IFERROR(VLOOKUP(Z2270,CadMP!$B:$D,3,0),\"\")","v":""},{"$f":"IFERROR(VLOOKUP(AA2270,CadMP!$B:$D,3,0),\"\")","v":""},{"$f":"IFERROR(VLOOKUP(AB2270,CadMP!$B:$D,3,0),\"\")","v":""},{"$f":"IFERROR(VLOOKUP(AC2270,CadMP!$B:$D,3,0),\"\")","v":""},{"$f":"IFERROR(VLOOKUP(AD2270,CadMP!$B:$D,3,0),\"\")","v":""},{"$f":"IFERROR(VLOOKUP(AE2270,CadMP!$B:$D,3,0),\"\")","v":""},{"$f":"IFERROR(VLOOKUP(AF2270,CadMP!$B:$D,3,0),\"\")","v":""},{"$f":"IFERROR(VLOOKUP(AG2270,CadMP!$B:$D,3,0),\"\")","v":""},{"$f":"IFERROR(VLOOKUP(AH2270,CadMP!$B:$D,3,0),\"\")","v":""},{"$f":"IFERROR(VLOOKUP(AI2270,CadMP!$B:$D,3,0),\"\")","v":""},{"$f":"IFERROR(VLOOKUP(AJ2270,CadMP!$B:$D,3,0),\"\")","v":""},{"$f":"IFERROR(VLOOKUP(AK2270,CadMP!$B:$D,3,0),\"\")","v":""},0,0,0,0,0,0,0,0,0,0,0,0,0,0,0]
[2278,null,null,0,0,null,null,null,null,null,null,0,0,null,null,null,null,null,null,null,1,0,null,null,null,null,null,null,null,null,null,null,null,null,null,null,null,null,null,null,null,null,null,null,null,null,null,null,null,null,null,null,{"$f":"IFERROR(VLOOKUP(W2279,CadMP!$B:$D,2,0),\"\")","v":""},{"$f":"IFERROR(VLOOKUP(X2279,CadMP!$B:$D,2,0),\"\")","v":""},{"$f":"IFERROR(VLOOKUP(Y2279,CadMP!$B:$D,2,0),\"\")","v":""},{"$f":"IFERROR(VLOOKUP(Z2279,CadMP!$B:$D,2,0),\"\")","v":""},{"$f":"IFERROR(VLOOKUP(AA2279,CadMP!$B:$D,2,0),\"\")","v":""},{"$f":"IFERROR(VLOOKUP(AB2279,CadMP!$B:$D,2,0),\"\")","v":""},{"$f":"IFERROR(VLOOKUP(AC2279,CadMP!$B:$D,2,0),\"\")","v":""},{"$f":"IFERROR(VLOOKUP(AD2279,CadMP!$B:$D,2,0),\"\")","v":""},{"$f":"IFERROR(VLOOKUP(AE2279,CadMP!$B:$D,2,0),\"\")","v":""},{"$f":"IFERROR(VLOOKUP(AF2279,CadMP!$B:$D,2,0),\"\")","v":""},{"$f":"IFERROR(VLOOKUP(AG2279,CadMP!$B:$D,2,0),\"\")","v":""},{"$f":"IFERROR(VLOOKUP(AH2279,CadMP!$B:$D,2,0),\"\")","v":""},{"$f":"IFERROR(VLOOKUP(AI2279,CadMP!$B:$D,2,0),\"\")","v":""},{"$f":"IFERROR(VLOOKUP(AJ2279,CadMP!$B:$D,2,0),\"\")","v":""},{"$f":"IFERROR(VLOOKUP(AK2279,CadMP!$B:$D,2,0),\"\")","v":""},{"$f":"IFERROR(VLOOKUP(W2279,CadMP!$B:$D,3,0),\"\")","v":""},{"$f":"IFERROR(VLOOKUP(X2279,CadMP!$B:$D,3,0),\"\")","v":""},{"$f":"IFERROR(VLOOKUP(Y2279,CadMP!$B:$D,3,0),\"\")","v":""},{"$f":"IFERROR(VLOOKUP(Z2279,CadMP!$B:$D,3,0),\"\")","v":""},{"$f":"IFERROR(VLOOKUP(AA2279,CadMP!$B:$D,3,0),\"\")","v":""},{"$f":"IFERROR(VLOOKUP(AB2279,CadMP!$B:$D,3,0),\"\")","v":""},{"$f":"IFERROR(VLOOKUP(AC2279,CadMP!$B:$D,3,0),\"\")","v":""},{"$f":"IFERROR(VLOOKUP(AD2279,CadMP!$B:$D,3,0),\"\")","v":""},{"$f":"IFERROR(VLOOKUP(AE2279,CadMP!$B:$D,3,0),\"\")","v":""},{"$f":"IFERROR(VLOOKUP(AF2279,CadMP!$B:$D,3,0),\"\")","v":""},{"$f":"IFERROR(VLOOKUP(AG2279,CadMP!$B:$D,3,0),\"\")","v":""},{"$f":"IFERROR(VLOOKUP(AH2279,CadMP!$B:$D,3,0),\"\")","v":""},{"$f":"IFERROR(VLOOKUP(AI2279,CadMP!$B:$D,3,0),\"\")","v":""},{"$f":"IFERROR(VLOOKUP(AJ2279,CadMP!$B:$D,3,0),\"\")","v":""},{"$f":"IFERROR(VLOOKUP(AK2279,CadMP!$B:$D,3,0),\"\")","v":""},0,0,0,0,0,0,0,0,0,0,0,0,0,0,0]
[2293,null,null,0,0,null,null,null,null,null,null,0,0,null,null,null,null,null,null,null,1,0,null,null,null,null,null,null,null,null,null,null,null,null,null,null,null,null,null,null,null,null,null,null,null,null,null,null,null,null,null,null,{"$f":"IFERROR(VLOOKUP(W2294,CadMP!$B:$D,2,0),\"\")","v":""},{"$f":"IFERROR(VLOOKUP(X2294,CadMP!$B:$D,2,0),\"\")","v":""},{"$f":"IFERROR(VLOOKUP(Y2294,CadMP!$B:$D,2,0),\"\")","v":""},{"$f":"IFERROR(VLOOKUP(Z2294,CadMP!$B:$D,2,0),\"\")","v":""},{"$f":"IFERROR(VLOOKUP(AA2294,CadMP!$B:$D,2,0),\"\")","v":""},{"$f":"IFERROR(VLOOKUP(AB2294,CadMP!$B:$D,2,0),\"\")","v":""},{"$f":"IFERROR(VLOOKUP(AC2294,CadMP!$B:$D,2,0),\"\")","v":""},{"$f":"IFERROR(VLOOKUP(AD2294,CadMP!$B:$D,2,0),\"\")","v":""},{"$f":"IFERROR(VLOOKUP(AE2294,CadMP!$B:$D,2,0),\"\")","v":""},{"$f":"IFERROR(VLOOKUP(AF2294,CadMP!$B:$D,2,0),\"\")","v":""},{"$f":"IFERROR(VLOOKUP(AG2294,CadMP!$B:$D,2,0),\"\")","v":""},{"$f":"IFERROR(VLOOKUP(AH2294,CadMP!$B:$D,2,0),\"\")","v":""},{"$f":"IFERROR(VLOOKUP(AI2294,CadMP!$B:$D,2,0),\"\")","v":""},{"$f":"IFERROR(VLOOKUP(AJ2294,CadMP!$B:$D,2,0),\"\")","v":""},{"$f":"IFERROR(VLOOKUP(AK2294,CadMP!$B:$D,2,0),\"\")","v":""},{"$f":"IFERROR(VLOOKUP(W2294,CadMP!$B:$D,3,0),\"\")","v":""},{"$f":"IFERROR(VLOOKUP(X2294,CadMP!$B:$D,3,0),\"\")","v":""},{"$f":"IFERROR(VLOOKUP(Y2294,CadMP!$B:$D,3,0),\"\")","v":""},{"$f":"IFERROR(VLOOKUP(Z2294,CadMP!$B:$D,3,0),\"\")","v":""},{"$f":"IFERROR(VLOOKUP(AA2294,CadMP!$B:$D,3,0),\"\")","v":""},{"$f":"IFERROR(VLOOKUP(AB2294,CadMP!$B:$D,3,0),\"\")","v":""},{"$f":"IFERROR(VLOOKUP(AC2294,CadMP!$B:$D,3,0),\"\")","v":""},{"$f":"IFERROR(VLOOKUP(AD2294,CadMP!$B:$D,3,0),\"\")","v":""},{"$f":"IFERROR(VLOOKUP(AE2294,CadMP!$B:$D,3,0),\"\")","v":""},{"$f":"IFERROR(VLOOKUP(AF2294,CadMP!$B:$D,3,0),\"\")","v":""},{"$f":"IFERROR(VLOOKUP(AG2294,CadMP!$B:$D,3,0),\"\")","v":""},{"$f":"IFERROR(VLOOKUP(AH2294,CadMP!$B:$D,3,0),\"\")","v":""},{"$f":"IFERROR(VLOOKUP(AI2294,CadMP!$B:$D,3,0),\"\")","v":""},{"$f":"IFERROR(VLOOKUP(AJ2294,CadMP!$B:$D,3,0),\"\")","v":""},{"$f":"IFERROR(VLOOKUP(AK2294,CadMP!$B:$D,3,0),\"\")","v":""},0,0,0,0,0,0,0,0,0,0,0,0,0,0,0]
[2318,null,null,0,0,null,null,null,null,null,null,0,0,null,null,null,null,null,null,null,1,0,null,null,null,null,null,null,null,null,null,null,null,null,null,null,null,null,null,null,null,null,null,null,null,null,null,null,null,null,null,null,{"$f":"IFERROR(VLOOKUP(W2319,CadMP!$B:$D,2,0),\"\")","v":""},{"$f":"IFERROR(VLOOKUP(X2319,CadMP!$B:$D,2,0),\"\")","v":""},{"$f":"IFERROR(VLOOKUP(Y2319,CadMP!$B:$D,2,0),\"\")","v":""},{"$f":"IFERROR(VLOOKUP(Z2319,CadMP!$B:$D,2,0),\"\")","v":""},{"$f":"IFERROR(VLOOKUP(AA2319,CadMP!$B:$D,2,0),\"\")","v":""},{"$f":"IFERROR(VLOOKUP(AB2319,CadMP!$B:$D,2,0),\"\")","v":""},{"$f":"IFERROR(VLOOKUP(AC2319,CadMP!$B:$D,2,0),\"\")","v":""},{"$f":"IFERROR(VLOOKUP(AD2319,CadMP!$B:$D,2,0),\"\")","v":""},{"$f":"IFERROR(VLOOKUP(AE2319,CadMP!$B:$D,2,0),\"\")","v":""},{"$f":"IFERROR(VLOOKUP(AF2319,CadMP!$B:$D,2,0),\"\")","v":""},{"$f":"IFERROR(VLOOKUP(AG2319,CadMP!$B:$D,2,0),\"\")","v":""},{"$f":"IFERROR(VLOOKUP(AH2319,CadMP!$B:$D,2,0),\"\")","v":""},{"$f":"IFERROR(VLOOKUP(AI2319,CadMP!$B:$D,2,0),\"\")","v":""},{"$f":"IFERROR(VLOOKUP(AJ2319,CadMP!$B:$D,2,0),\"\")","v":""},{"$f":"IFERROR(VLOOKUP(AK2319,CadMP!$B:$D,2,0),\"\")","v":""},{"$f":"IFERROR(VLOOKUP(W2319,CadMP!$B:$D,3,0),\"\")","v":""},{"$f":"IFERROR(VLOOKUP(X2319,CadMP!$B:$D,3,0),\"\")","v":""},{"$f":"IFERROR(VLOOKUP(Y2319,CadMP!$B:$D,3,0),\"\")","v":""},{"$f":"IFERROR(VLOOKUP(Z2319,CadMP!$B:$D,3,0),\"\")","v":""},{"$f":"IFERROR(VLOOKUP(AA2319,CadMP!$B:$D,3,0),\"\")","v":""},{"$f":"IFERROR(VLOOKUP(AB2319,CadMP!$B:$D,3,0),\"\")","v":""},{"$f":"IFERROR(VLOOKUP(AC2319,CadMP!$B:$D,3,0),\"\")","v":""},{"$f":"IFERROR(VLOOKUP(AD2319,CadMP!$B:$D,3,0),\"\")","v":""},{"$f":"IFERROR(VLOOKUP(AE2319,CadMP!$B:$D,3,0),\"\")","v":""},{"$f":"IFERROR(VLOOKUP(AF2319,CadMP!$B:$D,3,0),\"\")","v":""},{"$f":"IFERROR(VLOOKUP(AG2319,CadMP!$B:$D,3,0),\"\")","v":""},{"$f":"IFERROR(VLOOKUP(AH2319,CadMP!$B:$D,3,0),\"\")","v":""},{"$f":"IFERROR(VLOOKUP(AI2319,CadMP!$B:$D,3,0),\"\")","v":""},{"$f":"IFERROR(VLOOKUP(AJ2319,CadMP!$B:$D,3,0),\"\")","v":""},{"$f":"IFERROR(VLOOKUP(AK2319,CadMP!$B:$D,3,0),\"\")","v":""},0,0,0,0,0,0,0,0,0,0,0,0,0,0,0]
[2337,null,null,0,0,null,null,null,null,null,null,0,0,null,null,null,null,null,null,null,1,0,null,null,null,null,null,null,null,null,null,null,null,null,null,null,null,null,null,null,null,null,null,null,null,null,null,null,null,null,null,null,{"$f":"IFERROR(VLOOKUP(W2338,CadMP!$B:$D,2,0),\"\")","v":""},{"$f":"IFERROR(VLOOKUP(X2338,CadMP!$B:$D,2,0),\"\")","v":""},{"$f":"IFERROR(VLOOKUP(Y2338,CadMP!$B:$D,2,0),\"\")","v":""},{"$f":"IFERROR(VLOOKUP(Z2338,CadMP!$B:$D,2,0),\"\")","v":""},{"$f":"IFERROR(VLOOKUP(AA2338,CadMP!$B:$D,2,0),\"\")","v":""},{"$f":"IFERROR(VLOOKUP(AB2338,CadMP!$B:$D,2,0),\"\")","v":""},{"$f":"IFERROR(VLOOKUP(AC2338,CadMP!$B:$D,2,0),\"\")","v":""},{"$f":"IFERROR(VLOOKUP(AD2338,CadMP!$B:$D,2,0),\"\")","v":""},{"$f":"IFERROR(VLOOKUP(AE2338,CadMP!$B:$D,2,0),\"\")","v":""},{"$f":"IFERROR(VLOOKUP(AF2338,CadMP!$B:$D,2,0),\"\")","v":""},{"$f":"IFERROR(VLOOKUP(AG2338,CadMP!$B:$D,2,0),\"\")","v":""},{"$f":"IFERROR(VLOOKUP(AH2338,CadMP!$B:$D,2,0),\"\")","v":""},{"$f":"IFERROR(VLOOKUP(AI2338,CadMP!$B:$D,2,0),\"\")","v":""},{"$f":"IFERROR(VLOOKUP(AJ2338,CadMP!$B:$D,2,0),\"\")","v":""},{"$f":"IFERROR(VLOOKUP(AK2338,CadMP!$B:$D,2,0),\"\")","v":""},{"$f":"IFERROR(VLOOKUP(W2338,CadMP!$B:$D,3,0),\"\")","v":""},{"$f":"IFERROR(VLOOKUP(X2338,CadMP!$B:$D,3,0),\"\")","v":""},{"$f":"IFERROR(VLOOKUP(Y2338,CadMP!$B:$D,3,0),\"\")","v":""},{"$f":"IFERROR(VLOOKUP(Z2338,CadMP!$B:$D,3,0),\"\")","v":""},{"$f":"IFERROR(VLOOKUP(AA2338,CadMP!$B:$D,3,0),\"\")","v":""},{"$f":"IFERROR(VLOOKUP(AB2338,CadMP!$B:$D,3,0),\"\")","v":""},{"$f":"IFERROR(VLOOKUP(AC2338,CadMP!$B:$D,3,0),\"\")","v":""},{"$f":"IFERROR(VLOOKUP(AD2338,CadMP!$B:$D,3,0),\"\")","v":""},{"$f":"IFERROR(VLOOKUP(AE2338,CadMP!$B:$D,3,0),\"\")","v":""},{"$f":"IFERROR(VLOOKUP(AF2338,CadMP!$B:$D,3,0),\"\")","v":""},{"$f":"IFERROR(VLOOKUP(AG2338,CadMP!$B:$D,3,0),\"\")","v":""},{"$f":"IFERROR(VLOOKUP(AH2338,CadMP!$B:$D,3,0),\"\")","v":""},{"$f":"IFERROR(VLOOKUP(AI2338,CadMP!$B:$D,3,0),\"\")","v":""},{"$f":"IFERROR(VLOOKUP(AJ2338,CadMP!$B:$D,3,0),\"\")","v":""},{"$f":"IFERROR(VLOOKUP(AK2338,CadMP!$B:$D,3,0),\"\")","v":""},0,0,0,0,0,0,0,0,0,0,0,0,0,0,0]
[2351,null,null,0,0,null,null,null,null,null,null,0,0,null,null,null,null,null,null,null,1,0,null,null,null,null,null,null,null,null,null,null,null,null,null,null,null,null,null,null,null,null,null,null,null,null,null,null,null,null,null,null,{"$f":"IFERROR(VLOOKUP(W2352,CadMP!$B:$D,2,0),\"\")","v":""},{"$f":"IFERROR(VLOOKUP(X2352,CadMP!$B:$D,2,0),\"\")","v":""},{"$f":"IFERROR(VLOOKUP(Y2352,CadMP!$B:$D,2,0),\"\")","v":""},{"$f":"IFERROR(VLOOKUP(Z2352,CadMP!$B:$D,2,0),\"\")","v":""},{"$f":"IFERROR(VLOOKUP(AA2352,CadMP!$B:$D,2,0),\"\")","v":""},{"$f":"IFERROR(VLOOKUP(AB2352,CadMP!$B:$D,2,0),\"\")","v":""},{"$f":"IFERROR(VLOOKUP(AC2352,CadMP!$B:$D,2,0),\"\")","v":""},{"$f":"IFERROR(VLOOKUP(AD2352,CadMP!$B:$D,2,0),\"\")","v":""},{"$f":"IFERROR(VLOOKUP(AE2352,CadMP!$B:$D,2,0),\"\")","v":""},{"$f":"IFERROR(VLOOKUP(AF2352,CadMP!$B:$D,2,0),\"\")","v":""},{"$f":"IFERROR(VLOOKUP(AG2352,CadMP!$B:$D,2,0),\"\")","v":""},{"$f":"IFERROR(VLOOKUP(AH2352,CadMP!$B:$D,2,0),\"\")","v":""},{"$f":"IFERROR(VLOOKUP(AI2352,CadMP!$B:$D,2,0),\"\")","v":""},{"$f":"IFERROR(VLOOKUP(AJ2352,CadMP!$B:$D,2,0),\"\")","v":""},{"$f":"IFERROR(VLOOKUP(AK2352,CadMP!$B:$D,2,0),\"\")","v":""},{"$f":"IFERROR(VLOOKUP(W2352,CadMP!$B:$D,3,0),\"\")","v":""},{"$f":"IFERROR(VLOOKUP(X2352,CadMP!$B:$D,3,0),\"\")","v":""},{"$f":"IFERROR(VLOOKUP(Y2352,CadMP!$B:$D,3,0),\"\")","v":""},{"$f":"IFERROR(VLOOKUP(Z2352,CadMP!$B:$D,3,0),\"\")","v":""},{"$f":"IFERROR(VLOOKUP(AA2352,CadMP!$B:$D,3,0),\"\")","v":""},{"$f":"IFERROR(VLOOKUP(AB2352,CadMP!$B:$D,3,0),\"\")","v":""},{"$f":"IFERROR(VLOOKUP(AC2352,CadMP!$B:$D,3,0),\"\")","v":""},{"$f":"IFERROR(VLOOKUP(AD2352,CadMP!$B:$D,3,0),\"\")","v":""},{"$f":"IFERROR(VLOOKUP(AE2352,CadMP!$B:$D,3,0),\"\")","v":""},{"$f":"IFERROR(VLOOKUP(AF2352,CadMP!$B:$D,3,0),\"\")","v":""},{"$f":"IFERROR(VLOOKUP(AG2352,CadMP!$B:$D,3,0),\"\")","v":""},{"$f":"IFERROR(VLOOKUP(AH2352,CadMP!$B:$D,3,0),\"\")","v":""},{"$f":"IFERROR(VLOOKUP(AI2352,CadMP!$B:$D,3,0),\"\")","v":""},{"$f":"IFERROR(VLOOKUP(AJ2352,CadMP!$B:$D,3,0),\"\")","v":""},{"$f":"IFERROR(VLOOKUP(AK2352,CadMP!$B:$D,3,0),\"\")","v":""},0,0,0,0,0,0,0,0,0,0,0,0,0,0,0]
[2380,null,null,0,0,null,null,null,null,null,null,0,0,null,null,null,null,null,null,null,1,0,null,null,null,null,null,null,null,null,null,null,null,null,null,null,null,null,null,null,null,null,null,null,null,null,null,null,null,null,null,null,{"$f":"IFERROR(VLOOKUP(W2381,CadMP!$B:$D,2,0),\"\")","v":""},{"$f":"IFERROR(VLOOKUP(X2381,CadMP!$B:$D,2,0),\"\")","v":""},{"$f":"IFERROR(VLOOKUP(Y2381,CadMP!$B:$D,2,0),\"\")","v":""},{"$f":"IFERROR(VLOOKUP(Z2381,CadMP!$B:$D,2,0),\"\")","v":""},{"$f":"IFERROR(VLOOKUP(AA2381,CadMP!$B:$D,2,0),\"\")","v":""},{"$f":"IFERROR(VLOOKUP(AB2381,CadMP!$B:$D,2,0),\"\")","v":""},{"$f":"IFERROR(VLOOKUP(AC2381,CadMP!$B:$D,2,0),\"\")","v":""},{"$f":"IFERROR(VLOOKUP(AD2381,CadMP!$B:$D,2,0),\"\")","v":""},{"$f":"IFERROR(VLOOKUP(AE2381,CadMP!$B:$D,2,0),\"\")","v":""},{"$f":"IFERROR(VLOOKUP(AF2381,CadMP!$B:$D,2,0),\"\")","v":""},{"$f":"IFERROR(VLOOKUP(AG2381,CadMP!$B:$D,2,0),\"\")","v":""},{"$f":"IFERROR(VLOOKUP(AH2381,CadMP!$B:$D,2,0),\"\")","v":""},{"$f":"IFERROR(VLOOKUP(AI2381,CadMP!$B:$D,2,0),\"\")","v":""},{"$f":"IFERROR(VLOOKUP(AJ2381,CadMP!$B:$D,2,0),\"\")","v":""},{"$f":"IFERROR(VLOOKUP(AK2381,CadMP!$B:$D,2,0),\"\")","v":""},{"$f":"IFERROR(VLOOKUP(W2381,CadMP!$B:$D,3,0),\"\")","v":""},{"$f":"IFERROR(VLOOKUP(X2381,CadMP!$B:$D,3,0),\"\")","v":""},{"$f":"IFERROR(VLOOKUP(Y2381,CadMP!$B:$D,3,0),\"\")","v":""},{"$f":"IFERROR(VLOOKUP(Z2381,CadMP!$B:$D,3,0),\"\")","v":""},{"$f":"IFERROR(VLOOKUP(AA2381,CadMP!$B:$D,3,0),\"\")","v":""},{"$f":"IFERROR(VLOOKUP(AB2381,CadMP!$B:$D,3,0),\"\")","v":""},{"$f":"IFERROR(VLOOKUP(AC2381,CadMP!$B:$D,3,0),\"\")","v":""},{"$f":"IFERROR(VLOOKUP(AD2381,CadMP!$B:$D,3,0),\"\")","v":""},{"$f":"IFERROR(VLOOKUP(AE2381,CadMP!$B:$D,3,0),\"\")","v":""},{"$f":"IFERROR(VLOOKUP(AF2381,CadMP!$B:$D,3,0),\"\")","v":""},{"$f":"IFERROR(VLOOKUP(AG2381,CadMP!$B:$D,3,0),\"\")","v":""},{"$f":"IFERROR(VLOOKUP(AH2381,CadMP!$B:$D,3,0),\"\")","v":""},{"$f":"IFERROR(VLOOKUP(AI2381,CadMP!$B:$D,3,0),\"\")","v":""},{"$f":"IFERROR(VLOOKUP(AJ2381,CadMP!$B:$D,3,0),\"\")","v":""},{"$f":"IFERROR(VLOOKUP(AK2381,CadMP!$B:$D,3,0),\"\")","v":""},0,0,0,0,0,0,0,0,0,0,0,0,0,0,0]
[2399,null,null,0,0,null,null,null,null,null,null,0,0,null,null,null,null,null,null,null,1,0,null,null,null,null,null,null,null,null,null,null,null,null,null,null,null,null,null,null,null,null,null,null,null,null,null,null,null,null,null,null,{"$f":"IFERROR(VLOOKUP(W2400,CadMP!$B:$D,2,0),\"\")","v":""},{"$f":"IFERROR(VLOOKUP(X2400,CadMP!$B:$D,2,0),\"\")","v":""},{"$f":"IFERROR(VLOOKUP(Y2400,CadMP!$B:$D,2,0),\"\")","v":""},{"$f":"IFERROR(VLOOKUP(Z2400,CadMP!$B:$D,2,0),\"\")","v":""},{"$f":"IFERROR(VLOOKUP(AA2400,CadMP!$B:$D,2,0),\"\")","v":""},{"$f":"IFERROR(VLOOKUP(AB2400,CadMP!$B:$D,2,0),\"\")","v":""},{"$f":"IFERROR(VLOOKUP(AC2400,CadMP!$B:$D,2,0),\"\")","v":""},{"$f":"IFERROR(VLOOKUP(AD2400,CadMP!$B:$D,2,0),\"\")","v":""},{"$f":"IFERROR(VLOOKUP(AE2400,CadMP!$B:$D,2,0),\"\")","v":""},{"$f":"IFERROR(VLOOKUP(AF2400,CadMP!$B:$D,2,0),\"\")","v":""},{"$f":"IFERROR(VLOOKUP(AG2400,CadMP!$B:$D,2,0),\"\")","v":""},{"$f":"IFERROR(VLOOKUP(AH2400,CadMP!$B:$D,2,0),\"\")","v":""},{"$f":"IFERROR(VLOOKUP(AI2400,CadMP!$B:$D,2,0),\"\")","v":""},{"$f":"IFERROR(VLOOKUP(AJ2400,CadMP!$B:$D,2,0),\"\")","v":""},{"$f":"IFERROR(VLOOKUP(AK2400,CadMP!$B:$D,2,0),\"\")","v":""},{"$f":"IFERROR(VLOOKUP(W2400,CadMP!$B:$D,3,0),\"\")","v":""},{"$f":"IFERROR(VLOOKUP(X2400,CadMP!$B:$D,3,0),\"\")","v":""},{"$f":"IFERROR(VLOOKUP(Y2400,CadMP!$B:$D,3,0),\"\")","v":""},{"$f":"IFERROR(VLOOKUP(Z2400,CadMP!$B:$D,3,0),\"\")","v":""},{"$f":"IFERROR(VLOOKUP(AA2400,CadMP!$B:$D,3,0),\"\")","v":""},{"$f":"IFERROR(VLOOKUP(AB2400,CadMP!$B:$D,3,0),\"\")","v":""},{"$f":"IFERROR(VLOOKUP(AC2400,CadMP!$B:$D,3,0),\"\")","v":""},{"$f":"IFERROR(VLOOKUP(AD2400,CadMP!$B:$D,3,0),\"\")","v":""},{"$f":"IFERROR(VLOOKUP(AE2400,CadMP!$B:$D,3,0),\"\")","v":""},{"$f":"IFERROR(VLOOKUP(AF2400,CadMP!$B:$D,3,0),\"\")","v":""},{"$f":"IFERROR(VLOOKUP(AG2400,CadMP!$B:$D,3,0),\"\")","v":""},{"$f":"IFERROR(VLOOKUP(AH2400,CadMP!$B:$D,3,0),\"\")","v":""},{"$f":"IFERROR(VLOOKUP(AI2400,CadMP!$B:$D,3,0),\"\")","v":""},{"$f":"IFERROR(VLOOKUP(AJ2400,CadMP!$B:$D,3,0),\"\")","v":""},{"$f":"IFERROR(VLOOKUP(AK2400,CadMP!$B:$D,3,0),\"\")","v":""},0,0,0,0,0,0,0,0,0,0,0,0,0,0,0]
[2418,null,null,0,0,null,null,null,null,null,null,0,0,null,null,null,null,null,null,null,1,0,null,null,null,null,null,null,null,null,null,null,null,null,null,null,null,null,null,null,null,null,null,null,null,null,null,null,null,null,null,null,{"$f":"IFERROR(VLOOKUP(W2419,CadMP!$B:$D,2,0),\"\")","v":""},{"$f":"IFERROR(VLOOKUP(X2419,CadMP!$B:$D,2,0),\"\")","v":""},{"$f":"IFERROR(VLOOKUP(Y2419,CadMP!$B:$D,2,0),\"\")","v":""},{"$f":"IFERROR(VLOOKUP(Z2419,CadMP!$B:$D,2,0),\"\")","v":""},{"$f":"IFERROR(VLOOKUP(AA2419,CadMP!$B:$D,2,0),\"\")","v":""},{"$f":"IFERROR(VLOOKUP(AB2419,CadMP!$B:$D,2,0),\"\")","v":""},{"$f":"IFERROR(VLOOKUP(AC2419,CadMP!$B:$D,2,0),\"\")","v":""},{"$f":"IFERROR(VLOOKUP(AD2419,CadMP!$B:$D,2,0),\"\")","v":""},{"$f":"IFERROR(VLOOKUP(AE2419,CadMP!$B:$D,2,0),\"\")","v":""},{"$f":"IFERROR(VLOOKUP(AF2419,CadMP!$B:$D,2,0),\"\")","v":""},{"$f":"IFERROR(VLOOKUP(AG2419,CadMP!$B:$D,2,0),\"\")","v":""},{"$f":"IFERROR(VLOOKUP(AH2419,CadMP!$B:$D,2,0),\"\")","v":""},{"$f":"IFERROR(VLOOKUP(AI2419,CadMP!$B:$D,2,0),\"\")","v":""},{"$f":"IFERROR(VLOOKUP(AJ2419,CadMP!$B:$D,2,0),\"\")","v":""},{"$f":"IFERROR(VLOOKUP(AK2419,CadMP!$B:$D,2,0),\"\")","v":""},{"$f":"IFERROR(VLOOKUP(W2419,CadMP!$B:$D,3,0),\"\")","v":""},{"$f":"IFERROR(VLOOKUP(X2419,CadMP!$B:$D,3,0),\"\")","v":""},{"$f":"IFERROR(VLOOKUP(Y2419,CadMP!$B:$D,3,0),\"\")","v":""},{"$f":"IFERROR(VLOOKUP(Z2419,CadMP!$B:$D,3,0),\"\")","v":""},{"$f":"IFERROR(VLOOKUP(AA2419,CadMP!$B:$D,3,0),\"\")","v":""},{"$f":"IFERROR(VLOOKUP(AB2419,CadMP!$B:$D,3,0),\"\")","v":""},{"$f":"IFERROR(VLOOKUP(AC2419,CadMP!$B:$D,3,0),\"\")","v":""},{"$f":"IFERROR(VLOOKUP(AD2419,CadMP!$B:$D,3,0),\"\")","v":""},{"$f":"IFERROR(VLOOKUP(AE2419,CadMP!$B:$D,3,0),\"\")","v":""},{"$f":"IFERROR(VLOOKUP(AF2419,CadMP!$B:$D,3,0),\"\")","v":""},{"$f":"IFERROR(VLOOKUP(AG2419,CadMP!$B:$D,3,0),\"\")","v":""},{"$f":"IFERROR(VLOOKUP(AH2419,CadMP!$B:$D,3,0),\"\")","v":""},{"$f":"IFERROR(VLOOKUP(AI2419,CadMP!$B:$D,3,0),\"\")","v":""},{"$f":"IFERROR(VLOOKUP(AJ2419,CadMP!$B:$D,3,0),\"\")","v":""},{"$f":"IFERROR(VLOOKUP(AK2419,CadMP!$B:$D,3,0),\"\")","v":""},0,0,0,0,0,0,0,0,0,0,0,0,0,0,0]
[2428,null,null,0,0,null,null,null,null,null,null,0,0,null,null,null,null,null,null,null,1,0,null,null,null,null,null,null,null,null,null,null,null,null,null,null,null,null,null,null,null,null,null,null,null,null,null,null,null,null,null,null,{"$f":"IFERROR(VLOOKUP(W2429,CadMP!$B:$D,2,0),\"\")","v":""},{"$f":"IFERROR(VLOOKUP(X2429,CadMP!$B:$D,2,0),\"\")","v":""},{"$f":"IFERROR(VLOOKUP(Y2429,CadMP!$B:$D,2,0),\"\")","v":""},{"$f":"IFERROR(VLOOKUP(Z2429,CadMP!$B:$D,2,0),\"\")","v":""},{"$f":"IFERROR(VLOOKUP(AA2429,CadMP!$B:$D,2,0),\"\")","v":""},{"$f":"IFERROR(VLOOKUP(AB2429,CadMP!$B:$D,2,0),\"\")","v":""},{"$f":"IFERROR(VLOOKUP(AC2429,CadMP!$B:$D,2,0),\"\")","v":""},{"$f":"IFERROR(VLOOKUP(AD2429,CadMP!$B:$D,2,0),\"\")","v":""},{"$f":"IFERROR(VLOOKUP(AE2429,CadMP!$B:$D,2,0),\"\")","v":""},{"$f":"IFERROR(VLOOKUP(AF2429,CadMP!$B:$D,2,0),\"\")","v":""},{"$f":"IFERROR(VLOOKUP(AG2429,CadMP!$B:$D,2,0),\"\")","v":""},{"$f":"IFERROR(VLOOKUP(AH2429,CadMP!$B:$D,2,0),\"\")","v":""},{"$f":"IFERROR(VLOOKUP(AI2429,CadMP!$B:$D,2,0),\"\")","v":""},{"$f":"IFERROR(VLOOKUP(AJ2429,CadMP!$B:$D,2,0),\"\")","v":""},{"$f":"IFERROR(VLOOKUP(AK2429,CadMP!$B:$D,2,0),\"\")","v":""},{"$f":"IFERROR(VLOOKUP(W2429,CadMP!$B:$D,3,0),\"\")","v":""},{"$f":"IFERROR(VLOOKUP(X2429,CadMP!$B:$D,3,0),\"\")","v":""},{"$f":"IFERROR(VLOOKUP(Y2429,CadMP!$B:$D,3,0),\"\")","v":""},{"$f":"IFERROR(VLOOKUP(Z2429,CadMP!$B:$D,3,0),\"\")","v":""},{"$f":"IFERROR(VLOOKUP(AA2429,CadMP!$B:$D,3,0),\"\")","v":""},{"$f":"IFERROR(VLOOKUP(AB2429,CadMP!$B:$D,3,0),\"\")","v":""},{"$f":"IFERROR(VLOOKUP(AC2429,CadMP!$B:$D,3,0),\"\")","v":""},{"$f":"IFERROR(VLOOKUP(AD2429,CadMP!$B:$D,3,0),\"\")","v":""},{"$f":"IFERROR(VLOOKUP(AE2429,CadMP!$B:$D,3,0),\"\")","v":""},{"$f":"IFERROR(VLOOKUP(AF2429,CadMP!$B:$D,3,0),\"\")","v":""},{"$f":"IFERROR(VLOOKUP(AG2429,CadMP!$B:$D,3,0),\"\")","v":""},{"$f":"IFERROR(VLOOKUP(AH2429,CadMP!$B:$D,3,0),\"\")","v":""},{"$f":"IFERROR(VLOOKUP(AI2429,CadMP!$B:$D,3,0),\"\")","v":""},{"$f":"IFERROR(VLOOKUP(AJ2429,CadMP!$B:$D,3,0),\"\")","v":""},{"$f":"IFERROR(VLOOKUP(AK2429,CadMP!$B:$D,3,0),\"\")","v":""},0,0,0,0,0,0,0,0,0,0,0,0,0,0,0]
[2461,null,null,0,0,null,null,null,null,null,null,0,0,null,null,null,null,null,null,null,1,0,null,null,null,null,null,null,null,null,null,null,null,null,null,null,null,null,null,null,null,null,null,null,null,null,null,null,null,null,null,null,{"$f":"IFERROR(VLOOKUP(W2462,CadMP!$B:$D,2,0),\"\")","v":""},{"$f":"IFERROR(VLOOKUP(X2462,CadMP!$B:$D,2,0),\"\")","v":""},{"$f":"IFERROR(VLOOKUP(Y2462,CadMP!$B:$D,2,0),\"\")","v":""},{"$f":"IFERROR(VLOOKUP(Z2462,CadMP!$B:$D,2,0),\"\")","v":""},{"$f":"IFERROR(VLOOKUP(AA2462,CadMP!$B:$D,2,0),\"\")","v":""},{"$f":"IFERROR(VLOOKUP(AB2462,CadMP!$B:$D,2,0),\"\")","v":""},{"$f":"IFERROR(VLOOKUP(AC2462,CadMP!$B:$D,2,0),\"\")","v":""},{"$f":"IFERROR(VLOOKUP(AD2462,CadMP!$B:$D,2,0),\"\")","v":""},{"$f":"IFERROR(VLOOKUP(AE2462,CadMP!$B:$D,2,0),\"\")","v":""},{"$f":"IFERROR(VLOOKUP(AF2462,CadMP!$B:$D,2,0),\"\")","v":""},{"$f":"IFERROR(VLOOKUP(AG2462,CadMP!$B:$D,2,0),\"\")","v":""},{"$f":"IFERROR(VLOOKUP(AH2462,CadMP!$B:$D,2,0),\"\")","v":""},{"$f":"IFERROR(VLOOKUP(AI2462,CadMP!$B:$D,2,0),\"\")","v":""},{"$f":"IFERROR(VLOOKUP(AJ2462,CadMP!$B:$D,2,0),\"\")","v":""},{"$f":"IFERROR(VLOOKUP(AK2462,CadMP!$B:$D,2,0),\"\")","v":""},{"$f":"IFERROR(VLOOKUP(W2462,CadMP!$B:$D,3,0),\"\")","v":""},{"$f":"IFERROR(VLOOKUP(X2462,CadMP!$B:$D,3,0),\"\")","v":""},{"$f":"IFERROR(VLOOKUP(Y2462,CadMP!$B:$D,3,0),\"\")","v":""},{"$f":"IFERROR(VLOOKUP(Z2462,CadMP!$B:$D,3,0),\"\")","v":""},{"$f":"IFERROR(VLOOKUP(AA2462,CadMP!$B:$D,3,0),\"\")","v":""},{"$f":"IFERROR(VLOOKUP(AB2462,CadMP!$B:$D,3,0),\"\")","v":""},{"$f":"IFERROR(VLOOKUP(AC2462,CadMP!$B:$D,3,0),\"\")","v":""},{"$f":"IFERROR(VLOOKUP(AD2462,CadMP!$B:$D,3,0),\"\")","v":""},{"$f":"IFERROR(VLOOKUP(AE2462,CadMP!$B:$D,3,0),\"\")","v":""},{"$f":"IFERROR(VLOOKUP(AF2462,CadMP!$B:$D,3,0),\"\")","v":""},{"$f":"IFERROR(VLOOKUP(AG2462,CadMP!$B:$D,3,0),\"\")","v":""},{"$f":"IFERROR(VLOOKUP(AH2462,CadMP!$B:$D,3,0),\"\")","v":""},{"$f":"IFERROR(VLOOKUP(AI2462,CadMP!$B:$D,3,0),\"\")","v":""},{"$f":"IFERROR(VLOOKUP(AJ2462,CadMP!$B:$D,3,0),\"\")","v":""},{"$f":"IFERROR(VLOOKUP(AK2462,CadMP!$B:$D,3,0),\"\")","v":""},0,0,0,0,0,0,0,0,0,0,0,0,0,0,0]
[2467,null,null,0,0,null,null,null,null,null,null,0,0,null,null,null,null,null,null,null,1,0,null,null,null,null,null,null,null,null,null,null,null,null,null,null,null,null,null,null,null,null,null,null,null,null,null,null,null,null,null,null,{"$f":"IFERROR(VLOOKUP(W2468,CadMP!$B:$D,2,0),\"\")","v":""},{"$f":"IFERROR(VLOOKUP(X2468,CadMP!$B:$D,2,0),\"\")","v":""},{"$f":"IFERROR(VLOOKUP(Y2468,CadMP!$B:$D,2,0),\"\")","v":""},{"$f":"IFERROR(VLOOKUP(Z2468,CadMP!$B:$D,2,0),\"\")","v":""},{"$f":"IFERROR(VLOOKUP(AA2468,CadMP!$B:$D,2,0),\"\")","v":""},{"$f":"IFERROR(VLOOKUP(AB2468,CadMP!$B:$D,2,0),\"\")","v":""},{"$f":"IFERROR(VLOOKUP(AC2468,CadMP!$B:$D,2,0),\"\")","v":""},{"$f":"IFERROR(VLOOKUP(AD2468,CadMP!$B:$D,2,0),\"\")","v":""},{"$f":"IFERROR(VLOOKUP(AE2468,CadMP!$B:$D,2,0),\"\")","v":""},{"$f":"IFERROR(VLOOKUP(AF2468,CadMP!$B:$D,2,0),\"\")","v":""},{"$f":"IFERROR(VLOOKUP(AG2468,CadMP!$B:$D,2,0),\"\")","v":""},{"$f":"IFERROR(VLOOKUP(AH2468,CadMP!$B:$D,2,0),\"\")","v":""},{"$f":"IFERROR(VLOOKUP(AI2468,CadMP!$B:$D,2,0),\"\")","v":""},{"$f":"IFERROR(VLOOKUP(AJ2468,CadMP!$B:$D,2,0),\"\")","v":""},{"$f":"IFERROR(VLOOKUP(AK2468,CadMP!$B:$D,2,0),\"\")","v":""},{"$f":"IFERROR(VLOOKUP(W2468,CadMP!$B:$D,3,0),\"\")","v":""},{"$f":"IFERROR(VLOOKUP(X2468,CadMP!$B:$D,3,0),\"\")","v":""},{"$f":"IFERROR(VLOOKUP(Y2468,CadMP!$B:$D,3,0),\"\")","v":""},{"$f":"IFERROR(VLOOKUP(Z2468,CadMP!$B:$D,3,0),\"\")","v":""},{"$f":"IFERROR(VLOOKUP(AA2468,CadMP!$B:$D,3,0),\"\")","v":""},{"$f":"IFERROR(VLOOKUP(AB2468,CadMP!$B:$D,3,0),\"\")","v":""},{"$f":"IFERROR(VLOOKUP(AC2468,CadMP!$B:$D,3,0),\"\")","v":""},{"$f":"IFERROR(VLOOKUP(AD2468,CadMP!$B:$D,3,0),\"\")","v":""},{"$f":"IFERROR(VLOOKUP(AE2468,CadMP!$B:$D,3,0),\"\")","v":""},{"$f":"IFERROR(VLOOKUP(AF2468,CadMP!$B:$D,3,0),\"\")","v":""},{"$f":"IFERROR(VLOOKUP(AG2468,CadMP!$B:$D,3,0),\"\")","v":""},{"$f":"IFERROR(VLOOKUP(AH2468,CadMP!$B:$D,3,0),\"\")","v":""},{"$f":"IFERROR(VLOOKUP(AI2468,CadMP!$B:$D,3,0),\"\")","v":""},{"$f":"IFERROR(VLOOKUP(AJ2468,CadMP!$B:$D,3,0),\"\")","v":""},{"$f":"IFERROR(VLOOKUP(AK2468,CadMP!$B:$D,3,0),\"\")","v":""},0,0,0,0,0,0,0,0,0,0,0,0,0,0,0]
[2486,null,null,0,0,null,null,null,null,null,null,0,0,null,null,null,null,null,null,null,1,0,null,null,null,null,null,null,null,null,null,null,null,null,null,null,null,null,null,null,null,null,null,null,null,null,null,null,null,null,null,null,{"$f":"IFERROR(VLOOKUP(W2487,CadMP!$B:$D,2,0),\"\")","v":""},{"$f":"IFERROR(VLOOKUP(X2487,CadMP!$B:$D,2,0),\"\")","v":""},{"$f":"IFERROR(VLOOKUP(Y2487,CadMP!$B:$D,2,0),\"\")","v":""},{"$f":"IFERROR(VLOOKUP(Z2487,CadMP!$B:$D,2,0),\"\")","v":""},{"$f":"IFERROR(VLOOKUP(AA2487,CadMP!$B:$D,2,0),\"\")","v":""},{"$f":"IFERROR(VLOOKUP(AB2487,CadMP!$B:$D,2,0),\"\")","v":""},{"$f":"IFERROR(VLOOKUP(AC2487,CadMP!$B:$D,2,0),\"\")","v":""},{"$f":"IFERROR(VLOOKUP(AD2487,CadMP!$B:$D,2,0),\"\")","v":""},{"$f":"IFERROR(VLOOKUP(AE2487,CadMP!$B:$D,2,0),\"\")","v":""},{"$f":"IFERROR(VLOOKUP(AF2487,CadMP!$B:$D,2,0),\"\")","v":""},{"$f":"IFERROR(VLOOKUP(AG2487,CadMP!$B:$D,2,0),\"\")","v":""},{"$f":"IFERROR(VLOOKUP(AH2487,CadMP!$B:$D,2,0),\"\")","v":""},{"$f":"IFERROR(VLOOKUP(AI2487,CadMP!$B:$D,2,0),\"\")","v":""},{"$f":"IFERROR(VLOOKUP(AJ2487,CadMP!$B:$D,2,0),\"\")","v":""},{"$f":"IFERROR(VLOOKUP(AK2487,CadMP!$B:$D,2,0),\"\")","v":""},{"$f":"IFERROR(VLOOKUP(W2487,CadMP!$B:$D,3,0),\"\")","v":""},{"$f":"IFERROR(VLOOKUP(X2487,CadMP!$B:$D,3,0),\"\")","v":""},{"$f":"IFERROR(VLOOKUP(Y2487,CadMP!$B:$D,3,0),\"\")","v":""},{"$f":"IFERROR(VLOOKUP(Z2487,CadMP!$B:$D,3,0),\"\")","v":""},{"$f":"IFERROR(VLOOKUP(AA2487,CadMP!$B:$D,3,0),\"\")","v":""},{"$f":"IFERROR(VLOOKUP(AB2487,CadMP!$B:$D,3,0),\"\")","v":""},{"$f":"IFERROR(VLOOKUP(AC2487,CadMP!$B:$D,3,0),\"\")","v":""},{"$f":"IFERROR(VLOOKUP(AD2487,CadMP!$B:$D,3,0),\"\")","v":""},{"$f":"IFERROR(VLOOKUP(AE2487,CadMP!$B:$D,3,0),\"\")","v":""},{"$f":"IFERROR(VLOOKUP(AF2487,CadMP!$B:$D,3,0),\"\")","v":""},{"$f":"IFERROR(VLOOKUP(AG2487,CadMP!$B:$D,3,0),\"\")","v":""},{"$f":"IFERROR(VLOOKUP(AH2487,CadMP!$B:$D,3,0),\"\")","v":""},{"$f":"IFERROR(VLOOKUP(AI2487,CadMP!$B:$D,3,0),\"\")","v":""},{"$f":"IFERROR(VLOOKUP(AJ2487,CadMP!$B:$D,3,0),\"\")","v":""},{"$f":"IFERROR(VLOOKUP(AK2487,CadMP!$B:$D,3,0),\"\")","v":""},0,0,0,0,0,0,0,0,0,0,0,0,0,0,0]
[2501,null,null,0,0,null,null,null,null,null,null,0,0,null,null,null,null,null,null,null,1,0,null,null,null,null,null,null,null,null,null,null,null,null,null,null,null,null,null,null,null,null,null,null,null,null,null,null,null,null,null,null,{"$f":"IFERROR(VLOOKUP(W2502,CadMP!$B:$D,2,0),\"\")","v":""},{"$f":"IFERROR(VLOOKUP(X2502,CadMP!$B:$D,2,0),\"\")","v":""},{"$f":"IFERROR(VLOOKUP(Y2502,CadMP!$B:$D,2,0),\"\")","v":""},{"$f":"IFERROR(VLOOKUP(Z2502,CadMP!$B:$D,2,0),\"\")","v":""},{"$f":"IFERROR(VLOOKUP(AA2502,CadMP!$B:$D,2,0),\"\")","v":""},{"$f":"IFERROR(VLOOKUP(AB2502,CadMP!$B:$D,2,0),\"\")","v":""},{"$f":"IFERROR(VLOOKUP(AC2502,CadMP!$B:$D,2,0),\"\")","v":""},{"$f":"IFERROR(VLOOKUP(AD2502,CadMP!$B:$D,2,0),\"\")","v":""},{"$f":"IFERROR(VLOOKUP(AE2502,CadMP!$B:$D,2,0),\"\")","v":""},{"$f":"IFERROR(VLOOKUP(AF2502,CadMP!$B:$D,2,0),\"\")","v":""},{"$f":"IFERROR(VLOOKUP(AG2502,CadMP!$B:$D,2,0),\"\")","v":""},{"$f":"IFERROR(VLOOKUP(AH2502,CadMP!$B:$D,2,0),\"\")","v":""},{"$f":"IFERROR(VLOOKUP(AI2502,CadMP!$B:$D,2,0),\"\")","v":""},{"$f":"IFERROR(VLOOKUP(AJ2502,CadMP!$B:$D,2,0),\"\")","v":""},{"$f":"IFERROR(VLOOKUP(AK2502,CadMP!$B:$D,2,0),\"\")","v":""},{"$f":"IFERROR(VLOOKUP(W2502,CadMP!$B:$D,3,0),\"\")","v":""},{"$f":"IFERROR(VLOOKUP(X2502,CadMP!$B:$D,3,0),\"\")","v":""},{"$f":"IFERROR(VLOOKUP(Y2502,CadMP!$B:$D,3,0),\"\")","v":""},{"$f":"IFERROR(VLOOKUP(Z2502,CadMP!$B:$D,3,0),\"\")","v":""},{"$f":"IFERROR(VLOOKUP(AA2502,CadMP!$B:$D,3,0),\"\")","v":""},{"$f":"IFERROR(VLOOKUP(AB2502,CadMP!$B:$D,3,0),\"\")","v":""},{"$f":"IFERROR(VLOOKUP(AC2502,CadMP!$B:$D,3,0),\"\")","v":""},{"$f":"IFERROR(VLOOKUP(AD2502,CadMP!$B:$D,3,0),\"\")","v":""},{"$f":"IFERROR(VLOOKUP(AE2502,CadMP!$B:$D,3,0),\"\")","v":""},{"$f":"IFERROR(VLOOKUP(AF2502,CadMP!$B:$D,3,0),\"\")","v":""},{"$f":"IFERROR(VLOOKUP(AG2502,CadMP!$B:$D,3,0),\"\")","v":""},{"$f":"IFERROR(VLOOKUP(AH2502,CadMP!$B:$D,3,0),\"\")","v":""},{"$f":"IFERROR(VLOOKUP(AI2502,CadMP!$B:$D,3,0),\"\")","v":""},{"$f":"IFERROR(VLOOKUP(AJ2502,CadMP!$B:$D,3,0),\"\")","v":""},{"$f":"IFERROR(VLOOKUP(AK2502,CadMP!$B:$D,3,0),\"\")","v":""},0,0,0,0,0,0,0,0,0,0,0,0,0,0,0]
[2529,null,null,0,0,null,null,null,null,null,null,0,0,null,null,null,null,null,null,null,1,0,null,null,null,null,null,null,null,null,null,null,null,null,null,null,null,null,null,null,null,null,null,null,null,null,null,null,null,null,null,null,{"$f":"IFERROR(VLOOKUP(W2530,CadMP!$B:$D,2,0),\"\")","v":""},{"$f":"IFERROR(VLOOKUP(X2530,CadMP!$B:$D,2,0),\"\")","v":""},{"$f":"IFERROR(VLOOKUP(Y2530,CadMP!$B:$D,2,0),\"\")","v":""},{"$f":"IFERROR(VLOOKUP(Z2530,CadMP!$B:$D,2,0),\"\")","v":""},{"$f":"IFERROR(VLOOKUP(AA2530,CadMP!$B:$D,2,0),\"\")","v":""},{"$f":"IFERROR(VLOOKUP(AB2530,CadMP!$B:$D,2,0),\"\")","v":""},{"$f":"IFERROR(VLOOKUP(AC2530,CadMP!$B:$D,2,0),\"\")","v":""},{"$f":"IFERROR(VLOOKUP(AD2530,CadMP!$B:$D,2,0),\"\")","v":""},{"$f":"IFERROR(VLOOKUP(AE2530,CadMP!$B:$D,2,0),\"\")","v":""},{"$f":"IFERROR(VLOOKUP(AF2530,CadMP!$B:$D,2,0),\"\")","v":""},{"$f":"IFERROR(VLOOKUP(AG2530,CadMP!$B:$D,2,0),\"\")","v":""},{"$f":"IFERROR(VLOOKUP(AH2530,CadMP!$B:$D,2,0),\"\")","v":""},{"$f":"IFERROR(VLOOKUP(AI2530,CadMP!$B:$D,2,0),\"\")","v":""},{"$f":"IFERROR(VLOOKUP(AJ2530,CadMP!$B:$D,2,0),\"\")","v":""},{"$f":"IFERROR(VLOOKUP(AK2530,CadMP!$B:$D,2,0),\"\")","v":""},{"$f":"IFERROR(VLOOKUP(W2530,CadMP!$B:$D,3,0),\"\")","v":""},{"$f":"IFERROR(VLOOKUP(X2530,CadMP!$B:$D,3,0),\"\")","v":""},{"$f":"IFERROR(VLOOKUP(Y2530,CadMP!$B:$D,3,0),\"\")","v":""},{"$f":"IFERROR(VLOOKUP(Z2530,CadMP!$B:$D,3,0),\"\")","v":""},{"$f":"IFERROR(VLOOKUP(AA2530,CadMP!$B:$D,3,0),\"\")","v":""},{"$f":"IFERROR(VLOOKUP(AB2530,CadMP!$B:$D,3,0),\"\")","v":""},{"$f":"IFERROR(VLOOKUP(AC2530,CadMP!$B:$D,3,0),\"\")","v":""},{"$f":"IFERROR(VLOOKUP(AD2530,CadMP!$B:$D,3,0),\"\")","v":""},{"$f":"IFERROR(VLOOKUP(AE2530,CadMP!$B:$D,3,0),\"\")","v":""},{"$f":"IFERROR(VLOOKUP(AF2530,CadMP!$B:$D,3,0),\"\")","v":""},{"$f":"IFERROR(VLOOKUP(AG2530,CadMP!$B:$D,3,0),\"\")","v":""},{"$f":"IFERROR(VLOOKUP(AH2530,CadMP!$B:$D,3,0),\"\")","v":""},{"$f":"IFERROR(VLOOKUP(AI2530,CadMP!$B:$D,3,0),\"\")","v":""},{"$f":"IFERROR(VLOOKUP(AJ2530,CadMP!$B:$D,3,0),\"\")","v":""},{"$f":"IFERROR(VLOOKUP(AK2530,CadMP!$B:$D,3,0),\"\")","v":""},0,0,0,0,0,0,0,0,0,0,0,0,0,0,0]
[2548,null,null,0,0,null,null,null,null,null,null,0,0,null,null,null,null,null,null,null,1,0,null,null,null,null,null,null,null,null,null,null,null,null,null,null,null,null,null,null,null,null,null,null,null,null,null,null,null,null,null,null,{"$f":"IFERROR(VLOOKUP(W2549,CadMP!$B:$D,2,0),\"\")","v":""},{"$f":"IFERROR(VLOOKUP(X2549,CadMP!$B:$D,2,0),\"\")","v":""},{"$f":"IFERROR(VLOOKUP(Y2549,CadMP!$B:$D,2,0),\"\")","v":""},{"$f":"IFERROR(VLOOKUP(Z2549,CadMP!$B:$D,2,0),\"\")","v":""},{"$f":"IFERROR(VLOOKUP(AA2549,CadMP!$B:$D,2,0),\"\")","v":""},{"$f":"IFERROR(VLOOKUP(AB2549,CadMP!$B:$D,2,0),\"\")","v":""},{"$f":"IFERROR(VLOOKUP(AC2549,CadMP!$B:$D,2,0),\"\")","v":""},{"$f":"IFERROR(VLOOKUP(AD2549,CadMP!$B:$D,2,0),\"\")","v":""},{"$f":"IFERROR(VLOOKUP(AE2549,CadMP!$B:$D,2,0),\"\")","v":""},{"$f":"IFERROR(VLOOKUP(AF2549,CadMP!$B:$D,2,0),\"\")","v":""},{"$f":"IFERROR(VLOOKUP(AG2549,CadMP!$B:$D,2,0),\"\")","v":""},{"$f":"IFERROR(VLOOKUP(AH2549,CadMP!$B:$D,2,0),\"\")","v":""},{"$f":"IFERROR(VLOOKUP(AI2549,CadMP!$B:$D,2,0),\"\")","v":""},{"$f":"IFERROR(VLOOKUP(AJ2549,CadMP!$B:$D,2,0),\"\")","v":""},{"$f":"IFERROR(VLOOKUP(AK2549,CadMP!$B:$D,2,0),\"\")","v":""},{"$f":"IFERROR(VLOOKUP(W2549,CadMP!$B:$D,3,0),\"\")","v":""},{"$f":"IFERROR(VLOOKUP(X2549,CadMP!$B:$D,3,0),\"\")","v":""},{"$f":"IFERROR(VLOOKUP(Y2549,CadMP!$B:$D,3,0),\"\")","v":""},{"$f":"IFERROR(VLOOKUP(Z2549,CadMP!$B:$D,3,0),\"\")","v":""},{"$f":"IFERROR(VLOOKUP(AA2549,CadMP!$B:$D,3,0),\"\")","v":""},{"$f":"IFERROR(VLOOKUP(AB2549,CadMP!$B:$D,3,0),\"\")","v":""},{"$f":"IFERROR(VLOOKUP(AC2549,CadMP!$B:$D,3,0),\"\")","v":""},{"$f":"IFERROR(VLOOKUP(AD2549,CadMP!$B:$D,3,0),\"\")","v":""},{"$f":"IFERROR(VLOOKUP(AE2549,CadMP!$B:$D,3,0),\"\")","v":""},{"$f":"IFERROR(VLOOKUP(AF2549,CadMP!$B:$D,3,0),\"\")","v":""},{"$f":"IFERROR(VLOOKUP(AG2549,CadMP!$B:$D,3,0),\"\")","v":""},{"$f":"IFERROR(VLOOKUP(AH2549,CadMP!$B:$D,3,0),\"\")","v":""},{"$f":"IFERROR(VLOOKUP(AI2549,CadMP!$B:$D,3,0),\"\")","v":""},{"$f":"IFERROR(VLOOKUP(AJ2549,CadMP!$B:$D,3,0),\"\")","v":""},{"$f":"IFERROR(VLOOKUP(AK2549,CadMP!$B:$D,3,0),\"\")","v":""},0,0,0,0,0,0,0,0,0,0,0,0,0,0,0]
[2567,null,null,0,0,null,null,null,null,null,null,0,0,null,null,null,null,null,null,null,1,0,null,null,null,null,null,null,null,null,null,null,null,null,null,null,null,null,null,null,null,null,null,null,null,null,null,null,null,null,null,null,{"$f":"IFERROR(VLOOKUP(W2568,CadMP!$B:$D,2,0),\"\")","v":""},{"$f":"IFERROR(VLOOKUP(X2568,CadMP!$B:$D,2,0),\"\")","v":""},{"$f":"IFERROR(VLOOKUP(Y2568,CadMP!$B:$D,2,0),\"\")","v":""},{"$f":"IFERROR(VLOOKUP(Z2568,CadMP!$B:$D,2,0),\"\")","v":""},{"$f":"IFERROR(VLOOKUP(AA2568,CadMP!$B:$D,2,0),\"\")","v":""},{"$f":"IFERROR(VLOOKUP(AB2568,CadMP!$B:$D,2,0),\"\")","v":""},{"$f":"IFERROR(VLOOKUP(AC2568,CadMP!$B:$D,2,0),\"\")","v":""},{"$f":"IFERROR(VLOOKUP(AD2568,CadMP!$B:$D,2,0),\"\")","v":""},{"$f":"IFERROR(VLOOKUP(AE2568,CadMP!$B:$D,2,0),\"\")","v":""},{"$f":"IFERROR(VLOOKUP(AF2568,CadMP!$B:$D,2,0),\"\")","v":""},{"$f":"IFERROR(VLOOKUP(AG2568,CadMP!$B:$D,2,0),\"\")","v":""},{"$f":"IFERROR(VLOOKUP(AH2568,CadMP!$B:$D,2,0),\"\")","v":""},{"$f":"IFERROR(VLOOKUP(AI2568,CadMP!$B:$D,2,0),\"\")","v":""},{"$f":"IFERROR(VLOOKUP(AJ2568,CadMP!$B:$D,2,0),\"\")","v":""},{"$f":"IFERROR(VLOOKUP(AK2568,CadMP!$B:$D,2,0),\"\")","v":""},{"$f":"IFERROR(VLOOKUP(W2568,CadMP!$B:$D,3,0),\"\")","v":""},{"$f":"IFERROR(VLOOKUP(X2568,CadMP!$B:$D,3,0),\"\")","v":""},{"$f":"IFERROR(VLOOKUP(Y2568,CadMP!$B:$D,3,0),\"\")","v":""},{"$f":"IFERROR(VLOOKUP(Z2568,CadMP!$B:$D,3,0),\"\")","v":""},{"$f":"IFERROR(VLOOKUP(AA2568,CadMP!$B:$D,3,0),\"\")","v":""},{"$f":"IFERROR(VLOOKUP(AB2568,CadMP!$B:$D,3,0),\"\")","v":""},{"$f":"IFERROR(VLOOKUP(AC2568,CadMP!$B:$D,3,0),\"\")","v":""},{"$f":"IFERROR(VLOOKUP(AD2568,CadMP!$B:$D,3,0),\"\")","v":""},{"$f":"IFERROR(VLOOKUP(AE2568,CadMP!$B:$D,3,0),\"\")","v":""},{"$f":"IFERROR(VLOOKUP(AF2568,CadMP!$B:$D,3,0),\"\")","v":""},{"$f":"IFERROR(VLOOKUP(AG2568,CadMP!$B:$D,3,0),\"\")","v":""},{"$f":"IFERROR(VLOOKUP(AH2568,CadMP!$B:$D,3,0),\"\")","v":""},{"$f":"IFERROR(VLOOKUP(AI2568,CadMP!$B:$D,3,0),\"\")","v":""},{"$f":"IFERROR(VLOOKUP(AJ2568,CadMP!$B:$D,3,0),\"\")","v":""},{"$f":"IFERROR(VLOOKUP(AK2568,CadMP!$B:$D,3,0),\"\")","v":""},0,0,0,0,0,0,0,0,0,0,0,0,0,0,0]
[2592,null,null,0,0,null,null,null,null,null,null,0,0,null,null,null,null,null,null,null,1,0,null,null,null,null,null,null,null,null,null,null,null,null,null,null,null,null,null,null,null,null,null,null,null,null,null,null,null,null,null,null,{"$f":"IFERROR(VLOOKUP(W2593,CadMP!$B:$D,2,0),\"\")","v":""},{"$f":"IFERROR(VLOOKUP(X2593,CadMP!$B:$D,2,0),\"\")","v":""},{"$f":"IFERROR(VLOOKUP(Y2593,CadMP!$B:$D,2,0),\"\")","v":""},{"$f":"IFERROR(VLOOKUP(Z2593,CadMP!$B:$D,2,0),\"\")","v":""},{"$f":"IFERROR(VLOOKUP(AA2593,CadMP!$B:$D,2,0),\"\")","v":""},{"$f":"IFERROR(VLOOKUP(AB2593,CadMP!$B:$D,2,0),\"\")","v":""},{"$f":"IFERROR(VLOOKUP(AC2593,CadMP!$B:$D,2,0),\"\")","v":""},{"$f":"IFERROR(VLOOKUP(AD2593,CadMP!$B:$D,2,0),\"\")","v":""},{"$f":"IFERROR(VLOOKUP(AE2593,CadMP!$B:$D,2,0),\"\")","v":""},{"$f":"IFERROR(VLOOKUP(AF2593,CadMP!$B:$D,2,0),\"\")","v":""},{"$f":"IFERROR(VLOOKUP(AG2593,CadMP!$B:$D,2,0),\"\")","v":""},{"$f":"IFERROR(VLOOKUP(AH2593,CadMP!$B:$D,2,0),\"\")","v":""},{"$f":"IFERROR(VLOOKUP(AI2593,CadMP!$B:$D,2,0),\"\")","v":""},{"$f":"IFERROR(VLOOKUP(AJ2593,CadMP!$B:$D,2,0),\"\")","v":""},{"$f":"IFERROR(VLOOKUP(AK2593,CadMP!$B:$D,2,0),\"\")","v":""},{"$f":"IFERROR(VLOOKUP(W2593,CadMP!$B:$D,3,0),\"\")","v":""},{"$f":"IFERROR(VLOOKUP(X2593,CadMP!$B:$D,3,0),\"\")","v":""},{"$f":"IFERROR(VLOOKUP(Y2593,CadMP!$B:$D,3,0),\"\")","v":""},{"$f":"IFERROR(VLOOKUP(Z2593,CadMP!$B:$D,3,0),\"\")","v":""},{"$f":"IFERROR(VLOOKUP(AA2593,CadMP!$B:$D,3,0),\"\")","v":""},{"$f":"IFERROR(VLOOKUP(AB2593,CadMP!$B:$D,3,0),\"\")","v":""},{"$f":"IFERROR(VLOOKUP(AC2593,CadMP!$B:$D,3,0),\"\")","v":""},{"$f":"IFERROR(VLOOKUP(AD2593,CadMP!$B:$D,3,0),\"\")","v":""},{"$f":"IFERROR(VLOOKUP(AE2593,CadMP!$B:$D,3,0),\"\")","v":""},{"$f":"IFERROR(VLOOKUP(AF2593,CadMP!$B:$D,3,0),\"\")","v":""},{"$f":"IFERROR(VLOOKUP(AG2593,CadMP!$B:$D,3,0),\"\")","v":""},{"$f":"IFERROR(VLOOKUP(AH2593,CadMP!$B:$D,3,0),\"\")","v":""},{"$f":"IFERROR(VLOOKUP(AI2593,CadMP!$B:$D,3,0),\"\")","v":""},{"$f":"IFERROR(VLOOKUP(AJ2593,CadMP!$B:$D,3,0),\"\")","v":""},{"$f":"IFERROR(VLOOKUP(AK2593,CadMP!$B:$D,3,0),\"\")","v":""},0,0,0,0,0,0,0,0,0,0,0,0,0,0,0]
[2600,null,null,0,0,null,null,null,null,null,null,0,0,null,null,null,null,null,null,null,1,0,null,null,null,null,null,null,null,null,null,null,null,null,null,null,null,null,null,null,null,null,null,null,null,null,null,null,null,null,null,null,{"$f":"IFERROR(VLOOKUP(W2601,CadMP!$B:$D,2,0),\"\")","v":""},{"$f":"IFERROR(VLOOKUP(X2601,CadMP!$B:$D,2,0),\"\")","v":""},{"$f":"IFERROR(VLOOKUP(Y2601,CadMP!$B:$D,2,0),\"\")","v":""},{"$f":"IFERROR(VLOOKUP(Z2601,CadMP!$B:$D,2,0),\"\")","v":""},{"$f":"IFERROR(VLOOKUP(AA2601,CadMP!$B:$D,2,0),\"\")","v":""},{"$f":"IFERROR(VLOOKUP(AB2601,CadMP!$B:$D,2,0),\"\")","v":""},{"$f":"IFERROR(VLOOKUP(AC2601,CadMP!$B:$D,2,0),\"\")","v":""},{"$f":"IFERROR(VLOOKUP(AD2601,CadMP!$B:$D,2,0),\"\")","v":""},{"$f":"IFERROR(VLOOKUP(AE2601,CadMP!$B:$D,2,0),\"\")","v":""},{"$f":"IFERROR(VLOOKUP(AF2601,CadMP!$B:$D,2,0),\"\")","v":""},{"$f":"IFERROR(VLOOKUP(AG2601,CadMP!$B:$D,2,0),\"\")","v":""},{"$f":"IFERROR(VLOOKUP(AH2601,CadMP!$B:$D,2,0),\"\")","v":""},{"$f":"IFERROR(VLOOKUP(AI2601,CadMP!$B:$D,2,0),\"\")","v":""},{"$f":"IFERROR(VLOOKUP(AJ2601,CadMP!$B:$D,2,0),\"\")","v":""},{"$f":"IFERROR(VLOOKUP(AK2601,CadMP!$B:$D,2,0),\"\")","v":""},{"$f":"IFERROR(VLOOKUP(W2601,CadMP!$B:$D,3,0),\"\")","v":""},{"$f":"IFERROR(VLOOKUP(X2601,CadMP!$B:$D,3,0),\"\")","v":""},{"$f":"IFERROR(VLOOKUP(Y2601,CadMP!$B:$D,3,0),\"\")","v":""},{"$f":"IFERROR(VLOOKUP(Z2601,CadMP!$B:$D,3,0),\"\")","v":""},{"$f":"IFERROR(VLOOKUP(AA2601,CadMP!$B:$D,3,0),\"\")","v":""},{"$f":"IFERROR(VLOOKUP(AB2601,CadMP!$B:$D,3,0),\"\")","v":""},{"$f":"IFERROR(VLOOKUP(AC2601,CadMP!$B:$D,3,0),\"\")","v":""},{"$f":"IFERROR(VLOOKUP(AD2601,CadMP!$B:$D,3,0),\"\")","v":""},{"$f":"IFERROR(VLOOKUP(AE2601,CadMP!$B:$D,3,0),\"\")","v":""},{"$f":"IFERROR(VLOOKUP(AF2601,CadMP!$B:$D,3,0),\"\")","v":""},{"$f":"IFERROR(VLOOKUP(AG2601,CadMP!$B:$D,3,0),\"\")","v":""},{"$f":"IFERROR(VLOOKUP(AH2601,CadMP!$B:$D,3,0),\"\")","v":""},{"$f":"IFERROR(VLOOKUP(AI2601,CadMP!$B:$D,3,0),\"\")","v":""},{"$f":"IFERROR(VLOOKUP(AJ2601,CadMP!$B:$D,3,0),\"\")","v":""},{"$f":"IFERROR(VLOOKUP(AK2601,CadMP!$B:$D,3,0),\"\")","v":""},0,0,0,0,0,0,0,0,0,0,0,0,0,0,0]
[2616,null,null,0,0,null,null,null,null,null,null,0,0,null,null,null,null,null,null,null,1,0,null,null,null,null,null,null,null,null,null,null,null,null,null,null,null,null,null,null,null,null,null,null,null,null,null,null,null,null,null,null,{"$f":"IFERROR(VLOOKUP(W2617,CadMP!$B:$D,2,0),\"\")","v":""},{"$f":"IFERROR(VLOOKUP(X2617,CadMP!$B:$D,2,0),\"\")","v":""},{"$f":"IFERROR(VLOOKUP(Y2617,CadMP!$B:$D,2,0),\"\")","v":""},{"$f":"IFERROR(VLOOKUP(Z2617,CadMP!$B:$D,2,0),\"\")","v":""},{"$f":"IFERROR(VLOOKUP(AA2617,CadMP!$B:$D,2,0),\"\")","v":""},{"$f":"IFERROR(VLOOKUP(AB2617,CadMP!$B:$D,2,0),\"\")","v":""},{"$f":"IFERROR(VLOOKUP(AC2617,CadMP!$B:$D,2,0),\"\")","v":""},{"$f":"IFERROR(VLOOKUP(AD2617,CadMP!$B:$D,2,0),\"\")","v":""},{"$f":"IFERROR(VLOOKUP(AE2617,CadMP!$B:$D,2,0),\"\")","v":""},{"$f":"IFERROR(VLOOKUP(AF2617,CadMP!$B:$D,2,0),\"\")","v":""},{"$f":"IFERROR(VLOOKUP(AG2617,CadMP!$B:$D,2,0),\"\")","v":""},{"$f":"IFERROR(VLOOKUP(AH2617,CadMP!$B:$D,2,0),\"\")","v":""},{"$f":"IFERROR(VLOOKUP(AI2617,CadMP!$B:$D,2,0),\"\")","v":""},{"$f":"IFERROR(VLOOKUP(AJ2617,CadMP!$B:$D,2,0),\"\")","v":""},{"$f":"IFERROR(VLOOKUP(AK2617,CadMP!$B:$D,2,0),\"\")","v":""},{"$f":"IFERROR(VLOOKUP(W2617,CadMP!$B:$D,3,0),\"\")","v":""},{"$f":"IFERROR(VLOOKUP(X2617,CadMP!$B:$D,3,0),\"\")","v":""},{"$f":"IFERROR(VLOOKUP(Y2617,CadMP!$B:$D,3,0),\"\")","v":""},{"$f":"IFERROR(VLOOKUP(Z2617,CadMP!$B:$D,3,0),\"\")","v":""},{"$f":"IFERROR(VLOOKUP(AA2617,CadMP!$B:$D,3,0),\"\")","v":""},{"$f":"IFERROR(VLOOKUP(AB2617,CadMP!$B:$D,3,0),\"\")","v":""},{"$f":"IFERROR(VLOOKUP(AC2617,CadMP!$B:$D,3,0),\"\")","v":""},{"$f":"IFERROR(VLOOKUP(AD2617,CadMP!$B:$D,3,0),\"\")","v":""},{"$f":"IFERROR(VLOOKUP(AE2617,CadMP!$B:$D,3,0),\"\")","v":""},{"$f":"IFERROR(VLOOKUP(AF2617,CadMP!$B:$D,3,0),\"\")","v":""},{"$f":"IFERROR(VLOOKUP(AG2617,CadMP!$B:$D,3,0),\"\")","v":""},{"$f":"IFERROR(VLOOKUP(AH2617,CadMP!$B:$D,3,0),\"\")","v":""},{"$f":"IFERROR(VLOOKUP(AI2617,CadMP!$B:$D,3,0),\"\")","v":""},{"$f":"IFERROR(VLOOKUP(AJ2617,CadMP!$B:$D,3,0),\"\")","v":""},{"$f":"IFERROR(VLOOKUP(AK2617,CadMP!$B:$D,3,0),\"\")","v":""},0,0,0,0,0,0,0,0,0,0,0,0,0,0,0]
[2635,null,null,0,0,null,null,null,null,null,null,0,0,null,null,null,null,null,null,null,1,0,null,null,null,null,null,null,null,null,null,null,null,null,null,null,null,null,null,null,null,null,null,null,null,null,null,null,null,null,null,null,{"$f":"IFERROR(VLOOKUP(W2636,CadMP!$B:$D,2,0),\"\")","v":""},{"$f":"IFERROR(VLOOKUP(X2636,CadMP!$B:$D,2,0),\"\")","v":""},{"$f":"IFERROR(VLOOKUP(Y2636,CadMP!$B:$D,2,0),\"\")","v":""},{"$f":"IFERROR(VLOOKUP(Z2636,CadMP!$B:$D,2,0),\"\")","v":""},{"$f":"IFERROR(VLOOKUP(AA2636,CadMP!$B:$D,2,0),\"\")","v":""},{"$f":"IFERROR(VLOOKUP(AB2636,CadMP!$B:$D,2,0),\"\")","v":""},{"$f":"IFERROR(VLOOKUP(AC2636,CadMP!$B:$D,2,0),\"\")","v":""},{"$f":"IFERROR(VLOOKUP(AD2636,CadMP!$B:$D,2,0),\"\")","v":""},{"$f":"IFERROR(VLOOKUP(AE2636,CadMP!$B:$D,2,0),\"\")","v":""},{"$f":"IFERROR(VLOOKUP(AF2636,CadMP!$B:$D,2,0),\"\")","v":""},{"$f":"IFERROR(VLOOKUP(AG2636,CadMP!$B:$D,2,0),\"\")","v":""},{"$f":"IFERROR(VLOOKUP(AH2636,CadMP!$B:$D,2,0),\"\")","v":""},{"$f":"IFERROR(VLOOKUP(AI2636,CadMP!$B:$D,2,0),\"\")","v":""},{"$f":"IFERROR(VLOOKUP(AJ2636,CadMP!$B:$D,2,0),\"\")","v":""},{"$f":"IFERROR(VLOOKUP(AK2636,CadMP!$B:$D,2,0),\"\")","v":""},{"$f":"IFERROR(VLOOKUP(W2636,CadMP!$B:$D,3,0),\"\")","v":""},{"$f":"IFERROR(VLOOKUP(X2636,CadMP!$B:$D,3,0),\"\")","v":""},{"$f":"IFERROR(VLOOKUP(Y2636,CadMP!$B:$D,3,0),\"\")","v":""},{"$f":"IFERROR(VLOOKUP(Z2636,CadMP!$B:$D,3,0),\"\")","v":""},{"$f":"IFERROR(VLOOKUP(AA2636,CadMP!$B:$D,3,0),\"\")","v":""},{"$f":"IFERROR(VLOOKUP(AB2636,CadMP!$B:$D,3,0),\"\")","v":""},{"$f":"IFERROR(VLOOKUP(AC2636,CadMP!$B:$D,3,0),\"\")","v":""},{"$f":"IFERROR(VLOOKUP(AD2636,CadMP!$B:$D,3,0),\"\")","v":""},{"$f":"IFERROR(VLOOKUP(AE2636,CadMP!$B:$D,3,0),\"\")","v":""},{"$f":"IFERROR(VLOOKUP(AF2636,CadMP!$B:$D,3,0),\"\")","v":""},{"$f":"IFERROR(VLOOKUP(AG2636,CadMP!$B:$D,3,0),\"\")","v":""},{"$f":"IFERROR(VLOOKUP(AH2636,CadMP!$B:$D,3,0),\"\")","v":""},{"$f":"IFERROR(VLOOKUP(AI2636,CadMP!$B:$D,3,0),\"\")","v":""},{"$f":"IFERROR(VLOOKUP(AJ2636,CadMP!$B:$D,3,0),\"\")","v":""},{"$f":"IFERROR(VLOOKUP(AK2636,CadMP!$B:$D,3,0),\"\")","v":""},0,0,0,0,0,0,0,0,0,0,0,0,0,0,0]
[2654,null,null,0,0,null,null,null,null,null,null,0,0,null,null,null,null,null,null,null,1,0,null,null,null,null,null,null,null,null,null,null,null,null,null,null,null,null,null,null,null,null,null,null,null,null,null,null,null,null,null,null,{"$f":"IFERROR(VLOOKUP(W2655,CadMP!$B:$D,2,0),\"\")","v":""},{"$f":"IFERROR(VLOOKUP(X2655,CadMP!$B:$D,2,0),\"\")","v":""},{"$f":"IFERROR(VLOOKUP(Y2655,CadMP!$B:$D,2,0),\"\")","v":""},{"$f":"IFERROR(VLOOKUP(Z2655,CadMP!$B:$D,2,0),\"\")","v":""},{"$f":"IFERROR(VLOOKUP(AA2655,CadMP!$B:$D,2,0),\"\")","v":""},{"$f":"IFERROR(VLOOKUP(AB2655,CadMP!$B:$D,2,0),\"\")","v":""},{"$f":"IFERROR(VLOOKUP(AC2655,CadMP!$B:$D,2,0),\"\")","v":""},{"$f":"IFERROR(VLOOKUP(AD2655,CadMP!$B:$D,2,0),\"\")","v":""},{"$f":"IFERROR(VLOOKUP(AE2655,CadMP!$B:$D,2,0),\"\")","v":""},{"$f":"IFERROR(VLOOKUP(AF2655,CadMP!$B:$D,2,0),\"\")","v":""},{"$f":"IFERROR(VLOOKUP(AG2655,CadMP!$B:$D,2,0),\"\")","v":""},{"$f":"IFERROR(VLOOKUP(AH2655,CadMP!$B:$D,2,0),\"\")","v":""},{"$f":"IFERROR(VLOOKUP(AI2655,CadMP!$B:$D,2,0),\"\")","v":""},{"$f":"IFERROR(VLOOKUP(AJ2655,CadMP!$B:$D,2,0),\"\")","v":""},{"$f":"IFERROR(VLOOKUP(AK2655,CadMP!$B:$D,2,0),\"\")","v":""},{"$f":"IFERROR(VLOOKUP(W2655,CadMP!$B:$D,3,0),\"\")","v":""},{"$f":"IFERROR(VLOOKUP(X2655,CadMP!$B:$D,3,0),\"\")","v":""},{"$f":"IFERROR(VLOOKUP(Y2655,CadMP!$B:$D,3,0),\"\")","v":""},{"$f":"IFERROR(VLOOKUP(Z2655,CadMP!$B:$D,3,0),\"\")","v":""},{"$f":"IFERROR(VLOOKUP(AA2655,CadMP!$B:$D,3,0),\"\")","v":""},{"$f":"IFERROR(VLOOKUP(AB2655,CadMP!$B:$D,3,0),\"\")","v":""},{"$f":"IFERROR(VLOOKUP(AC2655,CadMP!$B:$D,3,0),\"\")","v":""},{"$f":"IFERROR(VLOOKUP(AD2655,CadMP!$B:$D,3,0),\"\")","v":""},{"$f":"IFERROR(VLOOKUP(AE2655,CadMP!$B:$D,3,0),\"\")","v":""},{"$f":"IFERROR(VLOOKUP(AF2655,CadMP!$B:$D,3,0),\"\")","v":""},{"$f":"IFERROR(VLOOKUP(AG2655,CadMP!$B:$D,3,0),\"\")","v":""},{"$f":"IFERROR(VLOOKUP(AH2655,CadMP!$B:$D,3,0),\"\")","v":""},{"$f":"IFERROR(VLOOKUP(AI2655,CadMP!$B:$D,3,0),\"\")","v":""},{"$f":"IFERROR(VLOOKUP(AJ2655,CadMP!$B:$D,3,0),\"\")","v":""},{"$f":"IFERROR(VLOOKUP(AK2655,CadMP!$B:$D,3,0),\"\")","v":""},0,0,0,0,0,0,0,0,0,0,0,0,0,0,0]
[2677,null,null,0,0,null,null,null,null,null,null,0,0,null,null,null,null,null,null,null,1,0,null,null,null,null,null,null,null,null,null,null,null,null,null,null,null,null,null,null,null,null,null,null,null,null,null,null,null,null,null,null,{"$f":"IFERROR(VLOOKUP(W2678,CadMP!$B:$D,2,0),\"\")","v":""},{"$f":"IFERROR(VLOOKUP(X2678,CadMP!$B:$D,2,0),\"\")","v":""},{"$f":"IFERROR(VLOOKUP(Y2678,CadMP!$B:$D,2,0),\"\")","v":""},{"$f":"IFERROR(VLOOKUP(Z2678,CadMP!$B:$D,2,0),\"\")","v":""},{"$f":"IFERROR(VLOOKUP(AA2678,CadMP!$B:$D,2,0),\"\")","v":""},{"$f":"IFERROR(VLOOKUP(AB2678,CadMP!$B:$D,2,0),\"\")","v":""},{"$f":"IFERROR(VLOOKUP(AC2678,CadMP!$B:$D,2,0),\"\")","v":""},{"$f":"IFERROR(VLOOKUP(AD2678,CadMP!$B:$D,2,0),\"\")","v":""},{"$f":"IFERROR(VLOOKUP(AE2678,CadMP!$B:$D,2,0),\"\")","v":""},{"$f":"IFERROR(VLOOKUP(AF2678,CadMP!$B:$D,2,0),\"\")","v":""},{"$f":"IFERROR(VLOOKUP(AG2678,CadMP!$B:$D,2,0),\"\")","v":""},{"$f":"IFERROR(VLOOKUP(AH2678,CadMP!$B:$D,2,0),\"\")","v":""},{"$f":"IFERROR(VLOOKUP(AI2678,CadMP!$B:$D,2,0),\"\")","v":""},{"$f":"IFERROR(VLOOKUP(AJ2678,CadMP!$B:$D,2,0),\"\")","v":""},{"$f":"IFERROR(VLOOKUP(AK2678,CadMP!$B:$D,2,0),\"\")","v":""},{"$f":"IFERROR(VLOOKUP(W2678,CadMP!$B:$D,3,0),\"\")","v":""},{"$f":"IFERROR(VLOOKUP(X2678,CadMP!$B:$D,3,0),\"\")","v":""},{"$f":"IFERROR(VLOOKUP(Y2678,CadMP!$B:$D,3,0),\"\")","v":""},{"$f":"IFERROR(VLOOKUP(Z2678,CadMP!$B:$D,3,0),\"\")","v":""},{"$f":"IFERROR(VLOOKUP(AA2678,CadMP!$B:$D,3,0),\"\")","v":""},{"$f":"IFERROR(VLOOKUP(AB2678,CadMP!$B:$D,3,0),\"\")","v":""},{"$f":"IFERROR(VLOOKUP(AC2678,CadMP!$B:$D,3,0),\"\")","v":""},{"$f":"IFERROR(VLOOKUP(AD2678,CadMP!$B:$D,3,0),\"\")","v":""},{"$f":"IFERROR(VLOOKUP(AE2678,CadMP!$B:$D,3,0),\"\")","v":""},{"$f":"IFERROR(VLOOKUP(AF2678,CadMP!$B:$D,3,0),\"\")","v":""},{"$f":"IFERROR(VLOOKUP(AG2678,CadMP!$B:$D,3,0),\"\")","v":""},{"$f":"IFERROR(VLOOKUP(AH2678,CadMP!$B:$D,3,0),\"\")","v":""},{"$f":"IFERROR(VLOOKUP(AI2678,CadMP!$B:$D,3,0),\"\")","v":""},{"$f":"IFERROR(VLOOKUP(AJ2678,CadMP!$B:$D,3,0),\"\")","v":""},{"$f":"IFERROR(VLOOKUP(AK2678,CadMP!$B:$D,3,0),\"\")","v":""},0,0,0,0,0,0,0,0,0,0,0,0,0,0,0]
[2697,null,null,0,0,null,null,null,null,null,null,0,0,null,null,null,null,null,null,null,1,0,null,null,null,null,null,null,null,null,null,null,null,null,null,null,null,null,null,null,null,null,null,null,null,null,null,null,null,null,null,null,{"$f":"IFERROR(VLOOKUP(W2698,CadMP!$B:$D,2,0),\"\")","v":""},{"$f":"IFERROR(VLOOKUP(X2698,CadMP!$B:$D,2,0),\"\")","v":""},{"$f":"IFERROR(VLOOKUP(Y2698,CadMP!$B:$D,2,0),\"\")","v":""},{"$f":"IFERROR(VLOOKUP(Z2698,CadMP!$B:$D,2,0),\"\")","v":""},{"$f":"IFERROR(VLOOKUP(AA2698,CadMP!$B:$D,2,0),\"\")","v":""},{"$f":"IFERROR(VLOOKUP(AB2698,CadMP!$B:$D,2,0),\"\")","v":""},{"$f":"IFERROR(VLOOKUP(AC2698,CadMP!$B:$D,2,0),\"\")","v":""},{"$f":"IFERROR(VLOOKUP(AD2698,CadMP!$B:$D,2,0),\"\")","v":""},{"$f":"IFERROR(VLOOKUP(AE2698,CadMP!$B:$D,2,0),\"\")","v":""},{"$f":"IFERROR(VLOOKUP(AF2698,CadMP!$B:$D,2,0),\"\")","v":""},{"$f":"IFERROR(VLOOKUP(AG2698,CadMP!$B:$D,2,0),\"\")","v":""},{"$f":"IFERROR(VLOOKUP(AH2698,CadMP!$B:$D,2,0),\"\")","v":""},{"$f":"IFERROR(VLOOKUP(AI2698,CadMP!$B:$D,2,0),\"\")","v":""},{"$f":"IFERROR(VLOOKUP(AJ2698,CadMP!$B:$D,2,0),\"\")","v":""},{"$f":"IFERROR(VLOOKUP(AK2698,CadMP!$B:$D,2,0),\"\")","v":""},{"$f":"IFERROR(VLOOKUP(W2698,CadMP!$B:$D,3,0),\"\")","v":""},{"$f":"IFERROR(VLOOKUP(X2698,CadMP!$B:$D,3,0),\"\")","v":""},{"$f":"IFERROR(VLOOKUP(Y2698,CadMP!$B:$D,3,0),\"\")","v":""},{"$f":"IFERROR(VLOOKUP(Z2698,CadMP!$B:$D,3,0),\"\")","v":""},{"$f":"IFERROR(VLOOKUP(AA2698,CadMP!$B:$D,3,0),\"\")","v":""},{"$f":"IFERROR(VLOOKUP(AB2698,CadMP!$B:$D,3,0),\"\")","v":""},{"$f":"IFERROR(VLOOKUP(AC2698,CadMP!$B:$D,3,0),\"\")","v":""},{"$f":"IFERROR(VLOOKUP(AD2698,CadMP!$B:$D,3,0),\"\")","v":""},{"$f":"IFERROR(VLOOKUP(AE2698,CadMP!$B:$D,3,0),\"\")","v":""},{"$f":"IFERROR(VLOOKUP(AF2698,CadMP!$B:$D,3,0),\"\")","v":""},{"$f":"IFERROR(VLOOKUP(AG2698,CadMP!$B:$D,3,0),\"\")","v":""},{"$f":"IFERROR(VLOOKUP(AH2698,CadMP!$B:$D,3,0),\"\")","v":""},{"$f":"IFERROR(VLOOKUP(AI2698,CadMP!$B:$D,3,0),\"\")","v":""},{"$f":"IFERROR(VLOOKUP(AJ2698,CadMP!$B:$D,3,0),\"\")","v":""},{"$f":"IFERROR(VLOOKUP(AK2698,CadMP!$B:$D,3,0),\"\")","v":""},0,0,0,0,0,0,0,0,0,0,0,0,0,0,0]
[2722,null,null,0,0,null,null,null,null,null,null,0,0,null,null,null,null,null,null,null,1,0,null,null,null,null,null,null,null,null,null,null,null,null,null,null,null,null,null,null,null,null,null,null,null,null,null,null,null,null,null,null,{"$f":"IFERROR(VLOOKUP(W2723,CadMP!$B:$D,2,0),\"\")","v":""},{"$f":"IFERROR(VLOOKUP(X2723,CadMP!$B:$D,2,0),\"\")","v":""},{"$f":"IFERROR(VLOOKUP(Y2723,CadMP!$B:$D,2,0),\"\")","v":""},{"$f":"IFERROR(VLOOKUP(Z2723,CadMP!$B:$D,2,0),\"\")","v":""},{"$f":"IFERROR(VLOOKUP(AA2723,CadMP!$B:$D,2,0),\"\")","v":""},{"$f":"IFERROR(VLOOKUP(AB2723,CadMP!$B:$D,2,0),\"\")","v":""},{"$f":"IFERROR(VLOOKUP(AC2723,CadMP!$B:$D,2,0),\"\")","v":""},{"$f":"IFERROR(VLOOKUP(AD2723,CadMP!$B:$D,2,0),\"\")","v":""},{"$f":"IFERROR(VLOOKUP(AE2723,CadMP!$B:$D,2,0),\"\")","v":""},{"$f":"IFERROR(VLOOKUP(AF2723,CadMP!$B:$D,2,0),\"\")","v":""},{"$f":"IFERROR(VLOOKUP(AG2723,CadMP!$B:$D,2,0),\"\")","v":""},{"$f":"IFERROR(VLOOKUP(AH2723,CadMP!$B:$D,2,0),\"\")","v":""},{"$f":"IFERROR(VLOOKUP(AI2723,CadMP!$B:$D,2,0),\"\")","v":""},{"$f":"IFERROR(VLOOKUP(AJ2723,CadMP!$B:$D,2,0),\"\")","v":""},{"$f":"IFERROR(VLOOKUP(AK2723,CadMP!$B:$D,2,0),\"\")","v":""},{"$f":"IFERROR(VLOOKUP(W2723,CadMP!$B:$D,3,0),\"\")","v":""},{"$f":"IFERROR(VLOOKUP(X2723,CadMP!$B:$D,3,0),\"\")","v":""},{"$f":"IFERROR(VLOOKUP(Y2723,CadMP!$B:$D,3,0),\"\")","v":""},{"$f":"IFERROR(VLOOKUP(Z2723,CadMP!$B:$D,3,0),\"\")","v":""},{"$f":"IFERROR(VLOOKUP(AA2723,CadMP!$B:$D,3,0),\"\")","v":""},{"$f":"IFERROR(VLOOKUP(AB2723,CadMP!$B:$D,3,0),\"\")","v":""},{"$f":"IFERROR(VLOOKUP(AC2723,CadMP!$B:$D,3,0),\"\")","v":""},{"$f":"IFERROR(VLOOKUP(AD2723,CadMP!$B:$D,3,0),\"\")","v":""},{"$f":"IFERROR(VLOOKUP(AE2723,CadMP!$B:$D,3,0),\"\")","v":""},{"$f":"IFERROR(VLOOKUP(AF2723,CadMP!$B:$D,3,0),\"\")","v":""},{"$f":"IFERROR(VLOOKUP(AG2723,CadMP!$B:$D,3,0),\"\")","v":""},{"$f":"IFERROR(VLOOKUP(AH2723,CadMP!$B:$D,3,0),\"\")","v":""},{"$f":"IFERROR(VLOOKUP(AI2723,CadMP!$B:$D,3,0),\"\")","v":""},{"$f":"IFERROR(VLOOKUP(AJ2723,CadMP!$B:$D,3,0),\"\")","v":""},{"$f":"IFERROR(VLOOKUP(AK2723,CadMP!$B:$D,3,0),\"\")","v":""},0,0,0,0,0,0,0,0,0,0,0,0,0,0,0]
[2741,null,null,0,0,null,null,null,null,null,null,0,0,null,null,null,null,null,null,null,1,0,null,null,null,null,null,null,null,null,null,null,null,null,null,null,null,null,null,null,null,null,null,null,null,null,null,null,null,null,null,null,{"$f":"IFERROR(VLOOKUP(W2742,CadMP!$B:$D,2,0),\"\")","v":""},{"$f":"IFERROR(VLOOKUP(X2742,CadMP!$B:$D,2,0),\"\")","v":""},{"$f":"IFERROR(VLOOKUP(Y2742,CadMP!$B:$D,2,0),\"\")","v":""},{"$f":"IFERROR(VLOOKUP(Z2742,CadMP!$B:$D,2,0),\"\")","v":""},{"$f":"IFERROR(VLOOKUP(AA2742,CadMP!$B:$D,2,0),\"\")","v":""},{"$f":"IFERROR(VLOOKUP(AB2742,CadMP!$B:$D,2,0),\"\")","v":""},{"$f":"IFERROR(VLOOKUP(AC2742,CadMP!$B:$D,2,0),\"\")","v":""},{"$f":"IFERROR(VLOOKUP(AD2742,CadMP!$B:$D,2,0),\"\")","v":""},{"$f":"IFERROR(VLOOKUP(AE2742,CadMP!$B:$D,2,0),\"\")","v":""},{"$f":"IFERROR(VLOOKUP(AF2742,CadMP!$B:$D,2,0),\"\")","v":""},{"$f":"IFERROR(VLOOKUP(AG2742,CadMP!$B:$D,2,0),\"\")","v":""},{"$f":"IFERROR(VLOOKUP(AH2742,CadMP!$B:$D,2,0),\"\")","v":""},{"$f":"IFERROR(VLOOKUP(AI2742,CadMP!$B:$D,2,0),\"\")","v":""},{"$f":"IFERROR(VLOOKUP(AJ2742,CadMP!$B:$D,2,0),\"\")","v":""},{"$f":"IFERROR(VLOOKUP(AK2742,CadMP!$B:$D,2,0),\"\")","v":""},{"$f":"IFERROR(VLOOKUP(W2742,CadMP!$B:$D,3,0),\"\")","v":""},{"$f":"IFERROR(VLOOKUP(X2742,CadMP!$B:$D,3,0),\"\")","v":""},{"$f":"IFERROR(VLOOKUP(Y2742,CadMP!$B:$D,3,0),\"\")","v":""},{"$f":"IFERROR(VLOOKUP(Z2742,CadMP!$B:$D,3,0),\"\")","v":""},{"$f":"IFERROR(VLOOKUP(AA2742,CadMP!$B:$D,3,0),\"\")","v":""},{"$f":"IFERROR(VLOOKUP(AB2742,CadMP!$B:$D,3,0),\"\")","v":""},{"$f":"IFERROR(VLOOKUP(AC2742,CadMP!$B:$D,3,0),\"\")","v":""},{"$f":"IFERROR(VLOOKUP(AD2742,CadMP!$B:$D,3,0),\"\")","v":""},{"$f":"IFERROR(VLOOKUP(AE2742,CadMP!$B:$D,3,0),\"\")","v":""},{"$f":"IFERROR(VLOOKUP(AF2742,CadMP!$B:$D,3,0),\"\")","v":""},{"$f":"IFERROR(VLOOKUP(AG2742,CadMP!$B:$D,3,0),\"\")","v":""},{"$f":"IFERROR(VLOOKUP(AH2742,CadMP!$B:$D,3,0),\"\")","v":""},{"$f":"IFERROR(VLOOKUP(AI2742,CadMP!$B:$D,3,0),\"\")","v":""},{"$f":"IFERROR(VLOOKUP(AJ2742,CadMP!$B:$D,3,0),\"\")","v":""},{"$f":"IFERROR(VLOOKUP(AK2742,CadMP!$B:$D,3,0),\"\")","v":""},0,0,0,0,0,0,0,0,0,0,0,0,0,0,0]
[2750,null,null,0,0,null,null,null,null,null,null,0,0,null,null,null,null,null,null,null,1,0,null,null,null,null,null,null,null,null,null,null,null,null,null,null,null,null,null,null,null,null,null,null,null,null,null,null,null,null,null,null,{"$f":"IFERROR(VLOOKUP(W2751,CadMP!$B:$D,2,0),\"\")","v":""},{"$f":"IFERROR(VLOOKUP(X2751,CadMP!$B:$D,2,0),\"\")","v":""},{"$f":"IFERROR(VLOOKUP(Y2751,CadMP!$B:$D,2,0),\"\")","v":""},{"$f":"IFERROR(VLOOKUP(Z2751,CadMP!$B:$D,2,0),\"\")","v":""},{"$f":"IFERROR(VLOOKUP(AA2751,CadMP!$B:$D,2,0),\"\")","v":""},{"$f":"IFERROR(VLOOKUP(AB2751,CadMP!$B:$D,2,0),\"\")","v":""},{"$f":"IFERROR(VLOOKUP(AC2751,CadMP!$B:$D,2,0),\"\")","v":""},{"$f":"IFERROR(VLOOKUP(AD2751,CadMP!$B:$D,2,0),\"\")","v":""},{"$f":"IFERROR(VLOOKUP(AE2751,CadMP!$B:$D,2,0),\"\")","v":""},{"$f":"IFERROR(VLOOKUP(AF2751,CadMP!$B:$D,2,0),\"\")","v":""},{"$f":"IFERROR(VLOOKUP(AG2751,CadMP!$B:$D,2,0),\"\")","v":""},{"$f":"IFERROR(VLOOKUP(AH2751,CadMP!$B:$D,2,0),\"\")","v":""},{"$f":"IFERROR(VLOOKUP(AI2751,CadMP!$B:$D,2,0),\"\")","v":""},{"$f":"IFERROR(VLOOKUP(AJ2751,CadMP!$B:$D,2,0),\"\")","v":""},{"$f":"IFERROR(VLOOKUP(AK2751,CadMP!$B:$D,2,0),\"\")","v":""},{"$f":"IFERROR(VLOOKUP(W2751,CadMP!$B:$D,3,0),\"\")","v":""},{"$f":"IFERROR(VLOOKUP(X2751,CadMP!$B:$D,3,0),\"\")","v":""},{"$f":"IFERROR(VLOOKUP(Y2751,CadMP!$B:$D,3,0),\"\")","v":""},{"$f":"IFERROR(VLOOKUP(Z2751,CadMP!$B:$D,3,0),\"\")","v":""},{"$f":"IFERROR(VLOOKUP(AA2751,CadMP!$B:$D,3,0),\"\")","v":""},{"$f":"IFERROR(VLOOKUP(AB2751,CadMP!$B:$D,3,0),\"\")","v":""},{"$f":"IFERROR(VLOOKUP(AC2751,CadMP!$B:$D,3,0),\"\")","v":""},{"$f":"IFERROR(VLOOKUP(AD2751,CadMP!$B:$D,3,0),\"\")","v":""},{"$f":"IFERROR(VLOOKUP(AE2751,CadMP!$B:$D,3,0),\"\")","v":""},{"$f":"IFERROR(VLOOKUP(AF2751,CadMP!$B:$D,3,0),\"\")","v":""},{"$f":"IFERROR(VLOOKUP(AG2751,CadMP!$B:$D,3,0),\"\")","v":""},{"$f":"IFERROR(VLOOKUP(AH2751,CadMP!$B:$D,3,0),\"\")","v":""},{"$f":"IFERROR(VLOOKUP(AI2751,CadMP!$B:$D,3,0),\"\")","v":""},{"$f":"IFERROR(VLOOKUP(AJ2751,CadMP!$B:$D,3,0),\"\")","v":""},{"$f":"IFERROR(VLOOKUP(AK2751,CadMP!$B:$D,3,0),\"\")","v":""},0,0,0,0,0,0,0,0,0,0,0,0,0,0,0]
[2765,null,null,0,0,null,null,null,null,null,null,0,0,null,null,null,null,null,null,null,1,0,null,null,null,null,null,null,null,null,null,null,null,null,null,null,null,null,null,null,null,null,null,null,null,null,null,null,null,null,null,null,{"$f":"IFERROR(VLOOKUP(W2766,CadMP!$B:$D,2,0),\"\")","v":""},{"$f":"IFERROR(VLOOKUP(X2766,CadMP!$B:$D,2,0),\"\")","v":""},{"$f":"IFERROR(VLOOKUP(Y2766,CadMP!$B:$D,2,0),\"\")","v":""},{"$f":"IFERROR(VLOOKUP(Z2766,CadMP!$B:$D,2,0),\"\")","v":""},{"$f":"IFERROR(VLOOKUP(AA2766,CadMP!$B:$D,2,0),\"\")","v":""},{"$f":"IFERROR(VLOOKUP(AB2766,CadMP!$B:$D,2,0),\"\")","v":""},{"$f":"IFERROR(VLOOKUP(AC2766,CadMP!$B:$D,2,0),\"\")","v":""},{"$f":"IFERROR(VLOOKUP(AD2766,CadMP!$B:$D,2,0),\"\")","v":""},{"$f":"IFERROR(VLOOKUP(AE2766,CadMP!$B:$D,2,0),\"\")","v":""},{"$f":"IFERROR(VLOOKUP(AF2766,CadMP!$B:$D,2,0),\"\")","v":""},{"$f":"IFERROR(VLOOKUP(AG2766,CadMP!$B:$D,2,0),\"\")","v":""},{"$f":"IFERROR(VLOOKUP(AH2766,CadMP!$B:$D,2,0),\"\")","v":""},{"$f":"IFERROR(VLOOKUP(AI2766,CadMP!$B:$D,2,0),\"\")","v":""},{"$f":"IFERROR(VLOOKUP(AJ2766,CadMP!$B:$D,2,0),\"\")","v":""},{"$f":"IFERROR(VLOOKUP(AK2766,CadMP!$B:$D,2,0),\"\")","v":""},{"$f":"IFERROR(VLOOKUP(W2766,CadMP!$B:$D,3,0),\"\")","v":""},{"$f":"IFERROR(VLOOKUP(X2766,CadMP!$B:$D,3,0),\"\")","v":""},{"$f":"IFERROR(VLOOKUP(Y2766,CadMP!$B:$D,3,0),\"\")","v":""},{"$f":"IFERROR(VLOOKUP(Z2766,CadMP!$B:$D,3,0),\"\")","v":""},{"$f":"IFERROR(VLOOKUP(AA2766,CadMP!$B:$D,3,0),\"\")","v":""},{"$f":"IFERROR(VLOOKUP(AB2766,CadMP!$B:$D,3,0),\"\")","v":""},{"$f":"IFERROR(VLOOKUP(AC2766,CadMP!$B:$D,3,0),\"\")","v":""},{"$f":"IFERROR(VLOOKUP(AD2766,CadMP!$B:$D,3,0),\"\")","v":""},{"$f":"IFERROR(VLOOKUP(AE2766,CadMP!$B:$D,3,0),\"\")","v":""},{"$f":"IFERROR(VLOOKUP(AF2766,CadMP!$B:$D,3,0),\"\")","v":""},{"$f":"IFERROR(VLOOKUP(AG2766,CadMP!$B:$D,3,0),\"\")","v":""},{"$f":"IFERROR(VLOOKUP(AH2766,CadMP!$B:$D,3,0),\"\")","v":""},{"$f":"IFERROR(VLOOKUP(AI2766,CadMP!$B:$D,3,0),\"\")","v":""},{"$f":"IFERROR(VLOOKUP(AJ2766,CadMP!$B:$D,3,0),\"\")","v":""},{"$f":"IFERROR(VLOOKUP(AK2766,CadMP!$B:$D,3,0),\"\")","v":""},0,0,0,0,0,0,0,0,0,0,0,0,0,0,0]
[2784,null,null,0,0,null,null,null,null,null,null,0,0,null,null,null,null,null,null,null,1,0,null,null,null,null,null,null,null,null,null,null,null,null,null,null,null,null,null,null,null,null,null,null,null,null,null,null,null,null,null,null,{"$f":"IFERROR(VLOOKUP(W2785,CadMP!$B:$D,2,0),\"\")","v":""},{"$f":"IFERROR(VLOOKUP(X2785,CadMP!$B:$D,2,0),\"\")","v":""},{"$f":"IFERROR(VLOOKUP(Y2785,CadMP!$B:$D,2,0),\"\")","v":""},{"$f":"IFERROR(VLOOKUP(Z2785,CadMP!$B:$D,2,0),\"\")","v":""},{"$f":"IFERROR(VLOOKUP(AA2785,CadMP!$B:$D,2,0),\"\")","v":""},{"$f":"IFERROR(VLOOKUP(AB2785,CadMP!$B:$D,2,0),\"\")","v":""},{"$f":"IFERROR(VLOOKUP(AC2785,CadMP!$B:$D,2,0),\"\")","v":""},{"$f":"IFERROR(VLOOKUP(AD2785,CadMP!$B:$D,2,0),\"\")","v":""},{"$f":"IFERROR(VLOOKUP(AE2785,CadMP!$B:$D,2,0),\"\")","v":""},{"$f":"IFERROR(VLOOKUP(AF2785,CadMP!$B:$D,2,0),\"\")","v":""},{"$f":"IFERROR(VLOOKUP(AG2785,CadMP!$B:$D,2,0),\"\")","v":""},{"$f":"IFERROR(VLOOKUP(AH2785,CadMP!$B:$D,2,0),\"\")","v":""},{"$f":"IFERROR(VLOOKUP(AI2785,CadMP!$B:$D,2,0),\"\")","v":""},{"$f":"IFERROR(VLOOKUP(AJ2785,CadMP!$B:$D,2,0),\"\")","v":""},{"$f":"IFERROR(VLOOKUP(AK2785,CadMP!$B:$D,2,0),\"\")","v":""},{"$f":"IFERROR(VLOOKUP(W2785,CadMP!$B:$D,3,0),\"\")","v":""},{"$f":"IFERROR(VLOOKUP(X2785,CadMP!$B:$D,3,0),\"\")","v":""},{"$f":"IFERROR(VLOOKUP(Y2785,CadMP!$B:$D,3,0),\"\")","v":""},{"$f":"IFERROR(VLOOKUP(Z2785,CadMP!$B:$D,3,0),\"\")","v":""},{"$f":"IFERROR(VLOOKUP(AA2785,CadMP!$B:$D,3,0),\"\")","v":""},{"$f":"IFERROR(VLOOKUP(AB2785,CadMP!$B:$D,3,0),\"\")","v":""},{"$f":"IFERROR(VLOOKUP(AC2785,CadMP!$B:$D,3,0),\"\")","v":""},{"$f":"IFERROR(VLOOKUP(AD2785,CadMP!$B:$D,3,0),\"\")","v":""},{"$f":"IFERROR(VLOOKUP(AE2785,CadMP!$B:$D,3,0),\"\")","v":""},{"$f":"IFERROR(VLOOKUP(AF2785,CadMP!$B:$D,3,0),\"\")","v":""},{"$f":"IFERROR(VLOOKUP(AG2785,CadMP!$B:$D,3,0),\"\")","v":""},{"$f":"IFERROR(VLOOKUP(AH2785,CadMP!$B:$D,3,0),\"\")","v":""},{"$f":"IFERROR(VLOOKUP(AI2785,CadMP!$B:$D,3,0),\"\")","v":""},{"$f":"IFERROR(VLOOKUP(AJ2785,CadMP!$B:$D,3,0),\"\")","v":""},{"$f":"IFERROR(VLOOKUP(AK2785,CadMP!$B:$D,3,0),\"\")","v":""},0,0,0,0,0,0,0,0,0,0,0,0,0,0,0]
[2803,null,null,0,0,null,null,null,null,null,null,0,0,null,null,null,null,null,null,null,1,0,null,null,null,null,null,null,null,null,null,null,null,null,null,null,null,null,null,null,null,null,null,null,null,null,null,null,null,null,null,null,{"$f":"IFERROR(VLOOKUP(W2804,CadMP!$B:$D,2,0),\"\")","v":""},{"$f":"IFERROR(VLOOKUP(X2804,CadMP!$B:$D,2,0),\"\")","v":""},{"$f":"IFERROR(VLOOKUP(Y2804,CadMP!$B:$D,2,0),\"\")","v":""},{"$f":"IFERROR(VLOOKUP(Z2804,CadMP!$B:$D,2,0),\"\")","v":""},{"$f":"IFERROR(VLOOKUP(AA2804,CadMP!$B:$D,2,0),\"\")","v":""},{"$f":"IFERROR(VLOOKUP(AB2804,CadMP!$B:$D,2,0),\"\")","v":""},{"$f":"IFERROR(VLOOKUP(AC2804,CadMP!$B:$D,2,0),\"\")","v":""},{"$f":"IFERROR(VLOOKUP(AD2804,CadMP!$B:$D,2,0),\"\")","v":""},{"$f":"IFERROR(VLOOKUP(AE2804,CadMP!$B:$D,2,0),\"\")","v":""},{"$f":"IFERROR(VLOOKUP(AF2804,CadMP!$B:$D,2,0),\"\")","v":""},{"$f":"IFERROR(VLOOKUP(AG2804,CadMP!$B:$D,2,0),\"\")","v":""},{"$f":"IFERROR(VLOOKUP(AH2804,CadMP!$B:$D,2,0),\"\")","v":""},{"$f":"IFERROR(VLOOKUP(AI2804,CadMP!$B:$D,2,0),\"\")","v":""},{"$f":"IFERROR(VLOOKUP(AJ2804,CadMP!$B:$D,2,0),\"\")","v":""},{"$f":"IFERROR(VLOOKUP(AK2804,CadMP!$B:$D,2,0),\"\")","v":""},{"$f":"IFERROR(VLOOKUP(W2804,CadMP!$B:$D,3,0),\"\")","v":""},{"$f":"IFERROR(VLOOKUP(X2804,CadMP!$B:$D,3,0),\"\")","v":""},{"$f":"IFERROR(VLOOKUP(Y2804,CadMP!$B:$D,3,0),\"\")","v":""},{"$f":"IFERROR(VLOOKUP(Z2804,CadMP!$B:$D,3,0),\"\")","v":""},{"$f":"IFERROR(VLOOKUP(AA2804,CadMP!$B:$D,3,0),\"\")","v":""},{"$f":"IFERROR(VLOOKUP(AB2804,CadMP!$B:$D,3,0),\"\")","v":""},{"$f":"IFERROR(VLOOKUP(AC2804,CadMP!$B:$D,3,0),\"\")","v":""},{"$f":"IFERROR(VLOOKUP(AD2804,CadMP!$B:$D,3,0),\"\")","v":""},{"$f":"IFERROR(VLOOKUP(AE2804,CadMP!$B:$D,3,0),\"\")","v":""},{"$f":"IFERROR(VLOOKUP(AF2804,CadMP!$B:$D,3,0),\"\")","v":""},{"$f":"IFERROR(VLOOKUP(AG2804,CadMP!$B:$D,3,0),\"\")","v":""},{"$f":"IFERROR(VLOOKUP(AH2804,CadMP!$B:$D,3,0),\"\")","v":""},{"$f":"IFERROR(VLOOKUP(AI2804,CadMP!$B:$D,3,0),\"\")","v":""},{"$f":"IFERROR(VLOOKUP(AJ2804,CadMP!$B:$D,3,0),\"\")","v":""},{"$f":"IFERROR(VLOOKUP(AK2804,CadMP!$B:$D,3,0),\"\")","v":""},0,0,0,0,0,0,0,0,0,0,0,0,0,0,0]
[2827,null,null,0,0,null,null,null,null,null,null,0,0,null,null,null,null,null,null,null,1,0,null,null,null,null,null,null,null,null,null,null,null,null,null,null,null,null,null,null,null,null,null,null,null,null,null,null,null,null,null,null,{"$f":"IFERROR(VLOOKUP(W2828,CadMP!$B:$D,2,0),\"\")","v":""},{"$f":"IFERROR(VLOOKUP(X2828,CadMP!$B:$D,2,0),\"\")","v":""},{"$f":"IFERROR(VLOOKUP(Y2828,CadMP!$B:$D,2,0),\"\")","v":""},{"$f":"IFERROR(VLOOKUP(Z2828,CadMP!$B:$D,2,0),\"\")","v":""},{"$f":"IFERROR(VLOOKUP(AA2828,CadMP!$B:$D,2,0),\"\")","v":""},{"$f":"IFERROR(VLOOKUP(AB2828,CadMP!$B:$D,2,0),\"\")","v":""},{"$f":"IFERROR(VLOOKUP(AC2828,CadMP!$B:$D,2,0),\"\")","v":""},{"$f":"IFERROR(VLOOKUP(AD2828,CadMP!$B:$D,2,0),\"\")","v":""},{"$f":"IFERROR(VLOOKUP(AE2828,CadMP!$B:$D,2,0),\"\")","v":""},{"$f":"IFERROR(VLOOKUP(AF2828,CadMP!$B:$D,2,0),\"\")","v":""},{"$f":"IFERROR(VLOOKUP(AG2828,CadMP!$B:$D,2,0),\"\")","v":""},{"$f":"IFERROR(VLOOKUP(AH2828,CadMP!$B:$D,2,0),\"\")","v":""},{"$f":"IFERROR(VLOOKUP(AI2828,CadMP!$B:$D,2,0),\"\")","v":""},{"$f":"IFERROR(VLOOKUP(AJ2828,CadMP!$B:$D,2,0),\"\")","v":""},{"$f":"IFERROR(VLOOKUP(AK2828,CadMP!$B:$D,2,0),\"\")","v":""},{"$f":"IFERROR(VLOOKUP(W2828,CadMP!$B:$D,3,0),\"\")","v":""},{"$f":"IFERROR(VLOOKUP(X2828,CadMP!$B:$D,3,0),\"\")","v":""},{"$f":"IFERROR(VLOOKUP(Y2828,CadMP!$B:$D,3,0),\"\")","v":""},{"$f":"IFERROR(VLOOKUP(Z2828,CadMP!$B:$D,3,0),\"\")","v":""},{"$f":"IFERROR(VLOOKUP(AA2828,CadMP!$B:$D,3,0),\"\")","v":""},{"$f":"IFERROR(VLOOKUP(AB2828,CadMP!$B:$D,3,0),\"\")","v":""},{"$f":"IFERROR(VLOOKUP(AC2828,CadMP!$B:$D,3,0),\"\")","v":""},{"$f":"IFERROR(VLOOKUP(AD2828,CadMP!$B:$D,3,0),\"\")","v":""},{"$f":"IFERROR(VLOOKUP(AE2828,CadMP!$B:$D,3,0),\"\")","v":""},{"$f":"IFERROR(VLOOKUP(AF2828,CadMP!$B:$D,3,0),\"\")","v":""},{"$f":"IFERROR(VLOOKUP(AG2828,CadMP!$B:$D,3,0),\"\")","v":""},{"$f":"IFERROR(VLOOKUP(AH2828,CadMP!$B:$D,3,0),\"\")","v":""},{"$f":"IFERROR(VLOOKUP(AI2828,CadMP!$B:$D,3,0),\"\")","v":""},{"$f":"IFERROR(VLOOKUP(AJ2828,CadMP!$B:$D,3,0),\"\")","v":""},{"$f":"IFERROR(VLOOKUP(AK2828,CadMP!$B:$D,3,0),\"\")","v":""},0,0,0,0,0,0,0,0,0,0,0,0,0,0,0]
[2846,null,null,0,0,null,null,null,null,null,null,0,0,null,null,null,null,null,null,null,1,0,null,null,null,null,null,null,null,null,null,null,null,null,null,null,null,null,null,null,null,null,null,null,null,null,null,null,null,null,null,null,{"$f":"IFERROR(VLOOKUP(W2847,CadMP!$B:$D,2,0),\"\")","v":""},{"$f":"IFERROR(VLOOKUP(X2847,CadMP!$B:$D,2,0),\"\")","v":""},{"$f":"IFERROR(VLOOKUP(Y2847,CadMP!$B:$D,2,0),\"\")","v":""},{"$f":"IFERROR(VLOOKUP(Z2847,CadMP!$B:$D,2,0),\"\")","v":""},{"$f":"IFERROR(VLOOKUP(AA2847,CadMP!$B:$D,2,0),\"\")","v":""},{"$f":"IFERROR(VLOOKUP(AB2847,CadMP!$B:$D,2,0),\"\")","v":""},{"$f":"IFERROR(VLOOKUP(AC2847,CadMP!$B:$D,2,0),\"\")","v":""},{"$f":"IFERROR(VLOOKUP(AD2847,CadMP!$B:$D,2,0),\"\")","v":""},{"$f":"IFERROR(VLOOKUP(AE2847,CadMP!$B:$D,2,0),\"\")","v":""},{"$f":"IFERROR(VLOOKUP(AF2847,CadMP!$B:$D,2,0),\"\")","v":""},{"$f":"IFERROR(VLOOKUP(AG2847,CadMP!$B:$D,2,0),\"\")","v":""},{"$f":"IFERROR(VLOOKUP(AH2847,CadMP!$B:$D,2,0),\"\")","v":""},{"$f":"IFERROR(VLOOKUP(AI2847,CadMP!$B:$D,2,0),\"\")","v":""},{"$f":"IFERROR(VLOOKUP(AJ2847,CadMP!$B:$D,2,0),\"\")","v":""},{"$f":"IFERROR(VLOOKUP(AK2847,CadMP!$B:$D,2,0),\"\")","v":""},{"$f":"IFERROR(VLOOKUP(W2847,CadMP!$B:$D,3,0),\"\")","v":""},{"$f":"IFERROR(VLOOKUP(X2847,CadMP!$B:$D,3,0),\"\")","v":""},{"$f":"IFERROR(VLOOKUP(Y2847,CadMP!$B:$D,3,0),\"\")","v":""},{"$f":"IFERROR(VLOOKUP(Z2847,CadMP!$B:$D,3,0),\"\")","v":""},{"$f":"IFERROR(VLOOKUP(AA2847,CadMP!$B:$D,3,0),\"\")","v":""},{"$f":"IFERROR(VLOOKUP(AB2847,CadMP!$B:$D,3,0),\"\")","v":""},{"$f":"IFERROR(VLOOKUP(AC2847,CadMP!$B:$D,3,0),\"\")","v":""},{"$f":"IFERROR(VLOOKUP(AD2847,CadMP!$B:$D,3,0),\"\")","v":""},{"$f":"IFERROR(VLOOKUP(AE2847,CadMP!$B:$D,3,0),\"\")","v":""},{"$f":"IFERROR(VLOOKUP(AF2847,CadMP!$B:$D,3,0),\"\")","v":""},{"$f":"IFERROR(VLOOKUP(AG2847,CadMP!$B:$D,3,0),\"\")","v":""},{"$f":"IFERROR(VLOOKUP(AH2847,CadMP!$B:$D,3,0),\"\")","v":""},{"$f":"IFERROR(VLOOKUP(AI2847,CadMP!$B:$D,3,0),\"\")","v":""},{"$f":"IFERROR(VLOOKUP(AJ2847,CadMP!$B:$D,3,0),\"\")","v":""},{"$f":"IFERROR(VLOOKUP(AK2847,CadMP!$B:$D,3,0),\"\")","v":""},0,0,0,0,0,0,0,0,0,0,0,0,0,0,0]
[2871,null,null,0,0,null,null,null,null,null,null,0,0,null,null,null,null,null,null,null,1,0,null,null,null,null,null,null,null,null,null,null,null,null,null,null,null,null,null,null,null,null,null,null,null,null,null,null,null,null,null,null,{"$f":"IFERROR(VLOOKUP(W2872,CadMP!$B:$D,2,0),\"\")","v":""},{"$f":"IFERROR(VLOOKUP(X2872,CadMP!$B:$D,2,0),\"\")","v":""},{"$f":"IFERROR(VLOOKUP(Y2872,CadMP!$B:$D,2,0),\"\")","v":""},{"$f":"IFERROR(VLOOKUP(Z2872,CadMP!$B:$D,2,0),\"\")","v":""},{"$f":"IFERROR(VLOOKUP(AA2872,CadMP!$B:$D,2,0),\"\")","v":""},{"$f":"IFERROR(VLOOKUP(AB2872,CadMP!$B:$D,2,0),\"\")","v":""},{"$f":"IFERROR(VLOOKUP(AC2872,CadMP!$B:$D,2,0),\"\")","v":""},{"$f":"IFERROR(VLOOKUP(AD2872,CadMP!$B:$D,2,0),\"\")","v":""},{"$f":"IFERROR(VLOOKUP(AE2872,CadMP!$B:$D,2,0),\"\")","v":""},{"$f":"IFERROR(VLOOKUP(AF2872,CadMP!$B:$D,2,0),\"\")","v":""},{"$f":"IFERROR(VLOOKUP(AG2872,CadMP!$B:$D,2,0),\"\")","v":""},{"$f":"IFERROR(VLOOKUP(AH2872,CadMP!$B:$D,2,0),\"\")","v":""},{"$f":"IFERROR(VLOOKUP(AI2872,CadMP!$B:$D,2,0),\"\")","v":""},{"$f":"IFERROR(VLOOKUP(AJ2872,CadMP!$B:$D,2,0),\"\")","v":""},{"$f":"IFERROR(VLOOKUP(AK2872,CadMP!$B:$D,2,0),\"\")","v":""},{"$f":"IFERROR(VLOOKUP(W2872,CadMP!$B:$D,3,0),\"\")","v":""},{"$f":"IFERROR(VLOOKUP(X2872,CadMP!$B:$D,3,0),\"\")","v":""},{"$f":"IFERROR(VLOOKUP(Y2872,CadMP!$B:$D,3,0),\"\")","v":""},{"$f":"IFERROR(VLOOKUP(Z2872,CadMP!$B:$D,3,0),\"\")","v":""},{"$f":"IFERROR(VLOOKUP(AA2872,CadMP!$B:$D,3,0),\"\")","v":""},{"$f":"IFERROR(VLOOKUP(AB2872,CadMP!$B:$D,3,0),\"\")","v":""},{"$f":"IFERROR(VLOOKUP(AC2872,CadMP!$B:$D,3,0),\"\")","v":""},{"$f":"IFERROR(VLOOKUP(AD2872,CadMP!$B:$D,3,0),\"\")","v":""},{"$f":"IFERROR(VLOOKUP(AE2872,CadMP!$B:$D,3,0),\"\")","v":""},{"$f":"IFERROR(VLOOKUP(AF2872,CadMP!$B:$D,3,0),\"\")","v":""},{"$f":"IFERROR(VLOOKUP(AG2872,CadMP!$B:$D,3,0),\"\")","v":""},{"$f":"IFERROR(VLOOKUP(AH2872,CadMP!$B:$D,3,0),\"\")","v":""},{"$f":"IFERROR(VLOOKUP(AI2872,CadMP!$B:$D,3,0),\"\")","v":""},{"$f":"IFERROR(VLOOKUP(AJ2872,CadMP!$B:$D,3,0),\"\")","v":""},{"$f":"IFERROR(VLOOKUP(AK2872,CadMP!$B:$D,3,0),\"\")","v":""},0,0,0,0,0,0,0,0,0,0,0,0,0,0,0]
[2890,null,null,0,0,null,null,null,null,null,null,0,0,null,null,null,null,null,null,null,1,0,null,null,null,null,null,null,null,null,null,null,null,null,null,null,null,null,null,null,null,null,null,null,null,null,null,null,null,null,null,null,{"$f":"IFERROR(VLOOKUP(W2891,CadMP!$B:$D,2,0),\"\")","v":""},{"$f":"IFERROR(VLOOKUP(X2891,CadMP!$B:$D,2,0),\"\")","v":""},{"$f":"IFERROR(VLOOKUP(Y2891,CadMP!$B:$D,2,0),\"\")","v":""},{"$f":"IFERROR(VLOOKUP(Z2891,CadMP!$B:$D,2,0),\"\")","v":""},{"$f":"IFERROR(VLOOKUP(AA2891,CadMP!$B:$D,2,0),\"\")","v":""},{"$f":"IFERROR(VLOOKUP(AB2891,CadMP!$B:$D,2,0),\"\")","v":""},{"$f":"IFERROR(VLOOKUP(AC2891,CadMP!$B:$D,2,0),\"\")","v":""},{"$f":"IFERROR(VLOOKUP(AD2891,CadMP!$B:$D,2,0),\"\")","v":""},{"$f":"IFERROR(VLOOKUP(AE2891,CadMP!$B:$D,2,0),\"\")","v":""},{"$f":"IFERROR(VLOOKUP(AF2891,CadMP!$B:$D,2,0),\"\")","v":""},{"$f":"IFERROR(VLOOKUP(AG2891,CadMP!$B:$D,2,0),\"\")","v":""},{"$f":"IFERROR(VLOOKUP(AH2891,CadMP!$B:$D,2,0),\"\")","v":""},{"$f":"IFERROR(VLOOKUP(AI2891,CadMP!$B:$D,2,0),\"\")","v":""},{"$f":"IFERROR(VLOOKUP(AJ2891,CadMP!$B:$D,2,0),\"\")","v":""},{"$f":"IFERROR(VLOOKUP(AK2891,CadMP!$B:$D,2,0),\"\")","v":""},{"$f":"IFERROR(VLOOKUP(W2891,CadMP!$B:$D,3,0),\"\")","v":""},{"$f":"IFERROR(VLOOKUP(X2891,CadMP!$B:$D,3,0),\"\")","v":""},{"$f":"IFERROR(VLOOKUP(Y2891,CadMP!$B:$D,3,0),\"\")","v":""},{"$f":"IFERROR(VLOOKUP(Z2891,CadMP!$B:$D,3,0),\"\")","v":""},{"$f":"IFERROR(VLOOKUP(AA2891,CadMP!$B:$D,3,0),\"\")","v":""},{"$f":"IFERROR(VLOOKUP(AB2891,CadMP!$B:$D,3,0),\"\")","v":""},{"$f":"IFERROR(VLOOKUP(AC2891,CadMP!$B:$D,3,0),\"\")","v":""},{"$f":"IFERROR(VLOOKUP(AD2891,CadMP!$B:$D,3,0),\"\")","v":""},{"$f":"IFERROR(VLOOKUP(AE2891,CadMP!$B:$D,3,0),\"\")","v":""},{"$f":"IFERROR(VLOOKUP(AF2891,CadMP!$B:$D,3,0),\"\")","v":""},{"$f":"IFERROR(VLOOKUP(AG2891,CadMP!$B:$D,3,0),\"\")","v":""},{"$f":"IFERROR(VLOOKUP(AH2891,CadMP!$B:$D,3,0),\"\")","v":""},{"$f":"IFERROR(VLOOKUP(AI2891,CadMP!$B:$D,3,0),\"\")","v":""},{"$f":"IFERROR(VLOOKUP(AJ2891,CadMP!$B:$D,3,0),\"\")","v":""},{"$f":"IFERROR(VLOOKUP(AK2891,CadMP!$B:$D,3,0),\"\")","v":""},0,0,0,0,0,0,0,0,0,0,0,0,0,0,0]
[2900,null,null,0,0,null,null,null,null,null,null,0,0,null,null,null,null,null,null,null,1,0,null,null,null,null,null,null,null,null,null,null,null,null,null,null,null,null,null,null,null,null,null,null,null,null,null,null,null,null,null,null,{"$f":"IFERROR(VLOOKUP(W2901,CadMP!$B:$D,2,0),\"\")","v":""},{"$f":"IFERROR(VLOOKUP(X2901,CadMP!$B:$D,2,0),\"\")","v":""},{"$f":"IFERROR(VLOOKUP(Y2901,CadMP!$B:$D,2,0),\"\")","v":""},{"$f":"IFERROR(VLOOKUP(Z2901,CadMP!$B:$D,2,0),\"\")","v":""},{"$f":"IFERROR(VLOOKUP(AA2901,CadMP!$B:$D,2,0),\"\")","v":""},{"$f":"IFERROR(VLOOKUP(AB2901,CadMP!$B:$D,2,0),\"\")","v":""},{"$f":"IFERROR(VLOOKUP(AC2901,CadMP!$B:$D,2,0),\"\")","v":""},{"$f":"IFERROR(VLOOKUP(AD2901,CadMP!$B:$D,2,0),\"\")","v":""},{"$f":"IFERROR(VLOOKUP(AE2901,CadMP!$B:$D,2,0),\"\")","v":""},{"$f":"IFERROR(VLOOKUP(AF2901,CadMP!$B:$D,2,0),\"\")","v":""},{"$f":"IFERROR(VLOOKUP(AG2901,CadMP!$B:$D,2,0),\"\")","v":""},{"$f":"IFERROR(VLOOKUP(AH2901,CadMP!$B:$D,2,0),\"\")","v":""},{"$f":"IFERROR(VLOOKUP(AI2901,CadMP!$B:$D,2,0),\"\")","v":""},{"$f":"IFERROR(VLOOKUP(AJ2901,CadMP!$B:$D,2,0),\"\")","v":""},{"$f":"IFERROR(VLOOKUP(AK2901,CadMP!$B:$D,2,0),\"\")","v":""},{"$f":"IFERROR(VLOOKUP(W2901,CadMP!$B:$D,3,0),\"\")","v":""},{"$f":"IFERROR(VLOOKUP(X2901,CadMP!$B:$D,3,0),\"\")","v":""},{"$f":"IFERROR(VLOOKUP(Y2901,CadMP!$B:$D,3,0),\"\")","v":""},{"$f":"IFERROR(VLOOKUP(Z2901,CadMP!$B:$D,3,0),\"\")","v":""},{"$f":"IFERROR(VLOOKUP(AA2901,CadMP!$B:$D,3,0),\"\")","v":""},{"$f":"IFERROR(VLOOKUP(AB2901,CadMP!$B:$D,3,0),\"\")","v":""},{"$f":"IFERROR(VLOOKUP(AC2901,CadMP!$B:$D,3,0),\"\")","v":""},{"$f":"IFERROR(VLOOKUP(AD2901,CadMP!$B:$D,3,0),\"\")","v":""},{"$f":"IFERROR(VLOOKUP(AE2901,CadMP!$B:$D,3,0),\"\")","v":""},{"$f":"IFERROR(VLOOKUP(AF2901,CadMP!$B:$D,3,0),\"\")","v":""},{"$f":"IFERROR(VLOOKUP(AG2901,CadMP!$B:$D,3,0),\"\")","v":""},{"$f":"IFERROR(VLOOKUP(AH2901,CadMP!$B:$D,3,0),\"\")","v":""},{"$f":"IFERROR(VLOOKUP(AI2901,CadMP!$B:$D,3,0),\"\")","v":""},{"$f":"IFERROR(VLOOKUP(AJ2901,CadMP!$B:$D,3,0),\"\")","v":""},{"$f":"IFERROR(VLOOKUP(AK2901,CadMP!$B:$D,3,0),\"\")","v":""},0,0,0,0,0,0,0,0,0,0,0,0,0,0,0]
[2914,null,null,0,0,null,null,null,null,null,null,0,0,null,null,null,null,null,null,null,1,0,null,null,null,null,null,null,null,null,null,null,null,null,null,null,null,null,null,null,null,null,null,null,null,null,null,null,null,null,null,null,{"$f":"IFERROR(VLOOKUP(W2915,CadMP!$B:$D,2,0),\"\")","v":""},{"$f":"IFERROR(VLOOKUP(X2915,CadMP!$B:$D,2,0),\"\")","v":""},{"$f":"IFERROR(VLOOKUP(Y2915,CadMP!$B:$D,2,0),\"\")","v":""},{"$f":"IFERROR(VLOOKUP(Z2915,CadMP!$B:$D,2,0),\"\")","v":""},{"$f":"IFERROR(VLOOKUP(AA2915,CadMP!$B:$D,2,0),\"\")","v":""},{"$f":"IFERROR(VLOOKUP(AB2915,CadMP!$B:$D,2,0),\"\")","v":""},{"$f":"IFERROR(VLOOKUP(AC2915,CadMP!$B:$D,2,0),\"\")","v":""},{"$f":"IFERROR(VLOOKUP(AD2915,CadMP!$B:$D,2,0),\"\")","v":""},{"$f":"IFERROR(VLOOKUP(AE2915,CadMP!$B:$D,2,0),\"\")","v":""},{"$f":"IFERROR(VLOOKUP(AF2915,CadMP!$B:$D,2,0),\"\")","v":""},{"$f":"IFERROR(VLOOKUP(AG2915,CadMP!$B:$D,2,0),\"\")","v":""},{"$f":"IFERROR(VLOOKUP(AH2915,CadMP!$B:$D,2,0),\"\")","v":""},{"$f":"IFERROR(VLOOKUP(AI2915,CadMP!$B:$D,2,0),\"\")","v":""},{"$f":"IFERROR(VLOOKUP(AJ2915,CadMP!$B:$D,2,0),\"\")","v":""},{"$f":"IFERROR(VLOOKUP(AK2915,CadMP!$B:$D,2,0),\"\")","v":""},{"$f":"IFERROR(VLOOKUP(W2915,CadMP!$B:$D,3,0),\"\")","v":""},{"$f":"IFERROR(VLOOKUP(X2915,CadMP!$B:$D,3,0),\"\")","v":""},{"$f":"IFERROR(VLOOKUP(Y2915,CadMP!$B:$D,3,0),\"\")","v":""},{"$f":"IFERROR(VLOOKUP(Z2915,CadMP!$B:$D,3,0),\"\")","v":""},{"$f":"IFERROR(VLOOKUP(AA2915,CadMP!$B:$D,3,0),\"\")","v":""},{"$f":"IFERROR(VLOOKUP(AB2915,CadMP!$B:$D,3,0),\"\")","v":""},{"$f":"IFERROR(VLOOKUP(AC2915,CadMP!$B:$D,3,0),\"\")","v":""},{"$f":"IFERROR(VLOOKUP(AD2915,CadMP!$B:$D,3,0),\"\")","v":""},{"$f":"IFERROR(VLOOKUP(AE2915,CadMP!$B:$D,3,0),\"\")","v":""},{"$f":"IFERROR(VLOOKUP(AF2915,CadMP!$B:$D,3,0),\"\")","v":""},{"$f":"IFERROR(VLOOKUP(AG2915,CadMP!$B:$D,3,0),\"\")","v":""},{"$f":"IFERROR(VLOOKUP(AH2915,CadMP!$B:$D,3,0),\"\")","v":""},{"$f":"IFERROR(VLOOKUP(AI2915,CadMP!$B:$D,3,0),\"\")","v":""},{"$f":"IFERROR(VLOOKUP(AJ2915,CadMP!$B:$D,3,0),\"\")","v":""},{"$f":"IFERROR(VLOOKUP(AK2915,CadMP!$B:$D,3,0),\"\")","v":""},0,0,0,0,0,0,0,0,0,0,0,0,0,0,0]
[2933,null,null,0,0,null,null,null,null,null,null,0,0,null,null,null,null,null,null,null,1,0,null,null,null,null,null,null,null,null,null,null,null,null,null,null,null,null,null,null,null,null,null,null,null,null,null,null,null,null,null,null,{"$f":"IFERROR(VLOOKUP(W2934,CadMP!$B:$D,2,0),\"\")","v":""},{"$f":"IFERROR(VLOOKUP(X2934,CadMP!$B:$D,2,0),\"\")","v":""},{"$f":"IFERROR(VLOOKUP(Y2934,CadMP!$B:$D,2,0),\"\")","v":""},{"$f":"IFERROR(VLOOKUP(Z2934,CadMP!$B:$D,2,0),\"\")","v":""},{"$f":"IFERROR(VLOOKUP(AA2934,CadMP!$B:$D,2,0),\"\")","v":""},{"$f":"IFERROR(VLOOKUP(AB2934,CadMP!$B:$D,2,0),\"\")","v":""},{"$f":"IFERROR(VLOOKUP(AC2934,CadMP!$B:$D,2,0),\"\")","v":""},{"$f":"IFERROR(VLOOKUP(AD2934,CadMP!$B:$D,2,0),\"\")","v":""},{"$f":"IFERROR(VLOOKUP(AE2934,CadMP!$B:$D,2,0),\"\")","v":""},{"$f":"IFERROR(VLOOKUP(AF2934,CadMP!$B:$D,2,0),\"\")","v":""},{"$f":"IFERROR(VLOOKUP(AG2934,CadMP!$B:$D,2,0),\"\")","v":""},{"$f":"IFERROR(VLOOKUP(AH2934,CadMP!$B:$D,2,0),\"\")","v":""},{"$f":"IFERROR(VLOOKUP(AI2934,CadMP!$B:$D,2,0),\"\")","v":""},{"$f":"IFERROR(VLOOKUP(AJ2934,CadMP!$B:$D,2,0),\"\")","v":""},{"$f":"IFERROR(VLOOKUP(AK2934,CadMP!$B:$D,2,0),\"\")","v":""},{"$f":"IFERROR(VLOOKUP(W2934,CadMP!$B:$D,3,0),\"\")","v":""},{"$f":"IFERROR(VLOOKUP(X2934,CadMP!$B:$D,3,0),\"\")","v":""},{"$f":"IFERROR(VLOOKUP(Y2934,CadMP!$B:$D,3,0),\"\")","v":""},{"$f":"IFERROR(VLOOKUP(Z2934,CadMP!$B:$D,3,0),\"\")","v":""},{"$f":"IFERROR(VLOOKUP(AA2934,CadMP!$B:$D,3,0),\"\")","v":""},{"$f":"IFERROR(VLOOKUP(AB2934,CadMP!$B:$D,3,0),\"\")","v":""},{"$f":"IFERROR(VLOOKUP(AC2934,CadMP!$B:$D,3,0),\"\")","v":""},{"$f":"IFERROR(VLOOKUP(AD2934,CadMP!$B:$D,3,0),\"\")","v":""},{"$f":"IFERROR(VLOOKUP(AE2934,CadMP!$B:$D,3,0),\"\")","v":""},{"$f":"IFERROR(VLOOKUP(AF2934,CadMP!$B:$D,3,0),\"\")","v":""},{"$f":"IFERROR(VLOOKUP(AG2934,CadMP!$B:$D,3,0),\"\")","v":""},{"$f":"IFERROR(VLOOKUP(AH2934,CadMP!$B:$D,3,0),\"\")","v":""},{"$f":"IFERROR(VLOOKUP(AI2934,CadMP!$B:$D,3,0),\"\")","v":""},{"$f":"IFERROR(VLOOKUP(AJ2934,CadMP!$B:$D,3,0),\"\")","v":""},{"$f":"IFERROR(VLOOKUP(AK2934,CadMP!$B:$D,3,0),\"\")","v":""},0,0,0,0,0,0,0,0,0,0,0,0,0,0,0]
[2958,null,null,0,0,null,null,null,null,null,null,0,0,null,null,null,null,null,null,null,1,0,null,null,null,null,null,null,null,null,null,null,null,null,null,null,null,null,null,null,null,null,null,null,null,null,null,null,null,null,null,null,{"$f":"IFERROR(VLOOKUP(W2959,CadMP!$B:$D,2,0),\"\")","v":""},{"$f":"IFERROR(VLOOKUP(X2959,CadMP!$B:$D,2,0),\"\")","v":""},{"$f":"IFERROR(VLOOKUP(Y2959,CadMP!$B:$D,2,0),\"\")","v":""},{"$f":"IFERROR(VLOOKUP(Z2959,CadMP!$B:$D,2,0),\"\")","v":""},{"$f":"IFERROR(VLOOKUP(AA2959,CadMP!$B:$D,2,0),\"\")","v":""},{"$f":"IFERROR(VLOOKUP(AB2959,CadMP!$B:$D,2,0),\"\")","v":""},{"$f":"IFERROR(VLOOKUP(AC2959,CadMP!$B:$D,2,0),\"\")","v":""},{"$f":"IFERROR(VLOOKUP(AD2959,CadMP!$B:$D,2,0),\"\")","v":""},{"$f":"IFERROR(VLOOKUP(AE2959,CadMP!$B:$D,2,0),\"\")","v":""},{"$f":"IFERROR(VLOOKUP(AF2959,CadMP!$B:$D,2,0),\"\")","v":""},{"$f":"IFERROR(VLOOKUP(AG2959,CadMP!$B:$D,2,0),\"\")","v":""},{"$f":"IFERROR(VLOOKUP(AH2959,CadMP!$B:$D,2,0),\"\")","v":""},{"$f":"IFERROR(VLOOKUP(AI2959,CadMP!$B:$D,2,0),\"\")","v":""},{"$f":"IFERROR(VLOOKUP(AJ2959,CadMP!$B:$D,2,0),\"\")","v":""},{"$f":"IFERROR(VLOOKUP(AK2959,CadMP!$B:$D,2,0),\"\")","v":""},{"$f":"IFERROR(VLOOKUP(W2959,CadMP!$B:$D,3,0),\"\")","v":""},{"$f":"IFERROR(VLOOKUP(X2959,CadMP!$B:$D,3,0),\"\")","v":""},{"$f":"IFERROR(VLOOKUP(Y2959,CadMP!$B:$D,3,0),\"\")","v":""},{"$f":"IFERROR(VLOOKUP(Z2959,CadMP!$B:$D,3,0),\"\")","v":""},{"$f":"IFERROR(VLOOKUP(AA2959,CadMP!$B:$D,3,0),\"\")","v":""},{"$f":"IFERROR(VLOOKUP(AB2959,CadMP!$B:$D,3,0),\"\")","v":""},{"$f":"IFERROR(VLOOKUP(AC2959,CadMP!$B:$D,3,0),\"\")","v":""},{"$f":"IFERROR(VLOOKUP(AD2959,CadMP!$B:$D,3,0),\"\")","v":""},{"$f":"IFERROR(VLOOKUP(AE2959,CadMP!$B:$D,3,0),\"\")","v":""},{"$f":"IFERROR(VLOOKUP(AF2959,CadMP!$B:$D,3,0),\"\")","v":""},{"$f":"IFERROR(VLOOKUP(AG2959,CadMP!$B:$D,3,0),\"\")","v":""},{"$f":"IFERROR(VLOOKUP(AH2959,CadMP!$B:$D,3,0),\"\")","v":""},{"$f":"IFERROR(VLOOKUP(AI2959,CadMP!$B:$D,3,0),\"\")","v":""},{"$f":"IFERROR(VLOOKUP(AJ2959,CadMP!$B:$D,3,0),\"\")","v":""},{"$f":"IFERROR(VLOOKUP(AK2959,CadMP!$B:$D,3,0),\"\")","v":""},0,0,0,0,0,0,0,0,0,0,0,0,0,0,0]
[2977,null,null,0,0,null,null,null,null,null,null,0,0,null,null,null,null,null,null,null,1,0,null,null,null,null,null,null,null,null,null,null,null,null,null,null,null,null,null,null,null,null,null,null,null,null,null,null,null,null,null,null,{"$f":"IFERROR(VLOOKUP(W2978,CadMP!$B:$D,2,0),\"\")","v":""},{"$f":"IFERROR(VLOOKUP(X2978,CadMP!$B:$D,2,0),\"\")","v":""},{"$f":"IFERROR(VLOOKUP(Y2978,CadMP!$B:$D,2,0),\"\")","v":""},{"$f":"IFERROR(VLOOKUP(Z2978,CadMP!$B:$D,2,0),\"\")","v":""},{"$f":"IFERROR(VLOOKUP(AA2978,CadMP!$B:$D,2,0),\"\")","v":""},{"$f":"IFERROR(VLOOKUP(AB2978,CadMP!$B:$D,2,0),\"\")","v":""},{"$f":"IFERROR(VLOOKUP(AC2978,CadMP!$B:$D,2,0),\"\")","v":""},{"$f":"IFERROR(VLOOKUP(AD2978,CadMP!$B:$D,2,0),\"\")","v":""},{"$f":"IFERROR(VLOOKUP(AE2978,CadMP!$B:$D,2,0),\"\")","v":""},{"$f":"IFERROR(VLOOKUP(AF2978,CadMP!$B:$D,2,0),\"\")","v":""},{"$f":"IFERROR(VLOOKUP(AG2978,CadMP!$B:$D,2,0),\"\")","v":""},{"$f":"IFERROR(VLOOKUP(AH2978,CadMP!$B:$D,2,0),\"\")","v":""},{"$f":"IFERROR(VLOOKUP(AI2978,CadMP!$B:$D,2,0),\"\")","v":""},{"$f":"IFERROR(VLOOKUP(AJ2978,CadMP!$B:$D,2,0),\"\")","v":""},{"$f":"IFERROR(VLOOKUP(AK2978,CadMP!$B:$D,2,0),\"\")","v":""},{"$f":"IFERROR(VLOOKUP(W2978,CadMP!$B:$D,3,0),\"\")","v":""},{"$f":"IFERROR(VLOOKUP(X2978,CadMP!$B:$D,3,0),\"\")","v":""},{"$f":"IFERROR(VLOOKUP(Y2978,CadMP!$B:$D,3,0),\"\")","v":""},{"$f":"IFERROR(VLOOKUP(Z2978,CadMP!$B:$D,3,0),\"\")","v":""},{"$f":"IFERROR(VLOOKUP(AA2978,CadMP!$B:$D,3,0),\"\")","v":""},{"$f":"IFERROR(VLOOKUP(AB2978,CadMP!$B:$D,3,0),\"\")","v":""},{"$f":"IFERROR(VLOOKUP(AC2978,CadMP!$B:$D,3,0),\"\")","v":""},{"$f":"IFERROR(VLOOKUP(AD2978,CadMP!$B:$D,3,0),\"\")","v":""},{"$f":"IFERROR(VLOOKUP(AE2978,CadMP!$B:$D,3,0),\"\")","v":""},{"$f":"IFERROR(VLOOKUP(AF2978,CadMP!$B:$D,3,0),\"\")","v":""},{"$f":"IFERROR(VLOOKUP(AG2978,CadMP!$B:$D,3,0),\"\")","v":""},{"$f":"IFERROR(VLOOKUP(AH2978,CadMP!$B:$D,3,0),\"\")","v":""},{"$f":"IFERROR(VLOOKUP(AI2978,CadMP!$B:$D,3,0),\"\")","v":""},{"$f":"IFERROR(VLOOKUP(AJ2978,CadMP!$B:$D,3,0),\"\")","v":""},{"$f":"IFERROR(VLOOKUP(AK2978,CadMP!$B:$D,3,0),\"\")","v":""},0,0,0,0,0,0,0,0,0,0,0,0,0,0,0]
[2995,null,null,0,0,null,null,null,null,null,null,0,0,null,null,null,null,null,null,null,1,0,null,null,null,null,null,null,null,null,null,null,null,null,null,null,null,null,null,null,null,null,null,null,null,null,null,null,null,null,null,null,{"$f":"IFERROR(VLOOKUP(W2996,CadMP!$B:$D,2,0),\"\")","v":""},{"$f":"IFERROR(VLOOKUP(X2996,CadMP!$B:$D,2,0),\"\")","v":""},{"$f":"IFERROR(VLOOKUP(Y2996,CadMP!$B:$D,2,0),\"\")","v":""},{"$f":"IFERROR(VLOOKUP(Z2996,CadMP!$B:$D,2,0),\"\")","v":""},{"$f":"IFERROR(VLOOKUP(AA2996,CadMP!$B:$D,2,0),\"\")","v":""},{"$f":"IFERROR(VLOOKUP(AB2996,CadMP!$B:$D,2,0),\"\")","v":""},{"$f":"IFERROR(VLOOKUP(AC2996,CadMP!$B:$D,2,0),\"\")","v":""},{"$f":"IFERROR(VLOOKUP(AD2996,CadMP!$B:$D,2,0),\"\")","v":""},{"$f":"IFERROR(VLOOKUP(AE2996,CadMP!$B:$D,2,0),\"\")","v":""},{"$f":"IFERROR(VLOOKUP(AF2996,CadMP!$B:$D,2,0),\"\")","v":""},{"$f":"IFERROR(VLOOKUP(AG2996,CadMP!$B:$D,2,0),\"\")","v":""},{"$f":"IFERROR(VLOOKUP(AH2996,CadMP!$B:$D,2,0),\"\")","v":""},{"$f":"IFERROR(VLOOKUP(AI2996,CadMP!$B:$D,2,0),\"\")","v":""},{"$f":"IFERROR(VLOOKUP(AJ2996,CadMP!$B:$D,2,0),\"\")","v":""},{"$f":"IFERROR(VLOOKUP(AK2996,CadMP!$B:$D,2,0),\"\")","v":""},{"$f":"IFERROR(VLOOKUP(W2996,CadMP!$B:$D,3,0),\"\")","v":""},{"$f":"IFERROR(VLOOKUP(X2996,CadMP!$B:$D,3,0),\"\")","v":""},{"$f":"IFERROR(VLOOKUP(Y2996,CadMP!$B:$D,3,0),\"\")","v":""},{"$f":"IFERROR(VLOOKUP(Z2996,CadMP!$B:$D,3,0),\"\")","v":""},{"$f":"IFERROR(VLOOKUP(AA2996,CadMP!$B:$D,3,0),\"\")","v":""},{"$f":"IFERROR(VLOOKUP(AB2996,CadMP!$B:$D,3,0),\"\")","v":""},{"$f":"IFERROR(VLOOKUP(AC2996,CadMP!$B:$D,3,0),\"\")","v":""},{"$f":"IFERROR(VLOOKUP(AD2996,CadMP!$B:$D,3,0),\"\")","v":""},{"$f":"IFERROR(VLOOKUP(AE2996,CadMP!$B:$D,3,0),\"\")","v":""},{"$f":"IFERROR(VLOOKUP(AF2996,CadMP!$B:$D,3,0),\"\")","v":""},{"$f":"IFERROR(VLOOKUP(AG2996,CadMP!$B:$D,3,0),\"\")","v":""},{"$f":"IFERROR(VLOOKUP(AH2996,CadMP!$B:$D,3,0),\"\")","v":""},{"$f":"IFERROR(VLOOKUP(AI2996,CadMP!$B:$D,3,0),\"\")","v":""},{"$f":"IFERROR(VLOOKUP(AJ2996,CadMP!$B:$D,3,0),\"\")","v":""},{"$f":"IFERROR(VLOOKUP(AK2996,CadMP!$B:$D,3,0),\"\")","v":""},0,0,0,0,0,0,0,0,0,0,0,0,0,0,0]
[3020,null,null,0,0,null,null,null,null,null,null,0,0,null,null,null,null,null,null,null,1,0,null,null,null,null,null,null,null,null,null,null,null,null,null,null,null,null,null,null,null,null,null,null,null,null,null,null,null,null,null,null,{"$f":"IFERROR(VLOOKUP(W3021,CadMP!$B:$D,2,0),\"\")","v":""},{"$f":"IFERROR(VLOOKUP(X3021,CadMP!$B:$D,2,0),\"\")","v":""},{"$f":"IFERROR(VLOOKUP(Y3021,CadMP!$B:$D,2,0),\"\")","v":""},{"$f":"IFERROR(VLOOKUP(Z3021,CadMP!$B:$D,2,0),\"\")","v":""},{"$f":"IFERROR(VLOOKUP(AA3021,CadMP!$B:$D,2,0),\"\")","v":""},{"$f":"IFERROR(VLOOKUP(AB3021,CadMP!$B:$D,2,0),\"\")","v":""},{"$f":"IFERROR(VLOOKUP(AC3021,CadMP!$B:$D,2,0),\"\")","v":""},{"$f":"IFERROR(VLOOKUP(AD3021,CadMP!$B:$D,2,0),\"\")","v":""},{"$f":"IFERROR(VLOOKUP(AE3021,CadMP!$B:$D,2,0),\"\")","v":""},{"$f":"IFERROR(VLOOKUP(AF3021,CadMP!$B:$D,2,0),\"\")","v":""},{"$f":"IFERROR(VLOOKUP(AG3021,CadMP!$B:$D,2,0),\"\")","v":""},{"$f":"IFERROR(VLOOKUP(AH3021,CadMP!$B:$D,2,0),\"\")","v":""},{"$f":"IFERROR(VLOOKUP(AI3021,CadMP!$B:$D,2,0),\"\")","v":""},{"$f":"IFERROR(VLOOKUP(AJ3021,CadMP!$B:$D,2,0),\"\")","v":""},{"$f":"IFERROR(VLOOKUP(AK3021,CadMP!$B:$D,2,0),\"\")","v":""},{"$f":"IFERROR(VLOOKUP(W3021,CadMP!$B:$D,3,0),\"\")","v":""},{"$f":"IFERROR(VLOOKUP(X3021,CadMP!$B:$D,3,0),\"\")","v":""},{"$f":"IFERROR(VLOOKUP(Y3021,CadMP!$B:$D,3,0),\"\")","v":""},{"$f":"IFERROR(VLOOKUP(Z3021,CadMP!$B:$D,3,0),\"\")","v":""},{"$f":"IFERROR(VLOOKUP(AA3021,CadMP!$B:$D,3,0),\"\")","v":""},{"$f":"IFERROR(VLOOKUP(AB3021,CadMP!$B:$D,3,0),\"\")","v":""},{"$f":"IFERROR(VLOOKUP(AC3021,CadMP!$B:$D,3,0),\"\")","v":""},{"$f":"IFERROR(VLOOKUP(AD3021,CadMP!$B:$D,3,0),\"\")","v":""},{"$f":"IFERROR(VLOOKUP(AE3021,CadMP!$B:$D,3,0),\"\")","v":""},{"$f":"IFERROR(VLOOKUP(AF3021,CadMP!$B:$D,3,0),\"\")","v":""},{"$f":"IFERROR(VLOOKUP(AG3021,CadMP!$B:$D,3,0),\"\")","v":""},{"$f":"IFERROR(VLOOKUP(AH3021,CadMP!$B:$D,3,0),\"\")","v":""},{"$f":"IFERROR(VLOOKUP(AI3021,CadMP!$B:$D,3,0),\"\")","v":""},{"$f":"IFERROR(VLOOKUP(AJ3021,CadMP!$B:$D,3,0),\"\")","v":""},{"$f":"IFERROR(VLOOKUP(AK3021,CadMP!$B:$D,3,0),\"\")","v":""},0,0,0,0,0,0,0,0,0,0,0,0,0,0,0]
[3039,null,null,0,0,null,null,null,null,null,null,0,0,null,null,null,null,null,null,null,1,0,null,null,null,null,null,null,null,null,null,null,null,null,null,null,null,null,null,null,null,null,null,null,null,null,null,null,null,null,null,null,{"$f":"IFERROR(VLOOKUP(W3040,CadMP!$B:$D,2,0),\"\")","v":""},{"$f":"IFERROR(VLOOKUP(X3040,CadMP!$B:$D,2,0),\"\")","v":""},{"$f":"IFERROR(VLOOKUP(Y3040,CadMP!$B:$D,2,0),\"\")","v":""},{"$f":"IFERROR(VLOOKUP(Z3040,CadMP!$B:$D,2,0),\"\")","v":""},{"$f":"IFERROR(VLOOKUP(AA3040,CadMP!$B:$D,2,0),\"\")","v":""},{"$f":"IFERROR(VLOOKUP(AB3040,CadMP!$B:$D,2,0),\"\")","v":""},{"$f":"IFERROR(VLOOKUP(AC3040,CadMP!$B:$D,2,0),\"\")","v":""},{"$f":"IFERROR(VLOOKUP(AD3040,CadMP!$B:$D,2,0),\"\")","v":""},{"$f":"IFERROR(VLOOKUP(AE3040,CadMP!$B:$D,2,0),\"\")","v":""},{"$f":"IFERROR(VLOOKUP(AF3040,CadMP!$B:$D,2,0),\"\")","v":""},{"$f":"IFERROR(VLOOKUP(AG3040,CadMP!$B:$D,2,0),\"\")","v":""},{"$f":"IFERROR(VLOOKUP(AH3040,CadMP!$B:$D,2,0),\"\")","v":""},{"$f":"IFERROR(VLOOKUP(AI3040,CadMP!$B:$D,2,0),\"\")","v":""},{"$f":"IFERROR(VLOOKUP(AJ3040,CadMP!$B:$D,2,0),\"\")","v":""},{"$f":"IFERROR(VLOOKUP(AK3040,CadMP!$B:$D,2,0),\"\")","v":""},{"$f":"IFERROR(VLOOKUP(W3040,CadMP!$B:$D,3,0),\"\")","v":""},{"$f":"IFERROR(VLOOKUP(X3040,CadMP!$B:$D,3,0),\"\")","v":""},{"$f":"IFERROR(VLOOKUP(Y3040,CadMP!$B:$D,3,0),\"\")","v":""},{"$f":"IFERROR(VLOOKUP(Z3040,CadMP!$B:$D,3,0),\"\")","v":""},{"$f":"IFERROR(VLOOKUP(AA3040,CadMP!$B:$D,3,0),\"\")","v":""},{"$f":"IFERROR(VLOOKUP(AB3040,CadMP!$B:$D,3,0),\"\")","v":""},{"$f":"IFERROR(VLOOKUP(AC3040,CadMP!$B:$D,3,0),\"\")","v":""},{"$f":"IFERROR(VLOOKUP(AD3040,CadMP!$B:$D,3,0),\"\")","v":""},{"$f":"IFERROR(VLOOKUP(AE3040,CadMP!$B:$D,3,0),\"\")","v":""},{"$f":"IFERROR(VLOOKUP(AF3040,CadMP!$B:$D,3,0),\"\")","v":""},{"$f":"IFERROR(VLOOKUP(AG3040,CadMP!$B:$D,3,0),\"\")","v":""},{"$f":"IFERROR(VLOOKUP(AH3040,CadMP!$B:$D,3,0),\"\")","v":""},{"$f":"IFERROR(VLOOKUP(AI3040,CadMP!$B:$D,3,0),\"\")","v":""},{"$f":"IFERROR(VLOOKUP(AJ3040,CadMP!$B:$D,3,0),\"\")","v":""},{"$f":"IFERROR(VLOOKUP(AK3040,CadMP!$B:$D,3,0),\"\")","v":""},0,0,0,0,0,0,0,0,0,0,0,0,0,0,0]
[3050,null,null,0,0,null,null,null,null,null,null,0,0,null,null,null,null,null,null,null,1,0,null,null,null,null,null,null,null,null,null,null,null,null,null,null,null,null,null,null,null,null,null,null,null,null,null,null,null,null,null,null,{"$f":"IFERROR(VLOOKUP(W3051,CadMP!$B:$D,2,0),\"\")","v":""},{"$f":"IFERROR(VLOOKUP(X3051,CadMP!$B:$D,2,0),\"\")","v":""},{"$f":"IFERROR(VLOOKUP(Y3051,CadMP!$B:$D,2,0),\"\")","v":""},{"$f":"IFERROR(VLOOKUP(Z3051,CadMP!$B:$D,2,0),\"\")","v":""},{"$f":"IFERROR(VLOOKUP(AA3051,CadMP!$B:$D,2,0),\"\")","v":""},{"$f":"IFERROR(VLOOKUP(AB3051,CadMP!$B:$D,2,0),\"\")","v":""},{"$f":"IFERROR(VLOOKUP(AC3051,CadMP!$B:$D,2,0),\"\")","v":""},{"$f":"IFERROR(VLOOKUP(AD3051,CadMP!$B:$D,2,0),\"\")","v":""},{"$f":"IFERROR(VLOOKUP(AE3051,CadMP!$B:$D,2,0),\"\")","v":""},{"$f":"IFERROR(VLOOKUP(AF3051,CadMP!$B:$D,2,0),\"\")","v":""},{"$f":"IFERROR(VLOOKUP(AG3051,CadMP!$B:$D,2,0),\"\")","v":""},{"$f":"IFERROR(VLOOKUP(AH3051,CadMP!$B:$D,2,0),\"\")","v":""},{"$f":"IFERROR(VLOOKUP(AI3051,CadMP!$B:$D,2,0),\"\")","v":""},{"$f":"IFERROR(VLOOKUP(AJ3051,CadMP!$B:$D,2,0),\"\")","v":""},{"$f":"IFERROR(VLOOKUP(AK3051,CadMP!$B:$D,2,0),\"\")","v":""},{"$f":"IFERROR(VLOOKUP(W3051,CadMP!$B:$D,3,0),\"\")","v":""},{"$f":"IFERROR(VLOOKUP(X3051,CadMP!$B:$D,3,0),\"\")","v":""},{"$f":"IFERROR(VLOOKUP(Y3051,CadMP!$B:$D,3,0),\"\")","v":""},{"$f":"IFERROR(VLOOKUP(Z3051,CadMP!$B:$D,3,0),\"\")","v":""},{"$f":"IFERROR(VLOOKUP(AA3051,CadMP!$B:$D,3,0),\"\")","v":""},{"$f":"IFERROR(VLOOKUP(AB3051,CadMP!$B:$D,3,0),\"\")","v":""},{"$f":"IFERROR(VLOOKUP(AC3051,CadMP!$B:$D,3,0),\"\")","v":""},{"$f":"IFERROR(VLOOKUP(AD3051,CadMP!$B:$D,3,0),\"\")","v":""},{"$f":"IFERROR(VLOOKUP(AE3051,CadMP!$B:$D,3,0),\"\")","v":""},{"$f":"IFERROR(VLOOKUP(AF3051,CadMP!$B:$D,3,0),\"\")","v":""},{"$f":"IFERROR(VLOOKUP(AG3051,CadMP!$B:$D,3,0),\"\")","v":""},{"$f":"IFERROR(VLOOKUP(AH3051,CadMP!$B:$D,3,0),\"\")","v":""},{"$f":"IFERROR(VLOOKUP(AI3051,CadMP!$B:$D,3,0),\"\")","v":""},{"$f":"IFERROR(VLOOKUP(AJ3051,CadMP!$B:$D,3,0),\"\")","v":""},{"$f":"IFERROR(VLOOKUP(AK3051,CadMP!$B:$D,3,0),\"\")","v":""},0,0,0,0,0,0,0,0,0,0,0,0,0,0,0]
[3063,null,null,0,0,null,null,null,null,null,null,0,0,null,null,null,null,null,null,null,1,0,null,null,null,null,null,null,null,null,null,null,null,null,null,null,null,null,null,null,null,null,null,null,null,null,null,null,null,null,null,null,{"$f":"IFERROR(VLOOKUP(W3064,CadMP!$B:$D,2,0),\"\")","v":""},{"$f":"IFERROR(VLOOKUP(X3064,CadMP!$B:$D,2,0),\"\")","v":""},{"$f":"IFERROR(VLOOKUP(Y3064,CadMP!$B:$D,2,0),\"\")","v":""},{"$f":"IFERROR(VLOOKUP(Z3064,CadMP!$B:$D,2,0),\"\")","v":""},{"$f":"IFERROR(VLOOKUP(AA3064,CadMP!$B:$D,2,0),\"\")","v":""},{"$f":"IFERROR(VLOOKUP(AB3064,CadMP!$B:$D,2,0),\"\")","v":""},{"$f":"IFERROR(VLOOKUP(AC3064,CadMP!$B:$D,2,0),\"\")","v":""},{"$f":"IFERROR(VLOOKUP(AD3064,CadMP!$B:$D,2,0),\"\")","v":""},{"$f":"IFERROR(VLOOKUP(AE3064,CadMP!$B:$D,2,0),\"\")","v":""},{"$f":"IFERROR(VLOOKUP(AF3064,CadMP!$B:$D,2,0),\"\")","v":""},{"$f":"IFERROR(VLOOKUP(AG3064,CadMP!$B:$D,2,0),\"\")","v":""},{"$f":"IFERROR(VLOOKUP(AH3064,CadMP!$B:$D,2,0),\"\")","v":""},{"$f":"IFERROR(VLOOKUP(AI3064,CadMP!$B:$D,2,0),\"\")","v":""},{"$f":"IFERROR(VLOOKUP(AJ3064,CadMP!$B:$D,2,0),\"\")","v":""},{"$f":"IFERROR(VLOOKUP(AK3064,CadMP!$B:$D,2,0),\"\")","v":""},{"$f":"IFERROR(VLOOKUP(W3064,CadMP!$B:$D,3,0),\"\")","v":""},{"$f":"IFERROR(VLOOKUP(X3064,CadMP!$B:$D,3,0),\"\")","v":""},{"$f":"IFERROR(VLOOKUP(Y3064,CadMP!$B:$D,3,0),\"\")","v":""},{"$f":"IFERROR(VLOOKUP(Z3064,CadMP!$B:$D,3,0),\"\")","v":""},{"$f":"IFERROR(VLOOKUP(AA3064,CadMP!$B:$D,3,0),\"\")","v":""},{"$f":"IFERROR(VLOOKUP(AB3064,CadMP!$B:$D,3,0),\"\")","v":""},{"$f":"IFERROR(VLOOKUP(AC3064,CadMP!$B:$D,3,0),\"\")","v":""},{"$f":"IFERROR(VLOOKUP(AD3064,CadMP!$B:$D,3,0),\"\")","v":""},{"$f":"IFERROR(VLOOKUP(AE3064,CadMP!$B:$D,3,0),\"\")","v":""},{"$f":"IFERROR(VLOOKUP(AF3064,CadMP!$B:$D,3,0),\"\")","v":""},{"$f":"IFERROR(VLOOKUP(AG3064,CadMP!$B:$D,3,0),\"\")","v":""},{"$f":"IFERROR(VLOOKUP(AH3064,CadMP!$B:$D,3,0),\"\")","v":""},{"$f":"IFERROR(VLOOKUP(AI3064,CadMP!$B:$D,3,0),\"\")","v":""},{"$f":"IFERROR(VLOOKUP(AJ3064,CadMP!$B:$D,3,0),\"\")","v":""},{"$f":"IFERROR(VLOOKUP(AK3064,CadMP!$B:$D,3,0),\"\")","v":""},0,0,0,0,0,0,0,0,0,0,0,0,0,0,0]
[3082,null,null,0,0,null,null,null,null,null,null,0,0,null,null,null,null,null,null,null,1,0,null,null,null,null,null,null,null,null,null,null,null,null,null,null,null,null,null,null,null,null,null,null,null,null,null,null,null,null,null,null,{"$f":"IFERROR(VLOOKUP(W3083,CadMP!$B:$D,2,0),\"\")","v":""},{"$f":"IFERROR(VLOOKUP(X3083,CadMP!$B:$D,2,0),\"\")","v":""},{"$f":"IFERROR(VLOOKUP(Y3083,CadMP!$B:$D,2,0),\"\")","v":""},{"$f":"IFERROR(VLOOKUP(Z3083,CadMP!$B:$D,2,0),\"\")","v":""},{"$f":"IFERROR(VLOOKUP(AA3083,CadMP!$B:$D,2,0),\"\")","v":""},{"$f":"IFERROR(VLOOKUP(AB3083,CadMP!$B:$D,2,0),\"\")","v":""},{"$f":"IFERROR(VLOOKUP(AC3083,CadMP!$B:$D,2,0),\"\")","v":""},{"$f":"IFERROR(VLOOKUP(AD3083,CadMP!$B:$D,2,0),\"\")","v":""},{"$f":"IFERROR(VLOOKUP(AE3083,CadMP!$B:$D,2,0),\"\")","v":""},{"$f":"IFERROR(VLOOKUP(AF3083,CadMP!$B:$D,2,0),\"\")","v":""},{"$f":"IFERROR(VLOOKUP(AG3083,CadMP!$B:$D,2,0),\"\")","v":""},{"$f":"IFERROR(VLOOKUP(AH3083,CadMP!$B:$D,2,0),\"\")","v":""},{"$f":"IFERROR(VLOOKUP(AI3083,CadMP!$B:$D,2,0),\"\")","v":""},{"$f":"IFERROR(VLOOKUP(AJ3083,CadMP!$B:$D,2,0),\"\")","v":""},{"$f":"IFERROR(VLOOKUP(AK3083,CadMP!$B:$D,2,0),\"\")","v":""},{"$f":"IFERROR(VLOOKUP(W3083,CadMP!$B:$D,3,0),\"\")","v":""},{"$f":"IFERROR(VLOOKUP(X3083,CadMP!$B:$D,3,0),\"\")","v":""},{"$f":"IFERROR(VLOOKUP(Y3083,CadMP!$B:$D,3,0),\"\")","v":""},{"$f":"IFERROR(VLOOKUP(Z3083,CadMP!$B:$D,3,0),\"\")","v":""},{"$f":"IFERROR(VLOOKUP(AA3083,CadMP!$B:$D,3,0),\"\")","v":""},{"$f":"IFERROR(VLOOKUP(AB3083,CadMP!$B:$D,3,0),\"\")","v":""},{"$f":"IFERROR(VLOOKUP(AC3083,CadMP!$B:$D,3,0),\"\")","v":""},{"$f":"IFERROR(VLOOKUP(AD3083,CadMP!$B:$D,3,0),\"\")","v":""},{"$f":"IFERROR(VLOOKUP(AE3083,CadMP!$B:$D,3,0),\"\")","v":""},{"$f":"IFERROR(VLOOKUP(AF3083,CadMP!$B:$D,3,0),\"\")","v":""},{"$f":"IFERROR(VLOOKUP(AG3083,CadMP!$B:$D,3,0),\"\")","v":""},{"$f":"IFERROR(VLOOKUP(AH3083,CadMP!$B:$D,3,0),\"\")","v":""},{"$f":"IFERROR(VLOOKUP(AI3083,CadMP!$B:$D,3,0),\"\")","v":""},{"$f":"IFERROR(VLOOKUP(AJ3083,CadMP!$B:$D,3,0),\"\")","v":""},{"$f":"IFERROR(VLOOKUP(AK3083,CadMP!$B:$D,3,0),\"\")","v":""},0,0,0,0,0,0,0,0,0,0,0,0,0,0,0]
[3107,null,null,0,0,null,null,null,null,null,null,0,0,null,null,null,null,null,null,null,1,0,null,null,null,null,null,null,null,null,null,null,null,null,null,null,null,null,null,null,null,null,null,null,null,null,null,null,null,null,null,null,{"$f":"IFERROR(VLOOKUP(W3108,CadMP!$B:$D,2,0),\"\")","v":""},{"$f":"IFERROR(VLOOKUP(X3108,CadMP!$B:$D,2,0),\"\")","v":""},{"$f":"IFERROR(VLOOKUP(Y3108,CadMP!$B:$D,2,0),\"\")","v":""},{"$f":"IFERROR(VLOOKUP(Z3108,CadMP!$B:$D,2,0),\"\")","v":""},{"$f":"IFERROR(VLOOKUP(AA3108,CadMP!$B:$D,2,0),\"\")","v":""},{"$f":"IFERROR(VLOOKUP(AB3108,CadMP!$B:$D,2,0),\"\")","v":""},{"$f":"IFERROR(VLOOKUP(AC3108,CadMP!$B:$D,2,0),\"\")","v":""},{"$f":"IFERROR(VLOOKUP(AD3108,CadMP!$B:$D,2,0),\"\")","v":""},{"$f":"IFERROR(VLOOKUP(AE3108,CadMP!$B:$D,2,0),\"\")","v":""},{"$f":"IFERROR(VLOOKUP(AF3108,CadMP!$B:$D,2,0),\"\")","v":""},{"$f":"IFERROR(VLOOKUP(AG3108,CadMP!$B:$D,2,0),\"\")","v":""},{"$f":"IFERROR(VLOOKUP(AH3108,CadMP!$B:$D,2,0),\"\")","v":""},{"$f":"IFERROR(VLOOKUP(AI3108,CadMP!$B:$D,2,0),\"\")","v":""},{"$f":"IFERROR(VLOOKUP(AJ3108,CadMP!$B:$D,2,0),\"\")","v":""},{"$f":"IFERROR(VLOOKUP(AK3108,CadMP!$B:$D,2,0),\"\")","v":""},{"$f":"IFERROR(VLOOKUP(W3108,CadMP!$B:$D,3,0),\"\")","v":""},{"$f":"IFERROR(VLOOKUP(X3108,CadMP!$B:$D,3,0),\"\")","v":""},{"$f":"IFERROR(VLOOKUP(Y3108,CadMP!$B:$D,3,0),\"\")","v":""},{"$f":"IFERROR(VLOOKUP(Z3108,CadMP!$B:$D,3,0),\"\")","v":""},{"$f":"IFERROR(VLOOKUP(AA3108,CadMP!$B:$D,3,0),\"\")","v":""},{"$f":"IFERROR(VLOOKUP(AB3108,CadMP!$B:$D,3,0),\"\")","v":""},{"$f":"IFERROR(VLOOKUP(AC3108,CadMP!$B:$D,3,0),\"\")","v":""},{"$f":"IFERROR(VLOOKUP(AD3108,CadMP!$B:$D,3,0),\"\")","v":""},{"$f":"IFERROR(VLOOKUP(AE3108,CadMP!$B:$D,3,0),\"\")","v":""},{"$f":"IFERROR(VLOOKUP(AF3108,CadMP!$B:$D,3,0),\"\")","v":""},{"$f":"IFERROR(VLOOKUP(AG3108,CadMP!$B:$D,3,0),\"\")","v":""},{"$f":"IFERROR(VLOOKUP(AH3108,CadMP!$B:$D,3,0),\"\")","v":""},{"$f":"IFERROR(VLOOKUP(AI3108,CadMP!$B:$D,3,0),\"\")","v":""},{"$f":"IFERROR(VLOOKUP(AJ3108,CadMP!$B:$D,3,0),\"\")","v":""},{"$f":"IFERROR(VLOOKUP(AK3108,CadMP!$B:$D,3,0),\"\")","v":""},0,0,0,0,0,0,0,0,0,0,0,0,0,0,0]
[3127,null,null,0,0,null,null,null,null,null,null,0,0,null,null,null,null,null,null,null,1,0,null,null,null,null,null,null,null,null,null,null,null,null,null,null,null,null,null,null,null,null,null,null,null,null,null,null,null,null,null,null,{"$f":"IFERROR(VLOOKUP(W3128,CadMP!$B:$D,2,0),\"\")","v":""},{"$f":"IFERROR(VLOOKUP(X3128,CadMP!$B:$D,2,0),\"\")","v":""},{"$f":"IFERROR(VLOOKUP(Y3128,CadMP!$B:$D,2,0),\"\")","v":""},{"$f":"IFERROR(VLOOKUP(Z3128,CadMP!$B:$D,2,0),\"\")","v":""},{"$f":"IFERROR(VLOOKUP(AA3128,CadMP!$B:$D,2,0),\"\")","v":""},{"$f":"IFERROR(VLOOKUP(AB3128,CadMP!$B:$D,2,0),\"\")","v":""},{"$f":"IFERROR(VLOOKUP(AC3128,CadMP!$B:$D,2,0),\"\")","v":""},{"$f":"IFERROR(VLOOKUP(AD3128,CadMP!$B:$D,2,0),\"\")","v":""},{"$f":"IFERROR(VLOOKUP(AE3128,CadMP!$B:$D,2,0),\"\")","v":""},{"$f":"IFERROR(VLOOKUP(AF3128,CadMP!$B:$D,2,0),\"\")","v":""},{"$f":"IFERROR(VLOOKUP(AG3128,CadMP!$B:$D,2,0),\"\")","v":""},{"$f":"IFERROR(VLOOKUP(AH3128,CadMP!$B:$D,2,0),\"\")","v":""},{"$f":"IFERROR(VLOOKUP(AI3128,CadMP!$B:$D,2,0),\"\")","v":""},{"$f":"IFERROR(VLOOKUP(AJ3128,CadMP!$B:$D,2,0),\"\")","v":""},{"$f":"IFERROR(VLOOKUP(AK3128,CadMP!$B:$D,2,0),\"\")","v":""},{"$f":"IFERROR(VLOOKUP(W3128,CadMP!$B:$D,3,0),\"\")","v":""},{"$f":"IFERROR(VLOOKUP(X3128,CadMP!$B:$D,3,0),\"\")","v":""},{"$f":"IFERROR(VLOOKUP(Y3128,CadMP!$B:$D,3,0),\"\")","v":""},{"$f":"IFERROR(VLOOKUP(Z3128,CadMP!$B:$D,3,0),\"\")","v":""},{"$f":"IFERROR(VLOOKUP(AA3128,CadMP!$B:$D,3,0),\"\")","v":""},{"$f":"IFERROR(VLOOKUP(AB3128,CadMP!$B:$D,3,0),\"\")","v":""},{"$f":"IFERROR(VLOOKUP(AC3128,CadMP!$B:$D,3,0),\"\")","v":""},{"$f":"IFERROR(VLOOKUP(AD3128,CadMP!$B:$D,3,0),\"\")","v":""},{"$f":"IFERROR(VLOOKUP(AE3128,CadMP!$B:$D,3,0),\"\")","v":""},{"$f":"IFERROR(VLOOKUP(AF3128,CadMP!$B:$D,3,0),\"\")","v":""},{"$f":"IFERROR(VLOOKUP(AG3128,CadMP!$B:$D,3,0),\"\")","v":""},{"$f":"IFERROR(VLOOKUP(AH3128,CadMP!$B:$D,3,0),\"\")","v":""},{"$f":"IFERROR(VLOOKUP(AI3128,CadMP!$B:$D,3,0),\"\")","v":""},{"$f":"IFERROR(VLOOKUP(AJ3128,CadMP!$B:$D,3,0),\"\")","v":""},{"$f":"IFERROR(VLOOKUP(AK3128,CadMP!$B:$D,3,0),\"\")","v":""},0,0,0,0,0,0,0,0,0,0,0,0,0,0,0]
[3144,null,null,0,0,null,null,null,null,null,null,0,0,null,null,null,null,null,null,null,1,0,null,null,null,null,null,null,null,null,null,null,null,null,null,null,null,null,null,null,null,null,null,null,null,null,null,null,null,null,null,null,{"$f":"IFERROR(VLOOKUP(W3145,CadMP!$B:$D,2,0),\"\")","v":""},{"$f":"IFERROR(VLOOKUP(X3145,CadMP!$B:$D,2,0),\"\")","v":""},{"$f":"IFERROR(VLOOKUP(Y3145,CadMP!$B:$D,2,0),\"\")","v":""},{"$f":"IFERROR(VLOOKUP(Z3145,CadMP!$B:$D,2,0),\"\")","v":""},{"$f":"IFERROR(VLOOKUP(AA3145,CadMP!$B:$D,2,0),\"\")","v":""},{"$f":"IFERROR(VLOOKUP(AB3145,CadMP!$B:$D,2,0),\"\")","v":""},{"$f":"IFERROR(VLOOKUP(AC3145,CadMP!$B:$D,2,0),\"\")","v":""},{"$f":"IFERROR(VLOOKUP(AD3145,CadMP!$B:$D,2,0),\"\")","v":""},{"$f":"IFERROR(VLOOKUP(AE3145,CadMP!$B:$D,2,0),\"\")","v":""},{"$f":"IFERROR(VLOOKUP(AF3145,CadMP!$B:$D,2,0),\"\")","v":""},{"$f":"IFERROR(VLOOKUP(AG3145,CadMP!$B:$D,2,0),\"\")","v":""},{"$f":"IFERROR(VLOOKUP(AH3145,CadMP!$B:$D,2,0),\"\")","v":""},{"$f":"IFERROR(VLOOKUP(AI3145,CadMP!$B:$D,2,0),\"\")","v":""},{"$f":"IFERROR(VLOOKUP(AJ3145,CadMP!$B:$D,2,0),\"\")","v":""},{"$f":"IFERROR(VLOOKUP(AK3145,CadMP!$B:$D,2,0),\"\")","v":""},{"$f":"IFERROR(VLOOKUP(W3145,CadMP!$B:$D,3,0),\"\")","v":""},{"$f":"IFERROR(VLOOKUP(X3145,CadMP!$B:$D,3,0),\"\")","v":""},{"$f":"IFERROR(VLOOKUP(Y3145,CadMP!$B:$D,3,0),\"\")","v":""},{"$f":"IFERROR(VLOOKUP(Z3145,CadMP!$B:$D,3,0),\"\")","v":""},{"$f":"IFERROR(VLOOKUP(AA3145,CadMP!$B:$D,3,0),\"\")","v":""},{"$f":"IFERROR(VLOOKUP(AB3145,CadMP!$B:$D,3,0),\"\")","v":""},{"$f":"IFERROR(VLOOKUP(AC3145,CadMP!$B:$D,3,0),\"\")","v":""},{"$f":"IFERROR(VLOOKUP(AD3145,CadMP!$B:$D,3,0),\"\")","v":""},{"$f":"IFERROR(VLOOKUP(AE3145,CadMP!$B:$D,3,0),\"\")","v":""},{"$f":"IFERROR(VLOOKUP(AF3145,CadMP!$B:$D,3,0),\"\")","v":""},{"$f":"IFERROR(VLOOKUP(AG3145,CadMP!$B:$D,3,0),\"\")","v":""},{"$f":"IFERROR(VLOOKUP(AH3145,CadMP!$B:$D,3,0),\"\")","v":""},{"$f":"IFERROR(VLOOKUP(AI3145,CadMP!$B:$D,3,0),\"\")","v":""},{"$f":"IFERROR(VLOOKUP(AJ3145,CadMP!$B:$D,3,0),\"\")","v":""},{"$f":"IFERROR(VLOOKUP(AK3145,CadMP!$B:$D,3,0),\"\")","v":""},0,0,0,0,0,0,0,0,0,0,0,0,0,0,0]
[3169,null,null,0,0,null,null,null,null,null,null,0,0,null,null,null,null,null,null,null,1,0,null,null,null,null,null,null,null,null,null,null,null,null,null,null,null,null,null,null,null,null,null,null,null,null,null,null,null,null,null,null,{"$f":"IFERROR(VLOOKUP(W3170,CadMP!$B:$D,2,0),\"\")","v":""},{"$f":"IFERROR(VLOOKUP(X3170,CadMP!$B:$D,2,0),\"\")","v":""},{"$f":"IFERROR(VLOOKUP(Y3170,CadMP!$B:$D,2,0),\"\")","v":""},{"$f":"IFERROR(VLOOKUP(Z3170,CadMP!$B:$D,2,0),\"\")","v":""},{"$f":"IFERROR(VLOOKUP(AA3170,CadMP!$B:$D,2,0),\"\")","v":""},{"$f":"IFERROR(VLOOKUP(AB3170,CadMP!$B:$D,2,0),\"\")","v":""},{"$f":"IFERROR(VLOOKUP(AC3170,CadMP!$B:$D,2,0),\"\")","v":""},{"$f":"IFERROR(VLOOKUP(AD3170,CadMP!$B:$D,2,0),\"\")","v":""},{"$f":"IFERROR(VLOOKUP(AE3170,CadMP!$B:$D,2,0),\"\")","v":""},{"$f":"IFERROR(VLOOKUP(AF3170,CadMP!$B:$D,2,0),\"\")","v":""},{"$f":"IFERROR(VLOOKUP(AG3170,CadMP!$B:$D,2,0),\"\")","v":""},{"$f":"IFERROR(VLOOKUP(AH3170,CadMP!$B:$D,2,0),\"\")","v":""},{"$f":"IFERROR(VLOOKUP(AI3170,CadMP!$B:$D,2,0),\"\")","v":""},{"$f":"IFERROR(VLOOKUP(AJ3170,CadMP!$B:$D,2,0),\"\")","v":""},{"$f":"IFERROR(VLOOKUP(AK3170,CadMP!$B:$D,2,0),\"\")","v":""},{"$f":"IFERROR(VLOOKUP(W3170,CadMP!$B:$D,3,0),\"\")","v":""},{"$f":"IFERROR(VLOOKUP(X3170,CadMP!$B:$D,3,0),\"\")","v":""},{"$f":"IFERROR(VLOOKUP(Y3170,CadMP!$B:$D,3,0),\"\")","v":""},{"$f":"IFERROR(VLOOKUP(Z3170,CadMP!$B:$D,3,0),\"\")","v":""},{"$f":"IFERROR(VLOOKUP(AA3170,CadMP!$B:$D,3,0),\"\")","v":""},{"$f":"IFERROR(VLOOKUP(AB3170,CadMP!$B:$D,3,0),\"\")","v":""},{"$f":"IFERROR(VLOOKUP(AC3170,CadMP!$B:$D,3,0),\"\")","v":""},{"$f":"IFERROR(VLOOKUP(AD3170,CadMP!$B:$D,3,0),\"\")","v":""},{"$f":"IFERROR(VLOOKUP(AE3170,CadMP!$B:$D,3,0),\"\")","v":""},{"$f":"IFERROR(VLOOKUP(AF3170,CadMP!$B:$D,3,0),\"\")","v":""},{"$f":"IFERROR(VLOOKUP(AG3170,CadMP!$B:$D,3,0),\"\")","v":""},{"$f":"IFERROR(VLOOKUP(AH3170,CadMP!$B:$D,3,0),\"\")","v":""},{"$f":"IFERROR(VLOOKUP(AI3170,CadMP!$B:$D,3,0),\"\")","v":""},{"$f":"IFERROR(VLOOKUP(AJ3170,CadMP!$B:$D,3,0),\"\")","v":""},{"$f":"IFERROR(VLOOKUP(AK3170,CadMP!$B:$D,3,0),\"\")","v":""},0,0,0,0,0,0,0,0,0,0,0,0,0,0,0]
[3188,null,null,0,0,null,null,null,null,null,null,0,0,null,null,null,null,null,null,null,1,0,null,null,null,null,null,null,null,null,null,null,null,null,null,null,null,null,null,null,null,null,null,null,null,null,null,null,null,null,null,null,{"$f":"IFERROR(VLOOKUP(W3189,CadMP!$B:$D,2,0),\"\")","v":""},{"$f":"IFERROR(VLOOKUP(X3189,CadMP!$B:$D,2,0),\"\")","v":""},{"$f":"IFERROR(VLOOKUP(Y3189,CadMP!$B:$D,2,0),\"\")","v":""},{"$f":"IFERROR(VLOOKUP(Z3189,CadMP!$B:$D,2,0),\"\")","v":""},{"$f":"IFERROR(VLOOKUP(AA3189,CadMP!$B:$D,2,0),\"\")","v":""},{"$f":"IFERROR(VLOOKUP(AB3189,CadMP!$B:$D,2,0),\"\")","v":""},{"$f":"IFERROR(VLOOKUP(AC3189,CadMP!$B:$D,2,0),\"\")","v":""},{"$f":"IFERROR(VLOOKUP(AD3189,CadMP!$B:$D,2,0),\"\")","v":""},{"$f":"IFERROR(VLOOKUP(AE3189,CadMP!$B:$D,2,0),\"\")","v":""},{"$f":"IFERROR(VLOOKUP(AF3189,CadMP!$B:$D,2,0),\"\")","v":""},{"$f":"IFERROR(VLOOKUP(AG3189,CadMP!$B:$D,2,0),\"\")","v":""},{"$f":"IFERROR(VLOOKUP(AH3189,CadMP!$B:$D,2,0),\"\")","v":""},{"$f":"IFERROR(VLOOKUP(AI3189,CadMP!$B:$D,2,0),\"\")","v":""},{"$f":"IFERROR(VLOOKUP(AJ3189,CadMP!$B:$D,2,0),\"\")","v":""},{"$f":"IFERROR(VLOOKUP(AK3189,CadMP!$B:$D,2,0),\"\")","v":""},{"$f":"IFERROR(VLOOKUP(W3189,CadMP!$B:$D,3,0),\"\")","v":""},{"$f":"IFERROR(VLOOKUP(X3189,CadMP!$B:$D,3,0),\"\")","v":""},{"$f":"IFERROR(VLOOKUP(Y3189,CadMP!$B:$D,3,0),\"\")","v":""},{"$f":"IFERROR(VLOOKUP(Z3189,CadMP!$B:$D,3,0),\"\")","v":""},{"$f":"IFERROR(VLOOKUP(AA3189,CadMP!$B:$D,3,0),\"\")","v":""},{"$f":"IFERROR(VLOOKUP(AB3189,CadMP!$B:$D,3,0),\"\")","v":""},{"$f":"IFERROR(VLOOKUP(AC3189,CadMP!$B:$D,3,0),\"\")","v":""},{"$f":"IFERROR(VLOOKUP(AD3189,CadMP!$B:$D,3,0),\"\")","v":""},{"$f":"IFERROR(VLOOKUP(AE3189,CadMP!$B:$D,3,0),\"\")","v":""},{"$f":"IFERROR(VLOOKUP(AF3189,CadMP!$B:$D,3,0),\"\")","v":""},{"$f":"IFERROR(VLOOKUP(AG3189,CadMP!$B:$D,3,0),\"\")","v":""},{"$f":"IFERROR(VLOOKUP(AH3189,CadMP!$B:$D,3,0),\"\")","v":""},{"$f":"IFERROR(VLOOKUP(AI3189,CadMP!$B:$D,3,0),\"\")","v":""},{"$f":"IFERROR(VLOOKUP(AJ3189,CadMP!$B:$D,3,0),\"\")","v":""},{"$f":"IFERROR(VLOOKUP(AK3189,CadMP!$B:$D,3,0),\"\")","v":""},0,0,0,0,0,0,0,0,0,0,0,0,0,0,0]
[3200,null,null,0,0,null,null,null,null,null,null,0,0,null,null,null,null,null,null,null,1,0,null,null,null,null,null,null,null,null,null,null,null,null,null,null,null,null,null,null,null,null,null,null,null,null,null,null,null,null,null,null,{"$f":"IFERROR(VLOOKUP(W3201,CadMP!$B:$D,2,0),\"\")","v":""},{"$f":"IFERROR(VLOOKUP(X3201,CadMP!$B:$D,2,0),\"\")","v":""},{"$f":"IFERROR(VLOOKUP(Y3201,CadMP!$B:$D,2,0),\"\")","v":""},{"$f":"IFERROR(VLOOKUP(Z3201,CadMP!$B:$D,2,0),\"\")","v":""},{"$f":"IFERROR(VLOOKUP(AA3201,CadMP!$B:$D,2,0),\"\")","v":""},{"$f":"IFERROR(VLOOKUP(AB3201,CadMP!$B:$D,2,0),\"\")","v":""},{"$f":"IFERROR(VLOOKUP(AC3201,CadMP!$B:$D,2,0),\"\")","v":""},{"$f":"IFERROR(VLOOKUP(AD3201,CadMP!$B:$D,2,0),\"\")","v":""},{"$f":"IFERROR(VLOOKUP(AE3201,CadMP!$B:$D,2,0),\"\")","v":""},{"$f":"IFERROR(VLOOKUP(AF3201,CadMP!$B:$D,2,0),\"\")","v":""},{"$f":"IFERROR(VLOOKUP(AG3201,CadMP!$B:$D,2,0),\"\")","v":""},{"$f":"IFERROR(VLOOKUP(AH3201,CadMP!$B:$D,2,0),\"\")","v":""},{"$f":"IFERROR(VLOOKUP(AI3201,CadMP!$B:$D,2,0),\"\")","v":""},{"$f":"IFERROR(VLOOKUP(AJ3201,CadMP!$B:$D,2,0),\"\")","v":""},{"$f":"IFERROR(VLOOKUP(AK3201,CadMP!$B:$D,2,0),\"\")","v":""},{"$f":"IFERROR(VLOOKUP(W3201,CadMP!$B:$D,3,0),\"\")","v":""},{"$f":"IFERROR(VLOOKUP(X3201,CadMP!$B:$D,3,0),\"\")","v":""},{"$f":"IFERROR(VLOOKUP(Y3201,CadMP!$B:$D,3,0),\"\")","v":""},{"$f":"IFERROR(VLOOKUP(Z3201,CadMP!$B:$D,3,0),\"\")","v":""},{"$f":"IFERROR(VLOOKUP(AA3201,CadMP!$B:$D,3,0),\"\")","v":""},{"$f":"IFERROR(VLOOKUP(AB3201,CadMP!$B:$D,3,0),\"\")","v":""},{"$f":"IFERROR(VLOOKUP(AC3201,CadMP!$B:$D,3,0),\"\")","v":""},{"$f":"IFERROR(VLOOKUP(AD3201,CadMP!$B:$D,3,0),\"\")","v":""},{"$f":"IFERROR(VLOOKUP(AE3201,CadMP!$B:$D,3,0),\"\")","v":""},{"$f":"IFERROR(VLOOKUP(AF3201,CadMP!$B:$D,3,0),\"\")","v":""},{"$f":"IFERROR(VLOOKUP(AG3201,CadMP!$B:$D,3,0),\"\")","v":""},{"$f":"IFERROR(VLOOKUP(AH3201,CadMP!$B:$D,3,0),\"\")","v":""},{"$f":"IFERROR(VLOOKUP(AI3201,CadMP!$B:$D,3,0),\"\")","v":""},{"$f":"IFERROR(VLOOKUP(AJ3201,CadMP!$B:$D,3,0),\"\")","v":""},{"$f":"IFERROR(VLOOKUP(AK3201,CadMP!$B:$D,3,0),\"\")","v":""},0,0,0,0,0,0,0,0,0,0,0,0,0,0,0]
[3212,null,null,0,0,null,null,null,null,null,null,0,0,null,null,null,null,null,null,null,1,0,null,null,null,null,null,null,null,null,null,null,null,null,null,null,null,null,null,null,null,null,null,null,null,null,null,null,null,null,null,null,{"$f":"IFERROR(VLOOKUP(W3213,CadMP!$B:$D,2,0),\"\")","v":""},{"$f":"IFERROR(VLOOKUP(X3213,CadMP!$B:$D,2,0),\"\")","v":""},{"$f":"IFERROR(VLOOKUP(Y3213,CadMP!$B:$D,2,0),\"\")","v":""},{"$f":"IFERROR(VLOOKUP(Z3213,CadMP!$B:$D,2,0),\"\")","v":""},{"$f":"IFERROR(VLOOKUP(AA3213,CadMP!$B:$D,2,0),\"\")","v":""},{"$f":"IFERROR(VLOOKUP(AB3213,CadMP!$B:$D,2,0),\"\")","v":""},{"$f":"IFERROR(VLOOKUP(AC3213,CadMP!$B:$D,2,0),\"\")","v":""},{"$f":"IFERROR(VLOOKUP(AD3213,CadMP!$B:$D,2,0),\"\")","v":""},{"$f":"IFERROR(VLOOKUP(AE3213,CadMP!$B:$D,2,0),\"\")","v":""},{"$f":"IFERROR(VLOOKUP(AF3213,CadMP!$B:$D,2,0),\"\")","v":""},{"$f":"IFERROR(VLOOKUP(AG3213,CadMP!$B:$D,2,0),\"\")","v":""},{"$f":"IFERROR(VLOOKUP(AH3213,CadMP!$B:$D,2,0),\"\")","v":""},{"$f":"IFERROR(VLOOKUP(AI3213,CadMP!$B:$D,2,0),\"\")","v":""},{"$f":"IFERROR(VLOOKUP(AJ3213,CadMP!$B:$D,2,0),\"\")","v":""},{"$f":"IFERROR(VLOOKUP(AK3213,CadMP!$B:$D,2,0),\"\")","v":""},{"$f":"IFERROR(VLOOKUP(W3213,CadMP!$B:$D,3,0),\"\")","v":""},{"$f":"IFERROR(VLOOKUP(X3213,CadMP!$B:$D,3,0),\"\")","v":""},{"$f":"IFERROR(VLOOKUP(Y3213,CadMP!$B:$D,3,0),\"\")","v":""},{"$f":"IFERROR(VLOOKUP(Z3213,CadMP!$B:$D,3,0),\"\")","v":""},{"$f":"IFERROR(VLOOKUP(AA3213,CadMP!$B:$D,3,0),\"\")","v":""},{"$f":"IFERROR(VLOOKUP(AB3213,CadMP!$B:$D,3,0),\"\")","v":""},{"$f":"IFERROR(VLOOKUP(AC3213,CadMP!$B:$D,3,0),\"\")","v":""},{"$f":"IFERROR(VLOOKUP(AD3213,CadMP!$B:$D,3,0),\"\")","v":""},{"$f":"IFERROR(VLOOKUP(AE3213,CadMP!$B:$D,3,0),\"\")","v":""},{"$f":"IFERROR(VLOOKUP(AF3213,CadMP!$B:$D,3,0),\"\")","v":""},{"$f":"IFERROR(VLOOKUP(AG3213,CadMP!$B:$D,3,0),\"\")","v":""},{"$f":"IFERROR(VLOOKUP(AH3213,CadMP!$B:$D,3,0),\"\")","v":""},{"$f":"IFERROR(VLOOKUP(AI3213,CadMP!$B:$D,3,0),\"\")","v":""},{"$f":"IFERROR(VLOOKUP(AJ3213,CadMP!$B:$D,3,0),\"\")","v":""},{"$f":"IFERROR(VLOOKUP(AK3213,CadMP!$B:$D,3,0),\"\")","v":""},0,0,0,0,0,0,0,0,0,0,0,0,0,0,0]
[3231,null,null,0,0,null,null,null,null,null,null,0,0,null,null,null,null,null,null,null,1,0,null,null,null,null,null,null,null,null,null,null,null,null,null,null,null,null,null,null,null,null,null,null,null,null,null,null,null,null,null,null,{"$f":"IFERROR(VLOOKUP(W3232,CadMP!$B:$D,2,0),\"\")","v":""},{"$f":"IFERROR(VLOOKUP(X3232,CadMP!$B:$D,2,0),\"\")","v":""},{"$f":"IFERROR(VLOOKUP(Y3232,CadMP!$B:$D,2,0),\"\")","v":""},{"$f":"IFERROR(VLOOKUP(Z3232,CadMP!$B:$D,2,0),\"\")","v":""},{"$f":"IFERROR(VLOOKUP(AA3232,CadMP!$B:$D,2,0),\"\")","v":""},{"$f":"IFERROR(VLOOKUP(AB3232,CadMP!$B:$D,2,0),\"\")","v":""},{"$f":"IFERROR(VLOOKUP(AC3232,CadMP!$B:$D,2,0),\"\")","v":""},{"$f":"IFERROR(VLOOKUP(AD3232,CadMP!$B:$D,2,0),\"\")","v":""},{"$f":"IFERROR(VLOOKUP(AE3232,CadMP!$B:$D,2,0),\"\")","v":""},{"$f":"IFERROR(VLOOKUP(AF3232,CadMP!$B:$D,2,0),\"\")","v":""},{"$f":"IFERROR(VLOOKUP(AG3232,CadMP!$B:$D,2,0),\"\")","v":""},{"$f":"IFERROR(VLOOKUP(AH3232,CadMP!$B:$D,2,0),\"\")","v":""},{"$f":"IFERROR(VLOOKUP(AI3232,CadMP!$B:$D,2,0),\"\")","v":""},{"$f":"IFERROR(VLOOKUP(AJ3232,CadMP!$B:$D,2,0),\"\")","v":""},{"$f":"IFERROR(VLOOKUP(AK3232,CadMP!$B:$D,2,0),\"\")","v":""},{"$f":"IFERROR(VLOOKUP(W3232,CadMP!$B:$D,3,0),\"\")","v":""},{"$f":"IFERROR(VLOOKUP(X3232,CadMP!$B:$D,3,0),\"\")","v":""},{"$f":"IFERROR(VLOOKUP(Y3232,CadMP!$B:$D,3,0),\"\")","v":""},{"$f":"IFERROR(VLOOKUP(Z3232,CadMP!$B:$D,3,0),\"\")","v":""},{"$f":"IFERROR(VLOOKUP(AA3232,CadMP!$B:$D,3,0),\"\")","v":""},{"$f":"IFERROR(VLOOKUP(AB3232,CadMP!$B:$D,3,0),\"\")","v":""},{"$f":"IFERROR(VLOOKUP(AC3232,CadMP!$B:$D,3,0),\"\")","v":""},{"$f":"IFERROR(VLOOKUP(AD3232,CadMP!$B:$D,3,0),\"\")","v":""},{"$f":"IFERROR(VLOOKUP(AE3232,CadMP!$B:$D,3,0),\"\")","v":""},{"$f":"IFERROR(VLOOKUP(AF3232,CadMP!$B:$D,3,0),\"\")","v":""},{"$f":"IFERROR(VLOOKUP(AG3232,CadMP!$B:$D,3,0),\"\")","v":""},{"$f":"IFERROR(VLOOKUP(AH3232,CadMP!$B:$D,3,0),\"\")","v":""},{"$f":"IFERROR(VLOOKUP(AI3232,CadMP!$B:$D,3,0),\"\")","v":""},{"$f":"IFERROR(VLOOKUP(AJ3232,CadMP!$B:$D,3,0),\"\")","v":""},{"$f":"IFERROR(VLOOKUP(AK3232,CadMP!$B:$D,3,0),\"\")","v":""},0,0,0,0,0,0,0,0,0,0,0,0,0,0,0]
[3256,null,null,0,0,null,null,null,null,null,null,0,0,null,null,null,null,null,null,null,1,0,null,null,null,null,null,null,null,null,null,null,null,null,null,null,null,null,null,null,null,null,null,null,null,null,null,null,null,null,null,null,{"$f":"IFERROR(VLOOKUP(W3257,CadMP!$B:$D,2,0),\"\")","v":""},{"$f":"IFERROR(VLOOKUP(X3257,CadMP!$B:$D,2,0),\"\")","v":""},{"$f":"IFERROR(VLOOKUP(Y3257,CadMP!$B:$D,2,0),\"\")","v":""},{"$f":"IFERROR(VLOOKUP(Z3257,CadMP!$B:$D,2,0),\"\")","v":""},{"$f":"IFERROR(VLOOKUP(AA3257,CadMP!$B:$D,2,0),\"\")","v":""},{"$f":"IFERROR(VLOOKUP(AB3257,CadMP!$B:$D,2,0),\"\")","v":""},{"$f":"IFERROR(VLOOKUP(AC3257,CadMP!$B:$D,2,0),\"\")","v":""},{"$f":"IFERROR(VLOOKUP(AD3257,CadMP!$B:$D,2,0),\"\")","v":""},{"$f":"IFERROR(VLOOKUP(AE3257,CadMP!$B:$D,2,0),\"\")","v":""},{"$f":"IFERROR(VLOOKUP(AF3257,CadMP!$B:$D,2,0),\"\")","v":""},{"$f":"IFERROR(VLOOKUP(AG3257,CadMP!$B:$D,2,0),\"\")","v":""},{"$f":"IFERROR(VLOOKUP(AH3257,CadMP!$B:$D,2,0),\"\")","v":""},{"$f":"IFERROR(VLOOKUP(AI3257,CadMP!$B:$D,2,0),\"\")","v":""},{"$f":"IFERROR(VLOOKUP(AJ3257,CadMP!$B:$D,2,0),\"\")","v":""},{"$f":"IFERROR(VLOOKUP(AK3257,CadMP!$B:$D,2,0),\"\")","v":""},{"$f":"IFERROR(VLOOKUP(W3257,CadMP!$B:$D,3,0),\"\")","v":""},{"$f":"IFERROR(VLOOKUP(X3257,CadMP!$B:$D,3,0),\"\")","v":""},{"$f":"IFERROR(VLOOKUP(Y3257,CadMP!$B:$D,3,0),\"\")","v":""},{"$f":"IFERROR(VLOOKUP(Z3257,CadMP!$B:$D,3,0),\"\")","v":""},{"$f":"IFERROR(VLOOKUP(AA3257,CadMP!$B:$D,3,0),\"\")","v":""},{"$f":"IFERROR(VLOOKUP(AB3257,CadMP!$B:$D,3,0),\"\")","v":""},{"$f":"IFERROR(VLOOKUP(AC3257,CadMP!$B:$D,3,0),\"\")","v":""},{"$f":"IFERROR(VLOOKUP(AD3257,CadMP!$B:$D,3,0),\"\")","v":""},{"$f":"IFERROR(VLOOKUP(AE3257,CadMP!$B:$D,3,0),\"\")","v":""},{"$f":"IFERROR(VLOOKUP(AF3257,CadMP!$B:$D,3,0),\"\")","v":""},{"$f":"IFERROR(VLOOKUP(AG3257,CadMP!$B:$D,3,0),\"\")","v":""},{"$f":"IFERROR(VLOOKUP(AH3257,CadMP!$B:$D,3,0),\"\")","v":""},{"$f":"IFERROR(VLOOKUP(AI3257,CadMP!$B:$D,3,0),\"\")","v":""},{"$f":"IFERROR(VLOOKUP(AJ3257,CadMP!$B:$D,3,0),\"\")","v":""},{"$f":"IFERROR(VLOOKUP(AK3257,CadMP!$B:$D,3,0),\"\")","v":""},0,0,0,0,0,0,0,0,0,0,0,0,0,0,0]
[3277,null,null,0,0,null,null,null,null,null,null,0,0,null,null,null,null,null,null,null,1,0,null,null,null,null,null,null,null,null,null,null,null,null,null,null,null,null,null,null,null,null,null,null,null,null,null,null,null,null,null,null,{"$f":"IFERROR(VLOOKUP(W3278,CadMP!$B:$D,2,0),\"\")","v":""},{"$f":"IFERROR(VLOOKUP(X3278,CadMP!$B:$D,2,0),\"\")","v":""},{"$f":"IFERROR(VLOOKUP(Y3278,CadMP!$B:$D,2,0),\"\")","v":""},{"$f":"IFERROR(VLOOKUP(Z3278,CadMP!$B:$D,2,0),\"\")","v":""},{"$f":"IFERROR(VLOOKUP(AA3278,CadMP!$B:$D,2,0),\"\")","v":""},{"$f":"IFERROR(VLOOKUP(AB3278,CadMP!$B:$D,2,0),\"\")","v":""},{"$f":"IFERROR(VLOOKUP(AC3278,CadMP!$B:$D,2,0),\"\")","v":""},{"$f":"IFERROR(VLOOKUP(AD3278,CadMP!$B:$D,2,0),\"\")","v":""},{"$f":"IFERROR(VLOOKUP(AE3278,CadMP!$B:$D,2,0),\"\")","v":""},{"$f":"IFERROR(VLOOKUP(AF3278,CadMP!$B:$D,2,0),\"\")","v":""},{"$f":"IFERROR(VLOOKUP(AG3278,CadMP!$B:$D,2,0),\"\")","v":""},{"$f":"IFERROR(VLOOKUP(AH3278,CadMP!$B:$D,2,0),\"\")","v":""},{"$f":"IFERROR(VLOOKUP(AI3278,CadMP!$B:$D,2,0),\"\")","v":""},{"$f":"IFERROR(VLOOKUP(AJ3278,CadMP!$B:$D,2,0),\"\")","v":""},{"$f":"IFERROR(VLOOKUP(AK3278,CadMP!$B:$D,2,0),\"\")","v":""},{"$f":"IFERROR(VLOOKUP(W3278,CadMP!$B:$D,3,0),\"\")","v":""},{"$f":"IFERROR(VLOOKUP(X3278,CadMP!$B:$D,3,0),\"\")","v":""},{"$f":"IFERROR(VLOOKUP(Y3278,CadMP!$B:$D,3,0),\"\")","v":""},{"$f":"IFERROR(VLOOKUP(Z3278,CadMP!$B:$D,3,0),\"\")","v":""},{"$f":"IFERROR(VLOOKUP(AA3278,CadMP!$B:$D,3,0),\"\")","v":""},{"$f":"IFERROR(VLOOKUP(AB3278,CadMP!$B:$D,3,0),\"\")","v":""},{"$f":"IFERROR(VLOOKUP(AC3278,CadMP!$B:$D,3,0),\"\")","v":""},{"$f":"IFERROR(VLOOKUP(AD3278,CadMP!$B:$D,3,0),\"\")","v":""},{"$f":"IFERROR(VLOOKUP(AE3278,CadMP!$B:$D,3,0),\"\")","v":""},{"$f":"IFERROR(VLOOKUP(AF3278,CadMP!$B:$D,3,0),\"\")","v":""},{"$f":"IFERROR(VLOOKUP(AG3278,CadMP!$B:$D,3,0),\"\")","v":""},{"$f":"IFERROR(VLOOKUP(AH3278,CadMP!$B:$D,3,0),\"\")","v":""},{"$f":"IFERROR(VLOOKUP(AI3278,CadMP!$B:$D,3,0),\"\")","v":""},{"$f":"IFERROR(VLOOKUP(AJ3278,CadMP!$B:$D,3,0),\"\")","v":""},{"$f":"IFERROR(VLOOKUP(AK3278,CadMP!$B:$D,3,0),\"\")","v":""},0,0,0,0,0,0,0,0,0,0,0,0,0,0,0]
[3293,null,null,0,0,null,null,null,null,null,null,0,0,null,null,null,null,null,null,null,1,0,null,null,null,null,null,null,null,null,null,null,null,null,null,null,null,null,null,null,null,null,null,null,null,null,null,null,null,null,null,null,{"$f":"IFERROR(VLOOKUP(W3294,CadMP!$B:$D,2,0),\"\")","v":""},{"$f":"IFERROR(VLOOKUP(X3294,CadMP!$B:$D,2,0),\"\")","v":""},{"$f":"IFERROR(VLOOKUP(Y3294,CadMP!$B:$D,2,0),\"\")","v":""},{"$f":"IFERROR(VLOOKUP(Z3294,CadMP!$B:$D,2,0),\"\")","v":""},{"$f":"IFERROR(VLOOKUP(AA3294,CadMP!$B:$D,2,0),\"\")","v":""},{"$f":"IFERROR(VLOOKUP(AB3294,CadMP!$B:$D,2,0),\"\")","v":""},{"$f":"IFERROR(VLOOKUP(AC3294,CadMP!$B:$D,2,0),\"\")","v":""},{"$f":"IFERROR(VLOOKUP(AD3294,CadMP!$B:$D,2,0),\"\")","v":""},{"$f":"IFERROR(VLOOKUP(AE3294,CadMP!$B:$D,2,0),\"\")","v":""},{"$f":"IFERROR(VLOOKUP(AF3294,CadMP!$B:$D,2,0),\"\")","v":""},{"$f":"IFERROR(VLOOKUP(AG3294,CadMP!$B:$D,2,0),\"\")","v":""},{"$f":"IFERROR(VLOOKUP(AH3294,CadMP!$B:$D,2,0),\"\")","v":""},{"$f":"IFERROR(VLOOKUP(AI3294,CadMP!$B:$D,2,0),\"\")","v":""},{"$f":"IFERROR(VLOOKUP(AJ3294,CadMP!$B:$D,2,0),\"\")","v":""},{"$f":"IFERROR(VLOOKUP(AK3294,CadMP!$B:$D,2,0),\"\")","v":""},{"$f":"IFERROR(VLOOKUP(W3294,CadMP!$B:$D,3,0),\"\")","v":""},{"$f":"IFERROR(VLOOKUP(X3294,CadMP!$B:$D,3,0),\"\")","v":""},{"$f":"IFERROR(VLOOKUP(Y3294,CadMP!$B:$D,3,0),\"\")","v":""},{"$f":"IFERROR(VLOOKUP(Z3294,CadMP!$B:$D,3,0),\"\")","v":""},{"$f":"IFERROR(VLOOKUP(AA3294,CadMP!$B:$D,3,0),\"\")","v":""},{"$f":"IFERROR(VLOOKUP(AB3294,CadMP!$B:$D,3,0),\"\")","v":""},{"$f":"IFERROR(VLOOKUP(AC3294,CadMP!$B:$D,3,0),\"\")","v":""},{"$f":"IFERROR(VLOOKUP(AD3294,CadMP!$B:$D,3,0),\"\")","v":""},{"$f":"IFERROR(VLOOKUP(AE3294,CadMP!$B:$D,3,0),\"\")","v":""},{"$f":"IFERROR(VLOOKUP(AF3294,CadMP!$B:$D,3,0),\"\")","v":""},{"$f":"IFERROR(VLOOKUP(AG3294,CadMP!$B:$D,3,0),\"\")","v":""},{"$f":"IFERROR(VLOOKUP(AH3294,CadMP!$B:$D,3,0),\"\")","v":""},{"$f":"IFERROR(VLOOKUP(AI3294,CadMP!$B:$D,3,0),\"\")","v":""},{"$f":"IFERROR(VLOOKUP(AJ3294,CadMP!$B:$D,3,0),\"\")","v":""},{"$f":"IFERROR(VLOOKUP(AK3294,CadMP!$B:$D,3,0),\"\")","v":""},0,0,0,0,0,0,0,0,0,0,0,0,0,0,0]
[3318,null,null,0,0,null,null,null,null,null,null,0,0,null,null,null,null,null,null,null,1,0,null,null,null,null,null,null,null,null,null,null,null,null,null,null,null,null,null,null,null,null,null,null,null,null,null,null,null,null,null,null,{"$f":"IFERROR(VLOOKUP(W3319,CadMP!$B:$D,2,0),\"\")","v":""},{"$f":"IFERROR(VLOOKUP(X3319,CadMP!$B:$D,2,0),\"\")","v":""},{"$f":"IFERROR(VLOOKUP(Y3319,CadMP!$B:$D,2,0),\"\")","v":""},{"$f":"IFERROR(VLOOKUP(Z3319,CadMP!$B:$D,2,0),\"\")","v":""},{"$f":"IFERROR(VLOOKUP(AA3319,CadMP!$B:$D,2,0),\"\")","v":""},{"$f":"IFERROR(VLOOKUP(AB3319,CadMP!$B:$D,2,0),\"\")","v":""},{"$f":"IFERROR(VLOOKUP(AC3319,CadMP!$B:$D,2,0),\"\")","v":""},{"$f":"IFERROR(VLOOKUP(AD3319,CadMP!$B:$D,2,0),\"\")","v":""},{"$f":"IFERROR(VLOOKUP(AE3319,CadMP!$B:$D,2,0),\"\")","v":""},{"$f":"IFERROR(VLOOKUP(AF3319,CadMP!$B:$D,2,0),\"\")","v":""},{"$f":"IFERROR(VLOOKUP(AG3319,CadMP!$B:$D,2,0),\"\")","v":""},{"$f":"IFERROR(VLOOKUP(AH3319,CadMP!$B:$D,2,0),\"\")","v":""},{"$f":"IFERROR(VLOOKUP(AI3319,CadMP!$B:$D,2,0),\"\")","v":""},{"$f":"IFERROR(VLOOKUP(AJ3319,CadMP!$B:$D,2,0),\"\")","v":""},{"$f":"IFERROR(VLOOKUP(AK3319,CadMP!$B:$D,2,0),\"\")","v":""},{"$f":"IFERROR(VLOOKUP(W3319,CadMP!$B:$D,3,0),\"\")","v":""},{"$f":"IFERROR(VLOOKUP(X3319,CadMP!$B:$D,3,0),\"\")","v":""},{"$f":"IFERROR(VLOOKUP(Y3319,CadMP!$B:$D,3,0),\"\")","v":""},{"$f":"IFERROR(VLOOKUP(Z3319,CadMP!$B:$D,3,0),\"\")","v":""},{"$f":"IFERROR(VLOOKUP(AA3319,CadMP!$B:$D,3,0),\"\")","v":""},{"$f":"IFERROR(VLOOKUP(AB3319,CadMP!$B:$D,3,0),\"\")","v":""},{"$f":"IFERROR(VLOOKUP(AC3319,CadMP!$B:$D,3,0),\"\")","v":""},{"$f":"IFERROR(VLOOKUP(AD3319,CadMP!$B:$D,3,0),\"\")","v":""},{"$f":"IFERROR(VLOOKUP(AE3319,CadMP!$B:$D,3,0),\"\")","v":""},{"$f":"IFERROR(VLOOKUP(AF3319,CadMP!$B:$D,3,0),\"\")","v":""},{"$f":"IFERROR(VLOOKUP(AG3319,CadMP!$B:$D,3,0),\"\")","v":""},{"$f":"IFERROR(VLOOKUP(AH3319,CadMP!$B:$D,3,0),\"\")","v":""},{"$f":"IFERROR(VLOOKUP(AI3319,CadMP!$B:$D,3,0),\"\")","v":""},{"$f":"IFERROR(VLOOKUP(AJ3319,CadMP!$B:$D,3,0),\"\")","v":""},{"$f":"IFERROR(VLOOKUP(AK3319,CadMP!$B:$D,3,0),\"\")","v":""},0,0,0,0,0,0,0,0,0,0,0,0,0,0,0]
[3337,null,null,0,0,null,null,null,null,null,null,0,0,null,null,null,null,null,null,null,1,0,null,null,null,null,null,null,null,null,null,null,null,null,null,null,null,null,null,null,null,null,null,null,null,null,null,null,null,null,null,null,{"$f":"IFERROR(VLOOKUP(W3338,CadMP!$B:$D,2,0),\"\")","v":""},{"$f":"IFERROR(VLOOKUP(X3338,CadMP!$B:$D,2,0),\"\")","v":""},{"$f":"IFERROR(VLOOKUP(Y3338,CadMP!$B:$D,2,0),\"\")","v":""},{"$f":"IFERROR(VLOOKUP(Z3338,CadMP!$B:$D,2,0),\"\")","v":""},{"$f":"IFERROR(VLOOKUP(AA3338,CadMP!$B:$D,2,0),\"\")","v":""},{"$f":"IFERROR(VLOOKUP(AB3338,CadMP!$B:$D,2,0),\"\")","v":""},{"$f":"IFERROR(VLOOKUP(AC3338,CadMP!$B:$D,2,0),\"\")","v":""},{"$f":"IFERROR(VLOOKUP(AD3338,CadMP!$B:$D,2,0),\"\")","v":""},{"$f":"IFERROR(VLOOKUP(AE3338,CadMP!$B:$D,2,0),\"\")","v":""},{"$f":"IFERROR(VLOOKUP(AF3338,CadMP!$B:$D,2,0),\"\")","v":""},{"$f":"IFERROR(VLOOKUP(AG3338,CadMP!$B:$D,2,0),\"\")","v":""},{"$f":"IFERROR(VLOOKUP(AH3338,CadMP!$B:$D,2,0),\"\")","v":""},{"$f":"IFERROR(VLOOKUP(AI3338,CadMP!$B:$D,2,0),\"\")","v":""},{"$f":"IFERROR(VLOOKUP(AJ3338,CadMP!$B:$D,2,0),\"\")","v":""},{"$f":"IFERROR(VLOOKUP(AK3338,CadMP!$B:$D,2,0),\"\")","v":""},{"$f":"IFERROR(VLOOKUP(W3338,CadMP!$B:$D,3,0),\"\")","v":""},{"$f":"IFERROR(VLOOKUP(X3338,CadMP!$B:$D,3,0),\"\")","v":""},{"$f":"IFERROR(VLOOKUP(Y3338,CadMP!$B:$D,3,0),\"\")","v":""},{"$f":"IFERROR(VLOOKUP(Z3338,CadMP!$B:$D,3,0),\"\")","v":""},{"$f":"IFERROR(VLOOKUP(AA3338,CadMP!$B:$D,3,0),\"\")","v":""},{"$f":"IFERROR(VLOOKUP(AB3338,CadMP!$B:$D,3,0),\"\")","v":""},{"$f":"IFERROR(VLOOKUP(AC3338,CadMP!$B:$D,3,0),\"\")","v":""},{"$f":"IFERROR(VLOOKUP(AD3338,CadMP!$B:$D,3,0),\"\")","v":""},{"$f":"IFERROR(VLOOKUP(AE3338,CadMP!$B:$D,3,0),\"\")","v":""},{"$f":"IFERROR(VLOOKUP(AF3338,CadMP!$B:$D,3,0),\"\")","v":""},{"$f":"IFERROR(VLOOKUP(AG3338,CadMP!$B:$D,3,0),\"\")","v":""},{"$f":"IFERROR(VLOOKUP(AH3338,CadMP!$B:$D,3,0),\"\")","v":""},{"$f":"IFERROR(VLOOKUP(AI3338,CadMP!$B:$D,3,0),\"\")","v":""},{"$f":"IFERROR(VLOOKUP(AJ3338,CadMP!$B:$D,3,0),\"\")","v":""},{"$f":"IFERROR(VLOOKUP(AK3338,CadMP!$B:$D,3,0),\"\")","v":""},0,0,0,0,0,0,0,0,0,0,0,0,0,0,0]
[3354,null,null,0,0,null,null,null,null,null,null,0,0,null,null,null,null,null,null,null,1,0,null,null,null,null,null,null,null,null,null,null,null,null,null,null,null,null,null,null,null,null,null,null,null,null,null,null,null,null,null,null,{"$f":"IFERROR(VLOOKUP(W3355,CadMP!$B:$D,2,0),\"\")","v":""},{"$f":"IFERROR(VLOOKUP(X3355,CadMP!$B:$D,2,0),\"\")","v":""},{"$f":"IFERROR(VLOOKUP(Y3355,CadMP!$B:$D,2,0),\"\")","v":""},{"$f":"IFERROR(VLOOKUP(Z3355,CadMP!$B:$D,2,0),\"\")","v":""},{"$f":"IFERROR(VLOOKUP(AA3355,CadMP!$B:$D,2,0),\"\")","v":""},{"$f":"IFERROR(VLOOKUP(AB3355,CadMP!$B:$D,2,0),\"\")","v":""},{"$f":"IFERROR(VLOOKUP(AC3355,CadMP!$B:$D,2,0),\"\")","v":""},{"$f":"IFERROR(VLOOKUP(AD3355,CadMP!$B:$D,2,0),\"\")","v":""},{"$f":"IFERROR(VLOOKUP(AE3355,CadMP!$B:$D,2,0),\"\")","v":""},{"$f":"IFERROR(VLOOKUP(AF3355,CadMP!$B:$D,2,0),\"\")","v":""},{"$f":"IFERROR(VLOOKUP(AG3355,CadMP!$B:$D,2,0),\"\")","v":""},{"$f":"IFERROR(VLOOKUP(AH3355,CadMP!$B:$D,2,0),\"\")","v":""},{"$f":"IFERROR(VLOOKUP(AI3355,CadMP!$B:$D,2,0),\"\")","v":""},{"$f":"IFERROR(VLOOKUP(AJ3355,CadMP!$B:$D,2,0),\"\")","v":""},{"$f":"IFERROR(VLOOKUP(AK3355,CadMP!$B:$D,2,0),\"\")","v":""},{"$f":"IFERROR(VLOOKUP(W3355,CadMP!$B:$D,3,0),\"\")","v":""},{"$f":"IFERROR(VLOOKUP(X3355,CadMP!$B:$D,3,0),\"\")","v":""},{"$f":"IFERROR(VLOOKUP(Y3355,CadMP!$B:$D,3,0),\"\")","v":""},{"$f":"IFERROR(VLOOKUP(Z3355,CadMP!$B:$D,3,0),\"\")","v":""},{"$f":"IFERROR(VLOOKUP(AA3355,CadMP!$B:$D,3,0),\"\")","v":""},{"$f":"IFERROR(VLOOKUP(AB3355,CadMP!$B:$D,3,0),\"\")","v":""},{"$f":"IFERROR(VLOOKUP(AC3355,CadMP!$B:$D,3,0),\"\")","v":""},{"$f":"IFERROR(VLOOKUP(AD3355,CadMP!$B:$D,3,0),\"\")","v":""},{"$f":"IFERROR(VLOOKUP(AE3355,CadMP!$B:$D,3,0),\"\")","v":""},{"$f":"IFERROR(VLOOKUP(AF3355,CadMP!$B:$D,3,0),\"\")","v":""},{"$f":"IFERROR(VLOOKUP(AG3355,CadMP!$B:$D,3,0),\"\")","v":""},{"$f":"IFERROR(VLOOKUP(AH3355,CadMP!$B:$D,3,0),\"\")","v":""},{"$f":"IFERROR(VLOOKUP(AI3355,CadMP!$B:$D,3,0),\"\")","v":""},{"$f":"IFERROR(VLOOKUP(AJ3355,CadMP!$B:$D,3,0),\"\")","v":""},{"$f":"IFERROR(VLOOKUP(AK3355,CadMP!$B:$D,3,0),\"\")","v":""},0,0,0,0,0,0,0,0,0,0,0,0,0,0,0]
[3380,null,null,0,0,null,null,null,null,null,null,0,0,null,null,null,null,null,null,null,1,0,null,null,null,null,null,null,null,null,null,null,null,null,null,null,null,null,null,null,null,null,null,null,null,null,null,null,null,null,null,null,{"$f":"IFERROR(VLOOKUP(W3381,CadMP!$B:$D,2,0),\"\")","v":""},{"$f":"IFERROR(VLOOKUP(X3381,CadMP!$B:$D,2,0),\"\")","v":""},{"$f":"IFERROR(VLOOKUP(Y3381,CadMP!$B:$D,2,0),\"\")","v":""},{"$f":"IFERROR(VLOOKUP(Z3381,CadMP!$B:$D,2,0),\"\")","v":""},{"$f":"IFERROR(VLOOKUP(AA3381,CadMP!$B:$D,2,0),\"\")","v":""},{"$f":"IFERROR(VLOOKUP(AB3381,CadMP!$B:$D,2,0),\"\")","v":""},{"$f":"IFERROR(VLOOKUP(AC3381,CadMP!$B:$D,2,0),\"\")","v":""},{"$f":"IFERROR(VLOOKUP(AD3381,CadMP!$B:$D,2,0),\"\")","v":""},{"$f":"IFERROR(VLOOKUP(AE3381,CadMP!$B:$D,2,0),\"\")","v":""},{"$f":"IFERROR(VLOOKUP(AF3381,CadMP!$B:$D,2,0),\"\")","v":""},{"$f":"IFERROR(VLOOKUP(AG3381,CadMP!$B:$D,2,0),\"\")","v":""},{"$f":"IFERROR(VLOOKUP(AH3381,CadMP!$B:$D,2,0),\"\")","v":""},{"$f":"IFERROR(VLOOKUP(AI3381,CadMP!$B:$D,2,0),\"\")","v":""},{"$f":"IFERROR(VLOOKUP(AJ3381,CadMP!$B:$D,2,0),\"\")","v":""},{"$f":"IFERROR(VLOOKUP(AK3381,CadMP!$B:$D,2,0),\"\")","v":""},{"$f":"IFERROR(VLOOKUP(W3381,CadMP!$B:$D,3,0),\"\")","v":""},{"$f":"IFERROR(VLOOKUP(X3381,CadMP!$B:$D,3,0),\"\")","v":""},{"$f":"IFERROR(VLOOKUP(Y3381,CadMP!$B:$D,3,0),\"\")","v":""},{"$f":"IFERROR(VLOOKUP(Z3381,CadMP!$B:$D,3,0),\"\")","v":""},{"$f":"IFERROR(VLOOKUP(AA3381,CadMP!$B:$D,3,0),\"\")","v":""},{"$f":"IFERROR(VLOOKUP(AB3381,CadMP!$B:$D,3,0),\"\")","v":""},{"$f":"IFERROR(VLOOKUP(AC3381,CadMP!$B:$D,3,0),\"\")","v":""},{"$f":"IFERROR(VLOOKUP(AD3381,CadMP!$B:$D,3,0),\"\")","v":""},{"$f":"IFERROR(VLOOKUP(AE3381,CadMP!$B:$D,3,0),\"\")","v":""},{"$f":"IFERROR(VLOOKUP(AF3381,CadMP!$B:$D,3,0),\"\")","v":""},{"$f":"IFERROR(VLOOKUP(AG3381,CadMP!$B:$D,3,0),\"\")","v":""},{"$f":"IFERROR(VLOOKUP(AH3381,CadMP!$B:$D,3,0),\"\")","v":""},{"$f":"IFERROR(VLOOKUP(AI3381,CadMP!$B:$D,3,0),\"\")","v":""},{"$f":"IFERROR(VLOOKUP(AJ3381,CadMP!$B:$D,3,0),\"\")","v":""},{"$f":"IFERROR(VLOOKUP(AK3381,CadMP!$B:$D,3,0),\"\")","v":""},0,0,0,0,0,0,0,0,0,0,0,0,0,0,0]
[3399,null,null,0,0,null,null,null,null,null,null,0,0,null,null,null,null,null,null,null,1,0,null,null,null,null,null,null,null,null,null,null,null,null,null,null,null,null,null,null,null,null,null,null,null,null,null,null,null,null,null,null,{"$f":"IFERROR(VLOOKUP(W3400,CadMP!$B:$D,2,0),\"\")","v":""},{"$f":"IFERROR(VLOOKUP(X3400,CadMP!$B:$D,2,0),\"\")","v":""},{"$f":"IFERROR(VLOOKUP(Y3400,CadMP!$B:$D,2,0),\"\")","v":""},{"$f":"IFERROR(VLOOKUP(Z3400,CadMP!$B:$D,2,0),\"\")","v":""},{"$f":"IFERROR(VLOOKUP(AA3400,CadMP!$B:$D,2,0),\"\")","v":""},{"$f":"IFERROR(VLOOKUP(AB3400,CadMP!$B:$D,2,0),\"\")","v":""},{"$f":"IFERROR(VLOOKUP(AC3400,CadMP!$B:$D,2,0),\"\")","v":""},{"$f":"IFERROR(VLOOKUP(AD3400,CadMP!$B:$D,2,0),\"\")","v":""},{"$f":"IFERROR(VLOOKUP(AE3400,CadMP!$B:$D,2,0),\"\")","v":""},{"$f":"IFERROR(VLOOKUP(AF3400,CadMP!$B:$D,2,0),\"\")","v":""},{"$f":"IFERROR(VLOOKUP(AG3400,CadMP!$B:$D,2,0),\"\")","v":""},{"$f":"IFERROR(VLOOKUP(AH3400,CadMP!$B:$D,2,0),\"\")","v":""},{"$f":"IFERROR(VLOOKUP(AI3400,CadMP!$B:$D,2,0),\"\")","v":""},{"$f":"IFERROR(VLOOKUP(AJ3400,CadMP!$B:$D,2,0),\"\")","v":""},{"$f":"IFERROR(VLOOKUP(AK3400,CadMP!$B:$D,2,0),\"\")","v":""},{"$f":"IFERROR(VLOOKUP(W3400,CadMP!$B:$D,3,0),\"\")","v":""},{"$f":"IFERROR(VLOOKUP(X3400,CadMP!$B:$D,3,0),\"\")","v":""},{"$f":"IFERROR(VLOOKUP(Y3400,CadMP!$B:$D,3,0),\"\")","v":""},{"$f":"IFERROR(VLOOKUP(Z3400,CadMP!$B:$D,3,0),\"\")","v":""},{"$f":"IFERROR(VLOOKUP(AA3400,CadMP!$B:$D,3,0),\"\")","v":""},{"$f":"IFERROR(VLOOKUP(AB3400,CadMP!$B:$D,3,0),\"\")","v":""},{"$f":"IFERROR(VLOOKUP(AC3400,CadMP!$B:$D,3,0),\"\")","v":""},{"$f":"IFERROR(VLOOKUP(AD3400,CadMP!$B:$D,3,0),\"\")","v":""},{"$f":"IFERROR(VLOOKUP(AE3400,CadMP!$B:$D,3,0),\"\")","v":""},{"$f":"IFERROR(VLOOKUP(AF3400,CadMP!$B:$D,3,0),\"\")","v":""},{"$f":"IFERROR(VLOOKUP(AG3400,CadMP!$B:$D,3,0),\"\")","v":""},{"$f":"IFERROR(VLOOKUP(AH3400,CadMP!$B:$D,3,0),\"\")","v":""},{"$f":"IFERROR(VLOOKUP(AI3400,CadMP!$B:$D,3,0),\"\")","v":""},{"$f":"IFERROR(VLOOKUP(AJ3400,CadMP!$B:$D,3,0),\"\")","v":""},{"$f":"IFERROR(VLOOKUP(AK3400,CadMP!$B:$D,3,0),\"\")","v":""},0,0,0,0,0,0,0,0,0,0,0,0,0,0,0]
[3405,null,null,0,0,null,null,null,null,null,null,0,0,null,null,null,null,null,null,null,1,0,null,null,null,null,null,null,null,null,null,null,null,null,null,null,null,null,null,null,null,null,null,null,null,null,null,null,null,null,null,null,{"$f":"IFERROR(VLOOKUP(W3406,CadMP!$B:$D,2,0),\"\")","v":""},{"$f":"IFERROR(VLOOKUP(X3406,CadMP!$B:$D,2,0),\"\")","v":""},{"$f":"IFERROR(VLOOKUP(Y3406,CadMP!$B:$D,2,0),\"\")","v":""},{"$f":"IFERROR(VLOOKUP(Z3406,CadMP!$B:$D,2,0),\"\")","v":""},{"$f":"IFERROR(VLOOKUP(AA3406,CadMP!$B:$D,2,0),\"\")","v":""},{"$f":"IFERROR(VLOOKUP(AB3406,CadMP!$B:$D,2,0),\"\")","v":""},{"$f":"IFERROR(VLOOKUP(AC3406,CadMP!$B:$D,2,0),\"\")","v":""},{"$f":"IFERROR(VLOOKUP(AD3406,CadMP!$B:$D,2,0),\"\")","v":""},{"$f":"IFERROR(VLOOKUP(AE3406,CadMP!$B:$D,2,0),\"\")","v":""},{"$f":"IFERROR(VLOOKUP(AF3406,CadMP!$B:$D,2,0),\"\")","v":""},{"$f":"IFERROR(VLOOKUP(AG3406,CadMP!$B:$D,2,0),\"\")","v":""},{"$f":"IFERROR(VLOOKUP(AH3406,CadMP!$B:$D,2,0),\"\")","v":""},{"$f":"IFERROR(VLOOKUP(AI3406,CadMP!$B:$D,2,0),\"\")","v":""},{"$f":"IFERROR(VLOOKUP(AJ3406,CadMP!$B:$D,2,0),\"\")","v":""},{"$f":"IFERROR(VLOOKUP(AK3406,CadMP!$B:$D,2,0),\"\")","v":""},{"$f":"IFERROR(VLOOKUP(W3406,CadMP!$B:$D,3,0),\"\")","v":""},{"$f":"IFERROR(VLOOKUP(X3406,CadMP!$B:$D,3,0),\"\")","v":""},{"$f":"IFERROR(VLOOKUP(Y3406,CadMP!$B:$D,3,0),\"\")","v":""},{"$f":"IFERROR(VLOOKUP(Z3406,CadMP!$B:$D,3,0),\"\")","v":""},{"$f":"IFERROR(VLOOKUP(AA3406,CadMP!$B:$D,3,0),\"\")","v":""},{"$f":"IFERROR(VLOOKUP(AB3406,CadMP!$B:$D,3,0),\"\")","v":""},{"$f":"IFERROR(VLOOKUP(AC3406,CadMP!$B:$D,3,0),\"\")","v":""},{"$f":"IFERROR(VLOOKUP(AD3406,CadMP!$B:$D,3,0),\"\")","v":""},{"$f":"IFERROR(VLOOKUP(AE3406,CadMP!$B:$D,3,0),\"\")","v":""},{"$f":"IFERROR(VLOOKUP(AF3406,CadMP!$B:$D,3,0),\"\")","v":""},{"$f":"IFERROR(VLOOKUP(AG3406,CadMP!$B:$D,3,0),\"\")","v":""},{"$f":"IFERROR(VLOOKUP(AH3406,CadMP!$B:$D,3,0),\"\")","v":""},{"$f":"IFERROR(VLOOKUP(AI3406,CadMP!$B:$D,3,0),\"\")","v":""},{"$f":"IFERROR(VLOOKUP(AJ3406,CadMP!$B:$D,3,0),\"\")","v":""},{"$f":"IFERROR(VLOOKUP(AK3406,CadMP!$B:$D,3,0),\"\")","v":""},0,0,0,0,0,0,0,0,0,0,0,0,0,0,0]
[3427,null,null,0,0,null,null,null,null,null,null,0,0,null,null,null,null,null,null,null,1,0,null,null,null,null,null,null,null,null,null,null,null,null,null,null,null,null,null,null,null,null,null,null,null,null,null,null,null,null,null,null,{"$f":"IFERROR(VLOOKUP(W3428,CadMP!$B:$D,2,0),\"\")","v":""},{"$f":"IFERROR(VLOOKUP(X3428,CadMP!$B:$D,2,0),\"\")","v":""},{"$f":"IFERROR(VLOOKUP(Y3428,CadMP!$B:$D,2,0),\"\")","v":""},{"$f":"IFERROR(VLOOKUP(Z3428,CadMP!$B:$D,2,0),\"\")","v":""},{"$f":"IFERROR(VLOOKUP(AA3428,CadMP!$B:$D,2,0),\"\")","v":""},{"$f":"IFERROR(VLOOKUP(AB3428,CadMP!$B:$D,2,0),\"\")","v":""},{"$f":"IFERROR(VLOOKUP(AC3428,CadMP!$B:$D,2,0),\"\")","v":""},{"$f":"IFERROR(VLOOKUP(AD3428,CadMP!$B:$D,2,0),\"\")","v":""},{"$f":"IFERROR(VLOOKUP(AE3428,CadMP!$B:$D,2,0),\"\")","v":""},{"$f":"IFERROR(VLOOKUP(AF3428,CadMP!$B:$D,2,0),\"\")","v":""},{"$f":"IFERROR(VLOOKUP(AG3428,CadMP!$B:$D,2,0),\"\")","v":""},{"$f":"IFERROR(VLOOKUP(AH3428,CadMP!$B:$D,2,0),\"\")","v":""},{"$f":"IFERROR(VLOOKUP(AI3428,CadMP!$B:$D,2,0),\"\")","v":""},{"$f":"IFERROR(VLOOKUP(AJ3428,CadMP!$B:$D,2,0),\"\")","v":""},{"$f":"IFERROR(VLOOKUP(AK3428,CadMP!$B:$D,2,0),\"\")","v":""},{"$f":"IFERROR(VLOOKUP(W3428,CadMP!$B:$D,3,0),\"\")","v":""},{"$f":"IFERROR(VLOOKUP(X3428,CadMP!$B:$D,3,0),\"\")","v":""},{"$f":"IFERROR(VLOOKUP(Y3428,CadMP!$B:$D,3,0),\"\")","v":""},{"$f":"IFERROR(VLOOKUP(Z3428,CadMP!$B:$D,3,0),\"\")","v":""},{"$f":"IFERROR(VLOOKUP(AA3428,CadMP!$B:$D,3,0),\"\")","v":""},{"$f":"IFERROR(VLOOKUP(AB3428,CadMP!$B:$D,3,0),\"\")","v":""},{"$f":"IFERROR(VLOOKUP(AC3428,CadMP!$B:$D,3,0),\"\")","v":""},{"$f":"IFERROR(VLOOKUP(AD3428,CadMP!$B:$D,3,0),\"\")","v":""},{"$f":"IFERROR(VLOOKUP(AE3428,CadMP!$B:$D,3,0),\"\")","v":""},{"$f":"IFERROR(VLOOKUP(AF3428,CadMP!$B:$D,3,0),\"\")","v":""},{"$f":"IFERROR(VLOOKUP(AG3428,CadMP!$B:$D,3,0),\"\")","v":""},{"$f":"IFERROR(VLOOKUP(AH3428,CadMP!$B:$D,3,0),\"\")","v":""},{"$f":"IFERROR(VLOOKUP(AI3428,CadMP!$B:$D,3,0),\"\")","v":""},{"$f":"IFERROR(VLOOKUP(AJ3428,CadMP!$B:$D,3,0),\"\")","v":""},{"$f":"IFERROR(VLOOKUP(AK3428,CadMP!$B:$D,3,0),\"\")","v":""},0,0,0,0,0,0,0,0,0,0,0,0,0,0,0]
[3442,null,null,0,0,null,null,null,null,null,null,0,0,null,null,null,null,null,null,null,1,0,null,null,null,null,null,null,null,null,null,null,null,null,null,null,null,null,null,null,null,null,null,null,null,null,null,null,null,null,null,null,{"$f":"IFERROR(VLOOKUP(W3443,CadMP!$B:$D,2,0),\"\")","v":""},{"$f":"IFERROR(VLOOKUP(X3443,CadMP!$B:$D,2,0),\"\")","v":""},{"$f":"IFERROR(VLOOKUP(Y3443,CadMP!$B:$D,2,0),\"\")","v":""},{"$f":"IFERROR(VLOOKUP(Z3443,CadMP!$B:$D,2,0),\"\")","v":""},{"$f":"IFERROR(VLOOKUP(AA3443,CadMP!$B:$D,2,0),\"\")","v":""},{"$f":"IFERROR(VLOOKUP(AB3443,CadMP!$B:$D,2,0),\"\")","v":""},{"$f":"IFERROR(VLOOKUP(AC3443,CadMP!$B:$D,2,0),\"\")","v":""},{"$f":"IFERROR(VLOOKUP(AD3443,CadMP!$B:$D,2,0),\"\")","v":""},{"$f":"IFERROR(VLOOKUP(AE3443,CadMP!$B:$D,2,0),\"\")","v":""},{"$f":"IFERROR(VLOOKUP(AF3443,CadMP!$B:$D,2,0),\"\")","v":""},{"$f":"IFERROR(VLOOKUP(AG3443,CadMP!$B:$D,2,0),\"\")","v":""},{"$f":"IFERROR(VLOOKUP(AH3443,CadMP!$B:$D,2,0),\"\")","v":""},{"$f":"IFERROR(VLOOKUP(AI3443,CadMP!$B:$D,2,0),\"\")","v":""},{"$f":"IFERROR(VLOOKUP(AJ3443,CadMP!$B:$D,2,0),\"\")","v":""},{"$f":"IFERROR(VLOOKUP(AK3443,CadMP!$B:$D,2,0),\"\")","v":""},{"$f":"IFERROR(VLOOKUP(W3443,CadMP!$B:$D,3,0),\"\")","v":""},{"$f":"IFERROR(VLOOKUP(X3443,CadMP!$B:$D,3,0),\"\")","v":""},{"$f":"IFERROR(VLOOKUP(Y3443,CadMP!$B:$D,3,0),\"\")","v":""},{"$f":"IFERROR(VLOOKUP(Z3443,CadMP!$B:$D,3,0),\"\")","v":""},{"$f":"IFERROR(VLOOKUP(AA3443,CadMP!$B:$D,3,0),\"\")","v":""},{"$f":"IFERROR(VLOOKUP(AB3443,CadMP!$B:$D,3,0),\"\")","v":""},{"$f":"IFERROR(VLOOKUP(AC3443,CadMP!$B:$D,3,0),\"\")","v":""},{"$f":"IFERROR(VLOOKUP(AD3443,CadMP!$B:$D,3,0),\"\")","v":""},{"$f":"IFERROR(VLOOKUP(AE3443,CadMP!$B:$D,3,0),\"\")","v":""},{"$f":"IFERROR(VLOOKUP(AF3443,CadMP!$B:$D,3,0),\"\")","v":""},{"$f":"IFERROR(VLOOKUP(AG3443,CadMP!$B:$D,3,0),\"\")","v":""},{"$f":"IFERROR(VLOOKUP(AH3443,CadMP!$B:$D,3,0),\"\")","v":""},{"$f":"IFERROR(VLOOKUP(AI3443,CadMP!$B:$D,3,0),\"\")","v":""},{"$f":"IFERROR(VLOOKUP(AJ3443,CadMP!$B:$D,3,0),\"\")","v":""},{"$f":"IFERROR(VLOOKUP(AK3443,CadMP!$B:$D,3,0),\"\")","v":""},0,0,0,0,0,0,0,0,0,0,0,0,0,0,0]
[3467,null,null,0,0,null,null,null,null,null,null,0,0,null,null,null,null,null,null,null,1,0,null,null,null,null,null,null,null,null,null,null,null,null,null,null,null,null,null,null,null,null,null,null,null,null,null,null,null,null,null,null,{"$f":"IFERROR(VLOOKUP(W3468,CadMP!$B:$D,2,0),\"\")","v":""},{"$f":"IFERROR(VLOOKUP(X3468,CadMP!$B:$D,2,0),\"\")","v":""},{"$f":"IFERROR(VLOOKUP(Y3468,CadMP!$B:$D,2,0),\"\")","v":""},{"$f":"IFERROR(VLOOKUP(Z3468,CadMP!$B:$D,2,0),\"\")","v":""},{"$f":"IFERROR(VLOOKUP(AA3468,CadMP!$B:$D,2,0),\"\")","v":""},{"$f":"IFERROR(VLOOKUP(AB3468,CadMP!$B:$D,2,0),\"\")","v":""},{"$f":"IFERROR(VLOOKUP(AC3468,CadMP!$B:$D,2,0),\"\")","v":""},{"$f":"IFERROR(VLOOKUP(AD3468,CadMP!$B:$D,2,0),\"\")","v":""},{"$f":"IFERROR(VLOOKUP(AE3468,CadMP!$B:$D,2,0),\"\")","v":""},{"$f":"IFERROR(VLOOKUP(AF3468,CadMP!$B:$D,2,0),\"\")","v":""},{"$f":"IFERROR(VLOOKUP(AG3468,CadMP!$B:$D,2,0),\"\")","v":""},{"$f":"IFERROR(VLOOKUP(AH3468,CadMP!$B:$D,2,0),\"\")","v":""},{"$f":"IFERROR(VLOOKUP(AI3468,CadMP!$B:$D,2,0),\"\")","v":""},{"$f":"IFERROR(VLOOKUP(AJ3468,CadMP!$B:$D,2,0),\"\")","v":""},{"$f":"IFERROR(VLOOKUP(AK3468,CadMP!$B:$D,2,0),\"\")","v":""},{"$f":"IFERROR(VLOOKUP(W3468,CadMP!$B:$D,3,0),\"\")","v":""},{"$f":"IFERROR(VLOOKUP(X3468,CadMP!$B:$D,3,0),\"\")","v":""},{"$f":"IFERROR(VLOOKUP(Y3468,CadMP!$B:$D,3,0),\"\")","v":""},{"$f":"IFERROR(VLOOKUP(Z3468,CadMP!$B:$D,3,0),\"\")","v":""},{"$f":"IFERROR(VLOOKUP(AA3468,CadMP!$B:$D,3,0),\"\")","v":""},{"$f":"IFERROR(VLOOKUP(AB3468,CadMP!$B:$D,3,0),\"\")","v":""},{"$f":"IFERROR(VLOOKUP(AC3468,CadMP!$B:$D,3,0),\"\")","v":""},{"$f":"IFERROR(VLOOKUP(AD3468,CadMP!$B:$D,3,0),\"\")","v":""},{"$f":"IFERROR(VLOOKUP(AE3468,CadMP!$B:$D,3,0),\"\")","v":""},{"$f":"IFERROR(VLOOKUP(AF3468,CadMP!$B:$D,3,0),\"\")","v":""},{"$f":"IFERROR(VLOOKUP(AG3468,CadMP!$B:$D,3,0),\"\")","v":""},{"$f":"IFERROR(VLOOKUP(AH3468,CadMP!$B:$D,3,0),\"\")","v":""},{"$f":"IFERROR(VLOOKUP(AI3468,CadMP!$B:$D,3,0),\"\")","v":""},{"$f":"IFERROR(VLOOKUP(AJ3468,CadMP!$B:$D,3,0),\"\")","v":""},{"$f":"IFERROR(VLOOKUP(AK3468,CadMP!$B:$D,3,0),\"\")","v":""},0,0,0,0,0,0,0,0,0,0,0,0,0,0,0]
[3486,null,null,0,0,null,null,null,null,null,null,0,0,null,null,null,null,null,null,null,1,0,null,null,null,null,null,null,null,null,null,null,null,null,null,null,null,null,null,null,null,null,null,null,null,null,null,null,null,null,null,null,{"$f":"IFERROR(VLOOKUP(W3487,CadMP!$B:$D,2,0),\"\")","v":""},{"$f":"IFERROR(VLOOKUP(X3487,CadMP!$B:$D,2,0),\"\")","v":""},{"$f":"IFERROR(VLOOKUP(Y3487,CadMP!$B:$D,2,0),\"\")","v":""},{"$f":"IFERROR(VLOOKUP(Z3487,CadMP!$B:$D,2,0),\"\")","v":""},{"$f":"IFERROR(VLOOKUP(AA3487,CadMP!$B:$D,2,0),\"\")","v":""},{"$f":"IFERROR(VLOOKUP(AB3487,CadMP!$B:$D,2,0),\"\")","v":""},{"$f":"IFERROR(VLOOKUP(AC3487,CadMP!$B:$D,2,0),\"\")","v":""},{"$f":"IFERROR(VLOOKUP(AD3487,CadMP!$B:$D,2,0),\"\")","v":""},{"$f":"IFERROR(VLOOKUP(AE3487,CadMP!$B:$D,2,0),\"\")","v":""},{"$f":"IFERROR(VLOOKUP(AF3487,CadMP!$B:$D,2,0),\"\")","v":""},{"$f":"IFERROR(VLOOKUP(AG3487,CadMP!$B:$D,2,0),\"\")","v":""},{"$f":"IFERROR(VLOOKUP(AH3487,CadMP!$B:$D,2,0),\"\")","v":""},{"$f":"IFERROR(VLOOKUP(AI3487,CadMP!$B:$D,2,0),\"\")","v":""},{"$f":"IFERROR(VLOOKUP(AJ3487,CadMP!$B:$D,2,0),\"\")","v":""},{"$f":"IFERROR(VLOOKUP(AK3487,CadMP!$B:$D,2,0),\"\")","v":""},{"$f":"IFERROR(VLOOKUP(W3487,CadMP!$B:$D,3,0),\"\")","v":""},{"$f":"IFERROR(VLOOKUP(X3487,CadMP!$B:$D,3,0),\"\")","v":""},{"$f":"IFERROR(VLOOKUP(Y3487,CadMP!$B:$D,3,0),\"\")","v":""},{"$f":"IFERROR(VLOOKUP(Z3487,CadMP!$B:$D,3,0),\"\")","v":""},{"$f":"IFERROR(VLOOKUP(AA3487,CadMP!$B:$D,3,0),\"\")","v":""},{"$f":"IFERROR(VLOOKUP(AB3487,CadMP!$B:$D,3,0),\"\")","v":""},{"$f":"IFERROR(VLOOKUP(AC3487,CadMP!$B:$D,3,0),\"\")","v":""},{"$f":"IFERROR(VLOOKUP(AD3487,CadMP!$B:$D,3,0),\"\")","v":""},{"$f":"IFERROR(VLOOKUP(AE3487,CadMP!$B:$D,3,0),\"\")","v":""},{"$f":"IFERROR(VLOOKUP(AF3487,CadMP!$B:$D,3,0),\"\")","v":""},{"$f":"IFERROR(VLOOKUP(AG3487,CadMP!$B:$D,3,0),\"\")","v":""},{"$f":"IFERROR(VLOOKUP(AH3487,CadMP!$B:$D,3,0),\"\")","v":""},{"$f":"IFERROR(VLOOKUP(AI3487,CadMP!$B:$D,3,0),\"\")","v":""},{"$f":"IFERROR(VLOOKUP(AJ3487,CadMP!$B:$D,3,0),\"\")","v":""},{"$f":"IFERROR(VLOOKUP(AK3487,CadMP!$B:$D,3,0),\"\")","v":""},0,0,0,0,0,0,0,0,0,0,0,0,0,0,0]
[3504,null,null,0,0,null,null,null,null,null,null,0,0,null,null,null,null,null,null,null,1,0,null,null,null,null,null,null,null,null,null,null,null,null,null,null,null,null,null,null,null,null,null,null,null,null,null,null,null,null,null,null,{"$f":"IFERROR(VLOOKUP(W3505,CadMP!$B:$D,2,0),\"\")","v":""},{"$f":"IFERROR(VLOOKUP(X3505,CadMP!$B:$D,2,0),\"\")","v":""},{"$f":"IFERROR(VLOOKUP(Y3505,CadMP!$B:$D,2,0),\"\")","v":""},{"$f":"IFERROR(VLOOKUP(Z3505,CadMP!$B:$D,2,0),\"\")","v":""},{"$f":"IFERROR(VLOOKUP(AA3505,CadMP!$B:$D,2,0),\"\")","v":""},{"$f":"IFERROR(VLOOKUP(AB3505,CadMP!$B:$D,2,0),\"\")","v":""},{"$f":"IFERROR(VLOOKUP(AC3505,CadMP!$B:$D,2,0),\"\")","v":""},{"$f":"IFERROR(VLOOKUP(AD3505,CadMP!$B:$D,2,0),\"\")","v":""},{"$f":"IFERROR(VLOOKUP(AE3505,CadMP!$B:$D,2,0),\"\")","v":""},{"$f":"IFERROR(VLOOKUP(AF3505,CadMP!$B:$D,2,0),\"\")","v":""},{"$f":"IFERROR(VLOOKUP(AG3505,CadMP!$B:$D,2,0),\"\")","v":""},{"$f":"IFERROR(VLOOKUP(AH3505,CadMP!$B:$D,2,0),\"\")","v":""},{"$f":"IFERROR(VLOOKUP(AI3505,CadMP!$B:$D,2,0),\"\")","v":""},{"$f":"IFERROR(VLOOKUP(AJ3505,CadMP!$B:$D,2,0),\"\")","v":""},{"$f":"IFERROR(VLOOKUP(AK3505,CadMP!$B:$D,2,0),\"\")","v":""},{"$f":"IFERROR(VLOOKUP(W3505,CadMP!$B:$D,3,0),\"\")","v":""},{"$f":"IFERROR(VLOOKUP(X3505,CadMP!$B:$D,3,0),\"\")","v":""},{"$f":"IFERROR(VLOOKUP(Y3505,CadMP!$B:$D,3,0),\"\")","v":""},{"$f":"IFERROR(VLOOKUP(Z3505,CadMP!$B:$D,3,0),\"\")","v":""},{"$f":"IFERROR(VLOOKUP(AA3505,CadMP!$B:$D,3,0),\"\")","v":""},{"$f":"IFERROR(VLOOKUP(AB3505,CadMP!$B:$D,3,0),\"\")","v":""},{"$f":"IFERROR(VLOOKUP(AC3505,CadMP!$B:$D,3,0),\"\")","v":""},{"$f":"IFERROR(VLOOKUP(AD3505,CadMP!$B:$D,3,0),\"\")","v":""},{"$f":"IFERROR(VLOOKUP(AE3505,CadMP!$B:$D,3,0),\"\")","v":""},{"$f":"IFERROR(VLOOKUP(AF3505,CadMP!$B:$D,3,0),\"\")","v":""},{"$f":"IFERROR(VLOOKUP(AG3505,CadMP!$B:$D,3,0),\"\")","v":""},{"$f":"IFERROR(VLOOKUP(AH3505,CadMP!$B:$D,3,0),\"\")","v":""},{"$f":"IFERROR(VLOOKUP(AI3505,CadMP!$B:$D,3,0),\"\")","v":""},{"$f":"IFERROR(VLOOKUP(AJ3505,CadMP!$B:$D,3,0),\"\")","v":""},{"$f":"IFERROR(VLOOKUP(AK3505,CadMP!$B:$D,3,0),\"\")","v":""},0,0,0,0,0,0,0,0,0,0,0,0,0,0,0]
[3529,null,null,0,0,null,null,null,null,null,null,0,0,null,null,null,null,null,null,null,1,0,null,null,null,null,null,null,null,null,null,null,null,null,null,null,null,null,null,null,null,null,null,null,null,null,null,null,null,null,null,null,{"$f":"IFERROR(VLOOKUP(W3530,CadMP!$B:$D,2,0),\"\")","v":""},{"$f":"IFERROR(VLOOKUP(X3530,CadMP!$B:$D,2,0),\"\")","v":""},{"$f":"IFERROR(VLOOKUP(Y3530,CadMP!$B:$D,2,0),\"\")","v":""},{"$f":"IFERROR(VLOOKUP(Z3530,CadMP!$B:$D,2,0),\"\")","v":""},{"$f":"IFERROR(VLOOKUP(AA3530,CadMP!$B:$D,2,0),\"\")","v":""},{"$f":"IFERROR(VLOOKUP(AB3530,CadMP!$B:$D,2,0),\"\")","v":""},{"$f":"IFERROR(VLOOKUP(AC3530,CadMP!$B:$D,2,0),\"\")","v":""},{"$f":"IFERROR(VLOOKUP(AD3530,CadMP!$B:$D,2,0),\"\")","v":""},{"$f":"IFERROR(VLOOKUP(AE3530,CadMP!$B:$D,2,0),\"\")","v":""},{"$f":"IFERROR(VLOOKUP(AF3530,CadMP!$B:$D,2,0),\"\")","v":""},{"$f":"IFERROR(VLOOKUP(AG3530,CadMP!$B:$D,2,0),\"\")","v":""},{"$f":"IFERROR(VLOOKUP(AH3530,CadMP!$B:$D,2,0),\"\")","v":""},{"$f":"IFERROR(VLOOKUP(AI3530,CadMP!$B:$D,2,0),\"\")","v":""},{"$f":"IFERROR(VLOOKUP(AJ3530,CadMP!$B:$D,2,0),\"\")","v":""},{"$f":"IFERROR(VLOOKUP(AK3530,CadMP!$B:$D,2,0),\"\")","v":""},{"$f":"IFERROR(VLOOKUP(W3530,CadMP!$B:$D,3,0),\"\")","v":""},{"$f":"IFERROR(VLOOKUP(X3530,CadMP!$B:$D,3,0),\"\")","v":""},{"$f":"IFERROR(VLOOKUP(Y3530,CadMP!$B:$D,3,0),\"\")","v":""},{"$f":"IFERROR(VLOOKUP(Z3530,CadMP!$B:$D,3,0),\"\")","v":""},{"$f":"IFERROR(VLOOKUP(AA3530,CadMP!$B:$D,3,0),\"\")","v":""},{"$f":"IFERROR(VLOOKUP(AB3530,CadMP!$B:$D,3,0),\"\")","v":""},{"$f":"IFERROR(VLOOKUP(AC3530,CadMP!$B:$D,3,0),\"\")","v":""},{"$f":"IFERROR(VLOOKUP(AD3530,CadMP!$B:$D,3,0),\"\")","v":""},{"$f":"IFERROR(VLOOKUP(AE3530,CadMP!$B:$D,3,0),\"\")","v":""},{"$f":"IFERROR(VLOOKUP(AF3530,CadMP!$B:$D,3,0),\"\")","v":""},{"$f":"IFERROR(VLOOKUP(AG3530,CadMP!$B:$D,3,0),\"\")","v":""},{"$f":"IFERROR(VLOOKUP(AH3530,CadMP!$B:$D,3,0),\"\")","v":""},{"$f":"IFERROR(VLOOKUP(AI3530,CadMP!$B:$D,3,0),\"\")","v":""},{"$f":"IFERROR(VLOOKUP(AJ3530,CadMP!$B:$D,3,0),\"\")","v":""},{"$f":"IFERROR(VLOOKUP(AK3530,CadMP!$B:$D,3,0),\"\")","v":""},0,0,0,0,0,0,0,0,0,0,0,0,0,0,0]
[3548,null,null,0,0,null,null,null,null,null,null,0,0,null,null,null,null,null,null,null,1,0,null,null,null,null,null,null,null,null,null,null,null,null,null,null,null,null,null,null,null,null,null,null,null,null,null,null,null,null,null,null,{"$f":"IFERROR(VLOOKUP(W3549,CadMP!$B:$D,2,0),\"\")","v":""},{"$f":"IFERROR(VLOOKUP(X3549,CadMP!$B:$D,2,0),\"\")","v":""},{"$f":"IFERROR(VLOOKUP(Y3549,CadMP!$B:$D,2,0),\"\")","v":""},{"$f":"IFERROR(VLOOKUP(Z3549,CadMP!$B:$D,2,0),\"\")","v":""},{"$f":"IFERROR(VLOOKUP(AA3549,CadMP!$B:$D,2,0),\"\")","v":""},{"$f":"IFERROR(VLOOKUP(AB3549,CadMP!$B:$D,2,0),\"\")","v":""},{"$f":"IFERROR(VLOOKUP(AC3549,CadMP!$B:$D,2,0),\"\")","v":""},{"$f":"IFERROR(VLOOKUP(AD3549,CadMP!$B:$D,2,0),\"\")","v":""},{"$f":"IFERROR(VLOOKUP(AE3549,CadMP!$B:$D,2,0),\"\")","v":""},{"$f":"IFERROR(VLOOKUP(AF3549,CadMP!$B:$D,2,0),\"\")","v":""},{"$f":"IFERROR(VLOOKUP(AG3549,CadMP!$B:$D,2,0),\"\")","v":""},{"$f":"IFERROR(VLOOKUP(AH3549,CadMP!$B:$D,2,0),\"\")","v":""},{"$f":"IFERROR(VLOOKUP(AI3549,CadMP!$B:$D,2,0),\"\")","v":""},{"$f":"IFERROR(VLOOKUP(AJ3549,CadMP!$B:$D,2,0),\"\")","v":""},{"$f":"IFERROR(VLOOKUP(AK3549,CadMP!$B:$D,2,0),\"\")","v":""},{"$f":"IFERROR(VLOOKUP(W3549,CadMP!$B:$D,3,0),\"\")","v":""},{"$f":"IFERROR(VLOOKUP(X3549,CadMP!$B:$D,3,0),\"\")","v":""},{"$f":"IFERROR(VLOOKUP(Y3549,CadMP!$B:$D,3,0),\"\")","v":""},{"$f":"IFERROR(VLOOKUP(Z3549,CadMP!$B:$D,3,0),\"\")","v":""},{"$f":"IFERROR(VLOOKUP(AA3549,CadMP!$B:$D,3,0),\"\")","v":""},{"$f":"IFERROR(VLOOKUP(AB3549,CadMP!$B:$D,3,0),\"\")","v":""},{"$f":"IFERROR(VLOOKUP(AC3549,CadMP!$B:$D,3,0),\"\")","v":""},{"$f":"IFERROR(VLOOKUP(AD3549,CadMP!$B:$D,3,0),\"\")","v":""},{"$f":"IFERROR(VLOOKUP(AE3549,CadMP!$B:$D,3,0),\"\")","v":""},{"$f":"IFERROR(VLOOKUP(AF3549,CadMP!$B:$D,3,0),\"\")","v":""},{"$f":"IFERROR(VLOOKUP(AG3549,CadMP!$B:$D,3,0),\"\")","v":""},{"$f":"IFERROR(VLOOKUP(AH3549,CadMP!$B:$D,3,0),\"\")","v":""},{"$f":"IFERROR(VLOOKUP(AI3549,CadMP!$B:$D,3,0),\"\")","v":""},{"$f":"IFERROR(VLOOKUP(AJ3549,CadMP!$B:$D,3,0),\"\")","v":""},{"$f":"IFERROR(VLOOKUP(AK3549,CadMP!$B:$D,3,0),\"\")","v":""},0,0,0,0,0,0,0,0,0,0,0,0,0,0,0]
[3554,null,null,0,0,null,null,null,null,null,null,0,0,null,null,null,null,null,null,null,1,0,null,null,null,null,null,null,null,null,null,null,null,null,null,null,null,null,null,null,null,null,null,null,null,null,null,null,null,null,null,null,{"$f":"IFERROR(VLOOKUP(W3555,CadMP!$B:$D,2,0),\"\")","v":""},{"$f":"IFERROR(VLOOKUP(X3555,CadMP!$B:$D,2,0),\"\")","v":""},{"$f":"IFERROR(VLOOKUP(Y3555,CadMP!$B:$D,2,0),\"\")","v":""},{"$f":"IFERROR(VLOOKUP(Z3555,CadMP!$B:$D,2,0),\"\")","v":""},{"$f":"IFERROR(VLOOKUP(AA3555,CadMP!$B:$D,2,0),\"\")","v":""},{"$f":"IFERROR(VLOOKUP(AB3555,CadMP!$B:$D,2,0),\"\")","v":""},{"$f":"IFERROR(VLOOKUP(AC3555,CadMP!$B:$D,2,0),\"\")","v":""},{"$f":"IFERROR(VLOOKUP(AD3555,CadMP!$B:$D,2,0),\"\")","v":""},{"$f":"IFERROR(VLOOKUP(AE3555,CadMP!$B:$D,2,0),\"\")","v":""},{"$f":"IFERROR(VLOOKUP(AF3555,CadMP!$B:$D,2,0),\"\")","v":""},{"$f":"IFERROR(VLOOKUP(AG3555,CadMP!$B:$D,2,0),\"\")","v":""},{"$f":"IFERROR(VLOOKUP(AH3555,CadMP!$B:$D,2,0),\"\")","v":""},{"$f":"IFERROR(VLOOKUP(AI3555,CadMP!$B:$D,2,0),\"\")","v":""},{"$f":"IFERROR(VLOOKUP(AJ3555,CadMP!$B:$D,2,0),\"\")","v":""},{"$f":"IFERROR(VLOOKUP(AK3555,CadMP!$B:$D,2,0),\"\")","v":""},{"$f":"IFERROR(VLOOKUP(W3555,CadMP!$B:$D,3,0),\"\")","v":""},{"$f":"IFERROR(VLOOKUP(X3555,CadMP!$B:$D,3,0),\"\")","v":""},{"$f":"IFERROR(VLOOKUP(Y3555,CadMP!$B:$D,3,0),\"\")","v":""},{"$f":"IFERROR(VLOOKUP(Z3555,CadMP!$B:$D,3,0),\"\")","v":""},{"$f":"IFERROR(VLOOKUP(AA3555,CadMP!$B:$D,3,0),\"\")","v":""},{"$f":"IFERROR(VLOOKUP(AB3555,CadMP!$B:$D,3,0),\"\")","v":""},{"$f":"IFERROR(VLOOKUP(AC3555,CadMP!$B:$D,3,0),\"\")","v":""},{"$f":"IFERROR(VLOOKUP(AD3555,CadMP!$B:$D,3,0),\"\")","v":""},{"$f":"IFERROR(VLOOKUP(AE3555,CadMP!$B:$D,3,0),\"\")","v":""},{"$f":"IFERROR(VLOOKUP(AF3555,CadMP!$B:$D,3,0),\"\")","v":""},{"$f":"IFERROR(VLOOKUP(AG3555,CadMP!$B:$D,3,0),\"\")","v":""},{"$f":"IFERROR(VLOOKUP(AH3555,CadMP!$B:$D,3,0),\"\")","v":""},{"$f":"IFERROR(VLOOKUP(AI3555,CadMP!$B:$D,3,0),\"\")","v":""},{"$f":"IFERROR(VLOOKUP(AJ3555,CadMP!$B:$D,3,0),\"\")","v":""},{"$f":"IFERROR(VLOOKUP(AK3555,CadMP!$B:$D,3,0),\"\")","v":""},0,0,0,0,0,0,0,0,0,0,0,0,0,0,0]
[3577,null,null,0,0,null,null,null,null,null,null,0,0,null,null,null,null,null,null,null,1,0,null,null,null,null,null,null,null,null,null,null,null,null,null,null,null,null,null,null,null,null,null,null,null,null,null,null,null,null,null,null,{"$f":"IFERROR(VLOOKUP(W3578,CadMP!$B:$D,2,0),\"\")","v":""},{"$f":"IFERROR(VLOOKUP(X3578,CadMP!$B:$D,2,0),\"\")","v":""},{"$f":"IFERROR(VLOOKUP(Y3578,CadMP!$B:$D,2,0),\"\")","v":""},{"$f":"IFERROR(VLOOKUP(Z3578,CadMP!$B:$D,2,0),\"\")","v":""},{"$f":"IFERROR(VLOOKUP(AA3578,CadMP!$B:$D,2,0),\"\")","v":""},{"$f":"IFERROR(VLOOKUP(AB3578,CadMP!$B:$D,2,0),\"\")","v":""},{"$f":"IFERROR(VLOOKUP(AC3578,CadMP!$B:$D,2,0),\"\")","v":""},{"$f":"IFERROR(VLOOKUP(AD3578,CadMP!$B:$D,2,0),\"\")","v":""},{"$f":"IFERROR(VLOOKUP(AE3578,CadMP!$B:$D,2,0),\"\")","v":""},{"$f":"IFERROR(VLOOKUP(AF3578,CadMP!$B:$D,2,0),\"\")","v":""},{"$f":"IFERROR(VLOOKUP(AG3578,CadMP!$B:$D,2,0),\"\")","v":""},{"$f":"IFERROR(VLOOKUP(AH3578,CadMP!$B:$D,2,0),\"\")","v":""},{"$f":"IFERROR(VLOOKUP(AI3578,CadMP!$B:$D,2,0),\"\")","v":""},{"$f":"IFERROR(VLOOKUP(AJ3578,CadMP!$B:$D,2,0),\"\")","v":""},{"$f":"IFERROR(VLOOKUP(AK3578,CadMP!$B:$D,2,0),\"\")","v":""},{"$f":"IFERROR(VLOOKUP(W3578,CadMP!$B:$D,3,0),\"\")","v":""},{"$f":"IFERROR(VLOOKUP(X3578,CadMP!$B:$D,3,0),\"\")","v":""},{"$f":"IFERROR(VLOOKUP(Y3578,CadMP!$B:$D,3,0),\"\")","v":""},{"$f":"IFERROR(VLOOKUP(Z3578,CadMP!$B:$D,3,0),\"\")","v":""},{"$f":"IFERROR(VLOOKUP(AA3578,CadMP!$B:$D,3,0),\"\")","v":""},{"$f":"IFERROR(VLOOKUP(AB3578,CadMP!$B:$D,3,0),\"\")","v":""},{"$f":"IFERROR(VLOOKUP(AC3578,CadMP!$B:$D,3,0),\"\")","v":""},{"$f":"IFERROR(VLOOKUP(AD3578,CadMP!$B:$D,3,0),\"\")","v":""},{"$f":"IFERROR(VLOOKUP(AE3578,CadMP!$B:$D,3,0),\"\")","v":""},{"$f":"IFERROR(VLOOKUP(AF3578,CadMP!$B:$D,3,0),\"\")","v":""},{"$f":"IFERROR(VLOOKUP(AG3578,CadMP!$B:$D,3,0),\"\")","v":""},{"$f":"IFERROR(VLOOKUP(AH3578,CadMP!$B:$D,3,0),\"\")","v":""},{"$f":"IFERROR(VLOOKUP(AI3578,CadMP!$B:$D,3,0),\"\")","v":""},{"$f":"IFERROR(VLOOKUP(AJ3578,CadMP!$B:$D,3,0),\"\")","v":""},{"$f":"IFERROR(VLOOKUP(AK3578,CadMP!$B:$D,3,0),\"\")","v":""},0,0,0,0,0,0,0,0,0,0,0,0,0,0,0]
[3591,null,null,0,0,null,null,null,null,null,null,0,0,null,null,null,null,null,null,null,1,0,null,null,null,null,null,null,null,null,null,null,null,null,null,null,null,null,null,null,null,null,null,null,null,null,null,null,null,null,null,null,{"$f":"IFERROR(VLOOKUP(W3592,CadMP!$B:$D,2,0),\"\")","v":""},{"$f":"IFERROR(VLOOKUP(X3592,CadMP!$B:$D,2,0),\"\")","v":""},{"$f":"IFERROR(VLOOKUP(Y3592,CadMP!$B:$D,2,0),\"\")","v":""},{"$f":"IFERROR(VLOOKUP(Z3592,CadMP!$B:$D,2,0),\"\")","v":""},{"$f":"IFERROR(VLOOKUP(AA3592,CadMP!$B:$D,2,0),\"\")","v":""},{"$f":"IFERROR(VLOOKUP(AB3592,CadMP!$B:$D,2,0),\"\")","v":""},{"$f":"IFERROR(VLOOKUP(AC3592,CadMP!$B:$D,2,0),\"\")","v":""},{"$f":"IFERROR(VLOOKUP(AD3592,CadMP!$B:$D,2,0),\"\")","v":""},{"$f":"IFERROR(VLOOKUP(AE3592,CadMP!$B:$D,2,0),\"\")","v":""},{"$f":"IFERROR(VLOOKUP(AF3592,CadMP!$B:$D,2,0),\"\")","v":""},{"$f":"IFERROR(VLOOKUP(AG3592,CadMP!$B:$D,2,0),\"\")","v":""},{"$f":"IFERROR(VLOOKUP(AH3592,CadMP!$B:$D,2,0),\"\")","v":""},{"$f":"IFERROR(VLOOKUP(AI3592,CadMP!$B:$D,2,0),\"\")","v":""},{"$f":"IFERROR(VLOOKUP(AJ3592,CadMP!$B:$D,2,0),\"\")","v":""},{"$f":"IFERROR(VLOOKUP(AK3592,CadMP!$B:$D,2,0),\"\")","v":""},{"$f":"IFERROR(VLOOKUP(W3592,CadMP!$B:$D,3,0),\"\")","v":""},{"$f":"IFERROR(VLOOKUP(X3592,CadMP!$B:$D,3,0),\"\")","v":""},{"$f":"IFERROR(VLOOKUP(Y3592,CadMP!$B:$D,3,0),\"\")","v":""},{"$f":"IFERROR(VLOOKUP(Z3592,CadMP!$B:$D,3,0),\"\")","v":""},{"$f":"IFERROR(VLOOKUP(AA3592,CadMP!$B:$D,3,0),\"\")","v":""},{"$f":"IFERROR(VLOOKUP(AB3592,CadMP!$B:$D,3,0),\"\")","v":""},{"$f":"IFERROR(VLOOKUP(AC3592,CadMP!$B:$D,3,0),\"\")","v":""},{"$f":"IFERROR(VLOOKUP(AD3592,CadMP!$B:$D,3,0),\"\")","v":""},{"$f":"IFERROR(VLOOKUP(AE3592,CadMP!$B:$D,3,0),\"\")","v":""},{"$f":"IFERROR(VLOOKUP(AF3592,CadMP!$B:$D,3,0),\"\")","v":""},{"$f":"IFERROR(VLOOKUP(AG3592,CadMP!$B:$D,3,0),\"\")","v":""},{"$f":"IFERROR(VLOOKUP(AH3592,CadMP!$B:$D,3,0),\"\")","v":""},{"$f":"IFERROR(VLOOKUP(AI3592,CadMP!$B:$D,3,0),\"\")","v":""},{"$f":"IFERROR(VLOOKUP(AJ3592,CadMP!$B:$D,3,0),\"\")","v":""},{"$f":"IFERROR(VLOOKUP(AK3592,CadMP!$B:$D,3,0),\"\")","v":""},0,0,0,0,0,0,0,0,0,0,0,0,0,0,0]
[3616,null,null,0,0,null,null,null,null,null,null,0,0,null,null,null,null,null,null,null,1,0,null,null,null,null,null,null,null,null,null,null,null,null,null,null,null,null,null,null,null,null,null,null,null,null,null,null,null,null,null,null,{"$f":"IFERROR(VLOOKUP(W3617,CadMP!$B:$D,2,0),\"\")","v":""},{"$f":"IFERROR(VLOOKUP(X3617,CadMP!$B:$D,2,0),\"\")","v":""},{"$f":"IFERROR(VLOOKUP(Y3617,CadMP!$B:$D,2,0),\"\")","v":""},{"$f":"IFERROR(VLOOKUP(Z3617,CadMP!$B:$D,2,0),\"\")","v":""},{"$f":"IFERROR(VLOOKUP(AA3617,CadMP!$B:$D,2,0),\"\")","v":""},{"$f":"IFERROR(VLOOKUP(AB3617,CadMP!$B:$D,2,0),\"\")","v":""},{"$f":"IFERROR(VLOOKUP(AC3617,CadMP!$B:$D,2,0),\"\")","v":""},{"$f":"IFERROR(VLOOKUP(AD3617,CadMP!$B:$D,2,0),\"\")","v":""},{"$f":"IFERROR(VLOOKUP(AE3617,CadMP!$B:$D,2,0),\"\")","v":""},{"$f":"IFERROR(VLOOKUP(AF3617,CadMP!$B:$D,2,0),\"\")","v":""},{"$f":"IFERROR(VLOOKUP(AG3617,CadMP!$B:$D,2,0),\"\")","v":""},{"$f":"IFERROR(VLOOKUP(AH3617,CadMP!$B:$D,2,0),\"\")","v":""},{"$f":"IFERROR(VLOOKUP(AI3617,CadMP!$B:$D,2,0),\"\")","v":""},{"$f":"IFERROR(VLOOKUP(AJ3617,CadMP!$B:$D,2,0),\"\")","v":""},{"$f":"IFERROR(VLOOKUP(AK3617,CadMP!$B:$D,2,0),\"\")","v":""},{"$f":"IFERROR(VLOOKUP(W3617,CadMP!$B:$D,3,0),\"\")","v":""},{"$f":"IFERROR(VLOOKUP(X3617,CadMP!$B:$D,3,0),\"\")","v":""},{"$f":"IFERROR(VLOOKUP(Y3617,CadMP!$B:$D,3,0),\"\")","v":""},{"$f":"IFERROR(VLOOKUP(Z3617,CadMP!$B:$D,3,0),\"\")","v":""},{"$f":"IFERROR(VLOOKUP(AA3617,CadMP!$B:$D,3,0),\"\")","v":""},{"$f":"IFERROR(VLOOKUP(AB3617,CadMP!$B:$D,3,0),\"\")","v":""},{"$f":"IFERROR(VLOOKUP(AC3617,CadMP!$B:$D,3,0),\"\")","v":""},{"$f":"IFERROR(VLOOKUP(AD3617,CadMP!$B:$D,3,0),\"\")","v":""},{"$f":"IFERROR(VLOOKUP(AE3617,CadMP!$B:$D,3,0),\"\")","v":""},{"$f":"IFERROR(VLOOKUP(AF3617,CadMP!$B:$D,3,0),\"\")","v":""},{"$f":"IFERROR(VLOOKUP(AG3617,CadMP!$B:$D,3,0),\"\")","v":""},{"$f":"IFERROR(VLOOKUP(AH3617,CadMP!$B:$D,3,0),\"\")","v":""},{"$f":"IFERROR(VLOOKUP(AI3617,CadMP!$B:$D,3,0),\"\")","v":""},{"$f":"IFERROR(VLOOKUP(AJ3617,CadMP!$B:$D,3,0),\"\")","v":""},{"$f":"IFERROR(VLOOKUP(AK3617,CadMP!$B:$D,3,0),\"\")","v":""},0,0,0,0,0,0,0,0,0,0,0,0,0,0,0]
[3635,null,null,0,0,null,null,null,null,null,null,0,0,null,null,null,null,null,null,null,1,0,null,null,null,null,null,null,null,null,null,null,null,null,null,null,null,null,null,null,null,null,null,null,null,null,null,null,null,null,null,null,{"$f":"IFERROR(VLOOKUP(W3636,CadMP!$B:$D,2,0),\"\")","v":""},{"$f":"IFERROR(VLOOKUP(X3636,CadMP!$B:$D,2,0),\"\")","v":""},{"$f":"IFERROR(VLOOKUP(Y3636,CadMP!$B:$D,2,0),\"\")","v":""},{"$f":"IFERROR(VLOOKUP(Z3636,CadMP!$B:$D,2,0),\"\")","v":""},{"$f":"IFERROR(VLOOKUP(AA3636,CadMP!$B:$D,2,0),\"\")","v":""},{"$f":"IFERROR(VLOOKUP(AB3636,CadMP!$B:$D,2,0),\"\")","v":""},{"$f":"IFERROR(VLOOKUP(AC3636,CadMP!$B:$D,2,0),\"\")","v":""},{"$f":"IFERROR(VLOOKUP(AD3636,CadMP!$B:$D,2,0),\"\")","v":""},{"$f":"IFERROR(VLOOKUP(AE3636,CadMP!$B:$D,2,0),\"\")","v":""},{"$f":"IFERROR(VLOOKUP(AF3636,CadMP!$B:$D,2,0),\"\")","v":""},{"$f":"IFERROR(VLOOKUP(AG3636,CadMP!$B:$D,2,0),\"\")","v":""},{"$f":"IFERROR(VLOOKUP(AH3636,CadMP!$B:$D,2,0),\"\")","v":""},{"$f":"IFERROR(VLOOKUP(AI3636,CadMP!$B:$D,2,0),\"\")","v":""},{"$f":"IFERROR(VLOOKUP(AJ3636,CadMP!$B:$D,2,0),\"\")","v":""},{"$f":"IFERROR(VLOOKUP(AK3636,CadMP!$B:$D,2,0),\"\")","v":""},{"$f":"IFERROR(VLOOKUP(W3636,CadMP!$B:$D,3,0),\"\")","v":""},{"$f":"IFERROR(VLOOKUP(X3636,CadMP!$B:$D,3,0),\"\")","v":""},{"$f":"IFERROR(VLOOKUP(Y3636,CadMP!$B:$D,3,0),\"\")","v":""},{"$f":"IFERROR(VLOOKUP(Z3636,CadMP!$B:$D,3,0),\"\")","v":""},{"$f":"IFERROR(VLOOKUP(AA3636,CadMP!$B:$D,3,0),\"\")","v":""},{"$f":"IFERROR(VLOOKUP(AB3636,CadMP!$B:$D,3,0),\"\")","v":""},{"$f":"IFERROR(VLOOKUP(AC3636,CadMP!$B:$D,3,0),\"\")","v":""},{"$f":"IFERROR(VLOOKUP(AD3636,CadMP!$B:$D,3,0),\"\")","v":""},{"$f":"IFERROR(VLOOKUP(AE3636,CadMP!$B:$D,3,0),\"\")","v":""},{"$f":"IFERROR(VLOOKUP(AF3636,CadMP!$B:$D,3,0),\"\")","v":""},{"$f":"IFERROR(VLOOKUP(AG3636,CadMP!$B:$D,3,0),\"\")","v":""},{"$f":"IFERROR(VLOOKUP(AH3636,CadMP!$B:$D,3,0),\"\")","v":""},{"$f":"IFERROR(VLOOKUP(AI3636,CadMP!$B:$D,3,0),\"\")","v":""},{"$f":"IFERROR(VLOOKUP(AJ3636,CadMP!$B:$D,3,0),\"\")","v":""},{"$f":"IFERROR(VLOOKUP(AK3636,CadMP!$B:$D,3,0),\"\")","v":""},0,0,0,0,0,0,0,0,0,0,0,0,0,0,0]
[3654,null,null,0,0,null,null,null,null,null,null,0,0,null,null,null,null,null,null,null,1,0,null,null,null,null,null,null,null,null,null,null,null,null,null,null,null,null,null,null,null,null,null,null,null,null,null,null,null,null,null,null,{"$f":"IFERROR(VLOOKUP(W3655,CadMP!$B:$D,2,0),\"\")","v":""},{"$f":"IFERROR(VLOOKUP(X3655,CadMP!$B:$D,2,0),\"\")","v":""},{"$f":"IFERROR(VLOOKUP(Y3655,CadMP!$B:$D,2,0),\"\")","v":""},{"$f":"IFERROR(VLOOKUP(Z3655,CadMP!$B:$D,2,0),\"\")","v":""},{"$f":"IFERROR(VLOOKUP(AA3655,CadMP!$B:$D,2,0),\"\")","v":""},{"$f":"IFERROR(VLOOKUP(AB3655,CadMP!$B:$D,2,0),\"\")","v":""},{"$f":"IFERROR(VLOOKUP(AC3655,CadMP!$B:$D,2,0),\"\")","v":""},{"$f":"IFERROR(VLOOKUP(AD3655,CadMP!$B:$D,2,0),\"\")","v":""},{"$f":"IFERROR(VLOOKUP(AE3655,CadMP!$B:$D,2,0),\"\")","v":""},{"$f":"IFERROR(VLOOKUP(AF3655,CadMP!$B:$D,2,0),\"\")","v":""},{"$f":"IFERROR(VLOOKUP(AG3655,CadMP!$B:$D,2,0),\"\")","v":""},{"$f":"IFERROR(VLOOKUP(AH3655,CadMP!$B:$D,2,0),\"\")","v":""},{"$f":"IFERROR(VLOOKUP(AI3655,CadMP!$B:$D,2,0),\"\")","v":""},{"$f":"IFERROR(VLOOKUP(AJ3655,CadMP!$B:$D,2,0),\"\")","v":""},{"$f":"IFERROR(VLOOKUP(AK3655,CadMP!$B:$D,2,0),\"\")","v":""},{"$f":"IFERROR(VLOOKUP(W3655,CadMP!$B:$D,3,0),\"\")","v":""},{"$f":"IFERROR(VLOOKUP(X3655,CadMP!$B:$D,3,0),\"\")","v":""},{"$f":"IFERROR(VLOOKUP(Y3655,CadMP!$B:$D,3,0),\"\")","v":""},{"$f":"IFERROR(VLOOKUP(Z3655,CadMP!$B:$D,3,0),\"\")","v":""},{"$f":"IFERROR(VLOOKUP(AA3655,CadMP!$B:$D,3,0),\"\")","v":""},{"$f":"IFERROR(VLOOKUP(AB3655,CadMP!$B:$D,3,0),\"\")","v":""},{"$f":"IFERROR(VLOOKUP(AC3655,CadMP!$B:$D,3,0),\"\")","v":""},{"$f":"IFERROR(VLOOKUP(AD3655,CadMP!$B:$D,3,0),\"\")","v":""},{"$f":"IFERROR(VLOOKUP(AE3655,CadMP!$B:$D,3,0),\"\")","v":""},{"$f":"IFERROR(VLOOKUP(AF3655,CadMP!$B:$D,3,0),\"\")","v":""},{"$f":"IFERROR(VLOOKUP(AG3655,CadMP!$B:$D,3,0),\"\")","v":""},{"$f":"IFERROR(VLOOKUP(AH3655,CadMP!$B:$D,3,0),\"\")","v":""},{"$f":"IFERROR(VLOOKUP(AI3655,CadMP!$B:$D,3,0),\"\")","v":""},{"$f":"IFERROR(VLOOKUP(AJ3655,CadMP!$B:$D,3,0),\"\")","v":""},{"$f":"IFERROR(VLOOKUP(AK3655,CadMP!$B:$D,3,0),\"\")","v":""},0,0,0,0,0,0,0,0,0,0,0,0,0,0,0]
[3678,null,null,0,0,null,null,null,null,null,null,0,0,null,null,null,null,null,null,null,1,0,null,null,null,null,null,null,null,null,null,null,null,null,null,null,null,null,null,null,null,null,null,null,null,null,null,null,null,null,null,null,{"$f":"IFERROR(VLOOKUP(W3679,CadMP!$B:$D,2,0),\"\")","v":""},{"$f":"IFERROR(VLOOKUP(X3679,CadMP!$B:$D,2,0),\"\")","v":""},{"$f":"IFERROR(VLOOKUP(Y3679,CadMP!$B:$D,2,0),\"\")","v":""},{"$f":"IFERROR(VLOOKUP(Z3679,CadMP!$B:$D,2,0),\"\")","v":""},{"$f":"IFERROR(VLOOKUP(AA3679,CadMP!$B:$D,2,0),\"\")","v":""},{"$f":"IFERROR(VLOOKUP(AB3679,CadMP!$B:$D,2,0),\"\")","v":""},{"$f":"IFERROR(VLOOKUP(AC3679,CadMP!$B:$D,2,0),\"\")","v":""},{"$f":"IFERROR(VLOOKUP(AD3679,CadMP!$B:$D,2,0),\"\")","v":""},{"$f":"IFERROR(VLOOKUP(AE3679,CadMP!$B:$D,2,0),\"\")","v":""},{"$f":"IFERROR(VLOOKUP(AF3679,CadMP!$B:$D,2,0),\"\")","v":""},{"$f":"IFERROR(VLOOKUP(AG3679,CadMP!$B:$D,2,0),\"\")","v":""},{"$f":"IFERROR(VLOOKUP(AH3679,CadMP!$B:$D,2,0),\"\")","v":""},{"$f":"IFERROR(VLOOKUP(AI3679,CadMP!$B:$D,2,0),\"\")","v":""},{"$f":"IFERROR(VLOOKUP(AJ3679,CadMP!$B:$D,2,0),\"\")","v":""},{"$f":"IFERROR(VLOOKUP(AK3679,CadMP!$B:$D,2,0),\"\")","v":""},{"$f":"IFERROR(VLOOKUP(W3679,CadMP!$B:$D,3,0),\"\")","v":""},{"$f":"IFERROR(VLOOKUP(X3679,CadMP!$B:$D,3,0),\"\")","v":""},{"$f":"IFERROR(VLOOKUP(Y3679,CadMP!$B:$D,3,0),\"\")","v":""},{"$f":"IFERROR(VLOOKUP(Z3679,CadMP!$B:$D,3,0),\"\")","v":""},{"$f":"IFERROR(VLOOKUP(AA3679,CadMP!$B:$D,3,0),\"\")","v":""},{"$f":"IFERROR(VLOOKUP(AB3679,CadMP!$B:$D,3,0),\"\")","v":""},{"$f":"IFERROR(VLOOKUP(AC3679,CadMP!$B:$D,3,0),\"\")","v":""},{"$f":"IFERROR(VLOOKUP(AD3679,CadMP!$B:$D,3,0),\"\")","v":""},{"$f":"IFERROR(VLOOKUP(AE3679,CadMP!$B:$D,3,0),\"\")","v":""},{"$f":"IFERROR(VLOOKUP(AF3679,CadMP!$B:$D,3,0),\"\")","v":""},{"$f":"IFERROR(VLOOKUP(AG3679,CadMP!$B:$D,3,0),\"\")","v":""},{"$f":"IFERROR(VLOOKUP(AH3679,CadMP!$B:$D,3,0),\"\")","v":""},{"$f":"IFERROR(VLOOKUP(AI3679,CadMP!$B:$D,3,0),\"\")","v":""},{"$f":"IFERROR(VLOOKUP(AJ3679,CadMP!$B:$D,3,0),\"\")","v":""},{"$f":"IFERROR(VLOOKUP(AK3679,CadMP!$B:$D,3,0),\"\")","v":""},0,0,0,0,0,0,0,0,0,0,0,0,0,0,0]
[3697,null,null,0,0,null,null,null,null,null,null,0,0,null,null,null,null,null,null,null,1,0,null,null,null,null,null,null,null,null,null,null,null,null,null,null,null,null,null,null,null,null,null,null,null,null,null,null,null,null,null,null,{"$f":"IFERROR(VLOOKUP(W3698,CadMP!$B:$D,2,0),\"\")","v":""},{"$f":"IFERROR(VLOOKUP(X3698,CadMP!$B:$D,2,0),\"\")","v":""},{"$f":"IFERROR(VLOOKUP(Y3698,CadMP!$B:$D,2,0),\"\")","v":""},{"$f":"IFERROR(VLOOKUP(Z3698,CadMP!$B:$D,2,0),\"\")","v":""},{"$f":"IFERROR(VLOOKUP(AA3698,CadMP!$B:$D,2,0),\"\")","v":""},{"$f":"IFERROR(VLOOKUP(AB3698,CadMP!$B:$D,2,0),\"\")","v":""},{"$f":"IFERROR(VLOOKUP(AC3698,CadMP!$B:$D,2,0),\"\")","v":""},{"$f":"IFERROR(VLOOKUP(AD3698,CadMP!$B:$D,2,0),\"\")","v":""},{"$f":"IFERROR(VLOOKUP(AE3698,CadMP!$B:$D,2,0),\"\")","v":""},{"$f":"IFERROR(VLOOKUP(AF3698,CadMP!$B:$D,2,0),\"\")","v":""},{"$f":"IFERROR(VLOOKUP(AG3698,CadMP!$B:$D,2,0),\"\")","v":""},{"$f":"IFERROR(VLOOKUP(AH3698,CadMP!$B:$D,2,0),\"\")","v":""},{"$f":"IFERROR(VLOOKUP(AI3698,CadMP!$B:$D,2,0),\"\")","v":""},{"$f":"IFERROR(VLOOKUP(AJ3698,CadMP!$B:$D,2,0),\"\")","v":""},{"$f":"IFERROR(VLOOKUP(AK3698,CadMP!$B:$D,2,0),\"\")","v":""},{"$f":"IFERROR(VLOOKUP(W3698,CadMP!$B:$D,3,0),\"\")","v":""},{"$f":"IFERROR(VLOOKUP(X3698,CadMP!$B:$D,3,0),\"\")","v":""},{"$f":"IFERROR(VLOOKUP(Y3698,CadMP!$B:$D,3,0),\"\")","v":""},{"$f":"IFERROR(VLOOKUP(Z3698,CadMP!$B:$D,3,0),\"\")","v":""},{"$f":"IFERROR(VLOOKUP(AA3698,CadMP!$B:$D,3,0),\"\")","v":""},{"$f":"IFERROR(VLOOKUP(AB3698,CadMP!$B:$D,3,0),\"\")","v":""},{"$f":"IFERROR(VLOOKUP(AC3698,CadMP!$B:$D,3,0),\"\")","v":""},{"$f":"IFERROR(VLOOKUP(AD3698,CadMP!$B:$D,3,0),\"\")","v":""},{"$f":"IFERROR(VLOOKUP(AE3698,CadMP!$B:$D,3,0),\"\")","v":""},{"$f":"IFERROR(VLOOKUP(AF3698,CadMP!$B:$D,3,0),\"\")","v":""},{"$f":"IFERROR(VLOOKUP(AG3698,CadMP!$B:$D,3,0),\"\")","v":""},{"$f":"IFERROR(VLOOKUP(AH3698,CadMP!$B:$D,3,0),\"\")","v":""},{"$f":"IFERROR(VLOOKUP(AI3698,CadMP!$B:$D,3,0),\"\")","v":""},{"$f":"IFERROR(VLOOKUP(AJ3698,CadMP!$B:$D,3,0),\"\")","v":""},{"$f":"IFERROR(VLOOKUP(AK3698,CadMP!$B:$D,3,0),\"\")","v":""},0,0,0,0,0,0,0,0,0,0,0,0,0,0,0]
[3703,null,null,0,0,null,null,null,null,null,null,0,0,null,null,null,null,null,null,null,1,0,null,null,null,null,null,null,null,null,null,null,null,null,null,null,null,null,null,null,null,null,null,null,null,null,null,null,null,null,null,null,{"$f":"IFERROR(VLOOKUP(W3704,CadMP!$B:$D,2,0),\"\")","v":""},{"$f":"IFERROR(VLOOKUP(X3704,CadMP!$B:$D,2,0),\"\")","v":""},{"$f":"IFERROR(VLOOKUP(Y3704,CadMP!$B:$D,2,0),\"\")","v":""},{"$f":"IFERROR(VLOOKUP(Z3704,CadMP!$B:$D,2,0),\"\")","v":""},{"$f":"IFERROR(VLOOKUP(AA3704,CadMP!$B:$D,2,0),\"\")","v":""},{"$f":"IFERROR(VLOOKUP(AB3704,CadMP!$B:$D,2,0),\"\")","v":""},{"$f":"IFERROR(VLOOKUP(AC3704,CadMP!$B:$D,2,0),\"\")","v":""},{"$f":"IFERROR(VLOOKUP(AD3704,CadMP!$B:$D,2,0),\"\")","v":""},{"$f":"IFERROR(VLOOKUP(AE3704,CadMP!$B:$D,2,0),\"\")","v":""},{"$f":"IFERROR(VLOOKUP(AF3704,CadMP!$B:$D,2,0),\"\")","v":""},{"$f":"IFERROR(VLOOKUP(AG3704,CadMP!$B:$D,2,0),\"\")","v":""},{"$f":"IFERROR(VLOOKUP(AH3704,CadMP!$B:$D,2,0),\"\")","v":""},{"$f":"IFERROR(VLOOKUP(AI3704,CadMP!$B:$D,2,0),\"\")","v":""},{"$f":"IFERROR(VLOOKUP(AJ3704,CadMP!$B:$D,2,0),\"\")","v":""},{"$f":"IFERROR(VLOOKUP(AK3704,CadMP!$B:$D,2,0),\"\")","v":""},{"$f":"IFERROR(VLOOKUP(W3704,CadMP!$B:$D,3,0),\"\")","v":""},{"$f":"IFERROR(VLOOKUP(X3704,CadMP!$B:$D,3,0),\"\")","v":""},{"$f":"IFERROR(VLOOKUP(Y3704,CadMP!$B:$D,3,0),\"\")","v":""},{"$f":"IFERROR(VLOOKUP(Z3704,CadMP!$B:$D,3,0),\"\")","v":""},{"$f":"IFERROR(VLOOKUP(AA3704,CadMP!$B:$D,3,0),\"\")","v":""},{"$f":"IFERROR(VLOOKUP(AB3704,CadMP!$B:$D,3,0),\"\")","v":""},{"$f":"IFERROR(VLOOKUP(AC3704,CadMP!$B:$D,3,0),\"\")","v":""},{"$f":"IFERROR(VLOOKUP(AD3704,CadMP!$B:$D,3,0),\"\")","v":""},{"$f":"IFERROR(VLOOKUP(AE3704,CadMP!$B:$D,3,0),\"\")","v":""},{"$f":"IFERROR(VLOOKUP(AF3704,CadMP!$B:$D,3,0),\"\")","v":""},{"$f":"IFERROR(VLOOKUP(AG3704,CadMP!$B:$D,3,0),\"\")","v":""},{"$f":"IFERROR(VLOOKUP(AH3704,CadMP!$B:$D,3,0),\"\")","v":""},{"$f":"IFERROR(VLOOKUP(AI3704,CadMP!$B:$D,3,0),\"\")","v":""},{"$f":"IFERROR(VLOOKUP(AJ3704,CadMP!$B:$D,3,0),\"\")","v":""},{"$f":"IFERROR(VLOOKUP(AK3704,CadMP!$B:$D,3,0),\"\")","v":""},0,0,0,0,0,0,0,0,0,0,0,0,0,0,0]
[3727,null,null,0,0,null,null,null,null,null,null,0,0,null,null,null,null,null,null,null,1,0,null,null,null,null,null,null,null,null,null,null,null,null,null,null,null,null,null,null,null,null,null,null,null,null,null,null,null,null,null,null,{"$f":"IFERROR(VLOOKUP(W3728,CadMP!$B:$D,2,0),\"\")","v":""},{"$f":"IFERROR(VLOOKUP(X3728,CadMP!$B:$D,2,0),\"\")","v":""},{"$f":"IFERROR(VLOOKUP(Y3728,CadMP!$B:$D,2,0),\"\")","v":""},{"$f":"IFERROR(VLOOKUP(Z3728,CadMP!$B:$D,2,0),\"\")","v":""},{"$f":"IFERROR(VLOOKUP(AA3728,CadMP!$B:$D,2,0),\"\")","v":""},{"$f":"IFERROR(VLOOKUP(AB3728,CadMP!$B:$D,2,0),\"\")","v":""},{"$f":"IFERROR(VLOOKUP(AC3728,CadMP!$B:$D,2,0),\"\")","v":""},{"$f":"IFERROR(VLOOKUP(AD3728,CadMP!$B:$D,2,0),\"\")","v":""},{"$f":"IFERROR(VLOOKUP(AE3728,CadMP!$B:$D,2,0),\"\")","v":""},{"$f":"IFERROR(VLOOKUP(AF3728,CadMP!$B:$D,2,0),\"\")","v":""},{"$f":"IFERROR(VLOOKUP(AG3728,CadMP!$B:$D,2,0),\"\")","v":""},{"$f":"IFERROR(VLOOKUP(AH3728,CadMP!$B:$D,2,0),\"\")","v":""},{"$f":"IFERROR(VLOOKUP(AI3728,CadMP!$B:$D,2,0),\"\")","v":""},{"$f":"IFERROR(VLOOKUP(AJ3728,CadMP!$B:$D,2,0),\"\")","v":""},{"$f":"IFERROR(VLOOKUP(AK3728,CadMP!$B:$D,2,0),\"\")","v":""},{"$f":"IFERROR(VLOOKUP(W3728,CadMP!$B:$D,3,0),\"\")","v":""},{"$f":"IFERROR(VLOOKUP(X3728,CadMP!$B:$D,3,0),\"\")","v":""},{"$f":"IFERROR(VLOOKUP(Y3728,CadMP!$B:$D,3,0),\"\")","v":""},{"$f":"IFERROR(VLOOKUP(Z3728,CadMP!$B:$D,3,0),\"\")","v":""},{"$f":"IFERROR(VLOOKUP(AA3728,CadMP!$B:$D,3,0),\"\")","v":""},{"$f":"IFERROR(VLOOKUP(AB3728,CadMP!$B:$D,3,0),\"\")","v":""},{"$f":"IFERROR(VLOOKUP(AC3728,CadMP!$B:$D,3,0),\"\")","v":""},{"$f":"IFERROR(VLOOKUP(AD3728,CadMP!$B:$D,3,0),\"\")","v":""},{"$f":"IFERROR(VLOOKUP(AE3728,CadMP!$B:$D,3,0),\"\")","v":""},{"$f":"IFERROR(VLOOKUP(AF3728,CadMP!$B:$D,3,0),\"\")","v":""},{"$f":"IFERROR(VLOOKUP(AG3728,CadMP!$B:$D,3,0),\"\")","v":""},{"$f":"IFERROR(VLOOKUP(AH3728,CadMP!$B:$D,3,0),\"\")","v":""},{"$f":"IFERROR(VLOOKUP(AI3728,CadMP!$B:$D,3,0),\"\")","v":""},{"$f":"IFERROR(VLOOKUP(AJ3728,CadMP!$B:$D,3,0),\"\")","v":""},{"$f":"IFERROR(VLOOKUP(AK3728,CadMP!$B:$D,3,0),\"\")","v":""},0,0,0,0,0,0,0,0,0,0,0,0,0,0,0]
[3746,null,null,0,0,null,null,null,null,null,null,0,0,null,null,null,null,null,null,null,1,0,null,null,null,null,null,null,null,null,null,null,null,null,null,null,null,null,null,null,null,null,null,null,null,null,null,null,null,null,null,null,{"$f":"IFERROR(VLOOKUP(W3747,CadMP!$B:$D,2,0),\"\")","v":""},{"$f":"IFERROR(VLOOKUP(X3747,CadMP!$B:$D,2,0),\"\")","v":""},{"$f":"IFERROR(VLOOKUP(Y3747,CadMP!$B:$D,2,0),\"\")","v":""},{"$f":"IFERROR(VLOOKUP(Z3747,CadMP!$B:$D,2,0),\"\")","v":""},{"$f":"IFERROR(VLOOKUP(AA3747,CadMP!$B:$D,2,0),\"\")","v":""},{"$f":"IFERROR(VLOOKUP(AB3747,CadMP!$B:$D,2,0),\"\")","v":""},{"$f":"IFERROR(VLOOKUP(AC3747,CadMP!$B:$D,2,0),\"\")","v":""},{"$f":"IFERROR(VLOOKUP(AD3747,CadMP!$B:$D,2,0),\"\")","v":""},{"$f":"IFERROR(VLOOKUP(AE3747,CadMP!$B:$D,2,0),\"\")","v":""},{"$f":"IFERROR(VLOOKUP(AF3747,CadMP!$B:$D,2,0),\"\")","v":""},{"$f":"IFERROR(VLOOKUP(AG3747,CadMP!$B:$D,2,0),\"\")","v":""},{"$f":"IFERROR(VLOOKUP(AH3747,CadMP!$B:$D,2,0),\"\")","v":""},{"$f":"IFERROR(VLOOKUP(AI3747,CadMP!$B:$D,2,0),\"\")","v":""},{"$f":"IFERROR(VLOOKUP(AJ3747,CadMP!$B:$D,2,0),\"\")","v":""},{"$f":"IFERROR(VLOOKUP(AK3747,CadMP!$B:$D,2,0),\"\")","v":""},{"$f":"IFERROR(VLOOKUP(W3747,CadMP!$B:$D,3,0),\"\")","v":""},{"$f":"IFERROR(VLOOKUP(X3747,CadMP!$B:$D,3,0),\"\")","v":""},{"$f":"IFERROR(VLOOKUP(Y3747,CadMP!$B:$D,3,0),\"\")","v":""},{"$f":"IFERROR(VLOOKUP(Z3747,CadMP!$B:$D,3,0),\"\")","v":""},{"$f":"IFERROR(VLOOKUP(AA3747,CadMP!$B:$D,3,0),\"\")","v":""},{"$f":"IFERROR(VLOOKUP(AB3747,CadMP!$B:$D,3,0),\"\")","v":""},{"$f":"IFERROR(VLOOKUP(AC3747,CadMP!$B:$D,3,0),\"\")","v":""},{"$f":"IFERROR(VLOOKUP(AD3747,CadMP!$B:$D,3,0),\"\")","v":""},{"$f":"IFERROR(VLOOKUP(AE3747,CadMP!$B:$D,3,0),\"\")","v":""},{"$f":"IFERROR(VLOOKUP(AF3747,CadMP!$B:$D,3,0),\"\")","v":""},{"$f":"IFERROR(VLOOKUP(AG3747,CadMP!$B:$D,3,0),\"\")","v":""},{"$f":"IFERROR(VLOOKUP(AH3747,CadMP!$B:$D,3,0),\"\")","v":""},{"$f":"IFERROR(VLOOKUP(AI3747,CadMP!$B:$D,3,0),\"\")","v":""},{"$f":"IFERROR(VLOOKUP(AJ3747,CadMP!$B:$D,3,0),\"\")","v":""},{"$f":"IFERROR(VLOOKUP(AK3747,CadMP!$B:$D,3,0),\"\")","v":""},0,0,0,0,0,0,0,0,0,0,0,0,0,0,0]
[3765,null,null,0,0,null,null,null,null,null,null,0,0,null,null,null,null,null,null,null,1,0,null,null,null,null,null,null,null,null,null,null,null,null,null,null,null,null,null,null,null,null,null,null,null,null,null,null,null,null,null,null,{"$f":"IFERROR(VLOOKUP(W3766,CadMP!$B:$D,2,0),\"\")","v":""},{"$f":"IFERROR(VLOOKUP(X3766,CadMP!$B:$D,2,0),\"\")","v":""},{"$f":"IFERROR(VLOOKUP(Y3766,CadMP!$B:$D,2,0),\"\")","v":""},{"$f":"IFERROR(VLOOKUP(Z3766,CadMP!$B:$D,2,0),\"\")","v":""},{"$f":"IFERROR(VLOOKUP(AA3766,CadMP!$B:$D,2,0),\"\")","v":""},{"$f":"IFERROR(VLOOKUP(AB3766,CadMP!$B:$D,2,0),\"\")","v":""},{"$f":"IFERROR(VLOOKUP(AC3766,CadMP!$B:$D,2,0),\"\")","v":""},{"$f":"IFERROR(VLOOKUP(AD3766,CadMP!$B:$D,2,0),\"\")","v":""},{"$f":"IFERROR(VLOOKUP(AE3766,CadMP!$B:$D,2,0),\"\")","v":""},{"$f":"IFERROR(VLOOKUP(AF3766,CadMP!$B:$D,2,0),\"\")","v":""},{"$f":"IFERROR(VLOOKUP(AG3766,CadMP!$B:$D,2,0),\"\")","v":""},{"$f":"IFERROR(VLOOKUP(AH3766,CadMP!$B:$D,2,0),\"\")","v":""},{"$f":"IFERROR(VLOOKUP(AI3766,CadMP!$B:$D,2,0),\"\")","v":""},{"$f":"IFERROR(VLOOKUP(AJ3766,CadMP!$B:$D,2,0),\"\")","v":""},{"$f":"IFERROR(VLOOKUP(AK3766,CadMP!$B:$D,2,0),\"\")","v":""},{"$f":"IFERROR(VLOOKUP(W3766,CadMP!$B:$D,3,0),\"\")","v":""},{"$f":"IFERROR(VLOOKUP(X3766,CadMP!$B:$D,3,0),\"\")","v":""},{"$f":"IFERROR(VLOOKUP(Y3766,CadMP!$B:$D,3,0),\"\")","v":""},{"$f":"IFERROR(VLOOKUP(Z3766,CadMP!$B:$D,3,0),\"\")","v":""},{"$f":"IFERROR(VLOOKUP(AA3766,CadMP!$B:$D,3,0),\"\")","v":""},{"$f":"IFERROR(VLOOKUP(AB3766,CadMP!$B:$D,3,0),\"\")","v":""},{"$f":"IFERROR(VLOOKUP(AC3766,CadMP!$B:$D,3,0),\"\")","v":""},{"$f":"IFERROR(VLOOKUP(AD3766,CadMP!$B:$D,3,0),\"\")","v":""},{"$f":"IFERROR(VLOOKUP(AE3766,CadMP!$B:$D,3,0),\"\")","v":""},{"$f":"IFERROR(VLOOKUP(AF3766,CadMP!$B:$D,3,0),\"\")","v":""},{"$f":"IFERROR(VLOOKUP(AG3766,CadMP!$B:$D,3,0),\"\")","v":""},{"$f":"IFERROR(VLOOKUP(AH3766,CadMP!$B:$D,3,0),\"\")","v":""},{"$f":"IFERROR(VLOOKUP(AI3766,CadMP!$B:$D,3,0),\"\")","v":""},{"$f":"IFERROR(VLOOKUP(AJ3766,CadMP!$B:$D,3,0),\"\")","v":""},{"$f":"IFERROR(VLOOKUP(AK3766,CadMP!$B:$D,3,0),\"\")","v":""},0,0,0,0,0,0,0,0,0,0,0,0,0,0,0]
[3784,null,null,0,0,null,null,null,null,null,null,0,0,null,null,null,null,null,null,null,1,0,null,null,null,null,null,null,null,null,null,null,null,null,null,null,null,null,null,null,null,null,null,null,null,null,null,null,null,null,null,null,{"$f":"IFERROR(VLOOKUP(W3785,CadMP!$B:$D,2,0),\"\")","v":""},{"$f":"IFERROR(VLOOKUP(X3785,CadMP!$B:$D,2,0),\"\")","v":""},{"$f":"IFERROR(VLOOKUP(Y3785,CadMP!$B:$D,2,0),\"\")","v":""},{"$f":"IFERROR(VLOOKUP(Z3785,CadMP!$B:$D,2,0),\"\")","v":""},{"$f":"IFERROR(VLOOKUP(AA3785,CadMP!$B:$D,2,0),\"\")","v":""},{"$f":"IFERROR(VLOOKUP(AB3785,CadMP!$B:$D,2,0),\"\")","v":""},{"$f":"IFERROR(VLOOKUP(AC3785,CadMP!$B:$D,2,0),\"\")","v":""},{"$f":"IFERROR(VLOOKUP(AD3785,CadMP!$B:$D,2,0),\"\")","v":""},{"$f":"IFERROR(VLOOKUP(AE3785,CadMP!$B:$D,2,0),\"\")","v":""},{"$f":"IFERROR(VLOOKUP(AF3785,CadMP!$B:$D,2,0),\"\")","v":""},{"$f":"IFERROR(VLOOKUP(AG3785,CadMP!$B:$D,2,0),\"\")","v":""},{"$f":"IFERROR(VLOOKUP(AH3785,CadMP!$B:$D,2,0),\"\")","v":""},{"$f":"IFERROR(VLOOKUP(AI3785,CadMP!$B:$D,2,0),\"\")","v":""},{"$f":"IFERROR(VLOOKUP(AJ3785,CadMP!$B:$D,2,0),\"\")","v":""},{"$f":"IFERROR(VLOOKUP(AK3785,CadMP!$B:$D,2,0),\"\")","v":""},{"$f":"IFERROR(VLOOKUP(W3785,CadMP!$B:$D,3,0),\"\")","v":""},{"$f":"IFERROR(VLOOKUP(X3785,CadMP!$B:$D,3,0),\"\")","v":""},{"$f":"IFERROR(VLOOKUP(Y3785,CadMP!$B:$D,3,0),\"\")","v":""},{"$f":"IFERROR(VLOOKUP(Z3785,CadMP!$B:$D,3,0),\"\")","v":""},{"$f":"IFERROR(VLOOKUP(AA3785,CadMP!$B:$D,3,0),\"\")","v":""},{"$f":"IFERROR(VLOOKUP(AB3785,CadMP!$B:$D,3,0),\"\")","v":""},{"$f":"IFERROR(VLOOKUP(AC3785,CadMP!$B:$D,3,0),\"\")","v":""},{"$f":"IFERROR(VLOOKUP(AD3785,CadMP!$B:$D,3,0),\"\")","v":""},{"$f":"IFERROR(VLOOKUP(AE3785,CadMP!$B:$D,3,0),\"\")","v":""},{"$f":"IFERROR(VLOOKUP(AF3785,CadMP!$B:$D,3,0),\"\")","v":""},{"$f":"IFERROR(VLOOKUP(AG3785,CadMP!$B:$D,3,0),\"\")","v":""},{"$f":"IFERROR(VLOOKUP(AH3785,CadMP!$B:$D,3,0),\"\")","v":""},{"$f":"IFERROR(VLOOKUP(AI3785,CadMP!$B:$D,3,0),\"\")","v":""},{"$f":"IFERROR(VLOOKUP(AJ3785,CadMP!$B:$D,3,0),\"\")","v":""},{"$f":"IFERROR(VLOOKUP(AK3785,CadMP!$B:$D,3,0),\"\")","v":""},0,0,0,0,0,0,0,0,0,0,0,0,0,0,0]
[3804,null,null,0,0,null,null,null,null,null,null,0,0,null,null,null,null,null,null,null,1,0,null,null,null,null,null,null,null,null,null,null,null,null,null,null,null,null,null,null,null,null,null,null,null,null,null,null,null,null,null,null,{"$f":"IFERROR(VLOOKUP(W3805,CadMP!$B:$D,2,0),\"\")","v":""},{"$f":"IFERROR(VLOOKUP(X3805,CadMP!$B:$D,2,0),\"\")","v":""},{"$f":"IFERROR(VLOOKUP(Y3805,CadMP!$B:$D,2,0),\"\")","v":""},{"$f":"IFERROR(VLOOKUP(Z3805,CadMP!$B:$D,2,0),\"\")","v":""},{"$f":"IFERROR(VLOOKUP(AA3805,CadMP!$B:$D,2,0),\"\")","v":""},{"$f":"IFERROR(VLOOKUP(AB3805,CadMP!$B:$D,2,0),\"\")","v":""},{"$f":"IFERROR(VLOOKUP(AC3805,CadMP!$B:$D,2,0),\"\")","v":""},{"$f":"IFERROR(VLOOKUP(AD3805,CadMP!$B:$D,2,0),\"\")","v":""},{"$f":"IFERROR(VLOOKUP(AE3805,CadMP!$B:$D,2,0),\"\")","v":""},{"$f":"IFERROR(VLOOKUP(AF3805,CadMP!$B:$D,2,0),\"\")","v":""},{"$f":"IFERROR(VLOOKUP(AG3805,CadMP!$B:$D,2,0),\"\")","v":""},{"$f":"IFERROR(VLOOKUP(AH3805,CadMP!$B:$D,2,0),\"\")","v":""},{"$f":"IFERROR(VLOOKUP(AI3805,CadMP!$B:$D,2,0),\"\")","v":""},{"$f":"IFERROR(VLOOKUP(AJ3805,CadMP!$B:$D,2,0),\"\")","v":""},{"$f":"IFERROR(VLOOKUP(AK3805,CadMP!$B:$D,2,0),\"\")","v":""},{"$f":"IFERROR(VLOOKUP(W3805,CadMP!$B:$D,3,0),\"\")","v":""},{"$f":"IFERROR(VLOOKUP(X3805,CadMP!$B:$D,3,0),\"\")","v":""},{"$f":"IFERROR(VLOOKUP(Y3805,CadMP!$B:$D,3,0),\"\")","v":""},{"$f":"IFERROR(VLOOKUP(Z3805,CadMP!$B:$D,3,0),\"\")","v":""},{"$f":"IFERROR(VLOOKUP(AA3805,CadMP!$B:$D,3,0),\"\")","v":""},{"$f":"IFERROR(VLOOKUP(AB3805,CadMP!$B:$D,3,0),\"\")","v":""},{"$f":"IFERROR(VLOOKUP(AC3805,CadMP!$B:$D,3,0),\"\")","v":""},{"$f":"IFERROR(VLOOKUP(AD3805,CadMP!$B:$D,3,0),\"\")","v":""},{"$f":"IFERROR(VLOOKUP(AE3805,CadMP!$B:$D,3,0),\"\")","v":""},{"$f":"IFERROR(VLOOKUP(AF3805,CadMP!$B:$D,3,0),\"\")","v":""},{"$f":"IFERROR(VLOOKUP(AG3805,CadMP!$B:$D,3,0),\"\")","v":""},{"$f":"IFERROR(VLOOKUP(AH3805,CadMP!$B:$D,3,0),\"\")","v":""},{"$f":"IFERROR(VLOOKUP(AI3805,CadMP!$B:$D,3,0),\"\")","v":""},{"$f":"IFERROR(VLOOKUP(AJ3805,CadMP!$B:$D,3,0),\"\")","v":""},{"$f":"IFERROR(VLOOKUP(AK3805,CadMP!$B:$D,3,0),\"\")","v":""},0,0,0,0,0,0,0,0,0,0,0,0,0,0,0]
[3827,null,null,0,0,null,null,null,null,null,null,0,0,null,null,null,null,null,null,null,1,0,null,null,null,null,null,null,null,null,null,null,null,null,null,null,null,null,null,null,null,null,null,null,null,null,null,null,null,null,null,null,{"$f":"IFERROR(VLOOKUP(W3828,CadMP!$B:$D,2,0),\"\")","v":""},{"$f":"IFERROR(VLOOKUP(X3828,CadMP!$B:$D,2,0),\"\")","v":""},{"$f":"IFERROR(VLOOKUP(Y3828,CadMP!$B:$D,2,0),\"\")","v":""},{"$f":"IFERROR(VLOOKUP(Z3828,CadMP!$B:$D,2,0),\"\")","v":""},{"$f":"IFERROR(VLOOKUP(AA3828,CadMP!$B:$D,2,0),\"\")","v":""},{"$f":"IFERROR(VLOOKUP(AB3828,CadMP!$B:$D,2,0),\"\")","v":""},{"$f":"IFERROR(VLOOKUP(AC3828,CadMP!$B:$D,2,0),\"\")","v":""},{"$f":"IFERROR(VLOOKUP(AD3828,CadMP!$B:$D,2,0),\"\")","v":""},{"$f":"IFERROR(VLOOKUP(AE3828,CadMP!$B:$D,2,0),\"\")","v":""},{"$f":"IFERROR(VLOOKUP(AF3828,CadMP!$B:$D,2,0),\"\")","v":""},{"$f":"IFERROR(VLOOKUP(AG3828,CadMP!$B:$D,2,0),\"\")","v":""},{"$f":"IFERROR(VLOOKUP(AH3828,CadMP!$B:$D,2,0),\"\")","v":""},{"$f":"IFERROR(VLOOKUP(AI3828,CadMP!$B:$D,2,0),\"\")","v":""},{"$f":"IFERROR(VLOOKUP(AJ3828,CadMP!$B:$D,2,0),\"\")","v":""},{"$f":"IFERROR(VLOOKUP(AK3828,CadMP!$B:$D,2,0),\"\")","v":""},{"$f":"IFERROR(VLOOKUP(W3828,CadMP!$B:$D,3,0),\"\")","v":""},{"$f":"IFERROR(VLOOKUP(X3828,CadMP!$B:$D,3,0),\"\")","v":""},{"$f":"IFERROR(VLOOKUP(Y3828,CadMP!$B:$D,3,0),\"\")","v":""},{"$f":"IFERROR(VLOOKUP(Z3828,CadMP!$B:$D,3,0),\"\")","v":""},{"$f":"IFERROR(VLOOKUP(AA3828,CadMP!$B:$D,3,0),\"\")","v":""},{"$f":"IFERROR(VLOOKUP(AB3828,CadMP!$B:$D,3,0),\"\")","v":""},{"$f":"IFERROR(VLOOKUP(AC3828,CadMP!$B:$D,3,0),\"\")","v":""},{"$f":"IFERROR(VLOOKUP(AD3828,CadMP!$B:$D,3,0),\"\")","v":""},{"$f":"IFERROR(VLOOKUP(AE3828,CadMP!$B:$D,3,0),\"\")","v":""},{"$f":"IFERROR(VLOOKUP(AF3828,CadMP!$B:$D,3,0),\"\")","v":""},{"$f":"IFERROR(VLOOKUP(AG3828,CadMP!$B:$D,3,0),\"\")","v":""},{"$f":"IFERROR(VLOOKUP(AH3828,CadMP!$B:$D,3,0),\"\")","v":""},{"$f":"IFERROR(VLOOKUP(AI3828,CadMP!$B:$D,3,0),\"\")","v":""},{"$f":"IFERROR(VLOOKUP(AJ3828,CadMP!$B:$D,3,0),\"\")","v":""},{"$f":"IFERROR(VLOOKUP(AK3828,CadMP!$B:$D,3,0),\"\")","v":""},0,0,0,0,0,0,0,0,0,0,0,0,0,0,0]
[3846,null,null,0,0,null,null,null,null,null,null,0,0,null,null,null,null,null,null,null,1,0,null,null,null,null,null,null,null,null,null,null,null,null,null,null,null,null,null,null,null,null,null,null,null,null,null,null,null,null,null,null,{"$f":"IFERROR(VLOOKUP(W3847,CadMP!$B:$D,2,0),\"\")","v":""},{"$f":"IFERROR(VLOOKUP(X3847,CadMP!$B:$D,2,0),\"\")","v":""},{"$f":"IFERROR(VLOOKUP(Y3847,CadMP!$B:$D,2,0),\"\")","v":""},{"$f":"IFERROR(VLOOKUP(Z3847,CadMP!$B:$D,2,0),\"\")","v":""},{"$f":"IFERROR(VLOOKUP(AA3847,CadMP!$B:$D,2,0),\"\")","v":""},{"$f":"IFERROR(VLOOKUP(AB3847,CadMP!$B:$D,2,0),\"\")","v":""},{"$f":"IFERROR(VLOOKUP(AC3847,CadMP!$B:$D,2,0),\"\")","v":""},{"$f":"IFERROR(VLOOKUP(AD3847,CadMP!$B:$D,2,0),\"\")","v":""},{"$f":"IFERROR(VLOOKUP(AE3847,CadMP!$B:$D,2,0),\"\")","v":""},{"$f":"IFERROR(VLOOKUP(AF3847,CadMP!$B:$D,2,0),\"\")","v":""},{"$f":"IFERROR(VLOOKUP(AG3847,CadMP!$B:$D,2,0),\"\")","v":""},{"$f":"IFERROR(VLOOKUP(AH3847,CadMP!$B:$D,2,0),\"\")","v":""},{"$f":"IFERROR(VLOOKUP(AI3847,CadMP!$B:$D,2,0),\"\")","v":""},{"$f":"IFERROR(VLOOKUP(AJ3847,CadMP!$B:$D,2,0),\"\")","v":""},{"$f":"IFERROR(VLOOKUP(AK3847,CadMP!$B:$D,2,0),\"\")","v":""},{"$f":"IFERROR(VLOOKUP(W3847,CadMP!$B:$D,3,0),\"\")","v":""},{"$f":"IFERROR(VLOOKUP(X3847,CadMP!$B:$D,3,0),\"\")","v":""},{"$f":"IFERROR(VLOOKUP(Y3847,CadMP!$B:$D,3,0),\"\")","v":""},{"$f":"IFERROR(VLOOKUP(Z3847,CadMP!$B:$D,3,0),\"\")","v":""},{"$f":"IFERROR(VLOOKUP(AA3847,CadMP!$B:$D,3,0),\"\")","v":""},{"$f":"IFERROR(VLOOKUP(AB3847,CadMP!$B:$D,3,0),\"\")","v":""},{"$f":"IFERROR(VLOOKUP(AC3847,CadMP!$B:$D,3,0),\"\")","v":""},{"$f":"IFERROR(VLOOKUP(AD3847,CadMP!$B:$D,3,0),\"\")","v":""},{"$f":"IFERROR(VLOOKUP(AE3847,CadMP!$B:$D,3,0),\"\")","v":""},{"$f":"IFERROR(VLOOKUP(AF3847,CadMP!$B:$D,3,0),\"\")","v":""},{"$f":"IFERROR(VLOOKUP(AG3847,CadMP!$B:$D,3,0),\"\")","v":""},{"$f":"IFERROR(VLOOKUP(AH3847,CadMP!$B:$D,3,0),\"\")","v":""},{"$f":"IFERROR(VLOOKUP(AI3847,CadMP!$B:$D,3,0),\"\")","v":""},{"$f":"IFERROR(VLOOKUP(AJ3847,CadMP!$B:$D,3,0),\"\")","v":""},{"$f":"IFERROR(VLOOKUP(AK3847,CadMP!$B:$D,3,0),\"\")","v":""},0,0,0,0,0,0,0,0,0,0,0,0,0,0,0]
[3852,null,null,0,0,null,null,null,null,null,null,0,0,null,null,null,null,null,null,null,1,0,null,null,null,null,null,null,null,null,null,null,null,null,null,null,null,null,null,null,null,null,null,null,null,null,null,null,null,null,null,null,{"$f":"IFERROR(VLOOKUP(W3853,CadMP!$B:$D,2,0),\"\")","v":""},{"$f":"IFERROR(VLOOKUP(X3853,CadMP!$B:$D,2,0),\"\")","v":""},{"$f":"IFERROR(VLOOKUP(Y3853,CadMP!$B:$D,2,0),\"\")","v":""},{"$f":"IFERROR(VLOOKUP(Z3853,CadMP!$B:$D,2,0),\"\")","v":""},{"$f":"IFERROR(VLOOKUP(AA3853,CadMP!$B:$D,2,0),\"\")","v":""},{"$f":"IFERROR(VLOOKUP(AB3853,CadMP!$B:$D,2,0),\"\")","v":""},{"$f":"IFERROR(VLOOKUP(AC3853,CadMP!$B:$D,2,0),\"\")","v":""},{"$f":"IFERROR(VLOOKUP(AD3853,CadMP!$B:$D,2,0),\"\")","v":""},{"$f":"IFERROR(VLOOKUP(AE3853,CadMP!$B:$D,2,0),\"\")","v":""},{"$f":"IFERROR(VLOOKUP(AF3853,CadMP!$B:$D,2,0),\"\")","v":""},{"$f":"IFERROR(VLOOKUP(AG3853,CadMP!$B:$D,2,0),\"\")","v":""},{"$f":"IFERROR(VLOOKUP(AH3853,CadMP!$B:$D,2,0),\"\")","v":""},{"$f":"IFERROR(VLOOKUP(AI3853,CadMP!$B:$D,2,0),\"\")","v":""},{"$f":"IFERROR(VLOOKUP(AJ3853,CadMP!$B:$D,2,0),\"\")","v":""},{"$f":"IFERROR(VLOOKUP(AK3853,CadMP!$B:$D,2,0),\"\")","v":""},{"$f":"IFERROR(VLOOKUP(W3853,CadMP!$B:$D,3,0),\"\")","v":""},{"$f":"IFERROR(VLOOKUP(X3853,CadMP!$B:$D,3,0),\"\")","v":""},{"$f":"IFERROR(VLOOKUP(Y3853,CadMP!$B:$D,3,0),\"\")","v":""},{"$f":"IFERROR(VLOOKUP(Z3853,CadMP!$B:$D,3,0),\"\")","v":""},{"$f":"IFERROR(VLOOKUP(AA3853,CadMP!$B:$D,3,0),\"\")","v":""},{"$f":"IFERROR(VLOOKUP(AB3853,CadMP!$B:$D,3,0),\"\")","v":""},{"$f":"IFERROR(VLOOKUP(AC3853,CadMP!$B:$D,3,0),\"\")","v":""},{"$f":"IFERROR(VLOOKUP(AD3853,CadMP!$B:$D,3,0),\"\")","v":""},{"$f":"IFERROR(VLOOKUP(AE3853,CadMP!$B:$D,3,0),\"\")","v":""},{"$f":"IFERROR(VLOOKUP(AF3853,CadMP!$B:$D,3,0),\"\")","v":""},{"$f":"IFERROR(VLOOKUP(AG3853,CadMP!$B:$D,3,0),\"\")","v":""},{"$f":"IFERROR(VLOOKUP(AH3853,CadMP!$B:$D,3,0),\"\")","v":""},{"$f":"IFERROR(VLOOKUP(AI3853,CadMP!$B:$D,3,0),\"\")","v":""},{"$f":"IFERROR(VLOOKUP(AJ3853,CadMP!$B:$D,3,0),\"\")","v":""},{"$f":"IFERROR(VLOOKUP(AK3853,CadMP!$B:$D,3,0),\"\")","v":""},0,0,0,0,0,0,0,0,0,0,0,0,0,0,0]
[3877,null,null,0,0,null,null,null,null,null,null,0,0,null,null,null,null,null,null,null,1,0,null,null,null,null,null,null,null,null,null,null,null,null,null,null,null,null,null,null,null,null,null,null,null,null,null,null,null,null,null,null,{"$f":"IFERROR(VLOOKUP(W3878,CadMP!$B:$D,2,0),\"\")","v":""},{"$f":"IFERROR(VLOOKUP(X3878,CadMP!$B:$D,2,0),\"\")","v":""},{"$f":"IFERROR(VLOOKUP(Y3878,CadMP!$B:$D,2,0),\"\")","v":""},{"$f":"IFERROR(VLOOKUP(Z3878,CadMP!$B:$D,2,0),\"\")","v":""},{"$f":"IFERROR(VLOOKUP(AA3878,CadMP!$B:$D,2,0),\"\")","v":""},{"$f":"IFERROR(VLOOKUP(AB3878,CadMP!$B:$D,2,0),\"\")","v":""},{"$f":"IFERROR(VLOOKUP(AC3878,CadMP!$B:$D,2,0),\"\")","v":""},{"$f":"IFERROR(VLOOKUP(AD3878,CadMP!$B:$D,2,0),\"\")","v":""},{"$f":"IFERROR(VLOOKUP(AE3878,CadMP!$B:$D,2,0),\"\")","v":""},{"$f":"IFERROR(VLOOKUP(AF3878,CadMP!$B:$D,2,0),\"\")","v":""},{"$f":"IFERROR(VLOOKUP(AG3878,CadMP!$B:$D,2,0),\"\")","v":""},{"$f":"IFERROR(VLOOKUP(AH3878,CadMP!$B:$D,2,0),\"\")","v":""},{"$f":"IFERROR(VLOOKUP(AI3878,CadMP!$B:$D,2,0),\"\")","v":""},{"$f":"IFERROR(VLOOKUP(AJ3878,CadMP!$B:$D,2,0),\"\")","v":""},{"$f":"IFERROR(VLOOKUP(AK3878,CadMP!$B:$D,2,0),\"\")","v":""},{"$f":"IFERROR(VLOOKUP(W3878,CadMP!$B:$D,3,0),\"\")","v":""},{"$f":"IFERROR(VLOOKUP(X3878,CadMP!$B:$D,3,0),\"\")","v":""},{"$f":"IFERROR(VLOOKUP(Y3878,CadMP!$B:$D,3,0),\"\")","v":""},{"$f":"IFERROR(VLOOKUP(Z3878,CadMP!$B:$D,3,0),\"\")","v":""},{"$f":"IFERROR(VLOOKUP(AA3878,CadMP!$B:$D,3,0),\"\")","v":""},{"$f":"IFERROR(VLOOKUP(AB3878,CadMP!$B:$D,3,0),\"\")","v":""},{"$f":"IFERROR(VLOOKUP(AC3878,CadMP!$B:$D,3,0),\"\")","v":""},{"$f":"IFERROR(VLOOKUP(AD3878,CadMP!$B:$D,3,0),\"\")","v":""},{"$f":"IFERROR(VLOOKUP(AE3878,CadMP!$B:$D,3,0),\"\")","v":""},{"$f":"IFERROR(VLOOKUP(AF3878,CadMP!$B:$D,3,0),\"\")","v":""},{"$f":"IFERROR(VLOOKUP(AG3878,CadMP!$B:$D,3,0),\"\")","v":""},{"$f":"IFERROR(VLOOKUP(AH3878,CadMP!$B:$D,3,0),\"\")","v":""},{"$f":"IFERROR(VLOOKUP(AI3878,CadMP!$B:$D,3,0),\"\")","v":""},{"$f":"IFERROR(VLOOKUP(AJ3878,CadMP!$B:$D,3,0),\"\")","v":""},{"$f":"IFERROR(VLOOKUP(AK3878,CadMP!$B:$D,3,0),\"\")","v":""},0,0,0,0,0,0,0,0,0,0,0,0,0,0,0]
[3895,null,null,0,0,null,null,null,null,null,null,0,0,null,null,null,null,null,null,null,1,0,null,null,null,null,null,null,null,null,null,null,null,null,null,null,null,null,null,null,null,null,null,null,null,null,null,null,null,null,null,null,{"$f":"IFERROR(VLOOKUP(W3896,CadMP!$B:$D,2,0),\"\")","v":""},{"$f":"IFERROR(VLOOKUP(X3896,CadMP!$B:$D,2,0),\"\")","v":""},{"$f":"IFERROR(VLOOKUP(Y3896,CadMP!$B:$D,2,0),\"\")","v":""},{"$f":"IFERROR(VLOOKUP(Z3896,CadMP!$B:$D,2,0),\"\")","v":""},{"$f":"IFERROR(VLOOKUP(AA3896,CadMP!$B:$D,2,0),\"\")","v":""},{"$f":"IFERROR(VLOOKUP(AB3896,CadMP!$B:$D,2,0),\"\")","v":""},{"$f":"IFERROR(VLOOKUP(AC3896,CadMP!$B:$D,2,0),\"\")","v":""},{"$f":"IFERROR(VLOOKUP(AD3896,CadMP!$B:$D,2,0),\"\")","v":""},{"$f":"IFERROR(VLOOKUP(AE3896,CadMP!$B:$D,2,0),\"\")","v":""},{"$f":"IFERROR(VLOOKUP(AF3896,CadMP!$B:$D,2,0),\"\")","v":""},{"$f":"IFERROR(VLOOKUP(AG3896,CadMP!$B:$D,2,0),\"\")","v":""},{"$f":"IFERROR(VLOOKUP(AH3896,CadMP!$B:$D,2,0),\"\")","v":""},{"$f":"IFERROR(VLOOKUP(AI3896,CadMP!$B:$D,2,0),\"\")","v":""},{"$f":"IFERROR(VLOOKUP(AJ3896,CadMP!$B:$D,2,0),\"\")","v":""},{"$f":"IFERROR(VLOOKUP(AK3896,CadMP!$B:$D,2,0),\"\")","v":""},{"$f":"IFERROR(VLOOKUP(W3896,CadMP!$B:$D,3,0),\"\")","v":""},{"$f":"IFERROR(VLOOKUP(X3896,CadMP!$B:$D,3,0),\"\")","v":""},{"$f":"IFERROR(VLOOKUP(Y3896,CadMP!$B:$D,3,0),\"\")","v":""},{"$f":"IFERROR(VLOOKUP(Z3896,CadMP!$B:$D,3,0),\"\")","v":""},{"$f":"IFERROR(VLOOKUP(AA3896,CadMP!$B:$D,3,0),\"\")","v":""},{"$f":"IFERROR(VLOOKUP(AB3896,CadMP!$B:$D,3,0),\"\")","v":""},{"$f":"IFERROR(VLOOKUP(AC3896,CadMP!$B:$D,3,0),\"\")","v":""},{"$f":"IFERROR(VLOOKUP(AD3896,CadMP!$B:$D,3,0),\"\")","v":""},{"$f":"IFERROR(VLOOKUP(AE3896,CadMP!$B:$D,3,0),\"\")","v":""},{"$f":"IFERROR(VLOOKUP(AF3896,CadMP!$B:$D,3,0),\"\")","v":""},{"$f":"IFERROR(VLOOKUP(AG3896,CadMP!$B:$D,3,0),\"\")","v":""},{"$f":"IFERROR(VLOOKUP(AH3896,CadMP!$B:$D,3,0),\"\")","v":""},{"$f":"IFERROR(VLOOKUP(AI3896,CadMP!$B:$D,3,0),\"\")","v":""},{"$f":"IFERROR(VLOOKUP(AJ3896,CadMP!$B:$D,3,0),\"\")","v":""},{"$f":"IFERROR(VLOOKUP(AK3896,CadMP!$B:$D,3,0),\"\")","v":""},0,0,0,0,0,0,0,0,0,0,0,0,0,0,0]
[3914,null,null,0,0,null,null,null,null,null,null,0,0,null,null,null,null,null,null,null,1,0,null,null,null,null,null,null,null,null,null,null,null,null,null,null,null,null,null,null,null,null,null,null,null,null,null,null,null,null,null,null,{"$f":"IFERROR(VLOOKUP(W3915,CadMP!$B:$D,2,0),\"\")","v":""},{"$f":"IFERROR(VLOOKUP(X3915,CadMP!$B:$D,2,0),\"\")","v":""},{"$f":"IFERROR(VLOOKUP(Y3915,CadMP!$B:$D,2,0),\"\")","v":""},{"$f":"IFERROR(VLOOKUP(Z3915,CadMP!$B:$D,2,0),\"\")","v":""},{"$f":"IFERROR(VLOOKUP(AA3915,CadMP!$B:$D,2,0),\"\")","v":""},{"$f":"IFERROR(VLOOKUP(AB3915,CadMP!$B:$D,2,0),\"\")","v":""},{"$f":"IFERROR(VLOOKUP(AC3915,CadMP!$B:$D,2,0),\"\")","v":""},{"$f":"IFERROR(VLOOKUP(AD3915,CadMP!$B:$D,2,0),\"\")","v":""},{"$f":"IFERROR(VLOOKUP(AE3915,CadMP!$B:$D,2,0),\"\")","v":""},{"$f":"IFERROR(VLOOKUP(AF3915,CadMP!$B:$D,2,0),\"\")","v":""},{"$f":"IFERROR(VLOOKUP(AG3915,CadMP!$B:$D,2,0),\"\")","v":""},{"$f":"IFERROR(VLOOKUP(AH3915,CadMP!$B:$D,2,0),\"\")","v":""},{"$f":"IFERROR(VLOOKUP(AI3915,CadMP!$B:$D,2,0),\"\")","v":""},{"$f":"IFERROR(VLOOKUP(AJ3915,CadMP!$B:$D,2,0),\"\")","v":""},{"$f":"IFERROR(VLOOKUP(AK3915,CadMP!$B:$D,2,0),\"\")","v":""},{"$f":"IFERROR(VLOOKUP(W3915,CadMP!$B:$D,3,0),\"\")","v":""},{"$f":"IFERROR(VLOOKUP(X3915,CadMP!$B:$D,3,0),\"\")","v":""},{"$f":"IFERROR(VLOOKUP(Y3915,CadMP!$B:$D,3,0),\"\")","v":""},{"$f":"IFERROR(VLOOKUP(Z3915,CadMP!$B:$D,3,0),\"\")","v":""},{"$f":"IFERROR(VLOOKUP(AA3915,CadMP!$B:$D,3,0),\"\")","v":""},{"$f":"IFERROR(VLOOKUP(AB3915,CadMP!$B:$D,3,0),\"\")","v":""},{"$f":"IFERROR(VLOOKUP(AC3915,CadMP!$B:$D,3,0),\"\")","v":""},{"$f":"IFERROR(VLOOKUP(AD3915,CadMP!$B:$D,3,0),\"\")","v":""},{"$f":"IFERROR(VLOOKUP(AE3915,CadMP!$B:$D,3,0),\"\")","v":""},{"$f":"IFERROR(VLOOKUP(AF3915,CadMP!$B:$D,3,0),\"\")","v":""},{"$f":"IFERROR(VLOOKUP(AG3915,CadMP!$B:$D,3,0),\"\")","v":""},{"$f":"IFERROR(VLOOKUP(AH3915,CadMP!$B:$D,3,0),\"\")","v":""},{"$f":"IFERROR(VLOOKUP(AI3915,CadMP!$B:$D,3,0),\"\")","v":""},{"$f":"IFERROR(VLOOKUP(AJ3915,CadMP!$B:$D,3,0),\"\")","v":""},{"$f":"IFERROR(VLOOKUP(AK3915,CadMP!$B:$D,3,0),\"\")","v":""},0,0,0,0,0,0,0,0,0,0,0,0,0,0,0]
[3933,null,null,0,0,null,null,null,null,null,null,0,0,null,null,null,null,null,null,null,1,0,null,null,null,null,null,null,null,null,null,null,null,null,null,null,null,null,null,null,null,null,null,null,null,null,null,null,null,null,null,null,{"$f":"IFERROR(VLOOKUP(W3934,CadMP!$B:$D,2,0),\"\")","v":""},{"$f":"IFERROR(VLOOKUP(X3934,CadMP!$B:$D,2,0),\"\")","v":""},{"$f":"IFERROR(VLOOKUP(Y3934,CadMP!$B:$D,2,0),\"\")","v":""},{"$f":"IFERROR(VLOOKUP(Z3934,CadMP!$B:$D,2,0),\"\")","v":""},{"$f":"IFERROR(VLOOKUP(AA3934,CadMP!$B:$D,2,0),\"\")","v":""},{"$f":"IFERROR(VLOOKUP(AB3934,CadMP!$B:$D,2,0),\"\")","v":""},{"$f":"IFERROR(VLOOKUP(AC3934,CadMP!$B:$D,2,0),\"\")","v":""},{"$f":"IFERROR(VLOOKUP(AD3934,CadMP!$B:$D,2,0),\"\")","v":""},{"$f":"IFERROR(VLOOKUP(AE3934,CadMP!$B:$D,2,0),\"\")","v":""},{"$f":"IFERROR(VLOOKUP(AF3934,CadMP!$B:$D,2,0),\"\")","v":""},{"$f":"IFERROR(VLOOKUP(AG3934,CadMP!$B:$D,2,0),\"\")","v":""},{"$f":"IFERROR(VLOOKUP(AH3934,CadMP!$B:$D,2,0),\"\")","v":""},{"$f":"IFERROR(VLOOKUP(AI3934,CadMP!$B:$D,2,0),\"\")","v":""},{"$f":"IFERROR(VLOOKUP(AJ3934,CadMP!$B:$D,2,0),\"\")","v":""},{"$f":"IFERROR(VLOOKUP(AK3934,CadMP!$B:$D,2,0),\"\")","v":""},{"$f":"IFERROR(VLOOKUP(W3934,CadMP!$B:$D,3,0),\"\")","v":""},{"$f":"IFERROR(VLOOKUP(X3934,CadMP!$B:$D,3,0),\"\")","v":""},{"$f":"IFERROR(VLOOKUP(Y3934,CadMP!$B:$D,3,0),\"\")","v":""},{"$f":"IFERROR(VLOOKUP(Z3934,CadMP!$B:$D,3,0),\"\")","v":""},{"$f":"IFERROR(VLOOKUP(AA3934,CadMP!$B:$D,3,0),\"\")","v":""},{"$f":"IFERROR(VLOOKUP(AB3934,CadMP!$B:$D,3,0),\"\")","v":""},{"$f":"IFERROR(VLOOKUP(AC3934,CadMP!$B:$D,3,0),\"\")","v":""},{"$f":"IFERROR(VLOOKUP(AD3934,CadMP!$B:$D,3,0),\"\")","v":""},{"$f":"IFERROR(VLOOKUP(AE3934,CadMP!$B:$D,3,0),\"\")","v":""},{"$f":"IFERROR(VLOOKUP(AF3934,CadMP!$B:$D,3,0),\"\")","v":""},{"$f":"IFERROR(VLOOKUP(AG3934,CadMP!$B:$D,3,0),\"\")","v":""},{"$f":"IFERROR(VLOOKUP(AH3934,CadMP!$B:$D,3,0),\"\")","v":""},{"$f":"IFERROR(VLOOKUP(AI3934,CadMP!$B:$D,3,0),\"\")","v":""},{"$f":"IFERROR(VLOOKUP(AJ3934,CadMP!$B:$D,3,0),\"\")","v":""},{"$f":"IFERROR(VLOOKUP(AK3934,CadMP!$B:$D,3,0),\"\")","v":""},0,0,0,0,0,0,0,0,0,0,0,0,0,0,0]
[3954,null,null,0,0,null,null,null,null,null,null,0,0,null,null,null,null,null,null,null,1,0,null,null,null,null,null,null,null,null,null,null,null,null,null,null,null,null,null,null,null,null,null,null,null,null,null,null,null,null,null,null,{"$f":"IFERROR(VLOOKUP(W3955,CadMP!$B:$D,2,0),\"\")","v":""},{"$f":"IFERROR(VLOOKUP(X3955,CadMP!$B:$D,2,0),\"\")","v":""},{"$f":"IFERROR(VLOOKUP(Y3955,CadMP!$B:$D,2,0),\"\")","v":""},{"$f":"IFERROR(VLOOKUP(Z3955,CadMP!$B:$D,2,0),\"\")","v":""},{"$f":"IFERROR(VLOOKUP(AA3955,CadMP!$B:$D,2,0),\"\")","v":""},{"$f":"IFERROR(VLOOKUP(AB3955,CadMP!$B:$D,2,0),\"\")","v":""},{"$f":"IFERROR(VLOOKUP(AC3955,CadMP!$B:$D,2,0),\"\")","v":""},{"$f":"IFERROR(VLOOKUP(AD3955,CadMP!$B:$D,2,0),\"\")","v":""},{"$f":"IFERROR(VLOOKUP(AE3955,CadMP!$B:$D,2,0),\"\")","v":""},{"$f":"IFERROR(VLOOKUP(AF3955,CadMP!$B:$D,2,0),\"\")","v":""},{"$f":"IFERROR(VLOOKUP(AG3955,CadMP!$B:$D,2,0),\"\")","v":""},{"$f":"IFERROR(VLOOKUP(AH3955,CadMP!$B:$D,2,0),\"\")","v":""},{"$f":"IFERROR(VLOOKUP(AI3955,CadMP!$B:$D,2,0),\"\")","v":""},{"$f":"IFERROR(VLOOKUP(AJ3955,CadMP!$B:$D,2,0),\"\")","v":""},{"$f":"IFERROR(VLOOKUP(AK3955,CadMP!$B:$D,2,0),\"\")","v":""},{"$f":"IFERROR(VLOOKUP(W3955,CadMP!$B:$D,3,0),\"\")","v":""},{"$f":"IFERROR(VLOOKUP(X3955,CadMP!$B:$D,3,0),\"\")","v":""},{"$f":"IFERROR(VLOOKUP(Y3955,CadMP!$B:$D,3,0),\"\")","v":""},{"$f":"IFERROR(VLOOKUP(Z3955,CadMP!$B:$D,3,0),\"\")","v":""},{"$f":"IFERROR(VLOOKUP(AA3955,CadMP!$B:$D,3,0),\"\")","v":""},{"$f":"IFERROR(VLOOKUP(AB3955,CadMP!$B:$D,3,0),\"\")","v":""},{"$f":"IFERROR(VLOOKUP(AC3955,CadMP!$B:$D,3,0),\"\")","v":""},{"$f":"IFERROR(VLOOKUP(AD3955,CadMP!$B:$D,3,0),\"\")","v":""},{"$f":"IFERROR(VLOOKUP(AE3955,CadMP!$B:$D,3,0),\"\")","v":""},{"$f":"IFERROR(VLOOKUP(AF3955,CadMP!$B:$D,3,0),\"\")","v":""},{"$f":"IFERROR(VLOOKUP(AG3955,CadMP!$B:$D,3,0),\"\")","v":""},{"$f":"IFERROR(VLOOKUP(AH3955,CadMP!$B:$D,3,0),\"\")","v":""},{"$f":"IFERROR(VLOOKUP(AI3955,CadMP!$B:$D,3,0),\"\")","v":""},{"$f":"IFERROR(VLOOKUP(AJ3955,CadMP!$B:$D,3,0),\"\")","v":""},{"$f":"IFERROR(VLOOKUP(AK3955,CadMP!$B:$D,3,0),\"\")","v":""},0,0,0,0,0,0,0,0,0,0,0,0,0,0,0]
[3976,null,null,0,0,null,null,null,null,null,null,0,0,null,null,null,null,null,null,null,1,0,null,null,null,null,null,null,null,null,null,null,null,null,null,null,null,null,null,null,null,null,null,null,null,null,null,null,null,null,null,null,{"$f":"IFERROR(VLOOKUP(W3977,CadMP!$B:$D,2,0),\"\")","v":""},{"$f":"IFERROR(VLOOKUP(X3977,CadMP!$B:$D,2,0),\"\")","v":""},{"$f":"IFERROR(VLOOKUP(Y3977,CadMP!$B:$D,2,0),\"\")","v":""},{"$f":"IFERROR(VLOOKUP(Z3977,CadMP!$B:$D,2,0),\"\")","v":""},{"$f":"IFERROR(VLOOKUP(AA3977,CadMP!$B:$D,2,0),\"\")","v":""},{"$f":"IFERROR(VLOOKUP(AB3977,CadMP!$B:$D,2,0),\"\")","v":""},{"$f":"IFERROR(VLOOKUP(AC3977,CadMP!$B:$D,2,0),\"\")","v":""},{"$f":"IFERROR(VLOOKUP(AD3977,CadMP!$B:$D,2,0),\"\")","v":""},{"$f":"IFERROR(VLOOKUP(AE3977,CadMP!$B:$D,2,0),\"\")","v":""},{"$f":"IFERROR(VLOOKUP(AF3977,CadMP!$B:$D,2,0),\"\")","v":""},{"$f":"IFERROR(VLOOKUP(AG3977,CadMP!$B:$D,2,0),\"\")","v":""},{"$f":"IFERROR(VLOOKUP(AH3977,CadMP!$B:$D,2,0),\"\")","v":""},{"$f":"IFERROR(VLOOKUP(AI3977,CadMP!$B:$D,2,0),\"\")","v":""},{"$f":"IFERROR(VLOOKUP(AJ3977,CadMP!$B:$D,2,0),\"\")","v":""},{"$f":"IFERROR(VLOOKUP(AK3977,CadMP!$B:$D,2,0),\"\")","v":""},{"$f":"IFERROR(VLOOKUP(W3977,CadMP!$B:$D,3,0),\"\")","v":""},{"$f":"IFERROR(VLOOKUP(X3977,CadMP!$B:$D,3,0),\"\")","v":""},{"$f":"IFERROR(VLOOKUP(Y3977,CadMP!$B:$D,3,0),\"\")","v":""},{"$f":"IFERROR(VLOOKUP(Z3977,CadMP!$B:$D,3,0),\"\")","v":""},{"$f":"IFERROR(VLOOKUP(AA3977,CadMP!$B:$D,3,0),\"\")","v":""},{"$f":"IFERROR(VLOOKUP(AB3977,CadMP!$B:$D,3,0),\"\")","v":""},{"$f":"IFERROR(VLOOKUP(AC3977,CadMP!$B:$D,3,0),\"\")","v":""},{"$f":"IFERROR(VLOOKUP(AD3977,CadMP!$B:$D,3,0),\"\")","v":""},{"$f":"IFERROR(VLOOKUP(AE3977,CadMP!$B:$D,3,0),\"\")","v":""},{"$f":"IFERROR(VLOOKUP(AF3977,CadMP!$B:$D,3,0),\"\")","v":""},{"$f":"IFERROR(VLOOKUP(AG3977,CadMP!$B:$D,3,0),\"\")","v":""},{"$f":"IFERROR(VLOOKUP(AH3977,CadMP!$B:$D,3,0),\"\")","v":""},{"$f":"IFERROR(VLOOKUP(AI3977,CadMP!$B:$D,3,0),\"\")","v":""},{"$f":"IFERROR(VLOOKUP(AJ3977,CadMP!$B:$D,3,0),\"\")","v":""},{"$f":"IFERROR(VLOOKUP(AK3977,CadMP!$B:$D,3,0),\"\")","v":""},0,0,0,0,0,0,0,0,0,0,0,0,0,0,0]
[3982,null,null,0,0,null,null,null,null,null,null,0,0,null,null,null,null,null,null,null,1,0,null,null,null,null,null,null,null,null,null,null,null,null,null,null,null,null,null,null,null,null,null,null,null,null,null,null,null,null,null,null,{"$f":"IFERROR(VLOOKUP(W3983,CadMP!$B:$D,2,0),\"\")","v":""},{"$f":"IFERROR(VLOOKUP(X3983,CadMP!$B:$D,2,0),\"\")","v":""},{"$f":"IFERROR(VLOOKUP(Y3983,CadMP!$B:$D,2,0),\"\")","v":""},{"$f":"IFERROR(VLOOKUP(Z3983,CadMP!$B:$D,2,0),\"\")","v":""},{"$f":"IFERROR(VLOOKUP(AA3983,CadMP!$B:$D,2,0),\"\")","v":""},{"$f":"IFERROR(VLOOKUP(AB3983,CadMP!$B:$D,2,0),\"\")","v":""},{"$f":"IFERROR(VLOOKUP(AC3983,CadMP!$B:$D,2,0),\"\")","v":""},{"$f":"IFERROR(VLOOKUP(AD3983,CadMP!$B:$D,2,0),\"\")","v":""},{"$f":"IFERROR(VLOOKUP(AE3983,CadMP!$B:$D,2,0),\"\")","v":""},{"$f":"IFERROR(VLOOKUP(AF3983,CadMP!$B:$D,2,0),\"\")","v":""},{"$f":"IFERROR(VLOOKUP(AG3983,CadMP!$B:$D,2,0),\"\")","v":""},{"$f":"IFERROR(VLOOKUP(AH3983,CadMP!$B:$D,2,0),\"\")","v":""},{"$f":"IFERROR(VLOOKUP(AI3983,CadMP!$B:$D,2,0),\"\")","v":""},{"$f":"IFERROR(VLOOKUP(AJ3983,CadMP!$B:$D,2,0),\"\")","v":""},{"$f":"IFERROR(VLOOKUP(AK3983,CadMP!$B:$D,2,0),\"\")","v":""},{"$f":"IFERROR(VLOOKUP(W3983,CadMP!$B:$D,3,0),\"\")","v":""},{"$f":"IFERROR(VLOOKUP(X3983,CadMP!$B:$D,3,0),\"\")","v":""},{"$f":"IFERROR(VLOOKUP(Y3983,CadMP!$B:$D,3,0),\"\")","v":""},{"$f":"IFERROR(VLOOKUP(Z3983,CadMP!$B:$D,3,0),\"\")","v":""},{"$f":"IFERROR(VLOOKUP(AA3983,CadMP!$B:$D,3,0),\"\")","v":""},{"$f":"IFERROR(VLOOKUP(AB3983,CadMP!$B:$D,3,0),\"\")","v":""},{"$f":"IFERROR(VLOOKUP(AC3983,CadMP!$B:$D,3,0),\"\")","v":""},{"$f":"IFERROR(VLOOKUP(AD3983,CadMP!$B:$D,3,0),\"\")","v":""},{"$f":"IFERROR(VLOOKUP(AE3983,CadMP!$B:$D,3,0),\"\")","v":""},{"$f":"IFERROR(VLOOKUP(AF3983,CadMP!$B:$D,3,0),\"\")","v":""},{"$f":"IFERROR(VLOOKUP(AG3983,CadMP!$B:$D,3,0),\"\")","v":""},{"$f":"IFERROR(VLOOKUP(AH3983,CadMP!$B:$D,3,0),\"\")","v":""},{"$f":"IFERROR(VLOOKUP(AI3983,CadMP!$B:$D,3,0),\"\")","v":""},{"$f":"IFERROR(VLOOKUP(AJ3983,CadMP!$B:$D,3,0),\"\")","v":""},{"$f":"IFERROR(VLOOKUP(AK3983,CadMP!$B:$D,3,0),\"\")","v":""},0,0,0,0,0,0,0,0,0,0,0,0,0,0,0]
[4001,null,null,0,0,null,null,null,null,null,null,0,0,null,null,null,null,null,null,null,1,0,null,null,null,null,null,null,null,null,null,null,null,null,null,null,null,null,null,null,null,null,null,null,null,null,null,null,null,null,null,null,{"$f":"IFERROR(VLOOKUP(W4002,CadMP!$B:$D,2,0),\"\")","v":""},{"$f":"IFERROR(VLOOKUP(X4002,CadMP!$B:$D,2,0),\"\")","v":""},{"$f":"IFERROR(VLOOKUP(Y4002,CadMP!$B:$D,2,0),\"\")","v":""},{"$f":"IFERROR(VLOOKUP(Z4002,CadMP!$B:$D,2,0),\"\")","v":""},{"$f":"IFERROR(VLOOKUP(AA4002,CadMP!$B:$D,2,0),\"\")","v":""},{"$f":"IFERROR(VLOOKUP(AB4002,CadMP!$B:$D,2,0),\"\")","v":""},{"$f":"IFERROR(VLOOKUP(AC4002,CadMP!$B:$D,2,0),\"\")","v":""},{"$f":"IFERROR(VLOOKUP(AD4002,CadMP!$B:$D,2,0),\"\")","v":""},{"$f":"IFERROR(VLOOKUP(AE4002,CadMP!$B:$D,2,0),\"\")","v":""},{"$f":"IFERROR(VLOOKUP(AF4002,CadMP!$B:$D,2,0),\"\")","v":""},{"$f":"IFERROR(VLOOKUP(AG4002,CadMP!$B:$D,2,0),\"\")","v":""},{"$f":"IFERROR(VLOOKUP(AH4002,CadMP!$B:$D,2,0),\"\")","v":""},{"$f":"IFERROR(VLOOKUP(AI4002,CadMP!$B:$D,2,0),\"\")","v":""},{"$f":"IFERROR(VLOOKUP(AJ4002,CadMP!$B:$D,2,0),\"\")","v":""},{"$f":"IFERROR(VLOOKUP(AK4002,CadMP!$B:$D,2,0),\"\")","v":""},{"$f":"IFERROR(VLOOKUP(W4002,CadMP!$B:$D,3,0),\"\")","v":""},{"$f":"IFERROR(VLOOKUP(X4002,CadMP!$B:$D,3,0),\"\")","v":""},{"$f":"IFERROR(VLOOKUP(Y4002,CadMP!$B:$D,3,0),\"\")","v":""},{"$f":"IFERROR(VLOOKUP(Z4002,CadMP!$B:$D,3,0),\"\")","v":""},{"$f":"IFERROR(VLOOKUP(AA4002,CadMP!$B:$D,3,0),\"\")","v":""},{"$f":"IFERROR(VLOOKUP(AB4002,CadMP!$B:$D,3,0),\"\")","v":""},{"$f":"IFERROR(VLOOKUP(AC4002,CadMP!$B:$D,3,0),\"\")","v":""},{"$f":"IFERROR(VLOOKUP(AD4002,CadMP!$B:$D,3,0),\"\")","v":""},{"$f":"IFERROR(VLOOKUP(AE4002,CadMP!$B:$D,3,0),\"\")","v":""},{"$f":"IFERROR(VLOOKUP(AF4002,CadMP!$B:$D,3,0),\"\")","v":""},{"$f":"IFERROR(VLOOKUP(AG4002,CadMP!$B:$D,3,0),\"\")","v":""},{"$f":"IFERROR(VLOOKUP(AH4002,CadMP!$B:$D,3,0),\"\")","v":""},{"$f":"IFERROR(VLOOKUP(AI4002,CadMP!$B:$D,3,0),\"\")","v":""},{"$f":"IFERROR(VLOOKUP(AJ4002,CadMP!$B:$D,3,0),\"\")","v":""},{"$f":"IFERROR(VLOOKUP(AK4002,CadMP!$B:$D,3,0),\"\")","v":""},0,0,0,0,0,0,0,0,0,0,0,0,0,0,0]
[4027,null,null,0,0,null,null,null,null,null,null,0,0,null,null,null,null,null,null,null,1,0,null,null,null,null,null,null,null,null,null,null,null,null,null,null,null,null,null,null,null,null,null,null,null,null,null,null,null,null,null,null,{"$f":"IFERROR(VLOOKUP(W4028,CadMP!$B:$D,2,0),\"\")","v":""},{"$f":"IFERROR(VLOOKUP(X4028,CadMP!$B:$D,2,0),\"\")","v":""},{"$f":"IFERROR(VLOOKUP(Y4028,CadMP!$B:$D,2,0),\"\")","v":""},{"$f":"IFERROR(VLOOKUP(Z4028,CadMP!$B:$D,2,0),\"\")","v":""},{"$f":"IFERROR(VLOOKUP(AA4028,CadMP!$B:$D,2,0),\"\")","v":""},{"$f":"IFERROR(VLOOKUP(AB4028,CadMP!$B:$D,2,0),\"\")","v":""},{"$f":"IFERROR(VLOOKUP(AC4028,CadMP!$B:$D,2,0),\"\")","v":""},{"$f":"IFERROR(VLOOKUP(AD4028,CadMP!$B:$D,2,0),\"\")","v":""},{"$f":"IFERROR(VLOOKUP(AE4028,CadMP!$B:$D,2,0),\"\")","v":""},{"$f":"IFERROR(VLOOKUP(AF4028,CadMP!$B:$D,2,0),\"\")","v":""},{"$f":"IFERROR(VLOOKUP(AG4028,CadMP!$B:$D,2,0),\"\")","v":""},{"$f":"IFERROR(VLOOKUP(AH4028,CadMP!$B:$D,2,0),\"\")","v":""},{"$f":"IFERROR(VLOOKUP(AI4028,CadMP!$B:$D,2,0),\"\")","v":""},{"$f":"IFERROR(VLOOKUP(AJ4028,CadMP!$B:$D,2,0),\"\")","v":""},{"$f":"IFERROR(VLOOKUP(AK4028,CadMP!$B:$D,2,0),\"\")","v":""},{"$f":"IFERROR(VLOOKUP(W4028,CadMP!$B:$D,3,0),\"\")","v":""},{"$f":"IFERROR(VLOOKUP(X4028,CadMP!$B:$D,3,0),\"\")","v":""},{"$f":"IFERROR(VLOOKUP(Y4028,CadMP!$B:$D,3,0),\"\")","v":""},{"$f":"IFERROR(VLOOKUP(Z4028,CadMP!$B:$D,3,0),\"\")","v":""},{"$f":"IFERROR(VLOOKUP(AA4028,CadMP!$B:$D,3,0),\"\")","v":""},{"$f":"IFERROR(VLOOKUP(AB4028,CadMP!$B:$D,3,0),\"\")","v":""},{"$f":"IFERROR(VLOOKUP(AC4028,CadMP!$B:$D,3,0),\"\")","v":""},{"$f":"IFERROR(VLOOKUP(AD4028,CadMP!$B:$D,3,0),\"\")","v":""},{"$f":"IFERROR(VLOOKUP(AE4028,CadMP!$B:$D,3,0),\"\")","v":""},{"$f":"IFERROR(VLOOKUP(AF4028,CadMP!$B:$D,3,0),\"\")","v":""},{"$f":"IFERROR(VLOOKUP(AG4028,CadMP!$B:$D,3,0),\"\")","v":""},{"$f":"IFERROR(VLOOKUP(AH4028,CadMP!$B:$D,3,0),\"\")","v":""},{"$f":"IFERROR(VLOOKUP(AI4028,CadMP!$B:$D,3,0),\"\")","v":""},{"$f":"IFERROR(VLOOKUP(AJ4028,CadMP!$B:$D,3,0),\"\")","v":""},{"$f":"IFERROR(VLOOKUP(AK4028,CadMP!$B:$D,3,0),\"\")","v":""},0,0,0,0,0,0,0,0,0,0,0,0,0,0,0]
[4044,null,null,0,0,null,null,null,null,null,null,0,0,null,null,null,null,null,null,null,1,0,null,null,null,null,null,null,null,null,null,null,null,null,null,null,null,null,null,null,null,null,null,null,null,null,null,null,null,null,null,null,{"$f":"IFERROR(VLOOKUP(W4045,CadMP!$B:$D,2,0),\"\")","v":""},{"$f":"IFERROR(VLOOKUP(X4045,CadMP!$B:$D,2,0),\"\")","v":""},{"$f":"IFERROR(VLOOKUP(Y4045,CadMP!$B:$D,2,0),\"\")","v":""},{"$f":"IFERROR(VLOOKUP(Z4045,CadMP!$B:$D,2,0),\"\")","v":""},{"$f":"IFERROR(VLOOKUP(AA4045,CadMP!$B:$D,2,0),\"\")","v":""},{"$f":"IFERROR(VLOOKUP(AB4045,CadMP!$B:$D,2,0),\"\")","v":""},{"$f":"IFERROR(VLOOKUP(AC4045,CadMP!$B:$D,2,0),\"\")","v":""},{"$f":"IFERROR(VLOOKUP(AD4045,CadMP!$B:$D,2,0),\"\")","v":""},{"$f":"IFERROR(VLOOKUP(AE4045,CadMP!$B:$D,2,0),\"\")","v":""},{"$f":"IFERROR(VLOOKUP(AF4045,CadMP!$B:$D,2,0),\"\")","v":""},{"$f":"IFERROR(VLOOKUP(AG4045,CadMP!$B:$D,2,0),\"\")","v":""},{"$f":"IFERROR(VLOOKUP(AH4045,CadMP!$B:$D,2,0),\"\")","v":""},{"$f":"IFERROR(VLOOKUP(AI4045,CadMP!$B:$D,2,0),\"\")","v":""},{"$f":"IFERROR(VLOOKUP(AJ4045,CadMP!$B:$D,2,0),\"\")","v":""},{"$f":"IFERROR(VLOOKUP(AK4045,CadMP!$B:$D,2,0),\"\")","v":""},{"$f":"IFERROR(VLOOKUP(W4045,CadMP!$B:$D,3,0),\"\")","v":""},{"$f":"IFERROR(VLOOKUP(X4045,CadMP!$B:$D,3,0),\"\")","v":""},{"$f":"IFERROR(VLOOKUP(Y4045,CadMP!$B:$D,3,0),\"\")","v":""},{"$f":"IFERROR(VLOOKUP(Z4045,CadMP!$B:$D,3,0),\"\")","v":""},{"$f":"IFERROR(VLOOKUP(AA4045,CadMP!$B:$D,3,0),\"\")","v":""},{"$f":"IFERROR(VLOOKUP(AB4045,CadMP!$B:$D,3,0),\"\")","v":""},{"$f":"IFERROR(VLOOKUP(AC4045,CadMP!$B:$D,3,0),\"\")","v":""},{"$f":"IFERROR(VLOOKUP(AD4045,CadMP!$B:$D,3,0),\"\")","v":""},{"$f":"IFERROR(VLOOKUP(AE4045,CadMP!$B:$D,3,0),\"\")","v":""},{"$f":"IFERROR(VLOOKUP(AF4045,CadMP!$B:$D,3,0),\"\")","v":""},{"$f":"IFERROR(VLOOKUP(AG4045,CadMP!$B:$D,3,0),\"\")","v":""},{"$f":"IFERROR(VLOOKUP(AH4045,CadMP!$B:$D,3,0),\"\")","v":""},{"$f":"IFERROR(VLOOKUP(AI4045,CadMP!$B:$D,3,0),\"\")","v":""},{"$f":"IFERROR(VLOOKUP(AJ4045,CadMP!$B:$D,3,0),\"\")","v":""},{"$f":"IFERROR(VLOOKUP(AK4045,CadMP!$B:$D,3,0),\"\")","v":""},0,0,0,0,0,0,0,0,0,0,0,0,0,0,0]
[4063,null,null,0,0,null,null,null,null,null,null,0,0,null,null,null,null,null,null,null,1,0,null,null,null,null,null,null,null,null,null,null,null,null,null,null,null,null,null,null,null,null,null,null,null,null,null,null,null,null,null,null,{"$f":"IFERROR(VLOOKUP(W4064,CadMP!$B:$D,2,0),\"\")","v":""},{"$f":"IFERROR(VLOOKUP(X4064,CadMP!$B:$D,2,0),\"\")","v":""},{"$f":"IFERROR(VLOOKUP(Y4064,CadMP!$B:$D,2,0),\"\")","v":""},{"$f":"IFERROR(VLOOKUP(Z4064,CadMP!$B:$D,2,0),\"\")","v":""},{"$f":"IFERROR(VLOOKUP(AA4064,CadMP!$B:$D,2,0),\"\")","v":""},{"$f":"IFERROR(VLOOKUP(AB4064,CadMP!$B:$D,2,0),\"\")","v":""},{"$f":"IFERROR(VLOOKUP(AC4064,CadMP!$B:$D,2,0),\"\")","v":""},{"$f":"IFERROR(VLOOKUP(AD4064,CadMP!$B:$D,2,0),\"\")","v":""},{"$f":"IFERROR(VLOOKUP(AE4064,CadMP!$B:$D,2,0),\"\")","v":""},{"$f":"IFERROR(VLOOKUP(AF4064,CadMP!$B:$D,2,0),\"\")","v":""},{"$f":"IFERROR(VLOOKUP(AG4064,CadMP!$B:$D,2,0),\"\")","v":""},{"$f":"IFERROR(VLOOKUP(AH4064,CadMP!$B:$D,2,0),\"\")","v":""},{"$f":"IFERROR(VLOOKUP(AI4064,CadMP!$B:$D,2,0),\"\")","v":""},{"$f":"IFERROR(VLOOKUP(AJ4064,CadMP!$B:$D,2,0),\"\")","v":""},{"$f":"IFERROR(VLOOKUP(AK4064,CadMP!$B:$D,2,0),\"\")","v":""},{"$f":"IFERROR(VLOOKUP(W4064,CadMP!$B:$D,3,0),\"\")","v":""},{"$f":"IFERROR(VLOOKUP(X4064,CadMP!$B:$D,3,0),\"\")","v":""},{"$f":"IFERROR(VLOOKUP(Y4064,CadMP!$B:$D,3,0),\"\")","v":""},{"$f":"IFERROR(VLOOKUP(Z4064,CadMP!$B:$D,3,0),\"\")","v":""},{"$f":"IFERROR(VLOOKUP(AA4064,CadMP!$B:$D,3,0),\"\")","v":""},{"$f":"IFERROR(VLOOKUP(AB4064,CadMP!$B:$D,3,0),\"\")","v":""},{"$f":"IFERROR(VLOOKUP(AC4064,CadMP!$B:$D,3,0),\"\")","v":""},{"$f":"IFERROR(VLOOKUP(AD4064,CadMP!$B:$D,3,0),\"\")","v":""},{"$f":"IFERROR(VLOOKUP(AE4064,CadMP!$B:$D,3,0),\"\")","v":""},{"$f":"IFERROR(VLOOKUP(AF4064,CadMP!$B:$D,3,0),\"\")","v":""},{"$f":"IFERROR(VLOOKUP(AG4064,CadMP!$B:$D,3,0),\"\")","v":""},{"$f":"IFERROR(VLOOKUP(AH4064,CadMP!$B:$D,3,0),\"\")","v":""},{"$f":"IFERROR(VLOOKUP(AI4064,CadMP!$B:$D,3,0),\"\")","v":""},{"$f":"IFERROR(VLOOKUP(AJ4064,CadMP!$B:$D,3,0),\"\")","v":""},{"$f":"IFERROR(VLOOKUP(AK4064,CadMP!$B:$D,3,0),\"\")","v":""},0,0,0,0,0,0,0,0,0,0,0,0,0,0,0]
[4082,null,null,0,0,null,null,null,null,null,null,0,0,null,null,null,null,null,null,null,1,0,null,null,null,null,null,null,null,null,null,null,null,null,null,null,null,null,null,null,null,null,null,null,null,null,null,null,null,null,null,null,{"$f":"IFERROR(VLOOKUP(W4083,CadMP!$B:$D,2,0),\"\")","v":""},{"$f":"IFERROR(VLOOKUP(X4083,CadMP!$B:$D,2,0),\"\")","v":""},{"$f":"IFERROR(VLOOKUP(Y4083,CadMP!$B:$D,2,0),\"\")","v":""},{"$f":"IFERROR(VLOOKUP(Z4083,CadMP!$B:$D,2,0),\"\")","v":""},{"$f":"IFERROR(VLOOKUP(AA4083,CadMP!$B:$D,2,0),\"\")","v":""},{"$f":"IFERROR(VLOOKUP(AB4083,CadMP!$B:$D,2,0),\"\")","v":""},{"$f":"IFERROR(VLOOKUP(AC4083,CadMP!$B:$D,2,0),\"\")","v":""},{"$f":"IFERROR(VLOOKUP(AD4083,CadMP!$B:$D,2,0),\"\")","v":""},{"$f":"IFERROR(VLOOKUP(AE4083,CadMP!$B:$D,2,0),\"\")","v":""},{"$f":"IFERROR(VLOOKUP(AF4083,CadMP!$B:$D,2,0),\"\")","v":""},{"$f":"IFERROR(VLOOKUP(AG4083,CadMP!$B:$D,2,0),\"\")","v":""},{"$f":"IFERROR(VLOOKUP(AH4083,CadMP!$B:$D,2,0),\"\")","v":""},{"$f":"IFERROR(VLOOKUP(AI4083,CadMP!$B:$D,2,0),\"\")","v":""},{"$f":"IFERROR(VLOOKUP(AJ4083,CadMP!$B:$D,2,0),\"\")","v":""},{"$f":"IFERROR(VLOOKUP(AK4083,CadMP!$B:$D,2,0),\"\")","v":""},{"$f":"IFERROR(VLOOKUP(W4083,CadMP!$B:$D,3,0),\"\")","v":""},{"$f":"IFERROR(VLOOKUP(X4083,CadMP!$B:$D,3,0),\"\")","v":""},{"$f":"IFERROR(VLOOKUP(Y4083,CadMP!$B:$D,3,0),\"\")","v":""},{"$f":"IFERROR(VLOOKUP(Z4083,CadMP!$B:$D,3,0),\"\")","v":""},{"$f":"IFERROR(VLOOKUP(AA4083,CadMP!$B:$D,3,0),\"\")","v":""},{"$f":"IFERROR(VLOOKUP(AB4083,CadMP!$B:$D,3,0),\"\")","v":""},{"$f":"IFERROR(VLOOKUP(AC4083,CadMP!$B:$D,3,0),\"\")","v":""},{"$f":"IFERROR(VLOOKUP(AD4083,CadMP!$B:$D,3,0),\"\")","v":""},{"$f":"IFERROR(VLOOKUP(AE4083,CadMP!$B:$D,3,0),\"\")","v":""},{"$f":"IFERROR(VLOOKUP(AF4083,CadMP!$B:$D,3,0),\"\")","v":""},{"$f":"IFERROR(VLOOKUP(AG4083,CadMP!$B:$D,3,0),\"\")","v":""},{"$f":"IFERROR(VLOOKUP(AH4083,CadMP!$B:$D,3,0),\"\")","v":""},{"$f":"IFERROR(VLOOKUP(AI4083,CadMP!$B:$D,3,0),\"\")","v":""},{"$f":"IFERROR(VLOOKUP(AJ4083,CadMP!$B:$D,3,0),\"\")","v":""},{"$f":"IFERROR(VLOOKUP(AK4083,CadMP!$B:$D,3,0),\"\")","v":""},0,0,0,0,0,0,0,0,0,0,0,0,0,0,0]
[4104,null,null,0,0,null,null,null,null,null,null,0,0,null,null,null,null,null,null,null,1,0,null,null,null,null,null,null,null,null,null,null,null,null,null,null,null,null,null,null,null,null,null,null,null,null,null,null,null,null,null,null,{"$f":"IFERROR(VLOOKUP(W4105,CadMP!$B:$D,2,0),\"\")","v":""},{"$f":"IFERROR(VLOOKUP(X4105,CadMP!$B:$D,2,0),\"\")","v":""},{"$f":"IFERROR(VLOOKUP(Y4105,CadMP!$B:$D,2,0),\"\")","v":""},{"$f":"IFERROR(VLOOKUP(Z4105,CadMP!$B:$D,2,0),\"\")","v":""},{"$f":"IFERROR(VLOOKUP(AA4105,CadMP!$B:$D,2,0),\"\")","v":""},{"$f":"IFERROR(VLOOKUP(AB4105,CadMP!$B:$D,2,0),\"\")","v":""},{"$f":"IFERROR(VLOOKUP(AC4105,CadMP!$B:$D,2,0),\"\")","v":""},{"$f":"IFERROR(VLOOKUP(AD4105,CadMP!$B:$D,2,0),\"\")","v":""},{"$f":"IFERROR(VLOOKUP(AE4105,CadMP!$B:$D,2,0),\"\")","v":""},{"$f":"IFERROR(VLOOKUP(AF4105,CadMP!$B:$D,2,0),\"\")","v":""},{"$f":"IFERROR(VLOOKUP(AG4105,CadMP!$B:$D,2,0),\"\")","v":""},{"$f":"IFERROR(VLOOKUP(AH4105,CadMP!$B:$D,2,0),\"\")","v":""},{"$f":"IFERROR(VLOOKUP(AI4105,CadMP!$B:$D,2,0),\"\")","v":""},{"$f":"IFERROR(VLOOKUP(AJ4105,CadMP!$B:$D,2,0),\"\")","v":""},{"$f":"IFERROR(VLOOKUP(AK4105,CadMP!$B:$D,2,0),\"\")","v":""},{"$f":"IFERROR(VLOOKUP(W4105,CadMP!$B:$D,3,0),\"\")","v":""},{"$f":"IFERROR(VLOOKUP(X4105,CadMP!$B:$D,3,0),\"\")","v":""},{"$f":"IFERROR(VLOOKUP(Y4105,CadMP!$B:$D,3,0),\"\")","v":""},{"$f":"IFERROR(VLOOKUP(Z4105,CadMP!$B:$D,3,0),\"\")","v":""},{"$f":"IFERROR(VLOOKUP(AA4105,CadMP!$B:$D,3,0),\"\")","v":""},{"$f":"IFERROR(VLOOKUP(AB4105,CadMP!$B:$D,3,0),\"\")","v":""},{"$f":"IFERROR(VLOOKUP(AC4105,CadMP!$B:$D,3,0),\"\")","v":""},{"$f":"IFERROR(VLOOKUP(AD4105,CadMP!$B:$D,3,0),\"\")","v":""},{"$f":"IFERROR(VLOOKUP(AE4105,CadMP!$B:$D,3,0),\"\")","v":""},{"$f":"IFERROR(VLOOKUP(AF4105,CadMP!$B:$D,3,0),\"\")","v":""},{"$f":"IFERROR(VLOOKUP(AG4105,CadMP!$B:$D,3,0),\"\")","v":""},{"$f":"IFERROR(VLOOKUP(AH4105,CadMP!$B:$D,3,0),\"\")","v":""},{"$f":"IFERROR(VLOOKUP(AI4105,CadMP!$B:$D,3,0),\"\")","v":""},{"$f":"IFERROR(VLOOKUP(AJ4105,CadMP!$B:$D,3,0),\"\")","v":""},{"$f":"IFERROR(VLOOKUP(AK4105,CadMP!$B:$D,3,0),\"\")","v":""},0,0,0,0,0,0,0,0,0,0,0,0,0,0,0]
[4125,null,null,0,0,null,null,null,null,null,null,0,0,null,null,null,null,null,null,null,1,0,null,null,null,null,null,null,null,null,null,null,null,null,null,null,null,null,null,null,null,null,null,null,null,null,null,null,null,null,null,null,{"$f":"IFERROR(VLOOKUP(W4126,CadMP!$B:$D,2,0),\"\")","v":""},{"$f":"IFERROR(VLOOKUP(X4126,CadMP!$B:$D,2,0),\"\")","v":""},{"$f":"IFERROR(VLOOKUP(Y4126,CadMP!$B:$D,2,0),\"\")","v":""},{"$f":"IFERROR(VLOOKUP(Z4126,CadMP!$B:$D,2,0),\"\")","v":""},{"$f":"IFERROR(VLOOKUP(AA4126,CadMP!$B:$D,2,0),\"\")","v":""},{"$f":"IFERROR(VLOOKUP(AB4126,CadMP!$B:$D,2,0),\"\")","v":""},{"$f":"IFERROR(VLOOKUP(AC4126,CadMP!$B:$D,2,0),\"\")","v":""},{"$f":"IFERROR(VLOOKUP(AD4126,CadMP!$B:$D,2,0),\"\")","v":""},{"$f":"IFERROR(VLOOKUP(AE4126,CadMP!$B:$D,2,0),\"\")","v":""},{"$f":"IFERROR(VLOOKUP(AF4126,CadMP!$B:$D,2,0),\"\")","v":""},{"$f":"IFERROR(VLOOKUP(AG4126,CadMP!$B:$D,2,0),\"\")","v":""},{"$f":"IFERROR(VLOOKUP(AH4126,CadMP!$B:$D,2,0),\"\")","v":""},{"$f":"IFERROR(VLOOKUP(AI4126,CadMP!$B:$D,2,0),\"\")","v":""},{"$f":"IFERROR(VLOOKUP(AJ4126,CadMP!$B:$D,2,0),\"\")","v":""},{"$f":"IFERROR(VLOOKUP(AK4126,CadMP!$B:$D,2,0),\"\")","v":""},{"$f":"IFERROR(VLOOKUP(W4126,CadMP!$B:$D,3,0),\"\")","v":""},{"$f":"IFERROR(VLOOKUP(X4126,CadMP!$B:$D,3,0),\"\")","v":""},{"$f":"IFERROR(VLOOKUP(Y4126,CadMP!$B:$D,3,0),\"\")","v":""},{"$f":"IFERROR(VLOOKUP(Z4126,CadMP!$B:$D,3,0),\"\")","v":""},{"$f":"IFERROR(VLOOKUP(AA4126,CadMP!$B:$D,3,0),\"\")","v":""},{"$f":"IFERROR(VLOOKUP(AB4126,CadMP!$B:$D,3,0),\"\")","v":""},{"$f":"IFERROR(VLOOKUP(AC4126,CadMP!$B:$D,3,0),\"\")","v":""},{"$f":"IFERROR(VLOOKUP(AD4126,CadMP!$B:$D,3,0),\"\")","v":""},{"$f":"IFERROR(VLOOKUP(AE4126,CadMP!$B:$D,3,0),\"\")","v":""},{"$f":"IFERROR(VLOOKUP(AF4126,CadMP!$B:$D,3,0),\"\")","v":""},{"$f":"IFERROR(VLOOKUP(AG4126,CadMP!$B:$D,3,0),\"\")","v":""},{"$f":"IFERROR(VLOOKUP(AH4126,CadMP!$B:$D,3,0),\"\")","v":""},{"$f":"IFERROR(VLOOKUP(AI4126,CadMP!$B:$D,3,0),\"\")","v":""},{"$f":"IFERROR(VLOOKUP(AJ4126,CadMP!$B:$D,3,0),\"\")","v":""},{"$f":"IFERROR(VLOOKUP(AK4126,CadMP!$B:$D,3,0),\"\")","v":""},0,0,0,0,0,0,0,0,0,0,0,0,0,0,0]
[4131,null,null,0,0,null,null,null,null,null,null,0,0,null,null,null,null,null,null,null,1,0,null,null,null,null,null,null,null,null,null,null,null,null,null,null,null,null,null,null,null,null,null,null,null,null,null,null,null,null,null,null,{"$f":"IFERROR(VLOOKUP(W4132,CadMP!$B:$D,2,0),\"\")","v":""},{"$f":"IFERROR(VLOOKUP(X4132,CadMP!$B:$D,2,0),\"\")","v":""},{"$f":"IFERROR(VLOOKUP(Y4132,CadMP!$B:$D,2,0),\"\")","v":""},{"$f":"IFERROR(VLOOKUP(Z4132,CadMP!$B:$D,2,0),\"\")","v":""},{"$f":"IFERROR(VLOOKUP(AA4132,CadMP!$B:$D,2,0),\"\")","v":""},{"$f":"IFERROR(VLOOKUP(AB4132,CadMP!$B:$D,2,0),\"\")","v":""},{"$f":"IFERROR(VLOOKUP(AC4132,CadMP!$B:$D,2,0),\"\")","v":""},{"$f":"IFERROR(VLOOKUP(AD4132,CadMP!$B:$D,2,0),\"\")","v":""},{"$f":"IFERROR(VLOOKUP(AE4132,CadMP!$B:$D,2,0),\"\")","v":""},{"$f":"IFERROR(VLOOKUP(AF4132,CadMP!$B:$D,2,0),\"\")","v":""},{"$f":"IFERROR(VLOOKUP(AG4132,CadMP!$B:$D,2,0),\"\")","v":""},{"$f":"IFERROR(VLOOKUP(AH4132,CadMP!$B:$D,2,0),\"\")","v":""},{"$f":"IFERROR(VLOOKUP(AI4132,CadMP!$B:$D,2,0),\"\")","v":""},{"$f":"IFERROR(VLOOKUP(AJ4132,CadMP!$B:$D,2,0),\"\")","v":""},{"$f":"IFERROR(VLOOKUP(AK4132,CadMP!$B:$D,2,0),\"\")","v":""},{"$f":"IFERROR(VLOOKUP(W4132,CadMP!$B:$D,3,0),\"\")","v":""},{"$f":"IFERROR(VLOOKUP(X4132,CadMP!$B:$D,3,0),\"\")","v":""},{"$f":"IFERROR(VLOOKUP(Y4132,CadMP!$B:$D,3,0),\"\")","v":""},{"$f":"IFERROR(VLOOKUP(Z4132,CadMP!$B:$D,3,0),\"\")","v":""},{"$f":"IFERROR(VLOOKUP(AA4132,CadMP!$B:$D,3,0),\"\")","v":""},{"$f":"IFERROR(VLOOKUP(AB4132,CadMP!$B:$D,3,0),\"\")","v":""},{"$f":"IFERROR(VLOOKUP(AC4132,CadMP!$B:$D,3,0),\"\")","v":""},{"$f":"IFERROR(VLOOKUP(AD4132,CadMP!$B:$D,3,0),\"\")","v":""},{"$f":"IFERROR(VLOOKUP(AE4132,CadMP!$B:$D,3,0),\"\")","v":""},{"$f":"IFERROR(VLOOKUP(AF4132,CadMP!$B:$D,3,0),\"\")","v":""},{"$f":"IFERROR(VLOOKUP(AG4132,CadMP!$B:$D,3,0),\"\")","v":""},{"$f":"IFERROR(VLOOKUP(AH4132,CadMP!$B:$D,3,0),\"\")","v":""},{"$f":"IFERROR(VLOOKUP(AI4132,CadMP!$B:$D,3,0),\"\")","v":""},{"$f":"IFERROR(VLOOKUP(AJ4132,CadMP!$B:$D,3,0),\"\")","v":""},{"$f":"IFERROR(VLOOKUP(AK4132,CadMP!$B:$D,3,0),\"\")","v":""},0,0,0,0,0,0,0,0,0,0,0,0,0,0,0]
[4150,null,null,0,0,null,null,null,null,null,null,0,0,null,null,null,null,null,null,null,1,0,null,null,null,null,null,null,null,null,null,null,null,null,null,null,null,null,null,null,null,null,null,null,null,null,null,null,null,null,null,null,{"$f":"IFERROR(VLOOKUP(W4151,CadMP!$B:$D,2,0),\"\")","v":""},{"$f":"IFERROR(VLOOKUP(X4151,CadMP!$B:$D,2,0),\"\")","v":""},{"$f":"IFERROR(VLOOKUP(Y4151,CadMP!$B:$D,2,0),\"\")","v":""},{"$f":"IFERROR(VLOOKUP(Z4151,CadMP!$B:$D,2,0),\"\")","v":""},{"$f":"IFERROR(VLOOKUP(AA4151,CadMP!$B:$D,2,0),\"\")","v":""},{"$f":"IFERROR(VLOOKUP(AB4151,CadMP!$B:$D,2,0),\"\")","v":""},{"$f":"IFERROR(VLOOKUP(AC4151,CadMP!$B:$D,2,0),\"\")","v":""},{"$f":"IFERROR(VLOOKUP(AD4151,CadMP!$B:$D,2,0),\"\")","v":""},{"$f":"IFERROR(VLOOKUP(AE4151,CadMP!$B:$D,2,0),\"\")","v":""},{"$f":"IFERROR(VLOOKUP(AF4151,CadMP!$B:$D,2,0),\"\")","v":""},{"$f":"IFERROR(VLOOKUP(AG4151,CadMP!$B:$D,2,0),\"\")","v":""},{"$f":"IFERROR(VLOOKUP(AH4151,CadMP!$B:$D,2,0),\"\")","v":""},{"$f":"IFERROR(VLOOKUP(AI4151,CadMP!$B:$D,2,0),\"\")","v":""},{"$f":"IFERROR(VLOOKUP(AJ4151,CadMP!$B:$D,2,0),\"\")","v":""},{"$f":"IFERROR(VLOOKUP(AK4151,CadMP!$B:$D,2,0),\"\")","v":""},{"$f":"IFERROR(VLOOKUP(W4151,CadMP!$B:$D,3,0),\"\")","v":""},{"$f":"IFERROR(VLOOKUP(X4151,CadMP!$B:$D,3,0),\"\")","v":""},{"$f":"IFERROR(VLOOKUP(Y4151,CadMP!$B:$D,3,0),\"\")","v":""},{"$f":"IFERROR(VLOOKUP(Z4151,CadMP!$B:$D,3,0),\"\")","v":""},{"$f":"IFERROR(VLOOKUP(AA4151,CadMP!$B:$D,3,0),\"\")","v":""},{"$f":"IFERROR(VLOOKUP(AB4151,CadMP!$B:$D,3,0),\"\")","v":""},{"$f":"IFERROR(VLOOKUP(AC4151,CadMP!$B:$D,3,0),\"\")","v":""},{"$f":"IFERROR(VLOOKUP(AD4151,CadMP!$B:$D,3,0),\"\")","v":""},{"$f":"IFERROR(VLOOKUP(AE4151,CadMP!$B:$D,3,0),\"\")","v":""},{"$f":"IFERROR(VLOOKUP(AF4151,CadMP!$B:$D,3,0),\"\")","v":""},{"$f":"IFERROR(VLOOKUP(AG4151,CadMP!$B:$D,3,0),\"\")","v":""},{"$f":"IFERROR(VLOOKUP(AH4151,CadMP!$B:$D,3,0),\"\")","v":""},{"$f":"IFERROR(VLOOKUP(AI4151,CadMP!$B:$D,3,0),\"\")","v":""},{"$f":"IFERROR(VLOOKUP(AJ4151,CadMP!$B:$D,3,0),\"\")","v":""},{"$f":"IFERROR(VLOOKUP(AK4151,CadMP!$B:$D,3,0),\"\")","v":""},0,0,0,0,0,0,0,0,0,0,0,0,0,0,0]
[4177,null,null,0,0,null,null,null,null,null,null,0,0,null,null,null,null,null,null,null,1,0,null,null,null,null,null,null,null,null,null,null,null,null,null,null,null,null,null,null,null,null,null,null,null,null,null,null,null,null,null,null,{"$f":"IFERROR(VLOOKUP(W4178,CadMP!$B:$D,2,0),\"\")","v":""},{"$f":"IFERROR(VLOOKUP(X4178,CadMP!$B:$D,2,0),\"\")","v":""},{"$f":"IFERROR(VLOOKUP(Y4178,CadMP!$B:$D,2,0),\"\")","v":""},{"$f":"IFERROR(VLOOKUP(Z4178,CadMP!$B:$D,2,0),\"\")","v":""},{"$f":"IFERROR(VLOOKUP(AA4178,CadMP!$B:$D,2,0),\"\")","v":""},{"$f":"IFERROR(VLOOKUP(AB4178,CadMP!$B:$D,2,0),\"\")","v":""},{"$f":"IFERROR(VLOOKUP(AC4178,CadMP!$B:$D,2,0),\"\")","v":""},{"$f":"IFERROR(VLOOKUP(AD4178,CadMP!$B:$D,2,0),\"\")","v":""},{"$f":"IFERROR(VLOOKUP(AE4178,CadMP!$B:$D,2,0),\"\")","v":""},{"$f":"IFERROR(VLOOKUP(AF4178,CadMP!$B:$D,2,0),\"\")","v":""},{"$f":"IFERROR(VLOOKUP(AG4178,CadMP!$B:$D,2,0),\"\")","v":""},{"$f":"IFERROR(VLOOKUP(AH4178,CadMP!$B:$D,2,0),\"\")","v":""},{"$f":"IFERROR(VLOOKUP(AI4178,CadMP!$B:$D,2,0),\"\")","v":""},{"$f":"IFERROR(VLOOKUP(AJ4178,CadMP!$B:$D,2,0),\"\")","v":""},{"$f":"IFERROR(VLOOKUP(AK4178,CadMP!$B:$D,2,0),\"\")","v":""},{"$f":"IFERROR(VLOOKUP(W4178,CadMP!$B:$D,3,0),\"\")","v":""},{"$f":"IFERROR(VLOOKUP(X4178,CadMP!$B:$D,3,0),\"\")","v":""},{"$f":"IFERROR(VLOOKUP(Y4178,CadMP!$B:$D,3,0),\"\")","v":""},{"$f":"IFERROR(VLOOKUP(Z4178,CadMP!$B:$D,3,0),\"\")","v":""},{"$f":"IFERROR(VLOOKUP(AA4178,CadMP!$B:$D,3,0),\"\")","v":""},{"$f":"IFERROR(VLOOKUP(AB4178,CadMP!$B:$D,3,0),\"\")","v":""},{"$f":"IFERROR(VLOOKUP(AC4178,CadMP!$B:$D,3,0),\"\")","v":""},{"$f":"IFERROR(VLOOKUP(AD4178,CadMP!$B:$D,3,0),\"\")","v":""},{"$f":"IFERROR(VLOOKUP(AE4178,CadMP!$B:$D,3,0),\"\")","v":""},{"$f":"IFERROR(VLOOKUP(AF4178,CadMP!$B:$D,3,0),\"\")","v":""},{"$f":"IFERROR(VLOOKUP(AG4178,CadMP!$B:$D,3,0),\"\")","v":""},{"$f":"IFERROR(VLOOKUP(AH4178,CadMP!$B:$D,3,0),\"\")","v":""},{"$f":"IFERROR(VLOOKUP(AI4178,CadMP!$B:$D,3,0),\"\")","v":""},{"$f":"IFERROR(VLOOKUP(AJ4178,CadMP!$B:$D,3,0),\"\")","v":""},{"$f":"IFERROR(VLOOKUP(AK4178,CadMP!$B:$D,3,0),\"\")","v":""},0,0,0,0,0,0,0,0,0,0,0,0,0,0,0]
[4193,null,null,0,0,null,null,null,null,null,null,0,0,null,null,null,null,null,null,null,1,0,null,null,null,null,null,null,null,null,null,null,null,null,null,null,null,null,null,null,null,null,null,null,null,null,null,null,null,null,null,null,{"$f":"IFERROR(VLOOKUP(W4194,CadMP!$B:$D,2,0),\"\")","v":""},{"$f":"IFERROR(VLOOKUP(X4194,CadMP!$B:$D,2,0),\"\")","v":""},{"$f":"IFERROR(VLOOKUP(Y4194,CadMP!$B:$D,2,0),\"\")","v":""},{"$f":"IFERROR(VLOOKUP(Z4194,CadMP!$B:$D,2,0),\"\")","v":""},{"$f":"IFERROR(VLOOKUP(AA4194,CadMP!$B:$D,2,0),\"\")","v":""},{"$f":"IFERROR(VLOOKUP(AB4194,CadMP!$B:$D,2,0),\"\")","v":""},{"$f":"IFERROR(VLOOKUP(AC4194,CadMP!$B:$D,2,0),\"\")","v":""},{"$f":"IFERROR(VLOOKUP(AD4194,CadMP!$B:$D,2,0),\"\")","v":""},{"$f":"IFERROR(VLOOKUP(AE4194,CadMP!$B:$D,2,0),\"\")","v":""},{"$f":"IFERROR(VLOOKUP(AF4194,CadMP!$B:$D,2,0),\"\")","v":""},{"$f":"IFERROR(VLOOKUP(AG4194,CadMP!$B:$D,2,0),\"\")","v":""},{"$f":"IFERROR(VLOOKUP(AH4194,CadMP!$B:$D,2,0),\"\")","v":""},{"$f":"IFERROR(VLOOKUP(AI4194,CadMP!$B:$D,2,0),\"\")","v":""},{"$f":"IFERROR(VLOOKUP(AJ4194,CadMP!$B:$D,2,0),\"\")","v":""},{"$f":"IFERROR(VLOOKUP(AK4194,CadMP!$B:$D,2,0),\"\")","v":""},{"$f":"IFERROR(VLOOKUP(W4194,CadMP!$B:$D,3,0),\"\")","v":""},{"$f":"IFERROR(VLOOKUP(X4194,CadMP!$B:$D,3,0),\"\")","v":""},{"$f":"IFERROR(VLOOKUP(Y4194,CadMP!$B:$D,3,0),\"\")","v":""},{"$f":"IFERROR(VLOOKUP(Z4194,CadMP!$B:$D,3,0),\"\")","v":""},{"$f":"IFERROR(VLOOKUP(AA4194,CadMP!$B:$D,3,0),\"\")","v":""},{"$f":"IFERROR(VLOOKUP(AB4194,CadMP!$B:$D,3,0),\"\")","v":""},{"$f":"IFERROR(VLOOKUP(AC4194,CadMP!$B:$D,3,0),\"\")","v":""},{"$f":"IFERROR(VLOOKUP(AD4194,CadMP!$B:$D,3,0),\"\")","v":""},{"$f":"IFERROR(VLOOKUP(AE4194,CadMP!$B:$D,3,0),\"\")","v":""},{"$f":"IFERROR(VLOOKUP(AF4194,CadMP!$B:$D,3,0),\"\")","v":""},{"$f":"IFERROR(VLOOKUP(AG4194,CadMP!$B:$D,3,0),\"\")","v":""},{"$f":"IFERROR(VLOOKUP(AH4194,CadMP!$B:$D,3,0),\"\")","v":""},{"$f":"IFERROR(VLOOKUP(AI4194,CadMP!$B:$D,3,0),\"\")","v":""},{"$f":"IFERROR(VLOOKUP(AJ4194,CadMP!$B:$D,3,0),\"\")","v":""},{"$f":"IFERROR(VLOOKUP(AK4194,CadMP!$B:$D,3,0),\"\")","v":""},0,0,0,0,0,0,0,0,0,0,0,0,0,0,0]
[4212,null,null,0,0,null,null,null,null,null,null,0,0,null,null,null,null,null,null,null,1,0,null,null,null,null,null,null,null,null,null,null,null,null,null,null,null,null,null,null,null,null,null,null,null,null,null,null,null,null,null,null,{"$f":"IFERROR(VLOOKUP(W4213,CadMP!$B:$D,2,0),\"\")","v":""},{"$f":"IFERROR(VLOOKUP(X4213,CadMP!$B:$D,2,0),\"\")","v":""},{"$f":"IFERROR(VLOOKUP(Y4213,CadMP!$B:$D,2,0),\"\")","v":""},{"$f":"IFERROR(VLOOKUP(Z4213,CadMP!$B:$D,2,0),\"\")","v":""},{"$f":"IFERROR(VLOOKUP(AA4213,CadMP!$B:$D,2,0),\"\")","v":""},{"$f":"IFERROR(VLOOKUP(AB4213,CadMP!$B:$D,2,0),\"\")","v":""},{"$f":"IFERROR(VLOOKUP(AC4213,CadMP!$B:$D,2,0),\"\")","v":""},{"$f":"IFERROR(VLOOKUP(AD4213,CadMP!$B:$D,2,0),\"\")","v":""},{"$f":"IFERROR(VLOOKUP(AE4213,CadMP!$B:$D,2,0),\"\")","v":""},{"$f":"IFERROR(VLOOKUP(AF4213,CadMP!$B:$D,2,0),\"\")","v":""},{"$f":"IFERROR(VLOOKUP(AG4213,CadMP!$B:$D,2,0),\"\")","v":""},{"$f":"IFERROR(VLOOKUP(AH4213,CadMP!$B:$D,2,0),\"\")","v":""},{"$f":"IFERROR(VLOOKUP(AI4213,CadMP!$B:$D,2,0),\"\")","v":""},{"$f":"IFERROR(VLOOKUP(AJ4213,CadMP!$B:$D,2,0),\"\")","v":""},{"$f":"IFERROR(VLOOKUP(AK4213,CadMP!$B:$D,2,0),\"\")","v":""},{"$f":"IFERROR(VLOOKUP(W4213,CadMP!$B:$D,3,0),\"\")","v":""},{"$f":"IFERROR(VLOOKUP(X4213,CadMP!$B:$D,3,0),\"\")","v":""},{"$f":"IFERROR(VLOOKUP(Y4213,CadMP!$B:$D,3,0),\"\")","v":""},{"$f":"IFERROR(VLOOKUP(Z4213,CadMP!$B:$D,3,0),\"\")","v":""},{"$f":"IFERROR(VLOOKUP(AA4213,CadMP!$B:$D,3,0),\"\")","v":""},{"$f":"IFERROR(VLOOKUP(AB4213,CadMP!$B:$D,3,0),\"\")","v":""},{"$f":"IFERROR(VLOOKUP(AC4213,CadMP!$B:$D,3,0),\"\")","v":""},{"$f":"IFERROR(VLOOKUP(AD4213,CadMP!$B:$D,3,0),\"\")","v":""},{"$f":"IFERROR(VLOOKUP(AE4213,CadMP!$B:$D,3,0),\"\")","v":""},{"$f":"IFERROR(VLOOKUP(AF4213,CadMP!$B:$D,3,0),\"\")","v":""},{"$f":"IFERROR(VLOOKUP(AG4213,CadMP!$B:$D,3,0),\"\")","v":""},{"$f":"IFERROR(VLOOKUP(AH4213,CadMP!$B:$D,3,0),\"\")","v":""},{"$f":"IFERROR(VLOOKUP(AI4213,CadMP!$B:$D,3,0),\"\")","v":""},{"$f":"IFERROR(VLOOKUP(AJ4213,CadMP!$B:$D,3,0),\"\")","v":""},{"$f":"IFERROR(VLOOKUP(AK4213,CadMP!$B:$D,3,0),\"\")","v":""},0,0,0,0,0,0,0,0,0,0,0,0,0,0,0]
[4231,null,null,0,0,null,null,null,null,null,null,0,0,null,null,null,null,null,null,null,1,0,null,null,null,null,null,null,null,null,null,null,null,null,null,null,null,null,null,null,null,null,null,null,null,null,null,null,null,null,null,null,{"$f":"IFERROR(VLOOKUP(W4232,CadMP!$B:$D,2,0),\"\")","v":""},{"$f":"IFERROR(VLOOKUP(X4232,CadMP!$B:$D,2,0),\"\")","v":""},{"$f":"IFERROR(VLOOKUP(Y4232,CadMP!$B:$D,2,0),\"\")","v":""},{"$f":"IFERROR(VLOOKUP(Z4232,CadMP!$B:$D,2,0),\"\")","v":""},{"$f":"IFERROR(VLOOKUP(AA4232,CadMP!$B:$D,2,0),\"\")","v":""},{"$f":"IFERROR(VLOOKUP(AB4232,CadMP!$B:$D,2,0),\"\")","v":""},{"$f":"IFERROR(VLOOKUP(AC4232,CadMP!$B:$D,2,0),\"\")","v":""},{"$f":"IFERROR(VLOOKUP(AD4232,CadMP!$B:$D,2,0),\"\")","v":""},{"$f":"IFERROR(VLOOKUP(AE4232,CadMP!$B:$D,2,0),\"\")","v":""},{"$f":"IFERROR(VLOOKUP(AF4232,CadMP!$B:$D,2,0),\"\")","v":""},{"$f":"IFERROR(VLOOKUP(AG4232,CadMP!$B:$D,2,0),\"\")","v":""},{"$f":"IFERROR(VLOOKUP(AH4232,CadMP!$B:$D,2,0),\"\")","v":""},{"$f":"IFERROR(VLOOKUP(AI4232,CadMP!$B:$D,2,0),\"\")","v":""},{"$f":"IFERROR(VLOOKUP(AJ4232,CadMP!$B:$D,2,0),\"\")","v":""},{"$f":"IFERROR(VLOOKUP(AK4232,CadMP!$B:$D,2,0),\"\")","v":""},{"$f":"IFERROR(VLOOKUP(W4232,CadMP!$B:$D,3,0),\"\")","v":""},{"$f":"IFERROR(VLOOKUP(X4232,CadMP!$B:$D,3,0),\"\")","v":""},{"$f":"IFERROR(VLOOKUP(Y4232,CadMP!$B:$D,3,0),\"\")","v":""},{"$f":"IFERROR(VLOOKUP(Z4232,CadMP!$B:$D,3,0),\"\")","v":""},{"$f":"IFERROR(VLOOKUP(AA4232,CadMP!$B:$D,3,0),\"\")","v":""},{"$f":"IFERROR(VLOOKUP(AB4232,CadMP!$B:$D,3,0),\"\")","v":""},{"$f":"IFERROR(VLOOKUP(AC4232,CadMP!$B:$D,3,0),\"\")","v":""},{"$f":"IFERROR(VLOOKUP(AD4232,CadMP!$B:$D,3,0),\"\")","v":""},{"$f":"IFERROR(VLOOKUP(AE4232,CadMP!$B:$D,3,0),\"\")","v":""},{"$f":"IFERROR(VLOOKUP(AF4232,CadMP!$B:$D,3,0),\"\")","v":""},{"$f":"IFERROR(VLOOKUP(AG4232,CadMP!$B:$D,3,0),\"\")","v":""},{"$f":"IFERROR(VLOOKUP(AH4232,CadMP!$B:$D,3,0),\"\")","v":""},{"$f":"IFERROR(VLOOKUP(AI4232,CadMP!$B:$D,3,0),\"\")","v":""},{"$f":"IFERROR(VLOOKUP(AJ4232,CadMP!$B:$D,3,0),\"\")","v":""},{"$f":"IFERROR(VLOOKUP(AK4232,CadMP!$B:$D,3,0),\"\")","v":""},0,0,0,0,0,0,0,0,0,0,0,0,0,0,0]
[4254,null,null,0,0,null,null,null,null,null,null,0,0,null,null,null,null,null,null,null,1,0,null,null,null,null,null,null,null,null,null,null,null,null,null,null,null,null,null,null,null,null,null,null,null,null,null,null,null,null,null,null,{"$f":"IFERROR(VLOOKUP(W4255,CadMP!$B:$D,2,0),\"\")","v":""},{"$f":"IFERROR(VLOOKUP(X4255,CadMP!$B:$D,2,0),\"\")","v":""},{"$f":"IFERROR(VLOOKUP(Y4255,CadMP!$B:$D,2,0),\"\")","v":""},{"$f":"IFERROR(VLOOKUP(Z4255,CadMP!$B:$D,2,0),\"\")","v":""},{"$f":"IFERROR(VLOOKUP(AA4255,CadMP!$B:$D,2,0),\"\")","v":""},{"$f":"IFERROR(VLOOKUP(AB4255,CadMP!$B:$D,2,0),\"\")","v":""},{"$f":"IFERROR(VLOOKUP(AC4255,CadMP!$B:$D,2,0),\"\")","v":""},{"$f":"IFERROR(VLOOKUP(AD4255,CadMP!$B:$D,2,0),\"\")","v":""},{"$f":"IFERROR(VLOOKUP(AE4255,CadMP!$B:$D,2,0),\"\")","v":""},{"$f":"IFERROR(VLOOKUP(AF4255,CadMP!$B:$D,2,0),\"\")","v":""},{"$f":"IFERROR(VLOOKUP(AG4255,CadMP!$B:$D,2,0),\"\")","v":""},{"$f":"IFERROR(VLOOKUP(AH4255,CadMP!$B:$D,2,0),\"\")","v":""},{"$f":"IFERROR(VLOOKUP(AI4255,CadMP!$B:$D,2,0),\"\")","v":""},{"$f":"IFERROR(VLOOKUP(AJ4255,CadMP!$B:$D,2,0),\"\")","v":""},{"$f":"IFERROR(VLOOKUP(AK4255,CadMP!$B:$D,2,0),\"\")","v":""},{"$f":"IFERROR(VLOOKUP(W4255,CadMP!$B:$D,3,0),\"\")","v":""},{"$f":"IFERROR(VLOOKUP(X4255,CadMP!$B:$D,3,0),\"\")","v":""},{"$f":"IFERROR(VLOOKUP(Y4255,CadMP!$B:$D,3,0),\"\")","v":""},{"$f":"IFERROR(VLOOKUP(Z4255,CadMP!$B:$D,3,0),\"\")","v":""},{"$f":"IFERROR(VLOOKUP(AA4255,CadMP!$B:$D,3,0),\"\")","v":""},{"$f":"IFERROR(VLOOKUP(AB4255,CadMP!$B:$D,3,0),\"\")","v":""},{"$f":"IFERROR(VLOOKUP(AC4255,CadMP!$B:$D,3,0),\"\")","v":""},{"$f":"IFERROR(VLOOKUP(AD4255,CadMP!$B:$D,3,0),\"\")","v":""},{"$f":"IFERROR(VLOOKUP(AE4255,CadMP!$B:$D,3,0),\"\")","v":""},{"$f":"IFERROR(VLOOKUP(AF4255,CadMP!$B:$D,3,0),\"\")","v":""},{"$f":"IFERROR(VLOOKUP(AG4255,CadMP!$B:$D,3,0),\"\")","v":""},{"$f":"IFERROR(VLOOKUP(AH4255,CadMP!$B:$D,3,0),\"\")","v":""},{"$f":"IFERROR(VLOOKUP(AI4255,CadMP!$B:$D,3,0),\"\")","v":""},{"$f":"IFERROR(VLOOKUP(AJ4255,CadMP!$B:$D,3,0),\"\")","v":""},{"$f":"IFERROR(VLOOKUP(AK4255,CadMP!$B:$D,3,0),\"\")","v":""},0,0,0,0,0,0,0,0,0,0,0,0,0,0,0]
[4274,null,null,0,0,null,null,null,null,null,null,0,0,null,null,null,null,null,null,null,1,0,null,null,null,null,null,null,null,null,null,null,null,null,null,null,null,null,null,null,null,null,null,null,null,null,null,null,null,null,null,null,{"$f":"IFERROR(VLOOKUP(W4275,CadMP!$B:$D,2,0),\"\")","v":""},{"$f":"IFERROR(VLOOKUP(X4275,CadMP!$B:$D,2,0),\"\")","v":""},{"$f":"IFERROR(VLOOKUP(Y4275,CadMP!$B:$D,2,0),\"\")","v":""},{"$f":"IFERROR(VLOOKUP(Z4275,CadMP!$B:$D,2,0),\"\")","v":""},{"$f":"IFERROR(VLOOKUP(AA4275,CadMP!$B:$D,2,0),\"\")","v":""},{"$f":"IFERROR(VLOOKUP(AB4275,CadMP!$B:$D,2,0),\"\")","v":""},{"$f":"IFERROR(VLOOKUP(AC4275,CadMP!$B:$D,2,0),\"\")","v":""},{"$f":"IFERROR(VLOOKUP(AD4275,CadMP!$B:$D,2,0),\"\")","v":""},{"$f":"IFERROR(VLOOKUP(AE4275,CadMP!$B:$D,2,0),\"\")","v":""},{"$f":"IFERROR(VLOOKUP(AF4275,CadMP!$B:$D,2,0),\"\")","v":""},{"$f":"IFERROR(VLOOKUP(AG4275,CadMP!$B:$D,2,0),\"\")","v":""},{"$f":"IFERROR(VLOOKUP(AH4275,CadMP!$B:$D,2,0),\"\")","v":""},{"$f":"IFERROR(VLOOKUP(AI4275,CadMP!$B:$D,2,0),\"\")","v":""},{"$f":"IFERROR(VLOOKUP(AJ4275,CadMP!$B:$D,2,0),\"\")","v":""},{"$f":"IFERROR(VLOOKUP(AK4275,CadMP!$B:$D,2,0),\"\")","v":""},{"$f":"IFERROR(VLOOKUP(W4275,CadMP!$B:$D,3,0),\"\")","v":""},{"$f":"IFERROR(VLOOKUP(X4275,CadMP!$B:$D,3,0),\"\")","v":""},{"$f":"IFERROR(VLOOKUP(Y4275,CadMP!$B:$D,3,0),\"\")","v":""},{"$f":"IFERROR(VLOOKUP(Z4275,CadMP!$B:$D,3,0),\"\")","v":""},{"$f":"IFERROR(VLOOKUP(AA4275,CadMP!$B:$D,3,0),\"\")","v":""},{"$f":"IFERROR(VLOOKUP(AB4275,CadMP!$B:$D,3,0),\"\")","v":""},{"$f":"IFERROR(VLOOKUP(AC4275,CadMP!$B:$D,3,0),\"\")","v":""},{"$f":"IFERROR(VLOOKUP(AD4275,CadMP!$B:$D,3,0),\"\")","v":""},{"$f":"IFERROR(VLOOKUP(AE4275,CadMP!$B:$D,3,0),\"\")","v":""},{"$f":"IFERROR(VLOOKUP(AF4275,CadMP!$B:$D,3,0),\"\")","v":""},{"$f":"IFERROR(VLOOKUP(AG4275,CadMP!$B:$D,3,0),\"\")","v":""},{"$f":"IFERROR(VLOOKUP(AH4275,CadMP!$B:$D,3,0),\"\")","v":""},{"$f":"IFERROR(VLOOKUP(AI4275,CadMP!$B:$D,3,0),\"\")","v":""},{"$f":"IFERROR(VLOOKUP(AJ4275,CadMP!$B:$D,3,0),\"\")","v":""},{"$f":"IFERROR(VLOOKUP(AK4275,CadMP!$B:$D,3,0),\"\")","v":""},0,0,0,0,0,0,0,0,0,0,0,0,0,0,0]
[4299,null,null,0,0,null,null,null,null,null,null,0,0,null,null,null,null,null,null,null,1,0,null,null,null,null,null,null,null,null,null,null,null,null,null,null,null,null,null,null,null,null,null,null,null,null,null,null,null,null,null,null,{"$f":"IFERROR(VLOOKUP(W4300,CadMP!$B:$D,2,0),\"\")","v":""},{"$f":"IFERROR(VLOOKUP(X4300,CadMP!$B:$D,2,0),\"\")","v":""},{"$f":"IFERROR(VLOOKUP(Y4300,CadMP!$B:$D,2,0),\"\")","v":""},{"$f":"IFERROR(VLOOKUP(Z4300,CadMP!$B:$D,2,0),\"\")","v":""},{"$f":"IFERROR(VLOOKUP(AA4300,CadMP!$B:$D,2,0),\"\")","v":""},{"$f":"IFERROR(VLOOKUP(AB4300,CadMP!$B:$D,2,0),\"\")","v":""},{"$f":"IFERROR(VLOOKUP(AC4300,CadMP!$B:$D,2,0),\"\")","v":""},{"$f":"IFERROR(VLOOKUP(AD4300,CadMP!$B:$D,2,0),\"\")","v":""},{"$f":"IFERROR(VLOOKUP(AE4300,CadMP!$B:$D,2,0),\"\")","v":""},{"$f":"IFERROR(VLOOKUP(AF4300,CadMP!$B:$D,2,0),\"\")","v":""},{"$f":"IFERROR(VLOOKUP(AG4300,CadMP!$B:$D,2,0),\"\")","v":""},{"$f":"IFERROR(VLOOKUP(AH4300,CadMP!$B:$D,2,0),\"\")","v":""},{"$f":"IFERROR(VLOOKUP(AI4300,CadMP!$B:$D,2,0),\"\")","v":""},{"$f":"IFERROR(VLOOKUP(AJ4300,CadMP!$B:$D,2,0),\"\")","v":""},{"$f":"IFERROR(VLOOKUP(AK4300,CadMP!$B:$D,2,0),\"\")","v":""},{"$f":"IFERROR(VLOOKUP(W4300,CadMP!$B:$D,3,0),\"\")","v":""},{"$f":"IFERROR(VLOOKUP(X4300,CadMP!$B:$D,3,0),\"\")","v":""},{"$f":"IFERROR(VLOOKUP(Y4300,CadMP!$B:$D,3,0),\"\")","v":""},{"$f":"IFERROR(VLOOKUP(Z4300,CadMP!$B:$D,3,0),\"\")","v":""},{"$f":"IFERROR(VLOOKUP(AA4300,CadMP!$B:$D,3,0),\"\")","v":""},{"$f":"IFERROR(VLOOKUP(AB4300,CadMP!$B:$D,3,0),\"\")","v":""},{"$f":"IFERROR(VLOOKUP(AC4300,CadMP!$B:$D,3,0),\"\")","v":""},{"$f":"IFERROR(VLOOKUP(AD4300,CadMP!$B:$D,3,0),\"\")","v":""},{"$f":"IFERROR(VLOOKUP(AE4300,CadMP!$B:$D,3,0),\"\")","v":""},{"$f":"IFERROR(VLOOKUP(AF4300,CadMP!$B:$D,3,0),\"\")","v":""},{"$f":"IFERROR(VLOOKUP(AG4300,CadMP!$B:$D,3,0),\"\")","v":""},{"$f":"IFERROR(VLOOKUP(AH4300,CadMP!$B:$D,3,0),\"\")","v":""},{"$f":"IFERROR(VLOOKUP(AI4300,CadMP!$B:$D,3,0),\"\")","v":""},{"$f":"IFERROR(VLOOKUP(AJ4300,CadMP!$B:$D,3,0),\"\")","v":""},{"$f":"IFERROR(VLOOKUP(AK4300,CadMP!$B:$D,3,0),\"\")","v":""},0,0,0,0,0,0,0,0,0,0,0,0,0,0,0]
[4318,null,null,0,0,null,null,null,null,null,null,0,0,null,null,null,null,null,null,null,1,0,null,null,null,null,null,null,null,null,null,null,null,null,null,null,null,null,null,null,null,null,null,null,null,null,null,null,null,null,null,null,{"$f":"IFERROR(VLOOKUP(W4319,CadMP!$B:$D,2,0),\"\")","v":""},{"$f":"IFERROR(VLOOKUP(X4319,CadMP!$B:$D,2,0),\"\")","v":""},{"$f":"IFERROR(VLOOKUP(Y4319,CadMP!$B:$D,2,0),\"\")","v":""},{"$f":"IFERROR(VLOOKUP(Z4319,CadMP!$B:$D,2,0),\"\")","v":""},{"$f":"IFERROR(VLOOKUP(AA4319,CadMP!$B:$D,2,0),\"\")","v":""},{"$f":"IFERROR(VLOOKUP(AB4319,CadMP!$B:$D,2,0),\"\")","v":""},{"$f":"IFERROR(VLOOKUP(AC4319,CadMP!$B:$D,2,0),\"\")","v":""},{"$f":"IFERROR(VLOOKUP(AD4319,CadMP!$B:$D,2,0),\"\")","v":""},{"$f":"IFERROR(VLOOKUP(AE4319,CadMP!$B:$D,2,0),\"\")","v":""},{"$f":"IFERROR(VLOOKUP(AF4319,CadMP!$B:$D,2,0),\"\")","v":""},{"$f":"IFERROR(VLOOKUP(AG4319,CadMP!$B:$D,2,0),\"\")","v":""},{"$f":"IFERROR(VLOOKUP(AH4319,CadMP!$B:$D,2,0),\"\")","v":""},{"$f":"IFERROR(VLOOKUP(AI4319,CadMP!$B:$D,2,0),\"\")","v":""},{"$f":"IFERROR(VLOOKUP(AJ4319,CadMP!$B:$D,2,0),\"\")","v":""},{"$f":"IFERROR(VLOOKUP(AK4319,CadMP!$B:$D,2,0),\"\")","v":""},{"$f":"IFERROR(VLOOKUP(W4319,CadMP!$B:$D,3,0),\"\")","v":""},{"$f":"IFERROR(VLOOKUP(X4319,CadMP!$B:$D,3,0),\"\")","v":""},{"$f":"IFERROR(VLOOKUP(Y4319,CadMP!$B:$D,3,0),\"\")","v":""},{"$f":"IFERROR(VLOOKUP(Z4319,CadMP!$B:$D,3,0),\"\")","v":""},{"$f":"IFERROR(VLOOKUP(AA4319,CadMP!$B:$D,3,0),\"\")","v":""},{"$f":"IFERROR(VLOOKUP(AB4319,CadMP!$B:$D,3,0),\"\")","v":""},{"$f":"IFERROR(VLOOKUP(AC4319,CadMP!$B:$D,3,0),\"\")","v":""},{"$f":"IFERROR(VLOOKUP(AD4319,CadMP!$B:$D,3,0),\"\")","v":""},{"$f":"IFERROR(VLOOKUP(AE4319,CadMP!$B:$D,3,0),\"\")","v":""},{"$f":"IFERROR(VLOOKUP(AF4319,CadMP!$B:$D,3,0),\"\")","v":""},{"$f":"IFERROR(VLOOKUP(AG4319,CadMP!$B:$D,3,0),\"\")","v":""},{"$f":"IFERROR(VLOOKUP(AH4319,CadMP!$B:$D,3,0),\"\")","v":""},{"$f":"IFERROR(VLOOKUP(AI4319,CadMP!$B:$D,3,0),\"\")","v":""},{"$f":"IFERROR(VLOOKUP(AJ4319,CadMP!$B:$D,3,0),\"\")","v":""},{"$f":"IFERROR(VLOOKUP(AK4319,CadMP!$B:$D,3,0),\"\")","v":""},0,0,0,0,0,0,0,0,0,0,0,0,0,0,0]
[4327,null,null,0,0,null,null,null,null,null,null,0,0,null,null,null,null,null,null,null,1,0,null,null,null,null,null,null,null,null,null,null,null,null,null,null,null,null,null,null,null,null,null,null,null,null,null,null,null,null,null,null,{"$f":"IFERROR(VLOOKUP(W4328,CadMP!$B:$D,2,0),\"\")","v":""},{"$f":"IFERROR(VLOOKUP(X4328,CadMP!$B:$D,2,0),\"\")","v":""},{"$f":"IFERROR(VLOOKUP(Y4328,CadMP!$B:$D,2,0),\"\")","v":""},{"$f":"IFERROR(VLOOKUP(Z4328,CadMP!$B:$D,2,0),\"\")","v":""},{"$f":"IFERROR(VLOOKUP(AA4328,CadMP!$B:$D,2,0),\"\")","v":""},{"$f":"IFERROR(VLOOKUP(AB4328,CadMP!$B:$D,2,0),\"\")","v":""},{"$f":"IFERROR(VLOOKUP(AC4328,CadMP!$B:$D,2,0),\"\")","v":""},{"$f":"IFERROR(VLOOKUP(AD4328,CadMP!$B:$D,2,0),\"\")","v":""},{"$f":"IFERROR(VLOOKUP(AE4328,CadMP!$B:$D,2,0),\"\")","v":""},{"$f":"IFERROR(VLOOKUP(AF4328,CadMP!$B:$D,2,0),\"\")","v":""},{"$f":"IFERROR(VLOOKUP(AG4328,CadMP!$B:$D,2,0),\"\")","v":""},{"$f":"IFERROR(VLOOKUP(AH4328,CadMP!$B:$D,2,0),\"\")","v":""},{"$f":"IFERROR(VLOOKUP(AI4328,CadMP!$B:$D,2,0),\"\")","v":""},{"$f":"IFERROR(VLOOKUP(AJ4328,CadMP!$B:$D,2,0),\"\")","v":""},{"$f":"IFERROR(VLOOKUP(AK4328,CadMP!$B:$D,2,0),\"\")","v":""},{"$f":"IFERROR(VLOOKUP(W4328,CadMP!$B:$D,3,0),\"\")","v":""},{"$f":"IFERROR(VLOOKUP(X4328,CadMP!$B:$D,3,0),\"\")","v":""},{"$f":"IFERROR(VLOOKUP(Y4328,CadMP!$B:$D,3,0),\"\")","v":""},{"$f":"IFERROR(VLOOKUP(Z4328,CadMP!$B:$D,3,0),\"\")","v":""},{"$f":"IFERROR(VLOOKUP(AA4328,CadMP!$B:$D,3,0),\"\")","v":""},{"$f":"IFERROR(VLOOKUP(AB4328,CadMP!$B:$D,3,0),\"\")","v":""},{"$f":"IFERROR(VLOOKUP(AC4328,CadMP!$B:$D,3,0),\"\")","v":""},{"$f":"IFERROR(VLOOKUP(AD4328,CadMP!$B:$D,3,0),\"\")","v":""},{"$f":"IFERROR(VLOOKUP(AE4328,CadMP!$B:$D,3,0),\"\")","v":""},{"$f":"IFERROR(VLOOKUP(AF4328,CadMP!$B:$D,3,0),\"\")","v":""},{"$f":"IFERROR(VLOOKUP(AG4328,CadMP!$B:$D,3,0),\"\")","v":""},{"$f":"IFERROR(VLOOKUP(AH4328,CadMP!$B:$D,3,0),\"\")","v":""},{"$f":"IFERROR(VLOOKUP(AI4328,CadMP!$B:$D,3,0),\"\")","v":""},{"$f":"IFERROR(VLOOKUP(AJ4328,CadMP!$B:$D,3,0),\"\")","v":""},{"$f":"IFERROR(VLOOKUP(AK4328,CadMP!$B:$D,3,0),\"\")","v":""},0,0,0,0,0,0,0,0,0,0,0,0,0,0,0]
[4342,null,null,0,0,null,null,null,null,null,null,0,0,null,null,null,null,null,null,null,1,0,null,null,null,null,null,null,null,null,null,null,null,null,null,null,null,null,null,null,null,null,null,null,null,null,null,null,null,null,null,null,{"$f":"IFERROR(VLOOKUP(W4343,CadMP!$B:$D,2,0),\"\")","v":""},{"$f":"IFERROR(VLOOKUP(X4343,CadMP!$B:$D,2,0),\"\")","v":""},{"$f":"IFERROR(VLOOKUP(Y4343,CadMP!$B:$D,2,0),\"\")","v":""},{"$f":"IFERROR(VLOOKUP(Z4343,CadMP!$B:$D,2,0),\"\")","v":""},{"$f":"IFERROR(VLOOKUP(AA4343,CadMP!$B:$D,2,0),\"\")","v":""},{"$f":"IFERROR(VLOOKUP(AB4343,CadMP!$B:$D,2,0),\"\")","v":""},{"$f":"IFERROR(VLOOKUP(AC4343,CadMP!$B:$D,2,0),\"\")","v":""},{"$f":"IFERROR(VLOOKUP(AD4343,CadMP!$B:$D,2,0),\"\")","v":""},{"$f":"IFERROR(VLOOKUP(AE4343,CadMP!$B:$D,2,0),\"\")","v":""},{"$f":"IFERROR(VLOOKUP(AF4343,CadMP!$B:$D,2,0),\"\")","v":""},{"$f":"IFERROR(VLOOKUP(AG4343,CadMP!$B:$D,2,0),\"\")","v":""},{"$f":"IFERROR(VLOOKUP(AH4343,CadMP!$B:$D,2,0),\"\")","v":""},{"$f":"IFERROR(VLOOKUP(AI4343,CadMP!$B:$D,2,0),\"\")","v":""},{"$f":"IFERROR(VLOOKUP(AJ4343,CadMP!$B:$D,2,0),\"\")","v":""},{"$f":"IFERROR(VLOOKUP(AK4343,CadMP!$B:$D,2,0),\"\")","v":""},{"$f":"IFERROR(VLOOKUP(W4343,CadMP!$B:$D,3,0),\"\")","v":""},{"$f":"IFERROR(VLOOKUP(X4343,CadMP!$B:$D,3,0),\"\")","v":""},{"$f":"IFERROR(VLOOKUP(Y4343,CadMP!$B:$D,3,0),\"\")","v":""},{"$f":"IFERROR(VLOOKUP(Z4343,CadMP!$B:$D,3,0),\"\")","v":""},{"$f":"IFERROR(VLOOKUP(AA4343,CadMP!$B:$D,3,0),\"\")","v":""},{"$f":"IFERROR(VLOOKUP(AB4343,CadMP!$B:$D,3,0),\"\")","v":""},{"$f":"IFERROR(VLOOKUP(AC4343,CadMP!$B:$D,3,0),\"\")","v":""},{"$f":"IFERROR(VLOOKUP(AD4343,CadMP!$B:$D,3,0),\"\")","v":""},{"$f":"IFERROR(VLOOKUP(AE4343,CadMP!$B:$D,3,0),\"\")","v":""},{"$f":"IFERROR(VLOOKUP(AF4343,CadMP!$B:$D,3,0),\"\")","v":""},{"$f":"IFERROR(VLOOKUP(AG4343,CadMP!$B:$D,3,0),\"\")","v":""},{"$f":"IFERROR(VLOOKUP(AH4343,CadMP!$B:$D,3,0),\"\")","v":""},{"$f":"IFERROR(VLOOKUP(AI4343,CadMP!$B:$D,3,0),\"\")","v":""},{"$f":"IFERROR(VLOOKUP(AJ4343,CadMP!$B:$D,3,0),\"\")","v":""},{"$f":"IFERROR(VLOOKUP(AK4343,CadMP!$B:$D,3,0),\"\")","v":""},0,0,0,0,0,0,0,0,0,0,0,0,0,0,0]
[4361,null,null,0,0,null,null,null,null,null,null,0,0,null,null,null,null,null,null,null,1,0,null,null,null,null,null,null,null,null,null,null,null,null,null,null,null,null,null,null,null,null,null,null,null,null,null,null,null,null,null,null,{"$f":"IFERROR(VLOOKUP(W4362,CadMP!$B:$D,2,0),\"\")","v":""},{"$f":"IFERROR(VLOOKUP(X4362,CadMP!$B:$D,2,0),\"\")","v":""},{"$f":"IFERROR(VLOOKUP(Y4362,CadMP!$B:$D,2,0),\"\")","v":""},{"$f":"IFERROR(VLOOKUP(Z4362,CadMP!$B:$D,2,0),\"\")","v":""},{"$f":"IFERROR(VLOOKUP(AA4362,CadMP!$B:$D,2,0),\"\")","v":""},{"$f":"IFERROR(VLOOKUP(AB4362,CadMP!$B:$D,2,0),\"\")","v":""},{"$f":"IFERROR(VLOOKUP(AC4362,CadMP!$B:$D,2,0),\"\")","v":""},{"$f":"IFERROR(VLOOKUP(AD4362,CadMP!$B:$D,2,0),\"\")","v":""},{"$f":"IFERROR(VLOOKUP(AE4362,CadMP!$B:$D,2,0),\"\")","v":""},{"$f":"IFERROR(VLOOKUP(AF4362,CadMP!$B:$D,2,0),\"\")","v":""},{"$f":"IFERROR(VLOOKUP(AG4362,CadMP!$B:$D,2,0),\"\")","v":""},{"$f":"IFERROR(VLOOKUP(AH4362,CadMP!$B:$D,2,0),\"\")","v":""},{"$f":"IFERROR(VLOOKUP(AI4362,CadMP!$B:$D,2,0),\"\")","v":""},{"$f":"IFERROR(VLOOKUP(AJ4362,CadMP!$B:$D,2,0),\"\")","v":""},{"$f":"IFERROR(VLOOKUP(AK4362,CadMP!$B:$D,2,0),\"\")","v":""},{"$f":"IFERROR(VLOOKUP(W4362,CadMP!$B:$D,3,0),\"\")","v":""},{"$f":"IFERROR(VLOOKUP(X4362,CadMP!$B:$D,3,0),\"\")","v":""},{"$f":"IFERROR(VLOOKUP(Y4362,CadMP!$B:$D,3,0),\"\")","v":""},{"$f":"IFERROR(VLOOKUP(Z4362,CadMP!$B:$D,3,0),\"\")","v":""},{"$f":"IFERROR(VLOOKUP(AA4362,CadMP!$B:$D,3,0),\"\")","v":""},{"$f":"IFERROR(VLOOKUP(AB4362,CadMP!$B:$D,3,0),\"\")","v":""},{"$f":"IFERROR(VLOOKUP(AC4362,CadMP!$B:$D,3,0),\"\")","v":""},{"$f":"IFERROR(VLOOKUP(AD4362,CadMP!$B:$D,3,0),\"\")","v":""},{"$f":"IFERROR(VLOOKUP(AE4362,CadMP!$B:$D,3,0),\"\")","v":""},{"$f":"IFERROR(VLOOKUP(AF4362,CadMP!$B:$D,3,0),\"\")","v":""},{"$f":"IFERROR(VLOOKUP(AG4362,CadMP!$B:$D,3,0),\"\")","v":""},{"$f":"IFERROR(VLOOKUP(AH4362,CadMP!$B:$D,3,0),\"\")","v":""},{"$f":"IFERROR(VLOOKUP(AI4362,CadMP!$B:$D,3,0),\"\")","v":""},{"$f":"IFERROR(VLOOKUP(AJ4362,CadMP!$B:$D,3,0),\"\")","v":""},{"$f":"IFERROR(VLOOKUP(AK4362,CadMP!$B:$D,3,0),\"\")","v":""},0,0,0,0,0,0,0,0,0,0,0,0,0,0,0]
[4386,null,null,0,0,null,null,null,null,null,null,0,0,null,null,null,null,null,null,null,1,0,null,null,null,null,null,null,null,null,null,null,null,null,null,null,null,null,null,null,null,null,null,null,null,null,null,null,null,null,null,null,{"$f":"IFERROR(VLOOKUP(W4387,CadMP!$B:$D,2,0),\"\")","v":""},{"$f":"IFERROR(VLOOKUP(X4387,CadMP!$B:$D,2,0),\"\")","v":""},{"$f":"IFERROR(VLOOKUP(Y4387,CadMP!$B:$D,2,0),\"\")","v":""},{"$f":"IFERROR(VLOOKUP(Z4387,CadMP!$B:$D,2,0),\"\")","v":""},{"$f":"IFERROR(VLOOKUP(AA4387,CadMP!$B:$D,2,0),\"\")","v":""},{"$f":"IFERROR(VLOOKUP(AB4387,CadMP!$B:$D,2,0),\"\")","v":""},{"$f":"IFERROR(VLOOKUP(AC4387,CadMP!$B:$D,2,0),\"\")","v":""},{"$f":"IFERROR(VLOOKUP(AD4387,CadMP!$B:$D,2,0),\"\")","v":""},{"$f":"IFERROR(VLOOKUP(AE4387,CadMP!$B:$D,2,0),\"\")","v":""},{"$f":"IFERROR(VLOOKUP(AF4387,CadMP!$B:$D,2,0),\"\")","v":""},{"$f":"IFERROR(VLOOKUP(AG4387,CadMP!$B:$D,2,0),\"\")","v":""},{"$f":"IFERROR(VLOOKUP(AH4387,CadMP!$B:$D,2,0),\"\")","v":""},{"$f":"IFERROR(VLOOKUP(AI4387,CadMP!$B:$D,2,0),\"\")","v":""},{"$f":"IFERROR(VLOOKUP(AJ4387,CadMP!$B:$D,2,0),\"\")","v":""},{"$f":"IFERROR(VLOOKUP(AK4387,CadMP!$B:$D,2,0),\"\")","v":""},{"$f":"IFERROR(VLOOKUP(W4387,CadMP!$B:$D,3,0),\"\")","v":""},{"$f":"IFERROR(VLOOKUP(X4387,CadMP!$B:$D,3,0),\"\")","v":""},{"$f":"IFERROR(VLOOKUP(Y4387,CadMP!$B:$D,3,0),\"\")","v":""},{"$f":"IFERROR(VLOOKUP(Z4387,CadMP!$B:$D,3,0),\"\")","v":""},{"$f":"IFERROR(VLOOKUP(AA4387,CadMP!$B:$D,3,0),\"\")","v":""},{"$f":"IFERROR(VLOOKUP(AB4387,CadMP!$B:$D,3,0),\"\")","v":""},{"$f":"IFERROR(VLOOKUP(AC4387,CadMP!$B:$D,3,0),\"\")","v":""},{"$f":"IFERROR(VLOOKUP(AD4387,CadMP!$B:$D,3,0),\"\")","v":""},{"$f":"IFERROR(VLOOKUP(AE4387,CadMP!$B:$D,3,0),\"\")","v":""},{"$f":"IFERROR(VLOOKUP(AF4387,CadMP!$B:$D,3,0),\"\")","v":""},{"$f":"IFERROR(VLOOKUP(AG4387,CadMP!$B:$D,3,0),\"\")","v":""},{"$f":"IFERROR(VLOOKUP(AH4387,CadMP!$B:$D,3,0),\"\")","v":""},{"$f":"IFERROR(VLOOKUP(AI4387,CadMP!$B:$D,3,0),\"\")","v":""},{"$f":"IFERROR(VLOOKUP(AJ4387,CadMP!$B:$D,3,0),\"\")","v":""},{"$f":"IFERROR(VLOOKUP(AK4387,CadMP!$B:$D,3,0),\"\")","v":""},0,0,0,0,0,0,0,0,0,0,0,0,0,0,0]
[4404,null,null,0,0,null,null,null,null,null,null,0,0,null,null,null,null,null,null,null,1,0,null,null,null,null,null,null,null,null,null,null,null,null,null,null,null,null,null,null,null,null,null,null,null,null,null,null,null,null,null,null,{"$f":"IFERROR(VLOOKUP(W4405,CadMP!$B:$D,2,0),\"\")","v":""},{"$f":"IFERROR(VLOOKUP(X4405,CadMP!$B:$D,2,0),\"\")","v":""},{"$f":"IFERROR(VLOOKUP(Y4405,CadMP!$B:$D,2,0),\"\")","v":""},{"$f":"IFERROR(VLOOKUP(Z4405,CadMP!$B:$D,2,0),\"\")","v":""},{"$f":"IFERROR(VLOOKUP(AA4405,CadMP!$B:$D,2,0),\"\")","v":""},{"$f":"IFERROR(VLOOKUP(AB4405,CadMP!$B:$D,2,0),\"\")","v":""},{"$f":"IFERROR(VLOOKUP(AC4405,CadMP!$B:$D,2,0),\"\")","v":""},{"$f":"IFERROR(VLOOKUP(AD4405,CadMP!$B:$D,2,0),\"\")","v":""},{"$f":"IFERROR(VLOOKUP(AE4405,CadMP!$B:$D,2,0),\"\")","v":""},{"$f":"IFERROR(VLOOKUP(AF4405,CadMP!$B:$D,2,0),\"\")","v":""},{"$f":"IFERROR(VLOOKUP(AG4405,CadMP!$B:$D,2,0),\"\")","v":""},{"$f":"IFERROR(VLOOKUP(AH4405,CadMP!$B:$D,2,0),\"\")","v":""},{"$f":"IFERROR(VLOOKUP(AI4405,CadMP!$B:$D,2,0),\"\")","v":""},{"$f":"IFERROR(VLOOKUP(AJ4405,CadMP!$B:$D,2,0),\"\")","v":""},{"$f":"IFERROR(VLOOKUP(AK4405,CadMP!$B:$D,2,0),\"\")","v":""},{"$f":"IFERROR(VLOOKUP(W4405,CadMP!$B:$D,3,0),\"\")","v":""},{"$f":"IFERROR(VLOOKUP(X4405,CadMP!$B:$D,3,0),\"\")","v":""},{"$f":"IFERROR(VLOOKUP(Y4405,CadMP!$B:$D,3,0),\"\")","v":""},{"$f":"IFERROR(VLOOKUP(Z4405,CadMP!$B:$D,3,0),\"\")","v":""},{"$f":"IFERROR(VLOOKUP(AA4405,CadMP!$B:$D,3,0),\"\")","v":""},{"$f":"IFERROR(VLOOKUP(AB4405,CadMP!$B:$D,3,0),\"\")","v":""},{"$f":"IFERROR(VLOOKUP(AC4405,CadMP!$B:$D,3,0),\"\")","v":""},{"$f":"IFERROR(VLOOKUP(AD4405,CadMP!$B:$D,3,0),\"\")","v":""},{"$f":"IFERROR(VLOOKUP(AE4405,CadMP!$B:$D,3,0),\"\")","v":""},{"$f":"IFERROR(VLOOKUP(AF4405,CadMP!$B:$D,3,0),\"\")","v":""},{"$f":"IFERROR(VLOOKUP(AG4405,CadMP!$B:$D,3,0),\"\")","v":""},{"$f":"IFERROR(VLOOKUP(AH4405,CadMP!$B:$D,3,0),\"\")","v":""},{"$f":"IFERROR(VLOOKUP(AI4405,CadMP!$B:$D,3,0),\"\")","v":""},{"$f":"IFERROR(VLOOKUP(AJ4405,CadMP!$B:$D,3,0),\"\")","v":""},{"$f":"IFERROR(VLOOKUP(AK4405,CadMP!$B:$D,3,0),\"\")","v":""},0,0,0,0,0,0,0,0,0,0,0,0,0,0,0]
[4423,null,null,0,0,null,null,null,null,null,null,0,0,null,null,null,null,null,null,null,1,0,null,null,null,null,null,null,null,null,null,null,null,null,null,null,null,null,null,null,null,null,null,null,null,null,null,null,null,null,null,null,{"$f":"IFERROR(VLOOKUP(W4424,CadMP!$B:$D,2,0),\"\")","v":""},{"$f":"IFERROR(VLOOKUP(X4424,CadMP!$B:$D,2,0),\"\")","v":""},{"$f":"IFERROR(VLOOKUP(Y4424,CadMP!$B:$D,2,0),\"\")","v":""},{"$f":"IFERROR(VLOOKUP(Z4424,CadMP!$B:$D,2,0),\"\")","v":""},{"$f":"IFERROR(VLOOKUP(AA4424,CadMP!$B:$D,2,0),\"\")","v":""},{"$f":"IFERROR(VLOOKUP(AB4424,CadMP!$B:$D,2,0),\"\")","v":""},{"$f":"IFERROR(VLOOKUP(AC4424,CadMP!$B:$D,2,0),\"\")","v":""},{"$f":"IFERROR(VLOOKUP(AD4424,CadMP!$B:$D,2,0),\"\")","v":""},{"$f":"IFERROR(VLOOKUP(AE4424,CadMP!$B:$D,2,0),\"\")","v":""},{"$f":"IFERROR(VLOOKUP(AF4424,CadMP!$B:$D,2,0),\"\")","v":""},{"$f":"IFERROR(VLOOKUP(AG4424,CadMP!$B:$D,2,0),\"\")","v":""},{"$f":"IFERROR(VLOOKUP(AH4424,CadMP!$B:$D,2,0),\"\")","v":""},{"$f":"IFERROR(VLOOKUP(AI4424,CadMP!$B:$D,2,0),\"\")","v":""},{"$f":"IFERROR(VLOOKUP(AJ4424,CadMP!$B:$D,2,0),\"\")","v":""},{"$f":"IFERROR(VLOOKUP(AK4424,CadMP!$B:$D,2,0),\"\")","v":""},{"$f":"IFERROR(VLOOKUP(W4424,CadMP!$B:$D,3,0),\"\")","v":""},{"$f":"IFERROR(VLOOKUP(X4424,CadMP!$B:$D,3,0),\"\")","v":""},{"$f":"IFERROR(VLOOKUP(Y4424,CadMP!$B:$D,3,0),\"\")","v":""},{"$f":"IFERROR(VLOOKUP(Z4424,CadMP!$B:$D,3,0),\"\")","v":""},{"$f":"IFERROR(VLOOKUP(AA4424,CadMP!$B:$D,3,0),\"\")","v":""},{"$f":"IFERROR(VLOOKUP(AB4424,CadMP!$B:$D,3,0),\"\")","v":""},{"$f":"IFERROR(VLOOKUP(AC4424,CadMP!$B:$D,3,0),\"\")","v":""},{"$f":"IFERROR(VLOOKUP(AD4424,CadMP!$B:$D,3,0),\"\")","v":""},{"$f":"IFERROR(VLOOKUP(AE4424,CadMP!$B:$D,3,0),\"\")","v":""},{"$f":"IFERROR(VLOOKUP(AF4424,CadMP!$B:$D,3,0),\"\")","v":""},{"$f":"IFERROR(VLOOKUP(AG4424,CadMP!$B:$D,3,0),\"\")","v":""},{"$f":"IFERROR(VLOOKUP(AH4424,CadMP!$B:$D,3,0),\"\")","v":""},{"$f":"IFERROR(VLOOKUP(AI4424,CadMP!$B:$D,3,0),\"\")","v":""},{"$f":"IFERROR(VLOOKUP(AJ4424,CadMP!$B:$D,3,0),\"\")","v":""},{"$f":"IFERROR(VLOOKUP(AK4424,CadMP!$B:$D,3,0),\"\")","v":""},0,0,0,0,0,0,0,0,0,0,0,0,0,0,0]
[4448,null,null,0,0,null,null,null,null,null,null,0,0,null,null,null,null,null,null,null,1,0,null,null,null,null,null,null,null,null,null,null,null,null,null,null,null,null,null,null,null,null,null,null,null,null,null,null,null,null,null,null,{"$f":"IFERROR(VLOOKUP(W4449,CadMP!$B:$D,2,0),\"\")","v":""},{"$f":"IFERROR(VLOOKUP(X4449,CadMP!$B:$D,2,0),\"\")","v":""},{"$f":"IFERROR(VLOOKUP(Y4449,CadMP!$B:$D,2,0),\"\")","v":""},{"$f":"IFERROR(VLOOKUP(Z4449,CadMP!$B:$D,2,0),\"\")","v":""},{"$f":"IFERROR(VLOOKUP(AA4449,CadMP!$B:$D,2,0),\"\")","v":""},{"$f":"IFERROR(VLOOKUP(AB4449,CadMP!$B:$D,2,0),\"\")","v":""},{"$f":"IFERROR(VLOOKUP(AC4449,CadMP!$B:$D,2,0),\"\")","v":""},{"$f":"IFERROR(VLOOKUP(AD4449,CadMP!$B:$D,2,0),\"\")","v":""},{"$f":"IFERROR(VLOOKUP(AE4449,CadMP!$B:$D,2,0),\"\")","v":""},{"$f":"IFERROR(VLOOKUP(AF4449,CadMP!$B:$D,2,0),\"\")","v":""},{"$f":"IFERROR(VLOOKUP(AG4449,CadMP!$B:$D,2,0),\"\")","v":""},{"$f":"IFERROR(VLOOKUP(AH4449,CadMP!$B:$D,2,0),\"\")","v":""},{"$f":"IFERROR(VLOOKUP(AI4449,CadMP!$B:$D,2,0),\"\")","v":""},{"$f":"IFERROR(VLOOKUP(AJ4449,CadMP!$B:$D,2,0),\"\")","v":""},{"$f":"IFERROR(VLOOKUP(AK4449,CadMP!$B:$D,2,0),\"\")","v":""},{"$f":"IFERROR(VLOOKUP(W4449,CadMP!$B:$D,3,0),\"\")","v":""},{"$f":"IFERROR(VLOOKUP(X4449,CadMP!$B:$D,3,0),\"\")","v":""},{"$f":"IFERROR(VLOOKUP(Y4449,CadMP!$B:$D,3,0),\"\")","v":""},{"$f":"IFERROR(VLOOKUP(Z4449,CadMP!$B:$D,3,0),\"\")","v":""},{"$f":"IFERROR(VLOOKUP(AA4449,CadMP!$B:$D,3,0),\"\")","v":""},{"$f":"IFERROR(VLOOKUP(AB4449,CadMP!$B:$D,3,0),\"\")","v":""},{"$f":"IFERROR(VLOOKUP(AC4449,CadMP!$B:$D,3,0),\"\")","v":""},{"$f":"IFERROR(VLOOKUP(AD4449,CadMP!$B:$D,3,0),\"\")","v":""},{"$f":"IFERROR(VLOOKUP(AE4449,CadMP!$B:$D,3,0),\"\")","v":""},{"$f":"IFERROR(VLOOKUP(AF4449,CadMP!$B:$D,3,0),\"\")","v":""},{"$f":"IFERROR(VLOOKUP(AG4449,CadMP!$B:$D,3,0),\"\")","v":""},{"$f":"IFERROR(VLOOKUP(AH4449,CadMP!$B:$D,3,0),\"\")","v":""},{"$f":"IFERROR(VLOOKUP(AI4449,CadMP!$B:$D,3,0),\"\")","v":""},{"$f":"IFERROR(VLOOKUP(AJ4449,CadMP!$B:$D,3,0),\"\")","v":""},{"$f":"IFERROR(VLOOKUP(AK4449,CadMP!$B:$D,3,0),\"\")","v":""},0,0,0,0,0,0,0,0,0,0,0,0,0,0,0]
[4467,null,null,0,0,null,null,null,null,null,null,0,0,null,null,null,null,null,null,null,1,0,null,null,null,null,null,null,null,null,null,null,null,null,null,null,null,null,null,null,null,null,null,null,null,null,null,null,null,null,null,null,{"$f":"IFERROR(VLOOKUP(W4468,CadMP!$B:$D,2,0),\"\")","v":""},{"$f":"IFERROR(VLOOKUP(X4468,CadMP!$B:$D,2,0),\"\")","v":""},{"$f":"IFERROR(VLOOKUP(Y4468,CadMP!$B:$D,2,0),\"\")","v":""},{"$f":"IFERROR(VLOOKUP(Z4468,CadMP!$B:$D,2,0),\"\")","v":""},{"$f":"IFERROR(VLOOKUP(AA4468,CadMP!$B:$D,2,0),\"\")","v":""},{"$f":"IFERROR(VLOOKUP(AB4468,CadMP!$B:$D,2,0),\"\")","v":""},{"$f":"IFERROR(VLOOKUP(AC4468,CadMP!$B:$D,2,0),\"\")","v":""},{"$f":"IFERROR(VLOOKUP(AD4468,CadMP!$B:$D,2,0),\"\")","v":""},{"$f":"IFERROR(VLOOKUP(AE4468,CadMP!$B:$D,2,0),\"\")","v":""},{"$f":"IFERROR(VLOOKUP(AF4468,CadMP!$B:$D,2,0),\"\")","v":""},{"$f":"IFERROR(VLOOKUP(AG4468,CadMP!$B:$D,2,0),\"\")","v":""},{"$f":"IFERROR(VLOOKUP(AH4468,CadMP!$B:$D,2,0),\"\")","v":""},{"$f":"IFERROR(VLOOKUP(AI4468,CadMP!$B:$D,2,0),\"\")","v":""},{"$f":"IFERROR(VLOOKUP(AJ4468,CadMP!$B:$D,2,0),\"\")","v":""},{"$f":"IFERROR(VLOOKUP(AK4468,CadMP!$B:$D,2,0),\"\")","v":""},{"$f":"IFERROR(VLOOKUP(W4468,CadMP!$B:$D,3,0),\"\")","v":""},{"$f":"IFERROR(VLOOKUP(X4468,CadMP!$B:$D,3,0),\"\")","v":""},{"$f":"IFERROR(VLOOKUP(Y4468,CadMP!$B:$D,3,0),\"\")","v":""},{"$f":"IFERROR(VLOOKUP(Z4468,CadMP!$B:$D,3,0),\"\")","v":""},{"$f":"IFERROR(VLOOKUP(AA4468,CadMP!$B:$D,3,0),\"\")","v":""},{"$f":"IFERROR(VLOOKUP(AB4468,CadMP!$B:$D,3,0),\"\")","v":""},{"$f":"IFERROR(VLOOKUP(AC4468,CadMP!$B:$D,3,0),\"\")","v":""},{"$f":"IFERROR(VLOOKUP(AD4468,CadMP!$B:$D,3,0),\"\")","v":""},{"$f":"IFERROR(VLOOKUP(AE4468,CadMP!$B:$D,3,0),\"\")","v":""},{"$f":"IFERROR(VLOOKUP(AF4468,CadMP!$B:$D,3,0),\"\")","v":""},{"$f":"IFERROR(VLOOKUP(AG4468,CadMP!$B:$D,3,0),\"\")","v":""},{"$f":"IFERROR(VLOOKUP(AH4468,CadMP!$B:$D,3,0),\"\")","v":""},{"$f":"IFERROR(VLOOKUP(AI4468,CadMP!$B:$D,3,0),\"\")","v":""},{"$f":"IFERROR(VLOOKUP(AJ4468,CadMP!$B:$D,3,0),\"\")","v":""},{"$f":"IFERROR(VLOOKUP(AK4468,CadMP!$B:$D,3,0),\"\")","v":""},0,0,0,0,0,0,0,0,0,0,0,0,0,0,0]
[4477,null,null,0,0,null,null,null,null,null,null,0,0,null,null,null,null,null,null,null,1,0,null,null,null,null,null,null,null,null,null,null,null,null,null,null,null,null,null,null,null,null,null,null,null,null,null,null,null,null,null,null,{"$f":"IFERROR(VLOOKUP(W4478,CadMP!$B:$D,2,0),\"\")","v":""},{"$f":"IFERROR(VLOOKUP(X4478,CadMP!$B:$D,2,0),\"\")","v":""},{"$f":"IFERROR(VLOOKUP(Y4478,CadMP!$B:$D,2,0),\"\")","v":""},{"$f":"IFERROR(VLOOKUP(Z4478,CadMP!$B:$D,2,0),\"\")","v":""},{"$f":"IFERROR(VLOOKUP(AA4478,CadMP!$B:$D,2,0),\"\")","v":""},{"$f":"IFERROR(VLOOKUP(AB4478,CadMP!$B:$D,2,0),\"\")","v":""},{"$f":"IFERROR(VLOOKUP(AC4478,CadMP!$B:$D,2,0),\"\")","v":""},{"$f":"IFERROR(VLOOKUP(AD4478,CadMP!$B:$D,2,0),\"\")","v":""},{"$f":"IFERROR(VLOOKUP(AE4478,CadMP!$B:$D,2,0),\"\")","v":""},{"$f":"IFERROR(VLOOKUP(AF4478,CadMP!$B:$D,2,0),\"\")","v":""},{"$f":"IFERROR(VLOOKUP(AG4478,CadMP!$B:$D,2,0),\"\")","v":""},{"$f":"IFERROR(VLOOKUP(AH4478,CadMP!$B:$D,2,0),\"\")","v":""},{"$f":"IFERROR(VLOOKUP(AI4478,CadMP!$B:$D,2,0),\"\")","v":""},{"$f":"IFERROR(VLOOKUP(AJ4478,CadMP!$B:$D,2,0),\"\")","v":""},{"$f":"IFERROR(VLOOKUP(AK4478,CadMP!$B:$D,2,0),\"\")","v":""},{"$f":"IFERROR(VLOOKUP(W4478,CadMP!$B:$D,3,0),\"\")","v":""},{"$f":"IFERROR(VLOOKUP(X4478,CadMP!$B:$D,3,0),\"\")","v":""},{"$f":"IFERROR(VLOOKUP(Y4478,CadMP!$B:$D,3,0),\"\")","v":""},{"$f":"IFERROR(VLOOKUP(Z4478,CadMP!$B:$D,3,0),\"\")","v":""},{"$f":"IFERROR(VLOOKUP(AA4478,CadMP!$B:$D,3,0),\"\")","v":""},{"$f":"IFERROR(VLOOKUP(AB4478,CadMP!$B:$D,3,0),\"\")","v":""},{"$f":"IFERROR(VLOOKUP(AC4478,CadMP!$B:$D,3,0),\"\")","v":""},{"$f":"IFERROR(VLOOKUP(AD4478,CadMP!$B:$D,3,0),\"\")","v":""},{"$f":"IFERROR(VLOOKUP(AE4478,CadMP!$B:$D,3,0),\"\")","v":""},{"$f":"IFERROR(VLOOKUP(AF4478,CadMP!$B:$D,3,0),\"\")","v":""},{"$f":"IFERROR(VLOOKUP(AG4478,CadMP!$B:$D,3,0),\"\")","v":""},{"$f":"IFERROR(VLOOKUP(AH4478,CadMP!$B:$D,3,0),\"\")","v":""},{"$f":"IFERROR(VLOOKUP(AI4478,CadMP!$B:$D,3,0),\"\")","v":""},{"$f":"IFERROR(VLOOKUP(AJ4478,CadMP!$B:$D,3,0),\"\")","v":""},{"$f":"IFERROR(VLOOKUP(AK4478,CadMP!$B:$D,3,0),\"\")","v":""},0,0,0,0,0,0,0,0,0,0,0,0,0,0,0]
[4491,null,null,0,0,null,null,null,null,null,null,0,0,null,null,null,null,null,null,null,1,0,null,null,null,null,null,null,null,null,null,null,null,null,null,null,null,null,null,null,null,null,null,null,null,null,null,null,null,null,null,null,{"$f":"IFERROR(VLOOKUP(W4492,CadMP!$B:$D,2,0),\"\")","v":""},{"$f":"IFERROR(VLOOKUP(X4492,CadMP!$B:$D,2,0),\"\")","v":""},{"$f":"IFERROR(VLOOKUP(Y4492,CadMP!$B:$D,2,0),\"\")","v":""},{"$f":"IFERROR(VLOOKUP(Z4492,CadMP!$B:$D,2,0),\"\")","v":""},{"$f":"IFERROR(VLOOKUP(AA4492,CadMP!$B:$D,2,0),\"\")","v":""},{"$f":"IFERROR(VLOOKUP(AB4492,CadMP!$B:$D,2,0),\"\")","v":""},{"$f":"IFERROR(VLOOKUP(AC4492,CadMP!$B:$D,2,0),\"\")","v":""},{"$f":"IFERROR(VLOOKUP(AD4492,CadMP!$B:$D,2,0),\"\")","v":""},{"$f":"IFERROR(VLOOKUP(AE4492,CadMP!$B:$D,2,0),\"\")","v":""},{"$f":"IFERROR(VLOOKUP(AF4492,CadMP!$B:$D,2,0),\"\")","v":""},{"$f":"IFERROR(VLOOKUP(AG4492,CadMP!$B:$D,2,0),\"\")","v":""},{"$f":"IFERROR(VLOOKUP(AH4492,CadMP!$B:$D,2,0),\"\")","v":""},{"$f":"IFERROR(VLOOKUP(AI4492,CadMP!$B:$D,2,0),\"\")","v":""},{"$f":"IFERROR(VLOOKUP(AJ4492,CadMP!$B:$D,2,0),\"\")","v":""},{"$f":"IFERROR(VLOOKUP(AK4492,CadMP!$B:$D,2,0),\"\")","v":""},{"$f":"IFERROR(VLOOKUP(W4492,CadMP!$B:$D,3,0),\"\")","v":""},{"$f":"IFERROR(VLOOKUP(X4492,CadMP!$B:$D,3,0),\"\")","v":""},{"$f":"IFERROR(VLOOKUP(Y4492,CadMP!$B:$D,3,0),\"\")","v":""},{"$f":"IFERROR(VLOOKUP(Z4492,CadMP!$B:$D,3,0),\"\")","v":""},{"$f":"IFERROR(VLOOKUP(AA4492,CadMP!$B:$D,3,0),\"\")","v":""},{"$f":"IFERROR(VLOOKUP(AB4492,CadMP!$B:$D,3,0),\"\")","v":""},{"$f":"IFERROR(VLOOKUP(AC4492,CadMP!$B:$D,3,0),\"\")","v":""},{"$f":"IFERROR(VLOOKUP(AD4492,CadMP!$B:$D,3,0),\"\")","v":""},{"$f":"IFERROR(VLOOKUP(AE4492,CadMP!$B:$D,3,0),\"\")","v":""},{"$f":"IFERROR(VLOOKUP(AF4492,CadMP!$B:$D,3,0),\"\")","v":""},{"$f":"IFERROR(VLOOKUP(AG4492,CadMP!$B:$D,3,0),\"\")","v":""},{"$f":"IFERROR(VLOOKUP(AH4492,CadMP!$B:$D,3,0),\"\")","v":""},{"$f":"IFERROR(VLOOKUP(AI4492,CadMP!$B:$D,3,0),\"\")","v":""},{"$f":"IFERROR(VLOOKUP(AJ4492,CadMP!$B:$D,3,0),\"\")","v":""},{"$f":"IFERROR(VLOOKUP(AK4492,CadMP!$B:$D,3,0),\"\")","v":""},0,0,0,0,0,0,0,0,0,0,0,0,0,0,0]
[4510,null,null,0,0,null,null,null,null,null,null,0,0,null,null,null,null,null,null,null,1,0,null,null,null,null,null,null,null,null,null,null,null,null,null,null,null,null,null,null,null,null,null,null,null,null,null,null,null,null,null,null,{"$f":"IFERROR(VLOOKUP(W4511,CadMP!$B:$D,2,0),\"\")","v":""},{"$f":"IFERROR(VLOOKUP(X4511,CadMP!$B:$D,2,0),\"\")","v":""},{"$f":"IFERROR(VLOOKUP(Y4511,CadMP!$B:$D,2,0),\"\")","v":""},{"$f":"IFERROR(VLOOKUP(Z4511,CadMP!$B:$D,2,0),\"\")","v":""},{"$f":"IFERROR(VLOOKUP(AA4511,CadMP!$B:$D,2,0),\"\")","v":""},{"$f":"IFERROR(VLOOKUP(AB4511,CadMP!$B:$D,2,0),\"\")","v":""},{"$f":"IFERROR(VLOOKUP(AC4511,CadMP!$B:$D,2,0),\"\")","v":""},{"$f":"IFERROR(VLOOKUP(AD4511,CadMP!$B:$D,2,0),\"\")","v":""},{"$f":"IFERROR(VLOOKUP(AE4511,CadMP!$B:$D,2,0),\"\")","v":""},{"$f":"IFERROR(VLOOKUP(AF4511,CadMP!$B:$D,2,0),\"\")","v":""},{"$f":"IFERROR(VLOOKUP(AG4511,CadMP!$B:$D,2,0),\"\")","v":""},{"$f":"IFERROR(VLOOKUP(AH4511,CadMP!$B:$D,2,0),\"\")","v":""},{"$f":"IFERROR(VLOOKUP(AI4511,CadMP!$B:$D,2,0),\"\")","v":""},{"$f":"IFERROR(VLOOKUP(AJ4511,CadMP!$B:$D,2,0),\"\")","v":""},{"$f":"IFERROR(VLOOKUP(AK4511,CadMP!$B:$D,2,0),\"\")","v":""},{"$f":"IFERROR(VLOOKUP(W4511,CadMP!$B:$D,3,0),\"\")","v":""},{"$f":"IFERROR(VLOOKUP(X4511,CadMP!$B:$D,3,0),\"\")","v":""},{"$f":"IFERROR(VLOOKUP(Y4511,CadMP!$B:$D,3,0),\"\")","v":""},{"$f":"IFERROR(VLOOKUP(Z4511,CadMP!$B:$D,3,0),\"\")","v":""},{"$f":"IFERROR(VLOOKUP(AA4511,CadMP!$B:$D,3,0),\"\")","v":""},{"$f":"IFERROR(VLOOKUP(AB4511,CadMP!$B:$D,3,0),\"\")","v":""},{"$f":"IFERROR(VLOOKUP(AC4511,CadMP!$B:$D,3,0),\"\")","v":""},{"$f":"IFERROR(VLOOKUP(AD4511,CadMP!$B:$D,3,0),\"\")","v":""},{"$f":"IFERROR(VLOOKUP(AE4511,CadMP!$B:$D,3,0),\"\")","v":""},{"$f":"IFERROR(VLOOKUP(AF4511,CadMP!$B:$D,3,0),\"\")","v":""},{"$f":"IFERROR(VLOOKUP(AG4511,CadMP!$B:$D,3,0),\"\")","v":""},{"$f":"IFERROR(VLOOKUP(AH4511,CadMP!$B:$D,3,0),\"\")","v":""},{"$f":"IFERROR(VLOOKUP(AI4511,CadMP!$B:$D,3,0),\"\")","v":""},{"$f":"IFERROR(VLOOKUP(AJ4511,CadMP!$B:$D,3,0),\"\")","v":""},{"$f":"IFERROR(VLOOKUP(AK4511,CadMP!$B:$D,3,0),\"\")","v":""},0,0,0,0,0,0,0,0,0,0,0,0,0,0,0]
[4535,null,null,0,0,null,null,null,null,null,null,0,0,null,null,null,null,null,null,null,1,0,null,null,null,null,null,null,null,null,null,null,null,null,null,null,null,null,null,null,null,null,null,null,null,null,null,null,null,null,null,null,{"$f":"IFERROR(VLOOKUP(W4536,CadMP!$B:$D,2,0),\"\")","v":""},{"$f":"IFERROR(VLOOKUP(X4536,CadMP!$B:$D,2,0),\"\")","v":""},{"$f":"IFERROR(VLOOKUP(Y4536,CadMP!$B:$D,2,0),\"\")","v":""},{"$f":"IFERROR(VLOOKUP(Z4536,CadMP!$B:$D,2,0),\"\")","v":""},{"$f":"IFERROR(VLOOKUP(AA4536,CadMP!$B:$D,2,0),\"\")","v":""},{"$f":"IFERROR(VLOOKUP(AB4536,CadMP!$B:$D,2,0),\"\")","v":""},{"$f":"IFERROR(VLOOKUP(AC4536,CadMP!$B:$D,2,0),\"\")","v":""},{"$f":"IFERROR(VLOOKUP(AD4536,CadMP!$B:$D,2,0),\"\")","v":""},{"$f":"IFERROR(VLOOKUP(AE4536,CadMP!$B:$D,2,0),\"\")","v":""},{"$f":"IFERROR(VLOOKUP(AF4536,CadMP!$B:$D,2,0),\"\")","v":""},{"$f":"IFERROR(VLOOKUP(AG4536,CadMP!$B:$D,2,0),\"\")","v":""},{"$f":"IFERROR(VLOOKUP(AH4536,CadMP!$B:$D,2,0),\"\")","v":""},{"$f":"IFERROR(VLOOKUP(AI4536,CadMP!$B:$D,2,0),\"\")","v":""},{"$f":"IFERROR(VLOOKUP(AJ4536,CadMP!$B:$D,2,0),\"\")","v":""},{"$f":"IFERROR(VLOOKUP(AK4536,CadMP!$B:$D,2,0),\"\")","v":""},{"$f":"IFERROR(VLOOKUP(W4536,CadMP!$B:$D,3,0),\"\")","v":""},{"$f":"IFERROR(VLOOKUP(X4536,CadMP!$B:$D,3,0),\"\")","v":""},{"$f":"IFERROR(VLOOKUP(Y4536,CadMP!$B:$D,3,0),\"\")","v":""},{"$f":"IFERROR(VLOOKUP(Z4536,CadMP!$B:$D,3,0),\"\")","v":""},{"$f":"IFERROR(VLOOKUP(AA4536,CadMP!$B:$D,3,0),\"\")","v":""},{"$f":"IFERROR(VLOOKUP(AB4536,CadMP!$B:$D,3,0),\"\")","v":""},{"$f":"IFERROR(VLOOKUP(AC4536,CadMP!$B:$D,3,0),\"\")","v":""},{"$f":"IFERROR(VLOOKUP(AD4536,CadMP!$B:$D,3,0),\"\")","v":""},{"$f":"IFERROR(VLOOKUP(AE4536,CadMP!$B:$D,3,0),\"\")","v":""},{"$f":"IFERROR(VLOOKUP(AF4536,CadMP!$B:$D,3,0),\"\")","v":""},{"$f":"IFERROR(VLOOKUP(AG4536,CadMP!$B:$D,3,0),\"\")","v":""},{"$f":"IFERROR(VLOOKUP(AH4536,CadMP!$B:$D,3,0),\"\")","v":""},{"$f":"IFERROR(VLOOKUP(AI4536,CadMP!$B:$D,3,0),\"\")","v":""},{"$f":"IFERROR(VLOOKUP(AJ4536,CadMP!$B:$D,3,0),\"\")","v":""},{"$f":"IFERROR(VLOOKUP(AK4536,CadMP!$B:$D,3,0),\"\")","v":""},0,0,0,0,0,0,0,0,0,0,0,0,0,0,0]
[4554,null,null,0,0,null,null,null,null,null,null,0,0,null,null,null,null,null,null,null,1,0,null,null,null,null,null,null,null,null,null,null,null,null,null,null,null,null,null,null,null,null,null,null,null,null,null,null,null,null,null,null,{"$f":"IFERROR(VLOOKUP(W4555,CadMP!$B:$D,2,0),\"\")","v":""},{"$f":"IFERROR(VLOOKUP(X4555,CadMP!$B:$D,2,0),\"\")","v":""},{"$f":"IFERROR(VLOOKUP(Y4555,CadMP!$B:$D,2,0),\"\")","v":""},{"$f":"IFERROR(VLOOKUP(Z4555,CadMP!$B:$D,2,0),\"\")","v":""},{"$f":"IFERROR(VLOOKUP(AA4555,CadMP!$B:$D,2,0),\"\")","v":""},{"$f":"IFERROR(VLOOKUP(AB4555,CadMP!$B:$D,2,0),\"\")","v":""},{"$f":"IFERROR(VLOOKUP(AC4555,CadMP!$B:$D,2,0),\"\")","v":""},{"$f":"IFERROR(VLOOKUP(AD4555,CadMP!$B:$D,2,0),\"\")","v":""},{"$f":"IFERROR(VLOOKUP(AE4555,CadMP!$B:$D,2,0),\"\")","v":""},{"$f":"IFERROR(VLOOKUP(AF4555,CadMP!$B:$D,2,0),\"\")","v":""},{"$f":"IFERROR(VLOOKUP(AG4555,CadMP!$B:$D,2,0),\"\")","v":""},{"$f":"IFERROR(VLOOKUP(AH4555,CadMP!$B:$D,2,0),\"\")","v":""},{"$f":"IFERROR(VLOOKUP(AI4555,CadMP!$B:$D,2,0),\"\")","v":""},{"$f":"IFERROR(VLOOKUP(AJ4555,CadMP!$B:$D,2,0),\"\")","v":""},{"$f":"IFERROR(VLOOKUP(AK4555,CadMP!$B:$D,2,0),\"\")","v":""},{"$f":"IFERROR(VLOOKUP(W4555,CadMP!$B:$D,3,0),\"\")","v":""},{"$f":"IFERROR(VLOOKUP(X4555,CadMP!$B:$D,3,0),\"\")","v":""},{"$f":"IFERROR(VLOOKUP(Y4555,CadMP!$B:$D,3,0),\"\")","v":""},{"$f":"IFERROR(VLOOKUP(Z4555,CadMP!$B:$D,3,0),\"\")","v":""},{"$f":"IFERROR(VLOOKUP(AA4555,CadMP!$B:$D,3,0),\"\")","v":""},{"$f":"IFERROR(VLOOKUP(AB4555,CadMP!$B:$D,3,0),\"\")","v":""},{"$f":"IFERROR(VLOOKUP(AC4555,CadMP!$B:$D,3,0),\"\")","v":""},{"$f":"IFERROR(VLOOKUP(AD4555,CadMP!$B:$D,3,0),\"\")","v":""},{"$f":"IFERROR(VLOOKUP(AE4555,CadMP!$B:$D,3,0),\"\")","v":""},{"$f":"IFERROR(VLOOKUP(AF4555,CadMP!$B:$D,3,0),\"\")","v":""},{"$f":"IFERROR(VLOOKUP(AG4555,CadMP!$B:$D,3,0),\"\")","v":""},{"$f":"IFERROR(VLOOKUP(AH4555,CadMP!$B:$D,3,0),\"\")","v":""},{"$f":"IFERROR(VLOOKUP(AI4555,CadMP!$B:$D,3,0),\"\")","v":""},{"$f":"IFERROR(VLOOKUP(AJ4555,CadMP!$B:$D,3,0),\"\")","v":""},{"$f":"IFERROR(VLOOKUP(AK4555,CadMP!$B:$D,3,0),\"\")","v":""},0,0,0,0,0,0,0,0,0,0,0,0,0,0,0]
[4572,null,null,0,0,null,null,null,null,null,null,0,0,null,null,null,null,null,null,null,1,0,null,null,null,null,null,null,null,null,null,null,null,null,null,null,null,null,null,null,null,null,null,null,null,null,null,null,null,null,null,null,{"$f":"IFERROR(VLOOKUP(W4573,CadMP!$B:$D,2,0),\"\")","v":""},{"$f":"IFERROR(VLOOKUP(X4573,CadMP!$B:$D,2,0),\"\")","v":""},{"$f":"IFERROR(VLOOKUP(Y4573,CadMP!$B:$D,2,0),\"\")","v":""},{"$f":"IFERROR(VLOOKUP(Z4573,CadMP!$B:$D,2,0),\"\")","v":""},{"$f":"IFERROR(VLOOKUP(AA4573,CadMP!$B:$D,2,0),\"\")","v":""},{"$f":"IFERROR(VLOOKUP(AB4573,CadMP!$B:$D,2,0),\"\")","v":""},{"$f":"IFERROR(VLOOKUP(AC4573,CadMP!$B:$D,2,0),\"\")","v":""},{"$f":"IFERROR(VLOOKUP(AD4573,CadMP!$B:$D,2,0),\"\")","v":""},{"$f":"IFERROR(VLOOKUP(AE4573,CadMP!$B:$D,2,0),\"\")","v":""},{"$f":"IFERROR(VLOOKUP(AF4573,CadMP!$B:$D,2,0),\"\")","v":""},{"$f":"IFERROR(VLOOKUP(AG4573,CadMP!$B:$D,2,0),\"\")","v":""},{"$f":"IFERROR(VLOOKUP(AH4573,CadMP!$B:$D,2,0),\"\")","v":""},{"$f":"IFERROR(VLOOKUP(AI4573,CadMP!$B:$D,2,0),\"\")","v":""},{"$f":"IFERROR(VLOOKUP(AJ4573,CadMP!$B:$D,2,0),\"\")","v":""},{"$f":"IFERROR(VLOOKUP(AK4573,CadMP!$B:$D,2,0),\"\")","v":""},{"$f":"IFERROR(VLOOKUP(W4573,CadMP!$B:$D,3,0),\"\")","v":""},{"$f":"IFERROR(VLOOKUP(X4573,CadMP!$B:$D,3,0),\"\")","v":""},{"$f":"IFERROR(VLOOKUP(Y4573,CadMP!$B:$D,3,0),\"\")","v":""},{"$f":"IFERROR(VLOOKUP(Z4573,CadMP!$B:$D,3,0),\"\")","v":""},{"$f":"IFERROR(VLOOKUP(AA4573,CadMP!$B:$D,3,0),\"\")","v":""},{"$f":"IFERROR(VLOOKUP(AB4573,CadMP!$B:$D,3,0),\"\")","v":""},{"$f":"IFERROR(VLOOKUP(AC4573,CadMP!$B:$D,3,0),\"\")","v":""},{"$f":"IFERROR(VLOOKUP(AD4573,CadMP!$B:$D,3,0),\"\")","v":""},{"$f":"IFERROR(VLOOKUP(AE4573,CadMP!$B:$D,3,0),\"\")","v":""},{"$f":"IFERROR(VLOOKUP(AF4573,CadMP!$B:$D,3,0),\"\")","v":""},{"$f":"IFERROR(VLOOKUP(AG4573,CadMP!$B:$D,3,0),\"\")","v":""},{"$f":"IFERROR(VLOOKUP(AH4573,CadMP!$B:$D,3,0),\"\")","v":""},{"$f":"IFERROR(VLOOKUP(AI4573,CadMP!$B:$D,3,0),\"\")","v":""},{"$f":"IFERROR(VLOOKUP(AJ4573,CadMP!$B:$D,3,0),\"\")","v":""},{"$f":"IFERROR(VLOOKUP(AK4573,CadMP!$B:$D,3,0),\"\")","v":""},0,0,0,0,0,0,0,0,0,0,0,0,0,0,0]
[4597,null,null,0,0,null,null,null,null,null,null,0,0,null,null,null,null,null,null,null,1,0,null,null,null,null,null,null,null,null,null,null,null,null,null,null,null,null,null,null,null,null,null,null,null,null,null,null,null,null,null,null,{"$f":"IFERROR(VLOOKUP(W4598,CadMP!$B:$D,2,0),\"\")","v":""},{"$f":"IFERROR(VLOOKUP(X4598,CadMP!$B:$D,2,0),\"\")","v":""},{"$f":"IFERROR(VLOOKUP(Y4598,CadMP!$B:$D,2,0),\"\")","v":""},{"$f":"IFERROR(VLOOKUP(Z4598,CadMP!$B:$D,2,0),\"\")","v":""},{"$f":"IFERROR(VLOOKUP(AA4598,CadMP!$B:$D,2,0),\"\")","v":""},{"$f":"IFERROR(VLOOKUP(AB4598,CadMP!$B:$D,2,0),\"\")","v":""},{"$f":"IFERROR(VLOOKUP(AC4598,CadMP!$B:$D,2,0),\"\")","v":""},{"$f":"IFERROR(VLOOKUP(AD4598,CadMP!$B:$D,2,0),\"\")","v":""},{"$f":"IFERROR(VLOOKUP(AE4598,CadMP!$B:$D,2,0),\"\")","v":""},{"$f":"IFERROR(VLOOKUP(AF4598,CadMP!$B:$D,2,0),\"\")","v":""},{"$f":"IFERROR(VLOOKUP(AG4598,CadMP!$B:$D,2,0),\"\")","v":""},{"$f":"IFERROR(VLOOKUP(AH4598,CadMP!$B:$D,2,0),\"\")","v":""},{"$f":"IFERROR(VLOOKUP(AI4598,CadMP!$B:$D,2,0),\"\")","v":""},{"$f":"IFERROR(VLOOKUP(AJ4598,CadMP!$B:$D,2,0),\"\")","v":""},{"$f":"IFERROR(VLOOKUP(AK4598,CadMP!$B:$D,2,0),\"\")","v":""},{"$f":"IFERROR(VLOOKUP(W4598,CadMP!$B:$D,3,0),\"\")","v":""},{"$f":"IFERROR(VLOOKUP(X4598,CadMP!$B:$D,3,0),\"\")","v":""},{"$f":"IFERROR(VLOOKUP(Y4598,CadMP!$B:$D,3,0),\"\")","v":""},{"$f":"IFERROR(VLOOKUP(Z4598,CadMP!$B:$D,3,0),\"\")","v":""},{"$f":"IFERROR(VLOOKUP(AA4598,CadMP!$B:$D,3,0),\"\")","v":""},{"$f":"IFERROR(VLOOKUP(AB4598,CadMP!$B:$D,3,0),\"\")","v":""},{"$f":"IFERROR(VLOOKUP(AC4598,CadMP!$B:$D,3,0),\"\")","v":""},{"$f":"IFERROR(VLOOKUP(AD4598,CadMP!$B:$D,3,0),\"\")","v":""},{"$f":"IFERROR(VLOOKUP(AE4598,CadMP!$B:$D,3,0),\"\")","v":""},{"$f":"IFERROR(VLOOKUP(AF4598,CadMP!$B:$D,3,0),\"\")","v":""},{"$f":"IFERROR(VLOOKUP(AG4598,CadMP!$B:$D,3,0),\"\")","v":""},{"$f":"IFERROR(VLOOKUP(AH4598,CadMP!$B:$D,3,0),\"\")","v":""},{"$f":"IFERROR(VLOOKUP(AI4598,CadMP!$B:$D,3,0),\"\")","v":""},{"$f":"IFERROR(VLOOKUP(AJ4598,CadMP!$B:$D,3,0),\"\")","v":""},{"$f":"IFERROR(VLOOKUP(AK4598,CadMP!$B:$D,3,0),\"\")","v":""},0,0,0,0,0,0,0,0,0,0,0,0,0,0,0]
[4616,null,null,0,0,null,null,null,null,null,null,0,0,null,null,null,null,null,null,null,1,0,null,null,null,null,null,null,null,null,null,null,null,null,null,null,null,null,null,null,null,null,null,null,null,null,null,null,null,null,null,null,{"$f":"IFERROR(VLOOKUP(W4617,CadMP!$B:$D,2,0),\"\")","v":""},{"$f":"IFERROR(VLOOKUP(X4617,CadMP!$B:$D,2,0),\"\")","v":""},{"$f":"IFERROR(VLOOKUP(Y4617,CadMP!$B:$D,2,0),\"\")","v":""},{"$f":"IFERROR(VLOOKUP(Z4617,CadMP!$B:$D,2,0),\"\")","v":""},{"$f":"IFERROR(VLOOKUP(AA4617,CadMP!$B:$D,2,0),\"\")","v":""},{"$f":"IFERROR(VLOOKUP(AB4617,CadMP!$B:$D,2,0),\"\")","v":""},{"$f":"IFERROR(VLOOKUP(AC4617,CadMP!$B:$D,2,0),\"\")","v":""},{"$f":"IFERROR(VLOOKUP(AD4617,CadMP!$B:$D,2,0),\"\")","v":""},{"$f":"IFERROR(VLOOKUP(AE4617,CadMP!$B:$D,2,0),\"\")","v":""},{"$f":"IFERROR(VLOOKUP(AF4617,CadMP!$B:$D,2,0),\"\")","v":""},{"$f":"IFERROR(VLOOKUP(AG4617,CadMP!$B:$D,2,0),\"\")","v":""},{"$f":"IFERROR(VLOOKUP(AH4617,CadMP!$B:$D,2,0),\"\")","v":""},{"$f":"IFERROR(VLOOKUP(AI4617,CadMP!$B:$D,2,0),\"\")","v":""},{"$f":"IFERROR(VLOOKUP(AJ4617,CadMP!$B:$D,2,0),\"\")","v":""},{"$f":"IFERROR(VLOOKUP(AK4617,CadMP!$B:$D,2,0),\"\")","v":""},{"$f":"IFERROR(VLOOKUP(W4617,CadMP!$B:$D,3,0),\"\")","v":""},{"$f":"IFERROR(VLOOKUP(X4617,CadMP!$B:$D,3,0),\"\")","v":""},{"$f":"IFERROR(VLOOKUP(Y4617,CadMP!$B:$D,3,0),\"\")","v":""},{"$f":"IFERROR(VLOOKUP(Z4617,CadMP!$B:$D,3,0),\"\")","v":""},{"$f":"IFERROR(VLOOKUP(AA4617,CadMP!$B:$D,3,0),\"\")","v":""},{"$f":"IFERROR(VLOOKUP(AB4617,CadMP!$B:$D,3,0),\"\")","v":""},{"$f":"IFERROR(VLOOKUP(AC4617,CadMP!$B:$D,3,0),\"\")","v":""},{"$f":"IFERROR(VLOOKUP(AD4617,CadMP!$B:$D,3,0),\"\")","v":""},{"$f":"IFERROR(VLOOKUP(AE4617,CadMP!$B:$D,3,0),\"\")","v":""},{"$f":"IFERROR(VLOOKUP(AF4617,CadMP!$B:$D,3,0),\"\")","v":""},{"$f":"IFERROR(VLOOKUP(AG4617,CadMP!$B:$D,3,0),\"\")","v":""},{"$f":"IFERROR(VLOOKUP(AH4617,CadMP!$B:$D,3,0),\"\")","v":""},{"$f":"IFERROR(VLOOKUP(AI4617,CadMP!$B:$D,3,0),\"\")","v":""},{"$f":"IFERROR(VLOOKUP(AJ4617,CadMP!$B:$D,3,0),\"\")","v":""},{"$f":"IFERROR(VLOOKUP(AK4617,CadMP!$B:$D,3,0),\"\")","v":""},0,0,0,0,0,0,0,0,0,0,0,0,0,0,0]
[4627,null,null,0,0,null,null,null,null,null,null,0,0,null,null,null,null,null,null,null,1,0,null,null,null,null,null,null,null,null,null,null,null,null,null,null,null,null,null,null,null,null,null,null,null,null,null,null,null,null,null,null,{"$f":"IFERROR(VLOOKUP(W4628,CadMP!$B:$D,2,0),\"\")","v":""},{"$f":"IFERROR(VLOOKUP(X4628,CadMP!$B:$D,2,0),\"\")","v":""},{"$f":"IFERROR(VLOOKUP(Y4628,CadMP!$B:$D,2,0),\"\")","v":""},{"$f":"IFERROR(VLOOKUP(Z4628,CadMP!$B:$D,2,0),\"\")","v":""},{"$f":"IFERROR(VLOOKUP(AA4628,CadMP!$B:$D,2,0),\"\")","v":""},{"$f":"IFERROR(VLOOKUP(AB4628,CadMP!$B:$D,2,0),\"\")","v":""},{"$f":"IFERROR(VLOOKUP(AC4628,CadMP!$B:$D,2,0),\"\")","v":""},{"$f":"IFERROR(VLOOKUP(AD4628,CadMP!$B:$D,2,0),\"\")","v":""},{"$f":"IFERROR(VLOOKUP(AE4628,CadMP!$B:$D,2,0),\"\")","v":""},{"$f":"IFERROR(VLOOKUP(AF4628,CadMP!$B:$D,2,0),\"\")","v":""},{"$f":"IFERROR(VLOOKUP(AG4628,CadMP!$B:$D,2,0),\"\")","v":""},{"$f":"IFERROR(VLOOKUP(AH4628,CadMP!$B:$D,2,0),\"\")","v":""},{"$f":"IFERROR(VLOOKUP(AI4628,CadMP!$B:$D,2,0),\"\")","v":""},{"$f":"IFERROR(VLOOKUP(AJ4628,CadMP!$B:$D,2,0),\"\")","v":""},{"$f":"IFERROR(VLOOKUP(AK4628,CadMP!$B:$D,2,0),\"\")","v":""},{"$f":"IFERROR(VLOOKUP(W4628,CadMP!$B:$D,3,0),\"\")","v":""},{"$f":"IFERROR(VLOOKUP(X4628,CadMP!$B:$D,3,0),\"\")","v":""},{"$f":"IFERROR(VLOOKUP(Y4628,CadMP!$B:$D,3,0),\"\")","v":""},{"$f":"IFERROR(VLOOKUP(Z4628,CadMP!$B:$D,3,0),\"\")","v":""},{"$f":"IFERROR(VLOOKUP(AA4628,CadMP!$B:$D,3,0),\"\")","v":""},{"$f":"IFERROR(VLOOKUP(AB4628,CadMP!$B:$D,3,0),\"\")","v":""},{"$f":"IFERROR(VLOOKUP(AC4628,CadMP!$B:$D,3,0),\"\")","v":""},{"$f":"IFERROR(VLOOKUP(AD4628,CadMP!$B:$D,3,0),\"\")","v":""},{"$f":"IFERROR(VLOOKUP(AE4628,CadMP!$B:$D,3,0),\"\")","v":""},{"$f":"IFERROR(VLOOKUP(AF4628,CadMP!$B:$D,3,0),\"\")","v":""},{"$f":"IFERROR(VLOOKUP(AG4628,CadMP!$B:$D,3,0),\"\")","v":""},{"$f":"IFERROR(VLOOKUP(AH4628,CadMP!$B:$D,3,0),\"\")","v":""},{"$f":"IFERROR(VLOOKUP(AI4628,CadMP!$B:$D,3,0),\"\")","v":""},{"$f":"IFERROR(VLOOKUP(AJ4628,CadMP!$B:$D,3,0),\"\")","v":""},{"$f":"IFERROR(VLOOKUP(AK4628,CadMP!$B:$D,3,0),\"\")","v":""},0,0,0,0,0,0,0,0,0,0,0,0,0,0,0]
[4640,null,null,0,0,null,null,null,null,null,null,0,0,null,null,null,null,null,null,null,1,0,null,null,null,null,null,null,null,null,null,null,null,null,null,null,null,null,null,null,null,null,null,null,null,null,null,null,null,null,null,null,{"$f":"IFERROR(VLOOKUP(W4641,CadMP!$B:$D,2,0),\"\")","v":""},{"$f":"IFERROR(VLOOKUP(X4641,CadMP!$B:$D,2,0),\"\")","v":""},{"$f":"IFERROR(VLOOKUP(Y4641,CadMP!$B:$D,2,0),\"\")","v":""},{"$f":"IFERROR(VLOOKUP(Z4641,CadMP!$B:$D,2,0),\"\")","v":""},{"$f":"IFERROR(VLOOKUP(AA4641,CadMP!$B:$D,2,0),\"\")","v":""},{"$f":"IFERROR(VLOOKUP(AB4641,CadMP!$B:$D,2,0),\"\")","v":""},{"$f":"IFERROR(VLOOKUP(AC4641,CadMP!$B:$D,2,0),\"\")","v":""},{"$f":"IFERROR(VLOOKUP(AD4641,CadMP!$B:$D,2,0),\"\")","v":""},{"$f":"IFERROR(VLOOKUP(AE4641,CadMP!$B:$D,2,0),\"\")","v":""},{"$f":"IFERROR(VLOOKUP(AF4641,CadMP!$B:$D,2,0),\"\")","v":""},{"$f":"IFERROR(VLOOKUP(AG4641,CadMP!$B:$D,2,0),\"\")","v":""},{"$f":"IFERROR(VLOOKUP(AH4641,CadMP!$B:$D,2,0),\"\")","v":""},{"$f":"IFERROR(VLOOKUP(AI4641,CadMP!$B:$D,2,0),\"\")","v":""},{"$f":"IFERROR(VLOOKUP(AJ4641,CadMP!$B:$D,2,0),\"\")","v":""},{"$f":"IFERROR(VLOOKUP(AK4641,CadMP!$B:$D,2,0),\"\")","v":""},{"$f":"IFERROR(VLOOKUP(W4641,CadMP!$B:$D,3,0),\"\")","v":""},{"$f":"IFERROR(VLOOKUP(X4641,CadMP!$B:$D,3,0),\"\")","v":""},{"$f":"IFERROR(VLOOKUP(Y4641,CadMP!$B:$D,3,0),\"\")","v":""},{"$f":"IFERROR(VLOOKUP(Z4641,CadMP!$B:$D,3,0),\"\")","v":""},{"$f":"IFERROR(VLOOKUP(AA4641,CadMP!$B:$D,3,0),\"\")","v":""},{"$f":"IFERROR(VLOOKUP(AB4641,CadMP!$B:$D,3,0),\"\")","v":""},{"$f":"IFERROR(VLOOKUP(AC4641,CadMP!$B:$D,3,0),\"\")","v":""},{"$f":"IFERROR(VLOOKUP(AD4641,CadMP!$B:$D,3,0),\"\")","v":""},{"$f":"IFERROR(VLOOKUP(AE4641,CadMP!$B:$D,3,0),\"\")","v":""},{"$f":"IFERROR(VLOOKUP(AF4641,CadMP!$B:$D,3,0),\"\")","v":""},{"$f":"IFERROR(VLOOKUP(AG4641,CadMP!$B:$D,3,0),\"\")","v":""},{"$f":"IFERROR(VLOOKUP(AH4641,CadMP!$B:$D,3,0),\"\")","v":""},{"$f":"IFERROR(VLOOKUP(AI4641,CadMP!$B:$D,3,0),\"\")","v":""},{"$f":"IFERROR(VLOOKUP(AJ4641,CadMP!$B:$D,3,0),\"\")","v":""},{"$f":"IFERROR(VLOOKUP(AK4641,CadMP!$B:$D,3,0),\"\")","v":""},0,0,0,0,0,0,0,0,0,0,0,0,0,0,0]
[4659,null,null,0,0,null,null,null,null,null,null,0,0,null,null,null,null,null,null,null,1,0,null,null,null,null,null,null,null,null,null,null,null,null,null,null,null,null,null,null,null,null,null,null,null,null,null,null,null,null,null,null,{"$f":"IFERROR(VLOOKUP(W4660,CadMP!$B:$D,2,0),\"\")","v":""},{"$f":"IFERROR(VLOOKUP(X4660,CadMP!$B:$D,2,0),\"\")","v":""},{"$f":"IFERROR(VLOOKUP(Y4660,CadMP!$B:$D,2,0),\"\")","v":""},{"$f":"IFERROR(VLOOKUP(Z4660,CadMP!$B:$D,2,0),\"\")","v":""},{"$f":"IFERROR(VLOOKUP(AA4660,CadMP!$B:$D,2,0),\"\")","v":""},{"$f":"IFERROR(VLOOKUP(AB4660,CadMP!$B:$D,2,0),\"\")","v":""},{"$f":"IFERROR(VLOOKUP(AC4660,CadMP!$B:$D,2,0),\"\")","v":""},{"$f":"IFERROR(VLOOKUP(AD4660,CadMP!$B:$D,2,0),\"\")","v":""},{"$f":"IFERROR(VLOOKUP(AE4660,CadMP!$B:$D,2,0),\"\")","v":""},{"$f":"IFERROR(VLOOKUP(AF4660,CadMP!$B:$D,2,0),\"\")","v":""},{"$f":"IFERROR(VLOOKUP(AG4660,CadMP!$B:$D,2,0),\"\")","v":""},{"$f":"IFERROR(VLOOKUP(AH4660,CadMP!$B:$D,2,0),\"\")","v":""},{"$f":"IFERROR(VLOOKUP(AI4660,CadMP!$B:$D,2,0),\"\")","v":""},{"$f":"IFERROR(VLOOKUP(AJ4660,CadMP!$B:$D,2,0),\"\")","v":""},{"$f":"IFERROR(VLOOKUP(AK4660,CadMP!$B:$D,2,0),\"\")","v":""},{"$f":"IFERROR(VLOOKUP(W4660,CadMP!$B:$D,3,0),\"\")","v":""},{"$f":"IFERROR(VLOOKUP(X4660,CadMP!$B:$D,3,0),\"\")","v":""},{"$f":"IFERROR(VLOOKUP(Y4660,CadMP!$B:$D,3,0),\"\")","v":""},{"$f":"IFERROR(VLOOKUP(Z4660,CadMP!$B:$D,3,0),\"\")","v":""},{"$f":"IFERROR(VLOOKUP(AA4660,CadMP!$B:$D,3,0),\"\")","v":""},{"$f":"IFERROR(VLOOKUP(AB4660,CadMP!$B:$D,3,0),\"\")","v":""},{"$f":"IFERROR(VLOOKUP(AC4660,CadMP!$B:$D,3,0),\"\")","v":""},{"$f":"IFERROR(VLOOKUP(AD4660,CadMP!$B:$D,3,0),\"\")","v":""},{"$f":"IFERROR(VLOOKUP(AE4660,CadMP!$B:$D,3,0),\"\")","v":""},{"$f":"IFERROR(VLOOKUP(AF4660,CadMP!$B:$D,3,0),\"\")","v":""},{"$f":"IFERROR(VLOOKUP(AG4660,CadMP!$B:$D,3,0),\"\")","v":""},{"$f":"IFERROR(VLOOKUP(AH4660,CadMP!$B:$D,3,0),\"\")","v":""},{"$f":"IFERROR(VLOOKUP(AI4660,CadMP!$B:$D,3,0),\"\")","v":""},{"$f":"IFERROR(VLOOKUP(AJ4660,CadMP!$B:$D,3,0),\"\")","v":""},{"$f":"IFERROR(VLOOKUP(AK4660,CadMP!$B:$D,3,0),\"\")","v":""},0,0,0,0,0,0,0,0,0,0,0,0,0,0,0]
[4684,null,null,0,0,null,null,null,null,null,null,0,0,null,null,null,null,null,null,null,1,0,null,null,null,null,null,null,null,null,null,null,null,null,null,null,null,null,null,null,null,null,null,null,null,null,null,null,null,null,null,null,{"$f":"IFERROR(VLOOKUP(W4685,CadMP!$B:$D,2,0),\"\")","v":""},{"$f":"IFERROR(VLOOKUP(X4685,CadMP!$B:$D,2,0),\"\")","v":""},{"$f":"IFERROR(VLOOKUP(Y4685,CadMP!$B:$D,2,0),\"\")","v":""},{"$f":"IFERROR(VLOOKUP(Z4685,CadMP!$B:$D,2,0),\"\")","v":""},{"$f":"IFERROR(VLOOKUP(AA4685,CadMP!$B:$D,2,0),\"\")","v":""},{"$f":"IFERROR(VLOOKUP(AB4685,CadMP!$B:$D,2,0),\"\")","v":""},{"$f":"IFERROR(VLOOKUP(AC4685,CadMP!$B:$D,2,0),\"\")","v":""},{"$f":"IFERROR(VLOOKUP(AD4685,CadMP!$B:$D,2,0),\"\")","v":""},{"$f":"IFERROR(VLOOKUP(AE4685,CadMP!$B:$D,2,0),\"\")","v":""},{"$f":"IFERROR(VLOOKUP(AF4685,CadMP!$B:$D,2,0),\"\")","v":""},{"$f":"IFERROR(VLOOKUP(AG4685,CadMP!$B:$D,2,0),\"\")","v":""},{"$f":"IFERROR(VLOOKUP(AH4685,CadMP!$B:$D,2,0),\"\")","v":""},{"$f":"IFERROR(VLOOKUP(AI4685,CadMP!$B:$D,2,0),\"\")","v":""},{"$f":"IFERROR(VLOOKUP(AJ4685,CadMP!$B:$D,2,0),\"\")","v":""},{"$f":"IFERROR(VLOOKUP(AK4685,CadMP!$B:$D,2,0),\"\")","v":""},{"$f":"IFERROR(VLOOKUP(W4685,CadMP!$B:$D,3,0),\"\")","v":""},{"$f":"IFERROR(VLOOKUP(X4685,CadMP!$B:$D,3,0),\"\")","v":""},{"$f":"IFERROR(VLOOKUP(Y4685,CadMP!$B:$D,3,0),\"\")","v":""},{"$f":"IFERROR(VLOOKUP(Z4685,CadMP!$B:$D,3,0),\"\")","v":""},{"$f":"IFERROR(VLOOKUP(AA4685,CadMP!$B:$D,3,0),\"\")","v":""},{"$f":"IFERROR(VLOOKUP(AB4685,CadMP!$B:$D,3,0),\"\")","v":""},{"$f":"IFERROR(VLOOKUP(AC4685,CadMP!$B:$D,3,0),\"\")","v":""},{"$f":"IFERROR(VLOOKUP(AD4685,CadMP!$B:$D,3,0),\"\")","v":""},{"$f":"IFERROR(VLOOKUP(AE4685,CadMP!$B:$D,3,0),\"\")","v":""},{"$f":"IFERROR(VLOOKUP(AF4685,CadMP!$B:$D,3,0),\"\")","v":""},{"$f":"IFERROR(VLOOKUP(AG4685,CadMP!$B:$D,3,0),\"\")","v":""},{"$f":"IFERROR(VLOOKUP(AH4685,CadMP!$B:$D,3,0),\"\")","v":""},{"$f":"IFERROR(VLOOKUP(AI4685,CadMP!$B:$D,3,0),\"\")","v":""},{"$f":"IFERROR(VLOOKUP(AJ4685,CadMP!$B:$D,3,0),\"\")","v":""},{"$f":"IFERROR(VLOOKUP(AK4685,CadMP!$B:$D,3,0),\"\")","v":""},0,0,0,0,0,0,0,0,0,0,0,0,0,0,0]
[4704,null,null,0,0,null,null,null,null,null,null,0,0,null,null,null,null,null,null,null,1,0,null,null,null,null,null,null,null,null,null,null,null,null,null,null,null,null,null,null,null,null,null,null,null,null,null,null,null,null,null,null,{"$f":"IFERROR(VLOOKUP(W4705,CadMP!$B:$D,2,0),\"\")","v":""},{"$f":"IFERROR(VLOOKUP(X4705,CadMP!$B:$D,2,0),\"\")","v":""},{"$f":"IFERROR(VLOOKUP(Y4705,CadMP!$B:$D,2,0),\"\")","v":""},{"$f":"IFERROR(VLOOKUP(Z4705,CadMP!$B:$D,2,0),\"\")","v":""},{"$f":"IFERROR(VLOOKUP(AA4705,CadMP!$B:$D,2,0),\"\")","v":""},{"$f":"IFERROR(VLOOKUP(AB4705,CadMP!$B:$D,2,0),\"\")","v":""},{"$f":"IFERROR(VLOOKUP(AC4705,CadMP!$B:$D,2,0),\"\")","v":""},{"$f":"IFERROR(VLOOKUP(AD4705,CadMP!$B:$D,2,0),\"\")","v":""},{"$f":"IFERROR(VLOOKUP(AE4705,CadMP!$B:$D,2,0),\"\")","v":""},{"$f":"IFERROR(VLOOKUP(AF4705,CadMP!$B:$D,2,0),\"\")","v":""},{"$f":"IFERROR(VLOOKUP(AG4705,CadMP!$B:$D,2,0),\"\")","v":""},{"$f":"IFERROR(VLOOKUP(AH4705,CadMP!$B:$D,2,0),\"\")","v":""},{"$f":"IFERROR(VLOOKUP(AI4705,CadMP!$B:$D,2,0),\"\")","v":""},{"$f":"IFERROR(VLOOKUP(AJ4705,CadMP!$B:$D,2,0),\"\")","v":""},{"$f":"IFERROR(VLOOKUP(AK4705,CadMP!$B:$D,2,0),\"\")","v":""},{"$f":"IFERROR(VLOOKUP(W4705,CadMP!$B:$D,3,0),\"\")","v":""},{"$f":"IFERROR(VLOOKUP(X4705,CadMP!$B:$D,3,0),\"\")","v":""},{"$f":"IFERROR(VLOOKUP(Y4705,CadMP!$B:$D,3,0),\"\")","v":""},{"$f":"IFERROR(VLOOKUP(Z4705,CadMP!$B:$D,3,0),\"\")","v":""},{"$f":"IFERROR(VLOOKUP(AA4705,CadMP!$B:$D,3,0),\"\")","v":""},{"$f":"IFERROR(VLOOKUP(AB4705,CadMP!$B:$D,3,0),\"\")","v":""},{"$f":"IFERROR(VLOOKUP(AC4705,CadMP!$B:$D,3,0),\"\")","v":""},{"$f":"IFERROR(VLOOKUP(AD4705,CadMP!$B:$D,3,0),\"\")","v":""},{"$f":"IFERROR(VLOOKUP(AE4705,CadMP!$B:$D,3,0),\"\")","v":""},{"$f":"IFERROR(VLOOKUP(AF4705,CadMP!$B:$D,3,0),\"\")","v":""},{"$f":"IFERROR(VLOOKUP(AG4705,CadMP!$B:$D,3,0),\"\")","v":""},{"$f":"IFERROR(VLOOKUP(AH4705,CadMP!$B:$D,3,0),\"\")","v":""},{"$f":"IFERROR(VLOOKUP(AI4705,CadMP!$B:$D,3,0),\"\")","v":""},{"$f":"IFERROR(VLOOKUP(AJ4705,CadMP!$B:$D,3,0),\"\")","v":""},{"$f":"IFERROR(VLOOKUP(AK4705,CadMP!$B:$D,3,0),\"\")","v":""},0,0,0,0,0,0,0,0,0,0,0,0,0,0,0]
[4721,null,null,0,0,null,null,null,null,null,null,0,0,null,null,null,null,null,null,null,1,0,null,null,null,null,null,null,null,null,null,null,null,null,null,null,null,null,null,null,null,null,null,null,null,null,null,null,null,null,null,null,{"$f":"IFERROR(VLOOKUP(W4722,CadMP!$B:$D,2,0),\"\")","v":""},{"$f":"IFERROR(VLOOKUP(X4722,CadMP!$B:$D,2,0),\"\")","v":""},{"$f":"IFERROR(VLOOKUP(Y4722,CadMP!$B:$D,2,0),\"\")","v":""},{"$f":"IFERROR(VLOOKUP(Z4722,CadMP!$B:$D,2,0),\"\")","v":""},{"$f":"IFERROR(VLOOKUP(AA4722,CadMP!$B:$D,2,0),\"\")","v":""},{"$f":"IFERROR(VLOOKUP(AB4722,CadMP!$B:$D,2,0),\"\")","v":""},{"$f":"IFERROR(VLOOKUP(AC4722,CadMP!$B:$D,2,0),\"\")","v":""},{"$f":"IFERROR(VLOOKUP(AD4722,CadMP!$B:$D,2,0),\"\")","v":""},{"$f":"IFERROR(VLOOKUP(AE4722,CadMP!$B:$D,2,0),\"\")","v":""},{"$f":"IFERROR(VLOOKUP(AF4722,CadMP!$B:$D,2,0),\"\")","v":""},{"$f":"IFERROR(VLOOKUP(AG4722,CadMP!$B:$D,2,0),\"\")","v":""},{"$f":"IFERROR(VLOOKUP(AH4722,CadMP!$B:$D,2,0),\"\")","v":""},{"$f":"IFERROR(VLOOKUP(AI4722,CadMP!$B:$D,2,0),\"\")","v":""},{"$f":"IFERROR(VLOOKUP(AJ4722,CadMP!$B:$D,2,0),\"\")","v":""},{"$f":"IFERROR(VLOOKUP(AK4722,CadMP!$B:$D,2,0),\"\")","v":""},{"$f":"IFERROR(VLOOKUP(W4722,CadMP!$B:$D,3,0),\"\")","v":""},{"$f":"IFERROR(VLOOKUP(X4722,CadMP!$B:$D,3,0),\"\")","v":""},{"$f":"IFERROR(VLOOKUP(Y4722,CadMP!$B:$D,3,0),\"\")","v":""},{"$f":"IFERROR(VLOOKUP(Z4722,CadMP!$B:$D,3,0),\"\")","v":""},{"$f":"IFERROR(VLOOKUP(AA4722,CadMP!$B:$D,3,0),\"\")","v":""},{"$f":"IFERROR(VLOOKUP(AB4722,CadMP!$B:$D,3,0),\"\")","v":""},{"$f":"IFERROR(VLOOKUP(AC4722,CadMP!$B:$D,3,0),\"\")","v":""},{"$f":"IFERROR(VLOOKUP(AD4722,CadMP!$B:$D,3,0),\"\")","v":""},{"$f":"IFERROR(VLOOKUP(AE4722,CadMP!$B:$D,3,0),\"\")","v":""},{"$f":"IFERROR(VLOOKUP(AF4722,CadMP!$B:$D,3,0),\"\")","v":""},{"$f":"IFERROR(VLOOKUP(AG4722,CadMP!$B:$D,3,0),\"\")","v":""},{"$f":"IFERROR(VLOOKUP(AH4722,CadMP!$B:$D,3,0),\"\")","v":""},{"$f":"IFERROR(VLOOKUP(AI4722,CadMP!$B:$D,3,0),\"\")","v":""},{"$f":"IFERROR(VLOOKUP(AJ4722,CadMP!$B:$D,3,0),\"\")","v":""},{"$f":"IFERROR(VLOOKUP(AK4722,CadMP!$B:$D,3,0),\"\")","v":""},0,0,0,0,0,0,0,0,0,0,0,0,0,0,0]
[4746,null,null,0,0,null,null,null,null,null,null,0,0,null,null,null,null,null,null,null,1,0,null,null,null,null,null,null,null,null,null,null,null,null,null,null,null,null,null,null,null,null,null,null,null,null,null,null,null,null,null,null,{"$f":"IFERROR(VLOOKUP(W4747,CadMP!$B:$D,2,0),\"\")","v":""},{"$f":"IFERROR(VLOOKUP(X4747,CadMP!$B:$D,2,0),\"\")","v":""},{"$f":"IFERROR(VLOOKUP(Y4747,CadMP!$B:$D,2,0),\"\")","v":""},{"$f":"IFERROR(VLOOKUP(Z4747,CadMP!$B:$D,2,0),\"\")","v":""},{"$f":"IFERROR(VLOOKUP(AA4747,CadMP!$B:$D,2,0),\"\")","v":""},{"$f":"IFERROR(VLOOKUP(AB4747,CadMP!$B:$D,2,0),\"\")","v":""},{"$f":"IFERROR(VLOOKUP(AC4747,CadMP!$B:$D,2,0),\"\")","v":""},{"$f":"IFERROR(VLOOKUP(AD4747,CadMP!$B:$D,2,0),\"\")","v":""},{"$f":"IFERROR(VLOOKUP(AE4747,CadMP!$B:$D,2,0),\"\")","v":""},{"$f":"IFERROR(VLOOKUP(AF4747,CadMP!$B:$D,2,0),\"\")","v":""},{"$f":"IFERROR(VLOOKUP(AG4747,CadMP!$B:$D,2,0),\"\")","v":""},{"$f":"IFERROR(VLOOKUP(AH4747,CadMP!$B:$D,2,0),\"\")","v":""},{"$f":"IFERROR(VLOOKUP(AI4747,CadMP!$B:$D,2,0),\"\")","v":""},{"$f":"IFERROR(VLOOKUP(AJ4747,CadMP!$B:$D,2,0),\"\")","v":""},{"$f":"IFERROR(VLOOKUP(AK4747,CadMP!$B:$D,2,0),\"\")","v":""},{"$f":"IFERROR(VLOOKUP(W4747,CadMP!$B:$D,3,0),\"\")","v":""},{"$f":"IFERROR(VLOOKUP(X4747,CadMP!$B:$D,3,0),\"\")","v":""},{"$f":"IFERROR(VLOOKUP(Y4747,CadMP!$B:$D,3,0),\"\")","v":""},{"$f":"IFERROR(VLOOKUP(Z4747,CadMP!$B:$D,3,0),\"\")","v":""},{"$f":"IFERROR(VLOOKUP(AA4747,CadMP!$B:$D,3,0),\"\")","v":""},{"$f":"IFERROR(VLOOKUP(AB4747,CadMP!$B:$D,3,0),\"\")","v":""},{"$f":"IFERROR(VLOOKUP(AC4747,CadMP!$B:$D,3,0),\"\")","v":""},{"$f":"IFERROR(VLOOKUP(AD4747,CadMP!$B:$D,3,0),\"\")","v":""},{"$f":"IFERROR(VLOOKUP(AE4747,CadMP!$B:$D,3,0),\"\")","v":""},{"$f":"IFERROR(VLOOKUP(AF4747,CadMP!$B:$D,3,0),\"\")","v":""},{"$f":"IFERROR(VLOOKUP(AG4747,CadMP!$B:$D,3,0),\"\")","v":""},{"$f":"IFERROR(VLOOKUP(AH4747,CadMP!$B:$D,3,0),\"\")","v":""},{"$f":"IFERROR(VLOOKUP(AI4747,CadMP!$B:$D,3,0),\"\")","v":""},{"$f":"IFERROR(VLOOKUP(AJ4747,CadMP!$B:$D,3,0),\"\")","v":""},{"$f":"IFERROR(VLOOKUP(AK4747,CadMP!$B:$D,3,0),\"\")","v":""},0,0,0,0,0,0,0,0,0,0,0,0,0,0,0]
[4765,null,null,0,0,null,null,null,null,null,null,0,0,null,null,null,null,null,null,null,1,0,null,null,null,null,null,null,null,null,null,null,null,null,null,null,null,null,null,null,null,null,null,null,null,null,null,null,null,null,null,null,{"$f":"IFERROR(VLOOKUP(W4766,CadMP!$B:$D,2,0),\"\")","v":""},{"$f":"IFERROR(VLOOKUP(X4766,CadMP!$B:$D,2,0),\"\")","v":""},{"$f":"IFERROR(VLOOKUP(Y4766,CadMP!$B:$D,2,0),\"\")","v":""},{"$f":"IFERROR(VLOOKUP(Z4766,CadMP!$B:$D,2,0),\"\")","v":""},{"$f":"IFERROR(VLOOKUP(AA4766,CadMP!$B:$D,2,0),\"\")","v":""},{"$f":"IFERROR(VLOOKUP(AB4766,CadMP!$B:$D,2,0),\"\")","v":""},{"$f":"IFERROR(VLOOKUP(AC4766,CadMP!$B:$D,2,0),\"\")","v":""},{"$f":"IFERROR(VLOOKUP(AD4766,CadMP!$B:$D,2,0),\"\")","v":""},{"$f":"IFERROR(VLOOKUP(AE4766,CadMP!$B:$D,2,0),\"\")","v":""},{"$f":"IFERROR(VLOOKUP(AF4766,CadMP!$B:$D,2,0),\"\")","v":""},{"$f":"IFERROR(VLOOKUP(AG4766,CadMP!$B:$D,2,0),\"\")","v":""},{"$f":"IFERROR(VLOOKUP(AH4766,CadMP!$B:$D,2,0),\"\")","v":""},{"$f":"IFERROR(VLOOKUP(AI4766,CadMP!$B:$D,2,0),\"\")","v":""},{"$f":"IFERROR(VLOOKUP(AJ4766,CadMP!$B:$D,2,0),\"\")","v":""},{"$f":"IFERROR(VLOOKUP(AK4766,CadMP!$B:$D,2,0),\"\")","v":""},{"$f":"IFERROR(VLOOKUP(W4766,CadMP!$B:$D,3,0),\"\")","v":""},{"$f":"IFERROR(VLOOKUP(X4766,CadMP!$B:$D,3,0),\"\")","v":""},{"$f":"IFERROR(VLOOKUP(Y4766,CadMP!$B:$D,3,0),\"\")","v":""},{"$f":"IFERROR(VLOOKUP(Z4766,CadMP!$B:$D,3,0),\"\")","v":""},{"$f":"IFERROR(VLOOKUP(AA4766,CadMP!$B:$D,3,0),\"\")","v":""},{"$f":"IFERROR(VLOOKUP(AB4766,CadMP!$B:$D,3,0),\"\")","v":""},{"$f":"IFERROR(VLOOKUP(AC4766,CadMP!$B:$D,3,0),\"\")","v":""},{"$f":"IFERROR(VLOOKUP(AD4766,CadMP!$B:$D,3,0),\"\")","v":""},{"$f":"IFERROR(VLOOKUP(AE4766,CadMP!$B:$D,3,0),\"\")","v":""},{"$f":"IFERROR(VLOOKUP(AF4766,CadMP!$B:$D,3,0),\"\")","v":""},{"$f":"IFERROR(VLOOKUP(AG4766,CadMP!$B:$D,3,0),\"\")","v":""},{"$f":"IFERROR(VLOOKUP(AH4766,CadMP!$B:$D,3,0),\"\")","v":""},{"$f":"IFERROR(VLOOKUP(AI4766,CadMP!$B:$D,3,0),\"\")","v":""},{"$f":"IFERROR(VLOOKUP(AJ4766,CadMP!$B:$D,3,0),\"\")","v":""},{"$f":"IFERROR(VLOOKUP(AK4766,CadMP!$B:$D,3,0),\"\")","v":""},0,0,0,0,0,0,0,0,0,0,0,0,0,0,0]
[4781,null,null,0,0,null,null,null,null,null,null,0,0,null,null,null,null,null,null,null,1,0,null,null,null,null,null,null,null,null,null,null,null,null,null,null,null,null,null,null,null,null,null,null,null,null,null,null,null,null,null,null,{"$f":"IFERROR(VLOOKUP(W4782,CadMP!$B:$D,2,0),\"\")","v":""},{"$f":"IFERROR(VLOOKUP(X4782,CadMP!$B:$D,2,0),\"\")","v":""},{"$f":"IFERROR(VLOOKUP(Y4782,CadMP!$B:$D,2,0),\"\")","v":""},{"$f":"IFERROR(VLOOKUP(Z4782,CadMP!$B:$D,2,0),\"\")","v":""},{"$f":"IFERROR(VLOOKUP(AA4782,CadMP!$B:$D,2,0),\"\")","v":""},{"$f":"IFERROR(VLOOKUP(AB4782,CadMP!$B:$D,2,0),\"\")","v":""},{"$f":"IFERROR(VLOOKUP(AC4782,CadMP!$B:$D,2,0),\"\")","v":""},{"$f":"IFERROR(VLOOKUP(AD4782,CadMP!$B:$D,2,0),\"\")","v":""},{"$f":"IFERROR(VLOOKUP(AE4782,CadMP!$B:$D,2,0),\"\")","v":""},{"$f":"IFERROR(VLOOKUP(AF4782,CadMP!$B:$D,2,0),\"\")","v":""},{"$f":"IFERROR(VLOOKUP(AG4782,CadMP!$B:$D,2,0),\"\")","v":""},{"$f":"IFERROR(VLOOKUP(AH4782,CadMP!$B:$D,2,0),\"\")","v":""},{"$f":"IFERROR(VLOOKUP(AI4782,CadMP!$B:$D,2,0),\"\")","v":""},{"$f":"IFERROR(VLOOKUP(AJ4782,CadMP!$B:$D,2,0),\"\")","v":""},{"$f":"IFERROR(VLOOKUP(AK4782,CadMP!$B:$D,2,0),\"\")","v":""},{"$f":"IFERROR(VLOOKUP(W4782,CadMP!$B:$D,3,0),\"\")","v":""},{"$f":"IFERROR(VLOOKUP(X4782,CadMP!$B:$D,3,0),\"\")","v":""},{"$f":"IFERROR(VLOOKUP(Y4782,CadMP!$B:$D,3,0),\"\")","v":""},{"$f":"IFERROR(VLOOKUP(Z4782,CadMP!$B:$D,3,0),\"\")","v":""},{"$f":"IFERROR(VLOOKUP(AA4782,CadMP!$B:$D,3,0),\"\")","v":""},{"$f":"IFERROR(VLOOKUP(AB4782,CadMP!$B:$D,3,0),\"\")","v":""},{"$f":"IFERROR(VLOOKUP(AC4782,CadMP!$B:$D,3,0),\"\")","v":""},{"$f":"IFERROR(VLOOKUP(AD4782,CadMP!$B:$D,3,0),\"\")","v":""},{"$f":"IFERROR(VLOOKUP(AE4782,CadMP!$B:$D,3,0),\"\")","v":""},{"$f":"IFERROR(VLOOKUP(AF4782,CadMP!$B:$D,3,0),\"\")","v":""},{"$f":"IFERROR(VLOOKUP(AG4782,CadMP!$B:$D,3,0),\"\")","v":""},{"$f":"IFERROR(VLOOKUP(AH4782,CadMP!$B:$D,3,0),\"\")","v":""},{"$f":"IFERROR(VLOOKUP(AI4782,CadMP!$B:$D,3,0),\"\")","v":""},{"$f":"IFERROR(VLOOKUP(AJ4782,CadMP!$B:$D,3,0),\"\")","v":""},{"$f":"IFERROR(VLOOKUP(AK4782,CadMP!$B:$D,3,0),\"\")","v":""},0,0,0,0,0,0,0,0,0,0,0,0,0,0,0]
[4789,null,null,0,0,null,null,null,null,null,null,0,0,null,null,null,null,null,null,null,1,0,null,null,null,null,null,null,null,null,null,null,null,null,null,null,null,null,null,null,null,null,null,null,null,null,null,null,null,null,null,null,{"$f":"IFERROR(VLOOKUP(W4790,CadMP!$B:$D,2,0),\"\")","v":""},{"$f":"IFERROR(VLOOKUP(X4790,CadMP!$B:$D,2,0),\"\")","v":""},{"$f":"IFERROR(VLOOKUP(Y4790,CadMP!$B:$D,2,0),\"\")","v":""},{"$f":"IFERROR(VLOOKUP(Z4790,CadMP!$B:$D,2,0),\"\")","v":""},{"$f":"IFERROR(VLOOKUP(AA4790,CadMP!$B:$D,2,0),\"\")","v":""},{"$f":"IFERROR(VLOOKUP(AB4790,CadMP!$B:$D,2,0),\"\")","v":""},{"$f":"IFERROR(VLOOKUP(AC4790,CadMP!$B:$D,2,0),\"\")","v":""},{"$f":"IFERROR(VLOOKUP(AD4790,CadMP!$B:$D,2,0),\"\")","v":""},{"$f":"IFERROR(VLOOKUP(AE4790,CadMP!$B:$D,2,0),\"\")","v":""},{"$f":"IFERROR(VLOOKUP(AF4790,CadMP!$B:$D,2,0),\"\")","v":""},{"$f":"IFERROR(VLOOKUP(AG4790,CadMP!$B:$D,2,0),\"\")","v":""},{"$f":"IFERROR(VLOOKUP(AH4790,CadMP!$B:$D,2,0),\"\")","v":""},{"$f":"IFERROR(VLOOKUP(AI4790,CadMP!$B:$D,2,0),\"\")","v":""},{"$f":"IFERROR(VLOOKUP(AJ4790,CadMP!$B:$D,2,0),\"\")","v":""},{"$f":"IFERROR(VLOOKUP(AK4790,CadMP!$B:$D,2,0),\"\")","v":""},{"$f":"IFERROR(VLOOKUP(W4790,CadMP!$B:$D,3,0),\"\")","v":""},{"$f":"IFERROR(VLOOKUP(X4790,CadMP!$B:$D,3,0),\"\")","v":""},{"$f":"IFERROR(VLOOKUP(Y4790,CadMP!$B:$D,3,0),\"\")","v":""},{"$f":"IFERROR(VLOOKUP(Z4790,CadMP!$B:$D,3,0),\"\")","v":""},{"$f":"IFERROR(VLOOKUP(AA4790,CadMP!$B:$D,3,0),\"\")","v":""},{"$f":"IFERROR(VLOOKUP(AB4790,CadMP!$B:$D,3,0),\"\")","v":""},{"$f":"IFERROR(VLOOKUP(AC4790,CadMP!$B:$D,3,0),\"\")","v":""},{"$f":"IFERROR(VLOOKUP(AD4790,CadMP!$B:$D,3,0),\"\")","v":""},{"$f":"IFERROR(VLOOKUP(AE4790,CadMP!$B:$D,3,0),\"\")","v":""},{"$f":"IFERROR(VLOOKUP(AF4790,CadMP!$B:$D,3,0),\"\")","v":""},{"$f":"IFERROR(VLOOKUP(AG4790,CadMP!$B:$D,3,0),\"\")","v":""},{"$f":"IFERROR(VLOOKUP(AH4790,CadMP!$B:$D,3,0),\"\")","v":""},{"$f":"IFERROR(VLOOKUP(AI4790,CadMP!$B:$D,3,0),\"\")","v":""},{"$f":"IFERROR(VLOOKUP(AJ4790,CadMP!$B:$D,3,0),\"\")","v":""},{"$f":"IFERROR(VLOOKUP(AK4790,CadMP!$B:$D,3,0),\"\")","v":""},0,0,0,0,0,0,0,0,0,0,0,0,0,0,0]
[4808,null,null,0,0,null,null,null,null,null,null,0,0,null,null,null,null,null,null,null,1,0,null,null,null,null,null,null,null,null,null,null,null,null,null,null,null,null,null,null,null,null,null,null,null,null,null,null,null,null,null,null,{"$f":"IFERROR(VLOOKUP(W4809,CadMP!$B:$D,2,0),\"\")","v":""},{"$f":"IFERROR(VLOOKUP(X4809,CadMP!$B:$D,2,0),\"\")","v":""},{"$f":"IFERROR(VLOOKUP(Y4809,CadMP!$B:$D,2,0),\"\")","v":""},{"$f":"IFERROR(VLOOKUP(Z4809,CadMP!$B:$D,2,0),\"\")","v":""},{"$f":"IFERROR(VLOOKUP(AA4809,CadMP!$B:$D,2,0),\"\")","v":""},{"$f":"IFERROR(VLOOKUP(AB4809,CadMP!$B:$D,2,0),\"\")","v":""},{"$f":"IFERROR(VLOOKUP(AC4809,CadMP!$B:$D,2,0),\"\")","v":""},{"$f":"IFERROR(VLOOKUP(AD4809,CadMP!$B:$D,2,0),\"\")","v":""},{"$f":"IFERROR(VLOOKUP(AE4809,CadMP!$B:$D,2,0),\"\")","v":""},{"$f":"IFERROR(VLOOKUP(AF4809,CadMP!$B:$D,2,0),\"\")","v":""},{"$f":"IFERROR(VLOOKUP(AG4809,CadMP!$B:$D,2,0),\"\")","v":""},{"$f":"IFERROR(VLOOKUP(AH4809,CadMP!$B:$D,2,0),\"\")","v":""},{"$f":"IFERROR(VLOOKUP(AI4809,CadMP!$B:$D,2,0),\"\")","v":""},{"$f":"IFERROR(VLOOKUP(AJ4809,CadMP!$B:$D,2,0),\"\")","v":""},{"$f":"IFERROR(VLOOKUP(AK4809,CadMP!$B:$D,2,0),\"\")","v":""},{"$f":"IFERROR(VLOOKUP(W4809,CadMP!$B:$D,3,0),\"\")","v":""},{"$f":"IFERROR(VLOOKUP(X4809,CadMP!$B:$D,3,0),\"\")","v":""},{"$f":"IFERROR(VLOOKUP(Y4809,CadMP!$B:$D,3,0),\"\")","v":""},{"$f":"IFERROR(VLOOKUP(Z4809,CadMP!$B:$D,3,0),\"\")","v":""},{"$f":"IFERROR(VLOOKUP(AA4809,CadMP!$B:$D,3,0),\"\")","v":""},{"$f":"IFERROR(VLOOKUP(AB4809,CadMP!$B:$D,3,0),\"\")","v":""},{"$f":"IFERROR(VLOOKUP(AC4809,CadMP!$B:$D,3,0),\"\")","v":""},{"$f":"IFERROR(VLOOKUP(AD4809,CadMP!$B:$D,3,0),\"\")","v":""},{"$f":"IFERROR(VLOOKUP(AE4809,CadMP!$B:$D,3,0),\"\")","v":""},{"$f":"IFERROR(VLOOKUP(AF4809,CadMP!$B:$D,3,0),\"\")","v":""},{"$f":"IFERROR(VLOOKUP(AG4809,CadMP!$B:$D,3,0),\"\")","v":""},{"$f":"IFERROR(VLOOKUP(AH4809,CadMP!$B:$D,3,0),\"\")","v":""},{"$f":"IFERROR(VLOOKUP(AI4809,CadMP!$B:$D,3,0),\"\")","v":""},{"$f":"IFERROR(VLOOKUP(AJ4809,CadMP!$B:$D,3,0),\"\")","v":""},{"$f":"IFERROR(VLOOKUP(AK4809,CadMP!$B:$D,3,0),\"\")","v":""},0,0,0,0,0,0,0,0,0,0,0,0,0,0,0]
[4833,null,null,0,0,null,null,null,null,null,null,0,0,null,null,null,null,null,null,null,1,0,null,null,null,null,null,null,null,null,null,null,null,null,null,null,null,null,null,null,null,null,null,null,null,null,null,null,null,null,null,null,{"$f":"IFERROR(VLOOKUP(W4834,CadMP!$B:$D,2,0),\"\")","v":""},{"$f":"IFERROR(VLOOKUP(X4834,CadMP!$B:$D,2,0),\"\")","v":""},{"$f":"IFERROR(VLOOKUP(Y4834,CadMP!$B:$D,2,0),\"\")","v":""},{"$f":"IFERROR(VLOOKUP(Z4834,CadMP!$B:$D,2,0),\"\")","v":""},{"$f":"IFERROR(VLOOKUP(AA4834,CadMP!$B:$D,2,0),\"\")","v":""},{"$f":"IFERROR(VLOOKUP(AB4834,CadMP!$B:$D,2,0),\"\")","v":""},{"$f":"IFERROR(VLOOKUP(AC4834,CadMP!$B:$D,2,0),\"\")","v":""},{"$f":"IFERROR(VLOOKUP(AD4834,CadMP!$B:$D,2,0),\"\")","v":""},{"$f":"IFERROR(VLOOKUP(AE4834,CadMP!$B:$D,2,0),\"\")","v":""},{"$f":"IFERROR(VLOOKUP(AF4834,CadMP!$B:$D,2,0),\"\")","v":""},{"$f":"IFERROR(VLOOKUP(AG4834,CadMP!$B:$D,2,0),\"\")","v":""},{"$f":"IFERROR(VLOOKUP(AH4834,CadMP!$B:$D,2,0),\"\")","v":""},{"$f":"IFERROR(VLOOKUP(AI4834,CadMP!$B:$D,2,0),\"\")","v":""},{"$f":"IFERROR(VLOOKUP(AJ4834,CadMP!$B:$D,2,0),\"\")","v":""},{"$f":"IFERROR(VLOOKUP(AK4834,CadMP!$B:$D,2,0),\"\")","v":""},{"$f":"IFERROR(VLOOKUP(W4834,CadMP!$B:$D,3,0),\"\")","v":""},{"$f":"IFERROR(VLOOKUP(X4834,CadMP!$B:$D,3,0),\"\")","v":""},{"$f":"IFERROR(VLOOKUP(Y4834,CadMP!$B:$D,3,0),\"\")","v":""},{"$f":"IFERROR(VLOOKUP(Z4834,CadMP!$B:$D,3,0),\"\")","v":""},{"$f":"IFERROR(VLOOKUP(AA4834,CadMP!$B:$D,3,0),\"\")","v":""},{"$f":"IFERROR(VLOOKUP(AB4834,CadMP!$B:$D,3,0),\"\")","v":""},{"$f":"IFERROR(VLOOKUP(AC4834,CadMP!$B:$D,3,0),\"\")","v":""},{"$f":"IFERROR(VLOOKUP(AD4834,CadMP!$B:$D,3,0),\"\")","v":""},{"$f":"IFERROR(VLOOKUP(AE4834,CadMP!$B:$D,3,0),\"\")","v":""},{"$f":"IFERROR(VLOOKUP(AF4834,CadMP!$B:$D,3,0),\"\")","v":""},{"$f":"IFERROR(VLOOKUP(AG4834,CadMP!$B:$D,3,0),\"\")","v":""},{"$f":"IFERROR(VLOOKUP(AH4834,CadMP!$B:$D,3,0),\"\")","v":""},{"$f":"IFERROR(VLOOKUP(AI4834,CadMP!$B:$D,3,0),\"\")","v":""},{"$f":"IFERROR(VLOOKUP(AJ4834,CadMP!$B:$D,3,0),\"\")","v":""},{"$f":"IFERROR(VLOOKUP(AK4834,CadMP!$B:$D,3,0),\"\")","v":""},0,0,0,0,0,0,0,0,0,0,0,0,0,0,0]
[4854,null,null,0,0,null,null,null,null,null,null,0,0,null,null,null,null,null,null,null,1,0,null,null,null,null,null,null,null,null,null,null,null,null,null,null,null,null,null,null,null,null,null,null,null,null,null,null,null,null,null,null,{"$f":"IFERROR(VLOOKUP(W4855,CadMP!$B:$D,2,0),\"\")","v":""},{"$f":"IFERROR(VLOOKUP(X4855,CadMP!$B:$D,2,0),\"\")","v":""},{"$f":"IFERROR(VLOOKUP(Y4855,CadMP!$B:$D,2,0),\"\")","v":""},{"$f":"IFERROR(VLOOKUP(Z4855,CadMP!$B:$D,2,0),\"\")","v":""},{"$f":"IFERROR(VLOOKUP(AA4855,CadMP!$B:$D,2,0),\"\")","v":""},{"$f":"IFERROR(VLOOKUP(AB4855,CadMP!$B:$D,2,0),\"\")","v":""},{"$f":"IFERROR(VLOOKUP(AC4855,CadMP!$B:$D,2,0),\"\")","v":""},{"$f":"IFERROR(VLOOKUP(AD4855,CadMP!$B:$D,2,0),\"\")","v":""},{"$f":"IFERROR(VLOOKUP(AE4855,CadMP!$B:$D,2,0),\"\")","v":""},{"$f":"IFERROR(VLOOKUP(AF4855,CadMP!$B:$D,2,0),\"\")","v":""},{"$f":"IFERROR(VLOOKUP(AG4855,CadMP!$B:$D,2,0),\"\")","v":""},{"$f":"IFERROR(VLOOKUP(AH4855,CadMP!$B:$D,2,0),\"\")","v":""},{"$f":"IFERROR(VLOOKUP(AI4855,CadMP!$B:$D,2,0),\"\")","v":""},{"$f":"IFERROR(VLOOKUP(AJ4855,CadMP!$B:$D,2,0),\"\")","v":""},{"$f":"IFERROR(VLOOKUP(AK4855,CadMP!$B:$D,2,0),\"\")","v":""},{"$f":"IFERROR(VLOOKUP(W4855,CadMP!$B:$D,3,0),\"\")","v":""},{"$f":"IFERROR(VLOOKUP(X4855,CadMP!$B:$D,3,0),\"\")","v":""},{"$f":"IFERROR(VLOOKUP(Y4855,CadMP!$B:$D,3,0),\"\")","v":""},{"$f":"IFERROR(VLOOKUP(Z4855,CadMP!$B:$D,3,0),\"\")","v":""},{"$f":"IFERROR(VLOOKUP(AA4855,CadMP!$B:$D,3,0),\"\")","v":""},{"$f":"IFERROR(VLOOKUP(AB4855,CadMP!$B:$D,3,0),\"\")","v":""},{"$f":"IFERROR(VLOOKUP(AC4855,CadMP!$B:$D,3,0),\"\")","v":""},{"$f":"IFERROR(VLOOKUP(AD4855,CadMP!$B:$D,3,0),\"\")","v":""},{"$f":"IFERROR(VLOOKUP(AE4855,CadMP!$B:$D,3,0),\"\")","v":""},{"$f":"IFERROR(VLOOKUP(AF4855,CadMP!$B:$D,3,0),\"\")","v":""},{"$f":"IFERROR(VLOOKUP(AG4855,CadMP!$B:$D,3,0),\"\")","v":""},{"$f":"IFERROR(VLOOKUP(AH4855,CadMP!$B:$D,3,0),\"\")","v":""},{"$f":"IFERROR(VLOOKUP(AI4855,CadMP!$B:$D,3,0),\"\")","v":""},{"$f":"IFERROR(VLOOKUP(AJ4855,CadMP!$B:$D,3,0),\"\")","v":""},{"$f":"IFERROR(VLOOKUP(AK4855,CadMP!$B:$D,3,0),\"\")","v":""},0,0,0,0,0,0,0,0,0,0,0,0,0,0,0]
[4870,null,null,0,0,null,null,null,null,null,null,0,0,null,null,null,null,null,null,null,1,0,null,null,null,null,null,null,null,null,null,null,null,null,null,null,null,null,null,null,null,null,null,null,null,null,null,null,null,null,null,null,{"$f":"IFERROR(VLOOKUP(W4871,CadMP!$B:$D,2,0),\"\")","v":""},{"$f":"IFERROR(VLOOKUP(X4871,CadMP!$B:$D,2,0),\"\")","v":""},{"$f":"IFERROR(VLOOKUP(Y4871,CadMP!$B:$D,2,0),\"\")","v":""},{"$f":"IFERROR(VLOOKUP(Z4871,CadMP!$B:$D,2,0),\"\")","v":""},{"$f":"IFERROR(VLOOKUP(AA4871,CadMP!$B:$D,2,0),\"\")","v":""},{"$f":"IFERROR(VLOOKUP(AB4871,CadMP!$B:$D,2,0),\"\")","v":""},{"$f":"IFERROR(VLOOKUP(AC4871,CadMP!$B:$D,2,0),\"\")","v":""},{"$f":"IFERROR(VLOOKUP(AD4871,CadMP!$B:$D,2,0),\"\")","v":""},{"$f":"IFERROR(VLOOKUP(AE4871,CadMP!$B:$D,2,0),\"\")","v":""},{"$f":"IFERROR(VLOOKUP(AF4871,CadMP!$B:$D,2,0),\"\")","v":""},{"$f":"IFERROR(VLOOKUP(AG4871,CadMP!$B:$D,2,0),\"\")","v":""},{"$f":"IFERROR(VLOOKUP(AH4871,CadMP!$B:$D,2,0),\"\")","v":""},{"$f":"IFERROR(VLOOKUP(AI4871,CadMP!$B:$D,2,0),\"\")","v":""},{"$f":"IFERROR(VLOOKUP(AJ4871,CadMP!$B:$D,2,0),\"\")","v":""},{"$f":"IFERROR(VLOOKUP(AK4871,CadMP!$B:$D,2,0),\"\")","v":""},{"$f":"IFERROR(VLOOKUP(W4871,CadMP!$B:$D,3,0),\"\")","v":""},{"$f":"IFERROR(VLOOKUP(X4871,CadMP!$B:$D,3,0),\"\")","v":""},{"$f":"IFERROR(VLOOKUP(Y4871,CadMP!$B:$D,3,0),\"\")","v":""},{"$f":"IFERROR(VLOOKUP(Z4871,CadMP!$B:$D,3,0),\"\")","v":""},{"$f":"IFERROR(VLOOKUP(AA4871,CadMP!$B:$D,3,0),\"\")","v":""},{"$f":"IFERROR(VLOOKUP(AB4871,CadMP!$B:$D,3,0),\"\")","v":""},{"$f":"IFERROR(VLOOKUP(AC4871,CadMP!$B:$D,3,0),\"\")","v":""},{"$f":"IFERROR(VLOOKUP(AD4871,CadMP!$B:$D,3,0),\"\")","v":""},{"$f":"IFERROR(VLOOKUP(AE4871,CadMP!$B:$D,3,0),\"\")","v":""},{"$f":"IFERROR(VLOOKUP(AF4871,CadMP!$B:$D,3,0),\"\")","v":""},{"$f":"IFERROR(VLOOKUP(AG4871,CadMP!$B:$D,3,0),\"\")","v":""},{"$f":"IFERROR(VLOOKUP(AH4871,CadMP!$B:$D,3,0),\"\")","v":""},{"$f":"IFERROR(VLOOKUP(AI4871,CadMP!$B:$D,3,0),\"\")","v":""},{"$f":"IFERROR(VLOOKUP(AJ4871,CadMP!$B:$D,3,0),\"\")","v":""},{"$f":"IFERROR(VLOOKUP(AK4871,CadMP!$B:$D,3,0),\"\")","v":""},0,0,0,0,0,0,0,0,0,0,0,0,0,0,0]
[4895,null,null,0,0,null,null,null,null,null,null,0,0,null,null,null,null,null,null,null,1,0,null,null,null,null,null,null,null,null,null,null,null,null,null,null,null,null,null,null,null,null,null,null,null,null,null,null,null,null,null,null,{"$f":"IFERROR(VLOOKUP(W4896,CadMP!$B:$D,2,0),\"\")","v":""},{"$f":"IFERROR(VLOOKUP(X4896,CadMP!$B:$D,2,0),\"\")","v":""},{"$f":"IFERROR(VLOOKUP(Y4896,CadMP!$B:$D,2,0),\"\")","v":""},{"$f":"IFERROR(VLOOKUP(Z4896,CadMP!$B:$D,2,0),\"\")","v":""},{"$f":"IFERROR(VLOOKUP(AA4896,CadMP!$B:$D,2,0),\"\")","v":""},{"$f":"IFERROR(VLOOKUP(AB4896,CadMP!$B:$D,2,0),\"\")","v":""},{"$f":"IFERROR(VLOOKUP(AC4896,CadMP!$B:$D,2,0),\"\")","v":""},{"$f":"IFERROR(VLOOKUP(AD4896,CadMP!$B:$D,2,0),\"\")","v":""},{"$f":"IFERROR(VLOOKUP(AE4896,CadMP!$B:$D,2,0),\"\")","v":""},{"$f":"IFERROR(VLOOKUP(AF4896,CadMP!$B:$D,2,0),\"\")","v":""},{"$f":"IFERROR(VLOOKUP(AG4896,CadMP!$B:$D,2,0),\"\")","v":""},{"$f":"IFERROR(VLOOKUP(AH4896,CadMP!$B:$D,2,0),\"\")","v":""},{"$f":"IFERROR(VLOOKUP(AI4896,CadMP!$B:$D,2,0),\"\")","v":""},{"$f":"IFERROR(VLOOKUP(AJ4896,CadMP!$B:$D,2,0),\"\")","v":""},{"$f":"IFERROR(VLOOKUP(AK4896,CadMP!$B:$D,2,0),\"\")","v":""},{"$f":"IFERROR(VLOOKUP(W4896,CadMP!$B:$D,3,0),\"\")","v":""},{"$f":"IFERROR(VLOOKUP(X4896,CadMP!$B:$D,3,0),\"\")","v":""},{"$f":"IFERROR(VLOOKUP(Y4896,CadMP!$B:$D,3,0),\"\")","v":""},{"$f":"IFERROR(VLOOKUP(Z4896,CadMP!$B:$D,3,0),\"\")","v":""},{"$f":"IFERROR(VLOOKUP(AA4896,CadMP!$B:$D,3,0),\"\")","v":""},{"$f":"IFERROR(VLOOKUP(AB4896,CadMP!$B:$D,3,0),\"\")","v":""},{"$f":"IFERROR(VLOOKUP(AC4896,CadMP!$B:$D,3,0),\"\")","v":""},{"$f":"IFERROR(VLOOKUP(AD4896,CadMP!$B:$D,3,0),\"\")","v":""},{"$f":"IFERROR(VLOOKUP(AE4896,CadMP!$B:$D,3,0),\"\")","v":""},{"$f":"IFERROR(VLOOKUP(AF4896,CadMP!$B:$D,3,0),\"\")","v":""},{"$f":"IFERROR(VLOOKUP(AG4896,CadMP!$B:$D,3,0),\"\")","v":""},{"$f":"IFERROR(VLOOKUP(AH4896,CadMP!$B:$D,3,0),\"\")","v":""},{"$f":"IFERROR(VLOOKUP(AI4896,CadMP!$B:$D,3,0),\"\")","v":""},{"$f":"IFERROR(VLOOKUP(AJ4896,CadMP!$B:$D,3,0),\"\")","v":""},{"$f":"IFERROR(VLOOKUP(AK4896,CadMP!$B:$D,3,0),\"\")","v":""},0,0,0,0,0,0,0,0,0,0,0,0,0,0,0]
[4914,null,null,0,0,null,null,null,null,null,null,0,0,null,null,null,null,null,null,null,1,0,null,null,null,null,null,null,null,null,null,null,null,null,null,null,null,null,null,null,null,null,null,null,null,null,null,null,null,null,null,null,{"$f":"IFERROR(VLOOKUP(W4915,CadMP!$B:$D,2,0),\"\")","v":""},{"$f":"IFERROR(VLOOKUP(X4915,CadMP!$B:$D,2,0),\"\")","v":""},{"$f":"IFERROR(VLOOKUP(Y4915,CadMP!$B:$D,2,0),\"\")","v":""},{"$f":"IFERROR(VLOOKUP(Z4915,CadMP!$B:$D,2,0),\"\")","v":""},{"$f":"IFERROR(VLOOKUP(AA4915,CadMP!$B:$D,2,0),\"\")","v":""},{"$f":"IFERROR(VLOOKUP(AB4915,CadMP!$B:$D,2,0),\"\")","v":""},{"$f":"IFERROR(VLOOKUP(AC4915,CadMP!$B:$D,2,0),\"\")","v":""},{"$f":"IFERROR(VLOOKUP(AD4915,CadMP!$B:$D,2,0),\"\")","v":""},{"$f":"IFERROR(VLOOKUP(AE4915,CadMP!$B:$D,2,0),\"\")","v":""},{"$f":"IFERROR(VLOOKUP(AF4915,CadMP!$B:$D,2,0),\"\")","v":""},{"$f":"IFERROR(VLOOKUP(AG4915,CadMP!$B:$D,2,0),\"\")","v":""},{"$f":"IFERROR(VLOOKUP(AH4915,CadMP!$B:$D,2,0),\"\")","v":""},{"$f":"IFERROR(VLOOKUP(AI4915,CadMP!$B:$D,2,0),\"\")","v":""},{"$f":"IFERROR(VLOOKUP(AJ4915,CadMP!$B:$D,2,0),\"\")","v":""},{"$f":"IFERROR(VLOOKUP(AK4915,CadMP!$B:$D,2,0),\"\")","v":""},{"$f":"IFERROR(VLOOKUP(W4915,CadMP!$B:$D,3,0),\"\")","v":""},{"$f":"IFERROR(VLOOKUP(X4915,CadMP!$B:$D,3,0),\"\")","v":""},{"$f":"IFERROR(VLOOKUP(Y4915,CadMP!$B:$D,3,0),\"\")","v":""},{"$f":"IFERROR(VLOOKUP(Z4915,CadMP!$B:$D,3,0),\"\")","v":""},{"$f":"IFERROR(VLOOKUP(AA4915,CadMP!$B:$D,3,0),\"\")","v":""},{"$f":"IFERROR(VLOOKUP(AB4915,CadMP!$B:$D,3,0),\"\")","v":""},{"$f":"IFERROR(VLOOKUP(AC4915,CadMP!$B:$D,3,0),\"\")","v":""},{"$f":"IFERROR(VLOOKUP(AD4915,CadMP!$B:$D,3,0),\"\")","v":""},{"$f":"IFERROR(VLOOKUP(AE4915,CadMP!$B:$D,3,0),\"\")","v":""},{"$f":"IFERROR(VLOOKUP(AF4915,CadMP!$B:$D,3,0),\"\")","v":""},{"$f":"IFERROR(VLOOKUP(AG4915,CadMP!$B:$D,3,0),\"\")","v":""},{"$f":"IFERROR(VLOOKUP(AH4915,CadMP!$B:$D,3,0),\"\")","v":""},{"$f":"IFERROR(VLOOKUP(AI4915,CadMP!$B:$D,3,0),\"\")","v":""},{"$f":"IFERROR(VLOOKUP(AJ4915,CadMP!$B:$D,3,0),\"\")","v":""},{"$f":"IFERROR(VLOOKUP(AK4915,CadMP!$B:$D,3,0),\"\")","v":""},0,0,0,0,0,0,0,0,0,0,0,0,0,0,0]
[4920,null,null,0,0,null,null,null,null,null,null,0,0,null,null,null,null,null,null,null,1,0,null,null,null,null,null,null,null,null,null,null,null,null,null,null,null,null,null,null,null,null,null,null,null,null,null,null,null,null,null,null,{"$f":"IFERROR(VLOOKUP(W4921,CadMP!$B:$D,2,0),\"\")","v":""},{"$f":"IFERROR(VLOOKUP(X4921,CadMP!$B:$D,2,0),\"\")","v":""},{"$f":"IFERROR(VLOOKUP(Y4921,CadMP!$B:$D,2,0),\"\")","v":""},{"$f":"IFERROR(VLOOKUP(Z4921,CadMP!$B:$D,2,0),\"\")","v":""},{"$f":"IFERROR(VLOOKUP(AA4921,CadMP!$B:$D,2,0),\"\")","v":""},{"$f":"IFERROR(VLOOKUP(AB4921,CadMP!$B:$D,2,0),\"\")","v":""},{"$f":"IFERROR(VLOOKUP(AC4921,CadMP!$B:$D,2,0),\"\")","v":""},{"$f":"IFERROR(VLOOKUP(AD4921,CadMP!$B:$D,2,0),\"\")","v":""},{"$f":"IFERROR(VLOOKUP(AE4921,CadMP!$B:$D,2,0),\"\")","v":""},{"$f":"IFERROR(VLOOKUP(AF4921,CadMP!$B:$D,2,0),\"\")","v":""},{"$f":"IFERROR(VLOOKUP(AG4921,CadMP!$B:$D,2,0),\"\")","v":""},{"$f":"IFERROR(VLOOKUP(AH4921,CadMP!$B:$D,2,0),\"\")","v":""},{"$f":"IFERROR(VLOOKUP(AI4921,CadMP!$B:$D,2,0),\"\")","v":""},{"$f":"IFERROR(VLOOKUP(AJ4921,CadMP!$B:$D,2,0),\"\")","v":""},{"$f":"IFERROR(VLOOKUP(AK4921,CadMP!$B:$D,2,0),\"\")","v":""},{"$f":"IFERROR(VLOOKUP(W4921,CadMP!$B:$D,3,0),\"\")","v":""},{"$f":"IFERROR(VLOOKUP(X4921,CadMP!$B:$D,3,0),\"\")","v":""},{"$f":"IFERROR(VLOOKUP(Y4921,CadMP!$B:$D,3,0),\"\")","v":""},{"$f":"IFERROR(VLOOKUP(Z4921,CadMP!$B:$D,3,0),\"\")","v":""},{"$f":"IFERROR(VLOOKUP(AA4921,CadMP!$B:$D,3,0),\"\")","v":""},{"$f":"IFERROR(VLOOKUP(AB4921,CadMP!$B:$D,3,0),\"\")","v":""},{"$f":"IFERROR(VLOOKUP(AC4921,CadMP!$B:$D,3,0),\"\")","v":""},{"$f":"IFERROR(VLOOKUP(AD4921,CadMP!$B:$D,3,0),\"\")","v":""},{"$f":"IFERROR(VLOOKUP(AE4921,CadMP!$B:$D,3,0),\"\")","v":""},{"$f":"IFERROR(VLOOKUP(AF4921,CadMP!$B:$D,3,0),\"\")","v":""},{"$f":"IFERROR(VLOOKUP(AG4921,CadMP!$B:$D,3,0),\"\")","v":""},{"$f":"IFERROR(VLOOKUP(AH4921,CadMP!$B:$D,3,0),\"\")","v":""},{"$f":"IFERROR(VLOOKUP(AI4921,CadMP!$B:$D,3,0),\"\")","v":""},{"$f":"IFERROR(VLOOKUP(AJ4921,CadMP!$B:$D,3,0),\"\")","v":""},{"$f":"IFERROR(VLOOKUP(AK4921,CadMP!$B:$D,3,0),\"\")","v":""},0,0,0,0,0,0,0,0,0,0,0,0,0,0,0]
[4938,null,null,0,0,null,null,null,null,null,null,0,0,null,null,null,null,null,null,null,1,0,null,null,null,null,null,null,null,null,null,null,null,null,null,null,null,null,null,null,null,null,null,null,null,null,null,null,null,null,null,null,{"$f":"IFERROR(VLOOKUP(W4939,CadMP!$B:$D,2,0),\"\")","v":""},{"$f":"IFERROR(VLOOKUP(X4939,CadMP!$B:$D,2,0),\"\")","v":""},{"$f":"IFERROR(VLOOKUP(Y4939,CadMP!$B:$D,2,0),\"\")","v":""},{"$f":"IFERROR(VLOOKUP(Z4939,CadMP!$B:$D,2,0),\"\")","v":""},{"$f":"IFERROR(VLOOKUP(AA4939,CadMP!$B:$D,2,0),\"\")","v":""},{"$f":"IFERROR(VLOOKUP(AB4939,CadMP!$B:$D,2,0),\"\")","v":""},{"$f":"IFERROR(VLOOKUP(AC4939,CadMP!$B:$D,2,0),\"\")","v":""},{"$f":"IFERROR(VLOOKUP(AD4939,CadMP!$B:$D,2,0),\"\")","v":""},{"$f":"IFERROR(VLOOKUP(AE4939,CadMP!$B:$D,2,0),\"\")","v":""},{"$f":"IFERROR(VLOOKUP(AF4939,CadMP!$B:$D,2,0),\"\")","v":""},{"$f":"IFERROR(VLOOKUP(AG4939,CadMP!$B:$D,2,0),\"\")","v":""},{"$f":"IFERROR(VLOOKUP(AH4939,CadMP!$B:$D,2,0),\"\")","v":""},{"$f":"IFERROR(VLOOKUP(AI4939,CadMP!$B:$D,2,0),\"\")","v":""},{"$f":"IFERROR(VLOOKUP(AJ4939,CadMP!$B:$D,2,0),\"\")","v":""},{"$f":"IFERROR(VLOOKUP(AK4939,CadMP!$B:$D,2,0),\"\")","v":""},{"$f":"IFERROR(VLOOKUP(W4939,CadMP!$B:$D,3,0),\"\")","v":""},{"$f":"IFERROR(VLOOKUP(X4939,CadMP!$B:$D,3,0),\"\")","v":""},{"$f":"IFERROR(VLOOKUP(Y4939,CadMP!$B:$D,3,0),\"\")","v":""},{"$f":"IFERROR(VLOOKUP(Z4939,CadMP!$B:$D,3,0),\"\")","v":""},{"$f":"IFERROR(VLOOKUP(AA4939,CadMP!$B:$D,3,0),\"\")","v":""},{"$f":"IFERROR(VLOOKUP(AB4939,CadMP!$B:$D,3,0),\"\")","v":""},{"$f":"IFERROR(VLOOKUP(AC4939,CadMP!$B:$D,3,0),\"\")","v":""},{"$f":"IFERROR(VLOOKUP(AD4939,CadMP!$B:$D,3,0),\"\")","v":""},{"$f":"IFERROR(VLOOKUP(AE4939,CadMP!$B:$D,3,0),\"\")","v":""},{"$f":"IFERROR(VLOOKUP(AF4939,CadMP!$B:$D,3,0),\"\")","v":""},{"$f":"IFERROR(VLOOKUP(AG4939,CadMP!$B:$D,3,0),\"\")","v":""},{"$f":"IFERROR(VLOOKUP(AH4939,CadMP!$B:$D,3,0),\"\")","v":""},{"$f":"IFERROR(VLOOKUP(AI4939,CadMP!$B:$D,3,0),\"\")","v":""},{"$f":"IFERROR(VLOOKUP(AJ4939,CadMP!$B:$D,3,0),\"\")","v":""},{"$f":"IFERROR(VLOOKUP(AK4939,CadMP!$B:$D,3,0),\"\")","v":""},0,0,0,0,0,0,0,0,0,0,0,0,0,0,0]
[4939,null,null,0,0,null,null,null,null,null,null,0,0,null,null,null,null,null,null,null,1,0,null,null,null,null,null,null,null,null,null,null,null,null,null,null,null,null,null,null,null,null,null,null,null,null,null,null,null,null,null,null,{"$f":"IFERROR(VLOOKUP(W4940,CadMP!$B:$D,2,0),\"\")","v":""},{"$f":"IFERROR(VLOOKUP(X4940,CadMP!$B:$D,2,0),\"\")","v":""},{"$f":"IFERROR(VLOOKUP(Y4940,CadMP!$B:$D,2,0),\"\")","v":""},{"$f":"IFERROR(VLOOKUP(Z4940,CadMP!$B:$D,2,0),\"\")","v":""},{"$f":"IFERROR(VLOOKUP(AA4940,CadMP!$B:$D,2,0),\"\")","v":""},{"$f":"IFERROR(VLOOKUP(AB4940,CadMP!$B:$D,2,0),\"\")","v":""},{"$f":"IFERROR(VLOOKUP(AC4940,CadMP!$B:$D,2,0),\"\")","v":""},{"$f":"IFERROR(VLOOKUP(AD4940,CadMP!$B:$D,2,0),\"\")","v":""},{"$f":"IFERROR(VLOOKUP(AE4940,CadMP!$B:$D,2,0),\"\")","v":""},{"$f":"IFERROR(VLOOKUP(AF4940,CadMP!$B:$D,2,0),\"\")","v":""},{"$f":"IFERROR(VLOOKUP(AG4940,CadMP!$B:$D,2,0),\"\")","v":""},{"$f":"IFERROR(VLOOKUP(AH4940,CadMP!$B:$D,2,0),\"\")","v":""},{"$f":"IFERROR(VLOOKUP(AI4940,CadMP!$B:$D,2,0),\"\")","v":""},{"$f":"IFERROR(VLOOKUP(AJ4940,CadMP!$B:$D,2,0),\"\")","v":""},{"$f":"IFERROR(VLOOKUP(AK4940,CadMP!$B:$D,2,0),\"\")","v":""},{"$f":"IFERROR(VLOOKUP(W4940,CadMP!$B:$D,3,0),\"\")","v":""},{"$f":"IFERROR(VLOOKUP(X4940,CadMP!$B:$D,3,0),\"\")","v":""},{"$f":"IFERROR(VLOOKUP(Y4940,CadMP!$B:$D,3,0),\"\")","v":""},{"$f":"IFERROR(VLOOKUP(Z4940,CadMP!$B:$D,3,0),\"\")","v":""},{"$f":"IFERROR(VLOOKUP(AA4940,CadMP!$B:$D,3,0),\"\")","v":""},{"$f":"IFERROR(VLOOKUP(AB4940,CadMP!$B:$D,3,0),\"\")","v":""},{"$f":"IFERROR(VLOOKUP(AC4940,CadMP!$B:$D,3,0),\"\")","v":""},{"$f":"IFERROR(VLOOKUP(AD4940,CadMP!$B:$D,3,0),\"\")","v":""},{"$f":"IFERROR(VLOOKUP(AE4940,CadMP!$B:$D,3,0),\"\")","v":""},{"$f":"IFERROR(VLOOKUP(AF4940,CadMP!$B:$D,3,0),\"\")","v":""},{"$f":"IFERROR(VLOOKUP(AG4940,CadMP!$B:$D,3,0),\"\")","v":""},{"$f":"IFERROR(VLOOKUP(AH4940,CadMP!$B:$D,3,0),\"\")","v":""},{"$f":"IFERROR(VLOOKUP(AI4940,CadMP!$B:$D,3,0),\"\")","v":""},{"$f":"IFERROR(VLOOKUP(AJ4940,CadMP!$B:$D,3,0),\"\")","v":""},{"$f":"IFERROR(VLOOKUP(AK4940,CadMP!$B:$D,3,0),\"\")","v":""},0,0,0,0,0,0,0,0,0,0,0,0,0,0,0]
[4940,null,null,0,0,null,null,null,null,null,null,0,0,null,null,null,null,null,null,null,1,0,null,null,null,null,null,null,null,null,null,null,null,null,null,null,null,null,null,null,null,null,null,null,null,null,null,null,null,null,null,null,{"$f":"IFERROR(VLOOKUP(W4941,CadMP!$B:$D,2,0),\"\")","v":""},{"$f":"IFERROR(VLOOKUP(X4941,CadMP!$B:$D,2,0),\"\")","v":""},{"$f":"IFERROR(VLOOKUP(Y4941,CadMP!$B:$D,2,0),\"\")","v":""},{"$f":"IFERROR(VLOOKUP(Z4941,CadMP!$B:$D,2,0),\"\")","v":""},{"$f":"IFERROR(VLOOKUP(AA4941,CadMP!$B:$D,2,0),\"\")","v":""},{"$f":"IFERROR(VLOOKUP(AB4941,CadMP!$B:$D,2,0),\"\")","v":""},{"$f":"IFERROR(VLOOKUP(AC4941,CadMP!$B:$D,2,0),\"\")","v":""},{"$f":"IFERROR(VLOOKUP(AD4941,CadMP!$B:$D,2,0),\"\")","v":""},{"$f":"IFERROR(VLOOKUP(AE4941,CadMP!$B:$D,2,0),\"\")","v":""},{"$f":"IFERROR(VLOOKUP(AF4941,CadMP!$B:$D,2,0),\"\")","v":""},{"$f":"IFERROR(VLOOKUP(AG4941,CadMP!$B:$D,2,0),\"\")","v":""},{"$f":"IFERROR(VLOOKUP(AH4941,CadMP!$B:$D,2,0),\"\")","v":""},{"$f":"IFERROR(VLOOKUP(AI4941,CadMP!$B:$D,2,0),\"\")","v":""},{"$f":"IFERROR(VLOOKUP(AJ4941,CadMP!$B:$D,2,0),\"\")","v":""},{"$f":"IFERROR(VLOOKUP(AK4941,CadMP!$B:$D,2,0),\"\")","v":""},{"$f":"IFERROR(VLOOKUP(W4941,CadMP!$B:$D,3,0),\"\")","v":""},{"$f":"IFERROR(VLOOKUP(X4941,CadMP!$B:$D,3,0),\"\")","v":""},{"$f":"IFERROR(VLOOKUP(Y4941,CadMP!$B:$D,3,0),\"\")","v":""},{"$f":"IFERROR(VLOOKUP(Z4941,CadMP!$B:$D,3,0),\"\")","v":""},{"$f":"IFERROR(VLOOKUP(AA4941,CadMP!$B:$D,3,0),\"\")","v":""},{"$f":"IFERROR(VLOOKUP(AB4941,CadMP!$B:$D,3,0),\"\")","v":""},{"$f":"IFERROR(VLOOKUP(AC4941,CadMP!$B:$D,3,0),\"\")","v":""},{"$f":"IFERROR(VLOOKUP(AD4941,CadMP!$B:$D,3,0),\"\")","v":""},{"$f":"IFERROR(VLOOKUP(AE4941,CadMP!$B:$D,3,0),\"\")","v":""},{"$f":"IFERROR(VLOOKUP(AF4941,CadMP!$B:$D,3,0),\"\")","v":""},{"$f":"IFERROR(VLOOKUP(AG4941,CadMP!$B:$D,3,0),\"\")","v":""},{"$f":"IFERROR(VLOOKUP(AH4941,CadMP!$B:$D,3,0),\"\")","v":""},{"$f":"IFERROR(VLOOKUP(AI4941,CadMP!$B:$D,3,0),\"\")","v":""},{"$f":"IFERROR(VLOOKUP(AJ4941,CadMP!$B:$D,3,0),\"\")","v":""},{"$f":"IFERROR(VLOOKUP(AK4941,CadMP!$B:$D,3,0),\"\")","v":""},0,0,0,0,0,0,0,0,0,0,0,0,0,0,0]
[4941,null,null,0,0,null,null,null,null,null,null,0,0,null,null,null,null,null,null,null,1,0,null,null,null,null,null,null,null,null,null,null,null,null,null,null,null,null,null,null,null,null,null,null,null,null,null,null,null,null,null,null,{"$f":"IFERROR(VLOOKUP(W4942,CadMP!$B:$D,2,0),\"\")","v":""},{"$f":"IFERROR(VLOOKUP(X4942,CadMP!$B:$D,2,0),\"\")","v":""},{"$f":"IFERROR(VLOOKUP(Y4942,CadMP!$B:$D,2,0),\"\")","v":""},{"$f":"IFERROR(VLOOKUP(Z4942,CadMP!$B:$D,2,0),\"\")","v":""},{"$f":"IFERROR(VLOOKUP(AA4942,CadMP!$B:$D,2,0),\"\")","v":""},{"$f":"IFERROR(VLOOKUP(AB4942,CadMP!$B:$D,2,0),\"\")","v":""},{"$f":"IFERROR(VLOOKUP(AC4942,CadMP!$B:$D,2,0),\"\")","v":""},{"$f":"IFERROR(VLOOKUP(AD4942,CadMP!$B:$D,2,0),\"\")","v":""},{"$f":"IFERROR(VLOOKUP(AE4942,CadMP!$B:$D,2,0),\"\")","v":""},{"$f":"IFERROR(VLOOKUP(AF4942,CadMP!$B:$D,2,0),\"\")","v":""},{"$f":"IFERROR(VLOOKUP(AG4942,CadMP!$B:$D,2,0),\"\")","v":""},{"$f":"IFERROR(VLOOKUP(AH4942,CadMP!$B:$D,2,0),\"\")","v":""},{"$f":"IFERROR(VLOOKUP(AI4942,CadMP!$B:$D,2,0),\"\")","v":""},{"$f":"IFERROR(VLOOKUP(AJ4942,CadMP!$B:$D,2,0),\"\")","v":""},{"$f":"IFERROR(VLOOKUP(AK4942,CadMP!$B:$D,2,0),\"\")","v":""},{"$f":"IFERROR(VLOOKUP(W4942,CadMP!$B:$D,3,0),\"\")","v":""},{"$f":"IFERROR(VLOOKUP(X4942,CadMP!$B:$D,3,0),\"\")","v":""},{"$f":"IFERROR(VLOOKUP(Y4942,CadMP!$B:$D,3,0),\"\")","v":""},{"$f":"IFERROR(VLOOKUP(Z4942,CadMP!$B:$D,3,0),\"\")","v":""},{"$f":"IFERROR(VLOOKUP(AA4942,CadMP!$B:$D,3,0),\"\")","v":""},{"$f":"IFERROR(VLOOKUP(AB4942,CadMP!$B:$D,3,0),\"\")","v":""},{"$f":"IFERROR(VLOOKUP(AC4942,CadMP!$B:$D,3,0),\"\")","v":""},{"$f":"IFERROR(VLOOKUP(AD4942,CadMP!$B:$D,3,0),\"\")","v":""},{"$f":"IFERROR(VLOOKUP(AE4942,CadMP!$B:$D,3,0),\"\")","v":""},{"$f":"IFERROR(VLOOKUP(AF4942,CadMP!$B:$D,3,0),\"\")","v":""},{"$f":"IFERROR(VLOOKUP(AG4942,CadMP!$B:$D,3,0),\"\")","v":""},{"$f":"IFERROR(VLOOKUP(AH4942,CadMP!$B:$D,3,0),\"\")","v":""},{"$f":"IFERROR(VLOOKUP(AI4942,CadMP!$B:$D,3,0),\"\")","v":""},{"$f":"IFERROR(VLOOKUP(AJ4942,CadMP!$B:$D,3,0),\"\")","v":""},{"$f":"IFERROR(VLOOKUP(AK4942,CadMP!$B:$D,3,0),\"\")","v":""},0,0,0,0,0,0,0,0,0,0,0,0,0,0,0]
[4942,null,null,0,0,null,null,null,null,null,null,0,0,null,null,null,null,null,null,null,1,0,null,null,null,null,null,null,null,null,null,null,null,null,null,null,null,null,null,null,null,null,null,null,null,null,null,null,null,null,null,null,{"$f":"IFERROR(VLOOKUP(W4943,CadMP!$B:$D,2,0),\"\")","v":""},{"$f":"IFERROR(VLOOKUP(X4943,CadMP!$B:$D,2,0),\"\")","v":""},{"$f":"IFERROR(VLOOKUP(Y4943,CadMP!$B:$D,2,0),\"\")","v":""},{"$f":"IFERROR(VLOOKUP(Z4943,CadMP!$B:$D,2,0),\"\")","v":""},{"$f":"IFERROR(VLOOKUP(AA4943,CadMP!$B:$D,2,0),\"\")","v":""},{"$f":"IFERROR(VLOOKUP(AB4943,CadMP!$B:$D,2,0),\"\")","v":""},{"$f":"IFERROR(VLOOKUP(AC4943,CadMP!$B:$D,2,0),\"\")","v":""},{"$f":"IFERROR(VLOOKUP(AD4943,CadMP!$B:$D,2,0),\"\")","v":""},{"$f":"IFERROR(VLOOKUP(AE4943,CadMP!$B:$D,2,0),\"\")","v":""},{"$f":"IFERROR(VLOOKUP(AF4943,CadMP!$B:$D,2,0),\"\")","v":""},{"$f":"IFERROR(VLOOKUP(AG4943,CadMP!$B:$D,2,0),\"\")","v":""},{"$f":"IFERROR(VLOOKUP(AH4943,CadMP!$B:$D,2,0),\"\")","v":""},{"$f":"IFERROR(VLOOKUP(AI4943,CadMP!$B:$D,2,0),\"\")","v":""},{"$f":"IFERROR(VLOOKUP(AJ4943,CadMP!$B:$D,2,0),\"\")","v":""},{"$f":"IFERROR(VLOOKUP(AK4943,CadMP!$B:$D,2,0),\"\")","v":""},{"$f":"IFERROR(VLOOKUP(W4943,CadMP!$B:$D,3,0),\"\")","v":""},{"$f":"IFERROR(VLOOKUP(X4943,CadMP!$B:$D,3,0),\"\")","v":""},{"$f":"IFERROR(VLOOKUP(Y4943,CadMP!$B:$D,3,0),\"\")","v":""},{"$f":"IFERROR(VLOOKUP(Z4943,CadMP!$B:$D,3,0),\"\")","v":""},{"$f":"IFERROR(VLOOKUP(AA4943,CadMP!$B:$D,3,0),\"\")","v":""},{"$f":"IFERROR(VLOOKUP(AB4943,CadMP!$B:$D,3,0),\"\")","v":""},{"$f":"IFERROR(VLOOKUP(AC4943,CadMP!$B:$D,3,0),\"\")","v":""},{"$f":"IFERROR(VLOOKUP(AD4943,CadMP!$B:$D,3,0),\"\")","v":""},{"$f":"IFERROR(VLOOKUP(AE4943,CadMP!$B:$D,3,0),\"\")","v":""},{"$f":"IFERROR(VLOOKUP(AF4943,CadMP!$B:$D,3,0),\"\")","v":""},{"$f":"IFERROR(VLOOKUP(AG4943,CadMP!$B:$D,3,0),\"\")","v":""},{"$f":"IFERROR(VLOOKUP(AH4943,CadMP!$B:$D,3,0),\"\")","v":""},{"$f":"IFERROR(VLOOKUP(AI4943,CadMP!$B:$D,3,0),\"\")","v":""},{"$f":"IFERROR(VLOOKUP(AJ4943,CadMP!$B:$D,3,0),\"\")","v":""},{"$f":"IFERROR(VLOOKUP(AK4943,CadMP!$B:$D,3,0),\"\")","v":""},0,0,0,0,0,0,0,0,0,0,0,0,0,0,0]
[4943,null,null,0,0,null,null,null,null,null,null,0,0,null,null,null,null,null,null,null,1,0,null,null,null,null,null,null,null,null,null,null,null,null,null,null,null,null,null,null,null,null,null,null,null,null,null,null,null,null,null,null,{"$f":"IFERROR(VLOOKUP(W4944,CadMP!$B:$D,2,0),\"\")","v":""},{"$f":"IFERROR(VLOOKUP(X4944,CadMP!$B:$D,2,0),\"\")","v":""},{"$f":"IFERROR(VLOOKUP(Y4944,CadMP!$B:$D,2,0),\"\")","v":""},{"$f":"IFERROR(VLOOKUP(Z4944,CadMP!$B:$D,2,0),\"\")","v":""},{"$f":"IFERROR(VLOOKUP(AA4944,CadMP!$B:$D,2,0),\"\")","v":""},{"$f":"IFERROR(VLOOKUP(AB4944,CadMP!$B:$D,2,0),\"\")","v":""},{"$f":"IFERROR(VLOOKUP(AC4944,CadMP!$B:$D,2,0),\"\")","v":""},{"$f":"IFERROR(VLOOKUP(AD4944,CadMP!$B:$D,2,0),\"\")","v":""},{"$f":"IFERROR(VLOOKUP(AE4944,CadMP!$B:$D,2,0),\"\")","v":""},{"$f":"IFERROR(VLOOKUP(AF4944,CadMP!$B:$D,2,0),\"\")","v":""},{"$f":"IFERROR(VLOOKUP(AG4944,CadMP!$B:$D,2,0),\"\")","v":""},{"$f":"IFERROR(VLOOKUP(AH4944,CadMP!$B:$D,2,0),\"\")","v":""},{"$f":"IFERROR(VLOOKUP(AI4944,CadMP!$B:$D,2,0),\"\")","v":""},{"$f":"IFERROR(VLOOKUP(AJ4944,CadMP!$B:$D,2,0),\"\")","v":""},{"$f":"IFERROR(VLOOKUP(AK4944,CadMP!$B:$D,2,0),\"\")","v":""},{"$f":"IFERROR(VLOOKUP(W4944,CadMP!$B:$D,3,0),\"\")","v":""},{"$f":"IFERROR(VLOOKUP(X4944,CadMP!$B:$D,3,0),\"\")","v":""},{"$f":"IFERROR(VLOOKUP(Y4944,CadMP!$B:$D,3,0),\"\")","v":""},{"$f":"IFERROR(VLOOKUP(Z4944,CadMP!$B:$D,3,0),\"\")","v":""},{"$f":"IFERROR(VLOOKUP(AA4944,CadMP!$B:$D,3,0),\"\")","v":""},{"$f":"IFERROR(VLOOKUP(AB4944,CadMP!$B:$D,3,0),\"\")","v":""},{"$f":"IFERROR(VLOOKUP(AC4944,CadMP!$B:$D,3,0),\"\")","v":""},{"$f":"IFERROR(VLOOKUP(AD4944,CadMP!$B:$D,3,0),\"\")","v":""},{"$f":"IFERROR(VLOOKUP(AE4944,CadMP!$B:$D,3,0),\"\")","v":""},{"$f":"IFERROR(VLOOKUP(AF4944,CadMP!$B:$D,3,0),\"\")","v":""},{"$f":"IFERROR(VLOOKUP(AG4944,CadMP!$B:$D,3,0),\"\")","v":""},{"$f":"IFERROR(VLOOKUP(AH4944,CadMP!$B:$D,3,0),\"\")","v":""},{"$f":"IFERROR(VLOOKUP(AI4944,CadMP!$B:$D,3,0),\"\")","v":""},{"$f":"IFERROR(VLOOKUP(AJ4944,CadMP!$B:$D,3,0),\"\")","v":""},{"$f":"IFERROR(VLOOKUP(AK4944,CadMP!$B:$D,3,0),\"\")","v":""},0,0,0,0,0,0,0,0,0,0,0,0,0,0,0]
[4944,null,null,0,0,null,null,null,null,null,null,0,0,null,null,null,null,null,null,null,1,0,null,null,null,null,null,null,null,null,null,null,null,null,null,null,null,null,null,null,null,null,null,null,null,null,null,null,null,null,null,null,{"$f":"IFERROR(VLOOKUP(W4945,CadMP!$B:$D,2,0),\"\")","v":""},{"$f":"IFERROR(VLOOKUP(X4945,CadMP!$B:$D,2,0),\"\")","v":""},{"$f":"IFERROR(VLOOKUP(Y4945,CadMP!$B:$D,2,0),\"\")","v":""},{"$f":"IFERROR(VLOOKUP(Z4945,CadMP!$B:$D,2,0),\"\")","v":""},{"$f":"IFERROR(VLOOKUP(AA4945,CadMP!$B:$D,2,0),\"\")","v":""},{"$f":"IFERROR(VLOOKUP(AB4945,CadMP!$B:$D,2,0),\"\")","v":""},{"$f":"IFERROR(VLOOKUP(AC4945,CadMP!$B:$D,2,0),\"\")","v":""},{"$f":"IFERROR(VLOOKUP(AD4945,CadMP!$B:$D,2,0),\"\")","v":""},{"$f":"IFERROR(VLOOKUP(AE4945,CadMP!$B:$D,2,0),\"\")","v":""},{"$f":"IFERROR(VLOOKUP(AF4945,CadMP!$B:$D,2,0),\"\")","v":""},{"$f":"IFERROR(VLOOKUP(AG4945,CadMP!$B:$D,2,0),\"\")","v":""},{"$f":"IFERROR(VLOOKUP(AH4945,CadMP!$B:$D,2,0),\"\")","v":""},{"$f":"IFERROR(VLOOKUP(AI4945,CadMP!$B:$D,2,0),\"\")","v":""},{"$f":"IFERROR(VLOOKUP(AJ4945,CadMP!$B:$D,2,0),\"\")","v":""},{"$f":"IFERROR(VLOOKUP(AK4945,CadMP!$B:$D,2,0),\"\")","v":""},{"$f":"IFERROR(VLOOKUP(W4945,CadMP!$B:$D,3,0),\"\")","v":""},{"$f":"IFERROR(VLOOKUP(X4945,CadMP!$B:$D,3,0),\"\")","v":""},{"$f":"IFERROR(VLOOKUP(Y4945,CadMP!$B:$D,3,0),\"\")","v":""},{"$f":"IFERROR(VLOOKUP(Z4945,CadMP!$B:$D,3,0),\"\")","v":""},{"$f":"IFERROR(VLOOKUP(AA4945,CadMP!$B:$D,3,0),\"\")","v":""},{"$f":"IFERROR(VLOOKUP(AB4945,CadMP!$B:$D,3,0),\"\")","v":""},{"$f":"IFERROR(VLOOKUP(AC4945,CadMP!$B:$D,3,0),\"\")","v":""},{"$f":"IFERROR(VLOOKUP(AD4945,CadMP!$B:$D,3,0),\"\")","v":""},{"$f":"IFERROR(VLOOKUP(AE4945,CadMP!$B:$D,3,0),\"\")","v":""},{"$f":"IFERROR(VLOOKUP(AF4945,CadMP!$B:$D,3,0),\"\")","v":""},{"$f":"IFERROR(VLOOKUP(AG4945,CadMP!$B:$D,3,0),\"\")","v":""},{"$f":"IFERROR(VLOOKUP(AH4945,CadMP!$B:$D,3,0),\"\")","v":""},{"$f":"IFERROR(VLOOKUP(AI4945,CadMP!$B:$D,3,0),\"\")","v":""},{"$f":"IFERROR(VLOOKUP(AJ4945,CadMP!$B:$D,3,0),\"\")","v":""},{"$f":"IFERROR(VLOOKUP(AK4945,CadMP!$B:$D,3,0),\"\")","v":""},0,0,0,0,0,0,0,0,0,0,0,0,0,0,0]
[4945,null,null,0,0,null,null,null,null,null,null,0,0,null,null,null,null,null,null,null,1,0,null,null,null,null,null,null,null,null,null,null,null,null,null,null,null,null,null,null,null,null,null,null,null,null,null,null,null,null,null,null,{"$f":"IFERROR(VLOOKUP(W4946,CadMP!$B:$D,2,0),\"\")","v":""},{"$f":"IFERROR(VLOOKUP(X4946,CadMP!$B:$D,2,0),\"\")","v":""},{"$f":"IFERROR(VLOOKUP(Y4946,CadMP!$B:$D,2,0),\"\")","v":""},{"$f":"IFERROR(VLOOKUP(Z4946,CadMP!$B:$D,2,0),\"\")","v":""},{"$f":"IFERROR(VLOOKUP(AA4946,CadMP!$B:$D,2,0),\"\")","v":""},{"$f":"IFERROR(VLOOKUP(AB4946,CadMP!$B:$D,2,0),\"\")","v":""},{"$f":"IFERROR(VLOOKUP(AC4946,CadMP!$B:$D,2,0),\"\")","v":""},{"$f":"IFERROR(VLOOKUP(AD4946,CadMP!$B:$D,2,0),\"\")","v":""},{"$f":"IFERROR(VLOOKUP(AE4946,CadMP!$B:$D,2,0),\"\")","v":""},{"$f":"IFERROR(VLOOKUP(AF4946,CadMP!$B:$D,2,0),\"\")","v":""},{"$f":"IFERROR(VLOOKUP(AG4946,CadMP!$B:$D,2,0),\"\")","v":""},{"$f":"IFERROR(VLOOKUP(AH4946,CadMP!$B:$D,2,0),\"\")","v":""},{"$f":"IFERROR(VLOOKUP(AI4946,CadMP!$B:$D,2,0),\"\")","v":""},{"$f":"IFERROR(VLOOKUP(AJ4946,CadMP!$B:$D,2,0),\"\")","v":""},{"$f":"IFERROR(VLOOKUP(AK4946,CadMP!$B:$D,2,0),\"\")","v":""},{"$f":"IFERROR(VLOOKUP(W4946,CadMP!$B:$D,3,0),\"\")","v":""},{"$f":"IFERROR(VLOOKUP(X4946,CadMP!$B:$D,3,0),\"\")","v":""},{"$f":"IFERROR(VLOOKUP(Y4946,CadMP!$B:$D,3,0),\"\")","v":""},{"$f":"IFERROR(VLOOKUP(Z4946,CadMP!$B:$D,3,0),\"\")","v":""},{"$f":"IFERROR(VLOOKUP(AA4946,CadMP!$B:$D,3,0),\"\")","v":""},{"$f":"IFERROR(VLOOKUP(AB4946,CadMP!$B:$D,3,0),\"\")","v":""},{"$f":"IFERROR(VLOOKUP(AC4946,CadMP!$B:$D,3,0),\"\")","v":""},{"$f":"IFERROR(VLOOKUP(AD4946,CadMP!$B:$D,3,0),\"\")","v":""},{"$f":"IFERROR(VLOOKUP(AE4946,CadMP!$B:$D,3,0),\"\")","v":""},{"$f":"IFERROR(VLOOKUP(AF4946,CadMP!$B:$D,3,0),\"\")","v":""},{"$f":"IFERROR(VLOOKUP(AG4946,CadMP!$B:$D,3,0),\"\")","v":""},{"$f":"IFERROR(VLOOKUP(AH4946,CadMP!$B:$D,3,0),\"\")","v":""},{"$f":"IFERROR(VLOOKUP(AI4946,CadMP!$B:$D,3,0),\"\")","v":""},{"$f":"IFERROR(VLOOKUP(AJ4946,CadMP!$B:$D,3,0),\"\")","v":""},{"$f":"IFERROR(VLOOKUP(AK4946,CadMP!$B:$D,3,0),\"\")","v":""},0,0,0,0,0,0,0,0,0,0,0,0,0,0,0]
[4946,null,null,0,0,null,null,null,null,null,null,0,0,null,null,null,null,null,null,null,1,0,null,null,null,null,null,null,null,null,null,null,null,null,null,null,null,null,null,null,null,null,null,null,null,null,null,null,null,null,null,null,{"$f":"IFERROR(VLOOKUP(W4947,CadMP!$B:$D,2,0),\"\")","v":""},{"$f":"IFERROR(VLOOKUP(X4947,CadMP!$B:$D,2,0),\"\")","v":""},{"$f":"IFERROR(VLOOKUP(Y4947,CadMP!$B:$D,2,0),\"\")","v":""},{"$f":"IFERROR(VLOOKUP(Z4947,CadMP!$B:$D,2,0),\"\")","v":""},{"$f":"IFERROR(VLOOKUP(AA4947,CadMP!$B:$D,2,0),\"\")","v":""},{"$f":"IFERROR(VLOOKUP(AB4947,CadMP!$B:$D,2,0),\"\")","v":""},{"$f":"IFERROR(VLOOKUP(AC4947,CadMP!$B:$D,2,0),\"\")","v":""},{"$f":"IFERROR(VLOOKUP(AD4947,CadMP!$B:$D,2,0),\"\")","v":""},{"$f":"IFERROR(VLOOKUP(AE4947,CadMP!$B:$D,2,0),\"\")","v":""},{"$f":"IFERROR(VLOOKUP(AF4947,CadMP!$B:$D,2,0),\"\")","v":""},{"$f":"IFERROR(VLOOKUP(AG4947,CadMP!$B:$D,2,0),\"\")","v":""},{"$f":"IFERROR(VLOOKUP(AH4947,CadMP!$B:$D,2,0),\"\")","v":""},{"$f":"IFERROR(VLOOKUP(AI4947,CadMP!$B:$D,2,0),\"\")","v":""},{"$f":"IFERROR(VLOOKUP(AJ4947,CadMP!$B:$D,2,0),\"\")","v":""},{"$f":"IFERROR(VLOOKUP(AK4947,CadMP!$B:$D,2,0),\"\")","v":""},{"$f":"IFERROR(VLOOKUP(W4947,CadMP!$B:$D,3,0),\"\")","v":""},{"$f":"IFERROR(VLOOKUP(X4947,CadMP!$B:$D,3,0),\"\")","v":""},{"$f":"IFERROR(VLOOKUP(Y4947,CadMP!$B:$D,3,0),\"\")","v":""},{"$f":"IFERROR(VLOOKUP(Z4947,CadMP!$B:$D,3,0),\"\")","v":""},{"$f":"IFERROR(VLOOKUP(AA4947,CadMP!$B:$D,3,0),\"\")","v":""},{"$f":"IFERROR(VLOOKUP(AB4947,CadMP!$B:$D,3,0),\"\")","v":""},{"$f":"IFERROR(VLOOKUP(AC4947,CadMP!$B:$D,3,0),\"\")","v":""},{"$f":"IFERROR(VLOOKUP(AD4947,CadMP!$B:$D,3,0),\"\")","v":""},{"$f":"IFERROR(VLOOKUP(AE4947,CadMP!$B:$D,3,0),\"\")","v":""},{"$f":"IFERROR(VLOOKUP(AF4947,CadMP!$B:$D,3,0),\"\")","v":""},{"$f":"IFERROR(VLOOKUP(AG4947,CadMP!$B:$D,3,0),\"\")","v":""},{"$f":"IFERROR(VLOOKUP(AH4947,CadMP!$B:$D,3,0),\"\")","v":""},{"$f":"IFERROR(VLOOKUP(AI4947,CadMP!$B:$D,3,0),\"\")","v":""},{"$f":"IFERROR(VLOOKUP(AJ4947,CadMP!$B:$D,3,0),\"\")","v":""},{"$f":"IFERROR(VLOOKUP(AK4947,CadMP!$B:$D,3,0),\"\")","v":""},0,0,0,0,0,0,0,0,0,0,0,0,0,0,0]
[4947,null,null,0,0,null,null,null,null,null,null,0,0,null,null,null,null,null,null,null,1,0,null,null,null,null,null,null,null,null,null,null,null,null,null,null,null,null,null,null,null,null,null,null,null,null,null,null,null,null,null,null,{"$f":"IFERROR(VLOOKUP(W4948,CadMP!$B:$D,2,0),\"\")","v":""},{"$f":"IFERROR(VLOOKUP(X4948,CadMP!$B:$D,2,0),\"\")","v":""},{"$f":"IFERROR(VLOOKUP(Y4948,CadMP!$B:$D,2,0),\"\")","v":""},{"$f":"IFERROR(VLOOKUP(Z4948,CadMP!$B:$D,2,0),\"\")","v":""},{"$f":"IFERROR(VLOOKUP(AA4948,CadMP!$B:$D,2,0),\"\")","v":""},{"$f":"IFERROR(VLOOKUP(AB4948,CadMP!$B:$D,2,0),\"\")","v":""},{"$f":"IFERROR(VLOOKUP(AC4948,CadMP!$B:$D,2,0),\"\")","v":""},{"$f":"IFERROR(VLOOKUP(AD4948,CadMP!$B:$D,2,0),\"\")","v":""},{"$f":"IFERROR(VLOOKUP(AE4948,CadMP!$B:$D,2,0),\"\")","v":""},{"$f":"IFERROR(VLOOKUP(AF4948,CadMP!$B:$D,2,0),\"\")","v":""},{"$f":"IFERROR(VLOOKUP(AG4948,CadMP!$B:$D,2,0),\"\")","v":""},{"$f":"IFERROR(VLOOKUP(AH4948,CadMP!$B:$D,2,0),\"\")","v":""},{"$f":"IFERROR(VLOOKUP(AI4948,CadMP!$B:$D,2,0),\"\")","v":""},{"$f":"IFERROR(VLOOKUP(AJ4948,CadMP!$B:$D,2,0),\"\")","v":""},{"$f":"IFERROR(VLOOKUP(AK4948,CadMP!$B:$D,2,0),\"\")","v":""},{"$f":"IFERROR(VLOOKUP(W4948,CadMP!$B:$D,3,0),\"\")","v":""},{"$f":"IFERROR(VLOOKUP(X4948,CadMP!$B:$D,3,0),\"\")","v":""},{"$f":"IFERROR(VLOOKUP(Y4948,CadMP!$B:$D,3,0),\"\")","v":""},{"$f":"IFERROR(VLOOKUP(Z4948,CadMP!$B:$D,3,0),\"\")","v":""},{"$f":"IFERROR(VLOOKUP(AA4948,CadMP!$B:$D,3,0),\"\")","v":""},{"$f":"IFERROR(VLOOKUP(AB4948,CadMP!$B:$D,3,0),\"\")","v":""},{"$f":"IFERROR(VLOOKUP(AC4948,CadMP!$B:$D,3,0),\"\")","v":""},{"$f":"IFERROR(VLOOKUP(AD4948,CadMP!$B:$D,3,0),\"\")","v":""},{"$f":"IFERROR(VLOOKUP(AE4948,CadMP!$B:$D,3,0),\"\")","v":""},{"$f":"IFERROR(VLOOKUP(AF4948,CadMP!$B:$D,3,0),\"\")","v":""},{"$f":"IFERROR(VLOOKUP(AG4948,CadMP!$B:$D,3,0),\"\")","v":""},{"$f":"IFERROR(VLOOKUP(AH4948,CadMP!$B:$D,3,0),\"\")","v":""},{"$f":"IFERROR(VLOOKUP(AI4948,CadMP!$B:$D,3,0),\"\")","v":""},{"$f":"IFERROR(VLOOKUP(AJ4948,CadMP!$B:$D,3,0),\"\")","v":""},{"$f":"IFERROR(VLOOKUP(AK4948,CadMP!$B:$D,3,0),\"\")","v":""},0,0,0,0,0,0,0,0,0,0,0,0,0,0,0]
[4948,null,null,0,0,null,null,null,null,null,null,0,0,null,null,null,null,null,null,null,1,0,null,null,null,null,null,null,null,null,null,null,null,null,null,null,null,null,null,null,null,null,null,null,null,null,null,null,null,null,null,null,{"$f":"IFERROR(VLOOKUP(W4949,CadMP!$B:$D,2,0),\"\")","v":""},{"$f":"IFERROR(VLOOKUP(X4949,CadMP!$B:$D,2,0),\"\")","v":""},{"$f":"IFERROR(VLOOKUP(Y4949,CadMP!$B:$D,2,0),\"\")","v":""},{"$f":"IFERROR(VLOOKUP(Z4949,CadMP!$B:$D,2,0),\"\")","v":""},{"$f":"IFERROR(VLOOKUP(AA4949,CadMP!$B:$D,2,0),\"\")","v":""},{"$f":"IFERROR(VLOOKUP(AB4949,CadMP!$B:$D,2,0),\"\")","v":""},{"$f":"IFERROR(VLOOKUP(AC4949,CadMP!$B:$D,2,0),\"\")","v":""},{"$f":"IFERROR(VLOOKUP(AD4949,CadMP!$B:$D,2,0),\"\")","v":""},{"$f":"IFERROR(VLOOKUP(AE4949,CadMP!$B:$D,2,0),\"\")","v":""},{"$f":"IFERROR(VLOOKUP(AF4949,CadMP!$B:$D,2,0),\"\")","v":""},{"$f":"IFERROR(VLOOKUP(AG4949,CadMP!$B:$D,2,0),\"\")","v":""},{"$f":"IFERROR(VLOOKUP(AH4949,CadMP!$B:$D,2,0),\"\")","v":""},{"$f":"IFERROR(VLOOKUP(AI4949,CadMP!$B:$D,2,0),\"\")","v":""},{"$f":"IFERROR(VLOOKUP(AJ4949,CadMP!$B:$D,2,0),\"\")","v":""},{"$f":"IFERROR(VLOOKUP(AK4949,CadMP!$B:$D,2,0),\"\")","v":""},{"$f":"IFERROR(VLOOKUP(W4949,CadMP!$B:$D,3,0),\"\")","v":""},{"$f":"IFERROR(VLOOKUP(X4949,CadMP!$B:$D,3,0),\"\")","v":""},{"$f":"IFERROR(VLOOKUP(Y4949,CadMP!$B:$D,3,0),\"\")","v":""},{"$f":"IFERROR(VLOOKUP(Z4949,CadMP!$B:$D,3,0),\"\")","v":""},{"$f":"IFERROR(VLOOKUP(AA4949,CadMP!$B:$D,3,0),\"\")","v":""},{"$f":"IFERROR(VLOOKUP(AB4949,CadMP!$B:$D,3,0),\"\")","v":""},{"$f":"IFERROR(VLOOKUP(AC4949,CadMP!$B:$D,3,0),\"\")","v":""},{"$f":"IFERROR(VLOOKUP(AD4949,CadMP!$B:$D,3,0),\"\")","v":""},{"$f":"IFERROR(VLOOKUP(AE4949,CadMP!$B:$D,3,0),\"\")","v":""},{"$f":"IFERROR(VLOOKUP(AF4949,CadMP!$B:$D,3,0),\"\")","v":""},{"$f":"IFERROR(VLOOKUP(AG4949,CadMP!$B:$D,3,0),\"\")","v":""},{"$f":"IFERROR(VLOOKUP(AH4949,CadMP!$B:$D,3,0),\"\")","v":""},{"$f":"IFERROR(VLOOKUP(AI4949,CadMP!$B:$D,3,0),\"\")","v":""},{"$f":"IFERROR(VLOOKUP(AJ4949,CadMP!$B:$D,3,0),\"\")","v":""},{"$f":"IFERROR(VLOOKUP(AK4949,CadMP!$B:$D,3,0),\"\")","v":""},0,0,0,0,0,0,0,0,0,0,0,0,0,0,0]
[4949,null,null,0,0,null,null,null,null,null,null,0,0,null,null,null,null,null,null,null,1,0,null,null,null,null,null,null,null,null,null,null,null,null,null,null,null,null,null,null,null,null,null,null,null,null,null,null,null,null,null,null,{"$f":"IFERROR(VLOOKUP(W4950,CadMP!$B:$D,2,0),\"\")","v":""},{"$f":"IFERROR(VLOOKUP(X4950,CadMP!$B:$D,2,0),\"\")","v":""},{"$f":"IFERROR(VLOOKUP(Y4950,CadMP!$B:$D,2,0),\"\")","v":""},{"$f":"IFERROR(VLOOKUP(Z4950,CadMP!$B:$D,2,0),\"\")","v":""},{"$f":"IFERROR(VLOOKUP(AA4950,CadMP!$B:$D,2,0),\"\")","v":""},{"$f":"IFERROR(VLOOKUP(AB4950,CadMP!$B:$D,2,0),\"\")","v":""},{"$f":"IFERROR(VLOOKUP(AC4950,CadMP!$B:$D,2,0),\"\")","v":""},{"$f":"IFERROR(VLOOKUP(AD4950,CadMP!$B:$D,2,0),\"\")","v":""},{"$f":"IFERROR(VLOOKUP(AE4950,CadMP!$B:$D,2,0),\"\")","v":""},{"$f":"IFERROR(VLOOKUP(AF4950,CadMP!$B:$D,2,0),\"\")","v":""},{"$f":"IFERROR(VLOOKUP(AG4950,CadMP!$B:$D,2,0),\"\")","v":""},{"$f":"IFERROR(VLOOKUP(AH4950,CadMP!$B:$D,2,0),\"\")","v":""},{"$f":"IFERROR(VLOOKUP(AI4950,CadMP!$B:$D,2,0),\"\")","v":""},{"$f":"IFERROR(VLOOKUP(AJ4950,CadMP!$B:$D,2,0),\"\")","v":""},{"$f":"IFERROR(VLOOKUP(AK4950,CadMP!$B:$D,2,0),\"\")","v":""},{"$f":"IFERROR(VLOOKUP(W4950,CadMP!$B:$D,3,0),\"\")","v":""},{"$f":"IFERROR(VLOOKUP(X4950,CadMP!$B:$D,3,0),\"\")","v":""},{"$f":"IFERROR(VLOOKUP(Y4950,CadMP!$B:$D,3,0),\"\")","v":""},{"$f":"IFERROR(VLOOKUP(Z4950,CadMP!$B:$D,3,0),\"\")","v":""},{"$f":"IFERROR(VLOOKUP(AA4950,CadMP!$B:$D,3,0),\"\")","v":""},{"$f":"IFERROR(VLOOKUP(AB4950,CadMP!$B:$D,3,0),\"\")","v":""},{"$f":"IFERROR(VLOOKUP(AC4950,CadMP!$B:$D,3,0),\"\")","v":""},{"$f":"IFERROR(VLOOKUP(AD4950,CadMP!$B:$D,3,0),\"\")","v":""},{"$f":"IFERROR(VLOOKUP(AE4950,CadMP!$B:$D,3,0),\"\")","v":""},{"$f":"IFERROR(VLOOKUP(AF4950,CadMP!$B:$D,3,0),\"\")","v":""},{"$f":"IFERROR(VLOOKUP(AG4950,CadMP!$B:$D,3,0),\"\")","v":""},{"$f":"IFERROR(VLOOKUP(AH4950,CadMP!$B:$D,3,0),\"\")","v":""},{"$f":"IFERROR(VLOOKUP(AI4950,CadMP!$B:$D,3,0),\"\")","v":""},{"$f":"IFERROR(VLOOKUP(AJ4950,CadMP!$B:$D,3,0),\"\")","v":""},{"$f":"IFERROR(VLOOKUP(AK4950,CadMP!$B:$D,3,0),\"\")","v":""},0,0,0,0,0,0,0,0,0,0,0,0,0,0,0]
[4950,null,null,0,0,null,null,null,null,null,null,0,0,null,null,null,null,null,null,null,1,0,null,null,null,null,null,null,null,null,null,null,null,null,null,null,null,null,null,null,null,null,null,null,null,null,null,null,null,null,null,null,{"$f":"IFERROR(VLOOKUP(W4951,CadMP!$B:$D,2,0),\"\")","v":""},{"$f":"IFERROR(VLOOKUP(X4951,CadMP!$B:$D,2,0),\"\")","v":""},{"$f":"IFERROR(VLOOKUP(Y4951,CadMP!$B:$D,2,0),\"\")","v":""},{"$f":"IFERROR(VLOOKUP(Z4951,CadMP!$B:$D,2,0),\"\")","v":""},{"$f":"IFERROR(VLOOKUP(AA4951,CadMP!$B:$D,2,0),\"\")","v":""},{"$f":"IFERROR(VLOOKUP(AB4951,CadMP!$B:$D,2,0),\"\")","v":""},{"$f":"IFERROR(VLOOKUP(AC4951,CadMP!$B:$D,2,0),\"\")","v":""},{"$f":"IFERROR(VLOOKUP(AD4951,CadMP!$B:$D,2,0),\"\")","v":""},{"$f":"IFERROR(VLOOKUP(AE4951,CadMP!$B:$D,2,0),\"\")","v":""},{"$f":"IFERROR(VLOOKUP(AF4951,CadMP!$B:$D,2,0),\"\")","v":""},{"$f":"IFERROR(VLOOKUP(AG4951,CadMP!$B:$D,2,0),\"\")","v":""},{"$f":"IFERROR(VLOOKUP(AH4951,CadMP!$B:$D,2,0),\"\")","v":""},{"$f":"IFERROR(VLOOKUP(AI4951,CadMP!$B:$D,2,0),\"\")","v":""},{"$f":"IFERROR(VLOOKUP(AJ4951,CadMP!$B:$D,2,0),\"\")","v":""},{"$f":"IFERROR(VLOOKUP(AK4951,CadMP!$B:$D,2,0),\"\")","v":""},{"$f":"IFERROR(VLOOKUP(W4951,CadMP!$B:$D,3,0),\"\")","v":""},{"$f":"IFERROR(VLOOKUP(X4951,CadMP!$B:$D,3,0),\"\")","v":""},{"$f":"IFERROR(VLOOKUP(Y4951,CadMP!$B:$D,3,0),\"\")","v":""},{"$f":"IFERROR(VLOOKUP(Z4951,CadMP!$B:$D,3,0),\"\")","v":""},{"$f":"IFERROR(VLOOKUP(AA4951,CadMP!$B:$D,3,0),\"\")","v":""},{"$f":"IFERROR(VLOOKUP(AB4951,CadMP!$B:$D,3,0),\"\")","v":""},{"$f":"IFERROR(VLOOKUP(AC4951,CadMP!$B:$D,3,0),\"\")","v":""},{"$f":"IFERROR(VLOOKUP(AD4951,CadMP!$B:$D,3,0),\"\")","v":""},{"$f":"IFERROR(VLOOKUP(AE4951,CadMP!$B:$D,3,0),\"\")","v":""},{"$f":"IFERROR(VLOOKUP(AF4951,CadMP!$B:$D,3,0),\"\")","v":""},{"$f":"IFERROR(VLOOKUP(AG4951,CadMP!$B:$D,3,0),\"\")","v":""},{"$f":"IFERROR(VLOOKUP(AH4951,CadMP!$B:$D,3,0),\"\")","v":""},{"$f":"IFERROR(VLOOKUP(AI4951,CadMP!$B:$D,3,0),\"\")","v":""},{"$f":"IFERROR(VLOOKUP(AJ4951,CadMP!$B:$D,3,0),\"\")","v":""},{"$f":"IFERROR(VLOOKUP(AK4951,CadMP!$B:$D,3,0),\"\")","v":""},0,0,0,0,0,0,0,0,0,0,0,0,0,0,0]
[4951,null,null,0,0,null,null,null,null,null,null,0,0,null,null,null,null,null,null,null,1,0,null,null,null,null,null,null,null,null,null,null,null,null,null,null,null,null,null,null,null,null,null,null,null,null,null,null,null,null,null,null,{"$f":"IFERROR(VLOOKUP(W4952,CadMP!$B:$D,2,0),\"\")","v":""},{"$f":"IFERROR(VLOOKUP(X4952,CadMP!$B:$D,2,0),\"\")","v":""},{"$f":"IFERROR(VLOOKUP(Y4952,CadMP!$B:$D,2,0),\"\")","v":""},{"$f":"IFERROR(VLOOKUP(Z4952,CadMP!$B:$D,2,0),\"\")","v":""},{"$f":"IFERROR(VLOOKUP(AA4952,CadMP!$B:$D,2,0),\"\")","v":""},{"$f":"IFERROR(VLOOKUP(AB4952,CadMP!$B:$D,2,0),\"\")","v":""},{"$f":"IFERROR(VLOOKUP(AC4952,CadMP!$B:$D,2,0),\"\")","v":""},{"$f":"IFERROR(VLOOKUP(AD4952,CadMP!$B:$D,2,0),\"\")","v":""},{"$f":"IFERROR(VLOOKUP(AE4952,CadMP!$B:$D,2,0),\"\")","v":""},{"$f":"IFERROR(VLOOKUP(AF4952,CadMP!$B:$D,2,0),\"\")","v":""},{"$f":"IFERROR(VLOOKUP(AG4952,CadMP!$B:$D,2,0),\"\")","v":""},{"$f":"IFERROR(VLOOKUP(AH4952,CadMP!$B:$D,2,0),\"\")","v":""},{"$f":"IFERROR(VLOOKUP(AI4952,CadMP!$B:$D,2,0),\"\")","v":""},{"$f":"IFERROR(VLOOKUP(AJ4952,CadMP!$B:$D,2,0),\"\")","v":""},{"$f":"IFERROR(VLOOKUP(AK4952,CadMP!$B:$D,2,0),\"\")","v":""},{"$f":"IFERROR(VLOOKUP(W4952,CadMP!$B:$D,3,0),\"\")","v":""},{"$f":"IFERROR(VLOOKUP(X4952,CadMP!$B:$D,3,0),\"\")","v":""},{"$f":"IFERROR(VLOOKUP(Y4952,CadMP!$B:$D,3,0),\"\")","v":""},{"$f":"IFERROR(VLOOKUP(Z4952,CadMP!$B:$D,3,0),\"\")","v":""},{"$f":"IFERROR(VLOOKUP(AA4952,CadMP!$B:$D,3,0),\"\")","v":""},{"$f":"IFERROR(VLOOKUP(AB4952,CadMP!$B:$D,3,0),\"\")","v":""},{"$f":"IFERROR(VLOOKUP(AC4952,CadMP!$B:$D,3,0),\"\")","v":""},{"$f":"IFERROR(VLOOKUP(AD4952,CadMP!$B:$D,3,0),\"\")","v":""},{"$f":"IFERROR(VLOOKUP(AE4952,CadMP!$B:$D,3,0),\"\")","v":""},{"$f":"IFERROR(VLOOKUP(AF4952,CadMP!$B:$D,3,0),\"\")","v":""},{"$f":"IFERROR(VLOOKUP(AG4952,CadMP!$B:$D,3,0),\"\")","v":""},{"$f":"IFERROR(VLOOKUP(AH4952,CadMP!$B:$D,3,0),\"\")","v":""},{"$f":"IFERROR(VLOOKUP(AI4952,CadMP!$B:$D,3,0),\"\")","v":""},{"$f":"IFERROR(VLOOKUP(AJ4952,CadMP!$B:$D,3,0),\"\")","v":""},{"$f":"IFERROR(VLOOKUP(AK4952,CadMP!$B:$D,3,0),\"\")","v":""},0,0,0,0,0,0,0,0,0,0,0,0,0,0,0]
[4952,null,null,0,0,null,null,null,null,null,null,0,0,null,null,null,null,null,null,null,1,0,null,null,null,null,null,null,null,null,null,null,null,null,null,null,null,null,null,null,null,null,null,null,null,null,null,null,null,null,null,null,{"$f":"IFERROR(VLOOKUP(W4953,CadMP!$B:$D,2,0),\"\")","v":""},{"$f":"IFERROR(VLOOKUP(X4953,CadMP!$B:$D,2,0),\"\")","v":""},{"$f":"IFERROR(VLOOKUP(Y4953,CadMP!$B:$D,2,0),\"\")","v":""},{"$f":"IFERROR(VLOOKUP(Z4953,CadMP!$B:$D,2,0),\"\")","v":""},{"$f":"IFERROR(VLOOKUP(AA4953,CadMP!$B:$D,2,0),\"\")","v":""},{"$f":"IFERROR(VLOOKUP(AB4953,CadMP!$B:$D,2,0),\"\")","v":""},{"$f":"IFERROR(VLOOKUP(AC4953,CadMP!$B:$D,2,0),\"\")","v":""},{"$f":"IFERROR(VLOOKUP(AD4953,CadMP!$B:$D,2,0),\"\")","v":""},{"$f":"IFERROR(VLOOKUP(AE4953,CadMP!$B:$D,2,0),\"\")","v":""},{"$f":"IFERROR(VLOOKUP(AF4953,CadMP!$B:$D,2,0),\"\")","v":""},{"$f":"IFERROR(VLOOKUP(AG4953,CadMP!$B:$D,2,0),\"\")","v":""},{"$f":"IFERROR(VLOOKUP(AH4953,CadMP!$B:$D,2,0),\"\")","v":""},{"$f":"IFERROR(VLOOKUP(AI4953,CadMP!$B:$D,2,0),\"\")","v":""},{"$f":"IFERROR(VLOOKUP(AJ4953,CadMP!$B:$D,2,0),\"\")","v":""},{"$f":"IFERROR(VLOOKUP(AK4953,CadMP!$B:$D,2,0),\"\")","v":""},{"$f":"IFERROR(VLOOKUP(W4953,CadMP!$B:$D,3,0),\"\")","v":""},{"$f":"IFERROR(VLOOKUP(X4953,CadMP!$B:$D,3,0),\"\")","v":""},{"$f":"IFERROR(VLOOKUP(Y4953,CadMP!$B:$D,3,0),\"\")","v":""},{"$f":"IFERROR(VLOOKUP(Z4953,CadMP!$B:$D,3,0),\"\")","v":""},{"$f":"IFERROR(VLOOKUP(AA4953,CadMP!$B:$D,3,0),\"\")","v":""},{"$f":"IFERROR(VLOOKUP(AB4953,CadMP!$B:$D,3,0),\"\")","v":""},{"$f":"IFERROR(VLOOKUP(AC4953,CadMP!$B:$D,3,0),\"\")","v":""},{"$f":"IFERROR(VLOOKUP(AD4953,CadMP!$B:$D,3,0),\"\")","v":""},{"$f":"IFERROR(VLOOKUP(AE4953,CadMP!$B:$D,3,0),\"\")","v":""},{"$f":"IFERROR(VLOOKUP(AF4953,CadMP!$B:$D,3,0),\"\")","v":""},{"$f":"IFERROR(VLOOKUP(AG4953,CadMP!$B:$D,3,0),\"\")","v":""},{"$f":"IFERROR(VLOOKUP(AH4953,CadMP!$B:$D,3,0),\"\")","v":""},{"$f":"IFERROR(VLOOKUP(AI4953,CadMP!$B:$D,3,0),\"\")","v":""},{"$f":"IFERROR(VLOOKUP(AJ4953,CadMP!$B:$D,3,0),\"\")","v":""},{"$f":"IFERROR(VLOOKUP(AK4953,CadMP!$B:$D,3,0),\"\")","v":""},0,0,0,0,0,0,0,0,0,0,0,0,0,0,0]
[4953,null,null,0,0,null,null,null,null,null,null,0,0,null,null,null,null,null,null,null,1,0,null,null,null,null,null,null,null,null,null,null,null,null,null,null,null,null,null,null,null,null,null,null,null,null,null,null,null,null,null,null,{"$f":"IFERROR(VLOOKUP(W4954,CadMP!$B:$D,2,0),\"\")","v":""},{"$f":"IFERROR(VLOOKUP(X4954,CadMP!$B:$D,2,0),\"\")","v":""},{"$f":"IFERROR(VLOOKUP(Y4954,CadMP!$B:$D,2,0),\"\")","v":""},{"$f":"IFERROR(VLOOKUP(Z4954,CadMP!$B:$D,2,0),\"\")","v":""},{"$f":"IFERROR(VLOOKUP(AA4954,CadMP!$B:$D,2,0),\"\")","v":""},{"$f":"IFERROR(VLOOKUP(AB4954,CadMP!$B:$D,2,0),\"\")","v":""},{"$f":"IFERROR(VLOOKUP(AC4954,CadMP!$B:$D,2,0),\"\")","v":""},{"$f":"IFERROR(VLOOKUP(AD4954,CadMP!$B:$D,2,0),\"\")","v":""},{"$f":"IFERROR(VLOOKUP(AE4954,CadMP!$B:$D,2,0),\"\")","v":""},{"$f":"IFERROR(VLOOKUP(AF4954,CadMP!$B:$D,2,0),\"\")","v":""},{"$f":"IFERROR(VLOOKUP(AG4954,CadMP!$B:$D,2,0),\"\")","v":""},{"$f":"IFERROR(VLOOKUP(AH4954,CadMP!$B:$D,2,0),\"\")","v":""},{"$f":"IFERROR(VLOOKUP(AI4954,CadMP!$B:$D,2,0),\"\")","v":""},{"$f":"IFERROR(VLOOKUP(AJ4954,CadMP!$B:$D,2,0),\"\")","v":""},{"$f":"IFERROR(VLOOKUP(AK4954,CadMP!$B:$D,2,0),\"\")","v":""},{"$f":"IFERROR(VLOOKUP(W4954,CadMP!$B:$D,3,0),\"\")","v":""},{"$f":"IFERROR(VLOOKUP(X4954,CadMP!$B:$D,3,0),\"\")","v":""},{"$f":"IFERROR(VLOOKUP(Y4954,CadMP!$B:$D,3,0),\"\")","v":""},{"$f":"IFERROR(VLOOKUP(Z4954,CadMP!$B:$D,3,0),\"\")","v":""},{"$f":"IFERROR(VLOOKUP(AA4954,CadMP!$B:$D,3,0),\"\")","v":""},{"$f":"IFERROR(VLOOKUP(AB4954,CadMP!$B:$D,3,0),\"\")","v":""},{"$f":"IFERROR(VLOOKUP(AC4954,CadMP!$B:$D,3,0),\"\")","v":""},{"$f":"IFERROR(VLOOKUP(AD4954,CadMP!$B:$D,3,0),\"\")","v":""},{"$f":"IFERROR(VLOOKUP(AE4954,CadMP!$B:$D,3,0),\"\")","v":""},{"$f":"IFERROR(VLOOKUP(AF4954,CadMP!$B:$D,3,0),\"\")","v":""},{"$f":"IFERROR(VLOOKUP(AG4954,CadMP!$B:$D,3,0),\"\")","v":""},{"$f":"IFERROR(VLOOKUP(AH4954,CadMP!$B:$D,3,0),\"\")","v":""},{"$f":"IFERROR(VLOOKUP(AI4954,CadMP!$B:$D,3,0),\"\")","v":""},{"$f":"IFERROR(VLOOKUP(AJ4954,CadMP!$B:$D,3,0),\"\")","v":""},{"$f":"IFERROR(VLOOKUP(AK4954,CadMP!$B:$D,3,0),\"\")","v":""},0,0,0,0,0,0,0,0,0,0,0,0,0,0,0]
[4954,null,null,0,0,null,null,null,null,null,null,0,0,null,null,null,null,null,null,null,1,0,null,null,null,null,null,null,null,null,null,null,null,null,null,null,null,null,null,null,null,null,null,null,null,null,null,null,null,null,null,null,{"$f":"IFERROR(VLOOKUP(W4955,CadMP!$B:$D,2,0),\"\")","v":""},{"$f":"IFERROR(VLOOKUP(X4955,CadMP!$B:$D,2,0),\"\")","v":""},{"$f":"IFERROR(VLOOKUP(Y4955,CadMP!$B:$D,2,0),\"\")","v":""},{"$f":"IFERROR(VLOOKUP(Z4955,CadMP!$B:$D,2,0),\"\")","v":""},{"$f":"IFERROR(VLOOKUP(AA4955,CadMP!$B:$D,2,0),\"\")","v":""},{"$f":"IFERROR(VLOOKUP(AB4955,CadMP!$B:$D,2,0),\"\")","v":""},{"$f":"IFERROR(VLOOKUP(AC4955,CadMP!$B:$D,2,0),\"\")","v":""},{"$f":"IFERROR(VLOOKUP(AD4955,CadMP!$B:$D,2,0),\"\")","v":""},{"$f":"IFERROR(VLOOKUP(AE4955,CadMP!$B:$D,2,0),\"\")","v":""},{"$f":"IFERROR(VLOOKUP(AF4955,CadMP!$B:$D,2,0),\"\")","v":""},{"$f":"IFERROR(VLOOKUP(AG4955,CadMP!$B:$D,2,0),\"\")","v":""},{"$f":"IFERROR(VLOOKUP(AH4955,CadMP!$B:$D,2,0),\"\")","v":""},{"$f":"IFERROR(VLOOKUP(AI4955,CadMP!$B:$D,2,0),\"\")","v":""},{"$f":"IFERROR(VLOOKUP(AJ4955,CadMP!$B:$D,2,0),\"\")","v":""},{"$f":"IFERROR(VLOOKUP(AK4955,CadMP!$B:$D,2,0),\"\")","v":""},{"$f":"IFERROR(VLOOKUP(W4955,CadMP!$B:$D,3,0),\"\")","v":""},{"$f":"IFERROR(VLOOKUP(X4955,CadMP!$B:$D,3,0),\"\")","v":""},{"$f":"IFERROR(VLOOKUP(Y4955,CadMP!$B:$D,3,0),\"\")","v":""},{"$f":"IFERROR(VLOOKUP(Z4955,CadMP!$B:$D,3,0),\"\")","v":""},{"$f":"IFERROR(VLOOKUP(AA4955,CadMP!$B:$D,3,0),\"\")","v":""},{"$f":"IFERROR(VLOOKUP(AB4955,CadMP!$B:$D,3,0),\"\")","v":""},{"$f":"IFERROR(VLOOKUP(AC4955,CadMP!$B:$D,3,0),\"\")","v":""},{"$f":"IFERROR(VLOOKUP(AD4955,CadMP!$B:$D,3,0),\"\")","v":""},{"$f":"IFERROR(VLOOKUP(AE4955,CadMP!$B:$D,3,0),\"\")","v":""},{"$f":"IFERROR(VLOOKUP(AF4955,CadMP!$B:$D,3,0),\"\")","v":""},{"$f":"IFERROR(VLOOKUP(AG4955,CadMP!$B:$D,3,0),\"\")","v":""},{"$f":"IFERROR(VLOOKUP(AH4955,CadMP!$B:$D,3,0),\"\")","v":""},{"$f":"IFERROR(VLOOKUP(AI4955,CadMP!$B:$D,3,0),\"\")","v":""},{"$f":"IFERROR(VLOOKUP(AJ4955,CadMP!$B:$D,3,0),\"\")","v":""},{"$f":"IFERROR(VLOOKUP(AK4955,CadMP!$B:$D,3,0),\"\")","v":""},0,0,0,0,0,0,0,0,0,0,0,0,0,0,0]
[4955,null,null,0,0,null,null,null,null,null,null,0,0,null,null,null,null,null,null,null,1,0,null,null,null,null,null,null,null,null,null,null,null,null,null,null,null,null,null,null,null,null,null,null,null,null,null,null,null,null,null,null,{"$f":"IFERROR(VLOOKUP(W4956,CadMP!$B:$D,2,0),\"\")","v":""},{"$f":"IFERROR(VLOOKUP(X4956,CadMP!$B:$D,2,0),\"\")","v":""},{"$f":"IFERROR(VLOOKUP(Y4956,CadMP!$B:$D,2,0),\"\")","v":""},{"$f":"IFERROR(VLOOKUP(Z4956,CadMP!$B:$D,2,0),\"\")","v":""},{"$f":"IFERROR(VLOOKUP(AA4956,CadMP!$B:$D,2,0),\"\")","v":""},{"$f":"IFERROR(VLOOKUP(AB4956,CadMP!$B:$D,2,0),\"\")","v":""},{"$f":"IFERROR(VLOOKUP(AC4956,CadMP!$B:$D,2,0),\"\")","v":""},{"$f":"IFERROR(VLOOKUP(AD4956,CadMP!$B:$D,2,0),\"\")","v":""},{"$f":"IFERROR(VLOOKUP(AE4956,CadMP!$B:$D,2,0),\"\")","v":""},{"$f":"IFERROR(VLOOKUP(AF4956,CadMP!$B:$D,2,0),\"\")","v":""},{"$f":"IFERROR(VLOOKUP(AG4956,CadMP!$B:$D,2,0),\"\")","v":""},{"$f":"IFERROR(VLOOKUP(AH4956,CadMP!$B:$D,2,0),\"\")","v":""},{"$f":"IFERROR(VLOOKUP(AI4956,CadMP!$B:$D,2,0),\"\")","v":""},{"$f":"IFERROR(VLOOKUP(AJ4956,CadMP!$B:$D,2,0),\"\")","v":""},{"$f":"IFERROR(VLOOKUP(AK4956,CadMP!$B:$D,2,0),\"\")","v":""},{"$f":"IFERROR(VLOOKUP(W4956,CadMP!$B:$D,3,0),\"\")","v":""},{"$f":"IFERROR(VLOOKUP(X4956,CadMP!$B:$D,3,0),\"\")","v":""},{"$f":"IFERROR(VLOOKUP(Y4956,CadMP!$B:$D,3,0),\"\")","v":""},{"$f":"IFERROR(VLOOKUP(Z4956,CadMP!$B:$D,3,0),\"\")","v":""},{"$f":"IFERROR(VLOOKUP(AA4956,CadMP!$B:$D,3,0),\"\")","v":""},{"$f":"IFERROR(VLOOKUP(AB4956,CadMP!$B:$D,3,0),\"\")","v":""},{"$f":"IFERROR(VLOOKUP(AC4956,CadMP!$B:$D,3,0),\"\")","v":""},{"$f":"IFERROR(VLOOKUP(AD4956,CadMP!$B:$D,3,0),\"\")","v":""},{"$f":"IFERROR(VLOOKUP(AE4956,CadMP!$B:$D,3,0),\"\")","v":""},{"$f":"IFERROR(VLOOKUP(AF4956,CadMP!$B:$D,3,0),\"\")","v":""},{"$f":"IFERROR(VLOOKUP(AG4956,CadMP!$B:$D,3,0),\"\")","v":""},{"$f":"IFERROR(VLOOKUP(AH4956,CadMP!$B:$D,3,0),\"\")","v":""},{"$f":"IFERROR(VLOOKUP(AI4956,CadMP!$B:$D,3,0),\"\")","v":""},{"$f":"IFERROR(VLOOKUP(AJ4956,CadMP!$B:$D,3,0),\"\")","v":""},{"$f":"IFERROR(VLOOKUP(AK4956,CadMP!$B:$D,3,0),\"\")","v":""},0,0,0,0,0,0,0,0,0,0,0,0,0,0,0]
[4956,null,null,0,0,null,null,null,null,null,null,0,0,null,null,null,null,null,null,null,1,0,null,null,null,null,null,null,null,null,null,null,null,null,null,null,null,null,null,null,null,null,null,null,null,null,null,null,null,null,null,null,{"$f":"IFERROR(VLOOKUP(W4957,CadMP!$B:$D,2,0),\"\")","v":""},{"$f":"IFERROR(VLOOKUP(X4957,CadMP!$B:$D,2,0),\"\")","v":""},{"$f":"IFERROR(VLOOKUP(Y4957,CadMP!$B:$D,2,0),\"\")","v":""},{"$f":"IFERROR(VLOOKUP(Z4957,CadMP!$B:$D,2,0),\"\")","v":""},{"$f":"IFERROR(VLOOKUP(AA4957,CadMP!$B:$D,2,0),\"\")","v":""},{"$f":"IFERROR(VLOOKUP(AB4957,CadMP!$B:$D,2,0),\"\")","v":""},{"$f":"IFERROR(VLOOKUP(AC4957,CadMP!$B:$D,2,0),\"\")","v":""},{"$f":"IFERROR(VLOOKUP(AD4957,CadMP!$B:$D,2,0),\"\")","v":""},{"$f":"IFERROR(VLOOKUP(AE4957,CadMP!$B:$D,2,0),\"\")","v":""},{"$f":"IFERROR(VLOOKUP(AF4957,CadMP!$B:$D,2,0),\"\")","v":""},{"$f":"IFERROR(VLOOKUP(AG4957,CadMP!$B:$D,2,0),\"\")","v":""},{"$f":"IFERROR(VLOOKUP(AH4957,CadMP!$B:$D,2,0),\"\")","v":""},{"$f":"IFERROR(VLOOKUP(AI4957,CadMP!$B:$D,2,0),\"\")","v":""},{"$f":"IFERROR(VLOOKUP(AJ4957,CadMP!$B:$D,2,0),\"\")","v":""},{"$f":"IFERROR(VLOOKUP(AK4957,CadMP!$B:$D,2,0),\"\")","v":""},{"$f":"IFERROR(VLOOKUP(W4957,CadMP!$B:$D,3,0),\"\")","v":""},{"$f":"IFERROR(VLOOKUP(X4957,CadMP!$B:$D,3,0),\"\")","v":""},{"$f":"IFERROR(VLOOKUP(Y4957,CadMP!$B:$D,3,0),\"\")","v":""},{"$f":"IFERROR(VLOOKUP(Z4957,CadMP!$B:$D,3,0),\"\")","v":""},{"$f":"IFERROR(VLOOKUP(AA4957,CadMP!$B:$D,3,0),\"\")","v":""},{"$f":"IFERROR(VLOOKUP(AB4957,CadMP!$B:$D,3,0),\"\")","v":""},{"$f":"IFERROR(VLOOKUP(AC4957,CadMP!$B:$D,3,0),\"\")","v":""},{"$f":"IFERROR(VLOOKUP(AD4957,CadMP!$B:$D,3,0),\"\")","v":""},{"$f":"IFERROR(VLOOKUP(AE4957,CadMP!$B:$D,3,0),\"\")","v":""},{"$f":"IFERROR(VLOOKUP(AF4957,CadMP!$B:$D,3,0),\"\")","v":""},{"$f":"IFERROR(VLOOKUP(AG4957,CadMP!$B:$D,3,0),\"\")","v":""},{"$f":"IFERROR(VLOOKUP(AH4957,CadMP!$B:$D,3,0),\"\")","v":""},{"$f":"IFERROR(VLOOKUP(AI4957,CadMP!$B:$D,3,0),\"\")","v":""},{"$f":"IFERROR(VLOOKUP(AJ4957,CadMP!$B:$D,3,0),\"\")","v":""},{"$f":"IFERROR(VLOOKUP(AK4957,CadMP!$B:$D,3,0),\"\")","v":""},0,0,0,0,0,0,0,0,0,0,0,0,0,0,0]
[4957,null,null,0,0,null,null,null,null,null,null,0,0,null,null,null,null,null,null,null,1,0,null,null,null,null,null,null,null,null,null,null,null,null,null,null,null,null,null,null,null,null,null,null,null,null,null,null,null,null,null,null,{"$f":"IFERROR(VLOOKUP(W4958,CadMP!$B:$D,2,0),\"\")","v":""},{"$f":"IFERROR(VLOOKUP(X4958,CadMP!$B:$D,2,0),\"\")","v":""},{"$f":"IFERROR(VLOOKUP(Y4958,CadMP!$B:$D,2,0),\"\")","v":""},{"$f":"IFERROR(VLOOKUP(Z4958,CadMP!$B:$D,2,0),\"\")","v":""},{"$f":"IFERROR(VLOOKUP(AA4958,CadMP!$B:$D,2,0),\"\")","v":""},{"$f":"IFERROR(VLOOKUP(AB4958,CadMP!$B:$D,2,0),\"\")","v":""},{"$f":"IFERROR(VLOOKUP(AC4958,CadMP!$B:$D,2,0),\"\")","v":""},{"$f":"IFERROR(VLOOKUP(AD4958,CadMP!$B:$D,2,0),\"\")","v":""},{"$f":"IFERROR(VLOOKUP(AE4958,CadMP!$B:$D,2,0),\"\")","v":""},{"$f":"IFERROR(VLOOKUP(AF4958,CadMP!$B:$D,2,0),\"\")","v":""},{"$f":"IFERROR(VLOOKUP(AG4958,CadMP!$B:$D,2,0),\"\")","v":""},{"$f":"IFERROR(VLOOKUP(AH4958,CadMP!$B:$D,2,0),\"\")","v":""},{"$f":"IFERROR(VLOOKUP(AI4958,CadMP!$B:$D,2,0),\"\")","v":""},{"$f":"IFERROR(VLOOKUP(AJ4958,CadMP!$B:$D,2,0),\"\")","v":""},{"$f":"IFERROR(VLOOKUP(AK4958,CadMP!$B:$D,2,0),\"\")","v":""},{"$f":"IFERROR(VLOOKUP(W4958,CadMP!$B:$D,3,0),\"\")","v":""},{"$f":"IFERROR(VLOOKUP(X4958,CadMP!$B:$D,3,0),\"\")","v":""},{"$f":"IFERROR(VLOOKUP(Y4958,CadMP!$B:$D,3,0),\"\")","v":""},{"$f":"IFERROR(VLOOKUP(Z4958,CadMP!$B:$D,3,0),\"\")","v":""},{"$f":"IFERROR(VLOOKUP(AA4958,CadMP!$B:$D,3,0),\"\")","v":""},{"$f":"IFERROR(VLOOKUP(AB4958,CadMP!$B:$D,3,0),\"\")","v":""},{"$f":"IFERROR(VLOOKUP(AC4958,CadMP!$B:$D,3,0),\"\")","v":""},{"$f":"IFERROR(VLOOKUP(AD4958,CadMP!$B:$D,3,0),\"\")","v":""},{"$f":"IFERROR(VLOOKUP(AE4958,CadMP!$B:$D,3,0),\"\")","v":""},{"$f":"IFERROR(VLOOKUP(AF4958,CadMP!$B:$D,3,0),\"\")","v":""},{"$f":"IFERROR(VLOOKUP(AG4958,CadMP!$B:$D,3,0),\"\")","v":""},{"$f":"IFERROR(VLOOKUP(AH4958,CadMP!$B:$D,3,0),\"\")","v":""},{"$f":"IFERROR(VLOOKUP(AI4958,CadMP!$B:$D,3,0),\"\")","v":""},{"$f":"IFERROR(VLOOKUP(AJ4958,CadMP!$B:$D,3,0),\"\")","v":""},{"$f":"IFERROR(VLOOKUP(AK4958,CadMP!$B:$D,3,0),\"\")","v":""},0,0,0,0,0,0,0,0,0,0,0,0,0,0,0]
[4958,null,null,0,0,null,null,null,null,null,null,0,0,null,null,null,null,null,null,null,1,0,null,null,null,null,null,null,null,null,null,null,null,null,null,null,null,null,null,null,null,null,null,null,null,null,null,null,null,null,null,null,{"$f":"IFERROR(VLOOKUP(W4959,CadMP!$B:$D,2,0),\"\")","v":""},{"$f":"IFERROR(VLOOKUP(X4959,CadMP!$B:$D,2,0),\"\")","v":""},{"$f":"IFERROR(VLOOKUP(Y4959,CadMP!$B:$D,2,0),\"\")","v":""},{"$f":"IFERROR(VLOOKUP(Z4959,CadMP!$B:$D,2,0),\"\")","v":""},{"$f":"IFERROR(VLOOKUP(AA4959,CadMP!$B:$D,2,0),\"\")","v":""},{"$f":"IFERROR(VLOOKUP(AB4959,CadMP!$B:$D,2,0),\"\")","v":""},{"$f":"IFERROR(VLOOKUP(AC4959,CadMP!$B:$D,2,0),\"\")","v":""},{"$f":"IFERROR(VLOOKUP(AD4959,CadMP!$B:$D,2,0),\"\")","v":""},{"$f":"IFERROR(VLOOKUP(AE4959,CadMP!$B:$D,2,0),\"\")","v":""},{"$f":"IFERROR(VLOOKUP(AF4959,CadMP!$B:$D,2,0),\"\")","v":""},{"$f":"IFERROR(VLOOKUP(AG4959,CadMP!$B:$D,2,0),\"\")","v":""},{"$f":"IFERROR(VLOOKUP(AH4959,CadMP!$B:$D,2,0),\"\")","v":""},{"$f":"IFERROR(VLOOKUP(AI4959,CadMP!$B:$D,2,0),\"\")","v":""},{"$f":"IFERROR(VLOOKUP(AJ4959,CadMP!$B:$D,2,0),\"\")","v":""},{"$f":"IFERROR(VLOOKUP(AK4959,CadMP!$B:$D,2,0),\"\")","v":""},{"$f":"IFERROR(VLOOKUP(W4959,CadMP!$B:$D,3,0),\"\")","v":""},{"$f":"IFERROR(VLOOKUP(X4959,CadMP!$B:$D,3,0),\"\")","v":""},{"$f":"IFERROR(VLOOKUP(Y4959,CadMP!$B:$D,3,0),\"\")","v":""},{"$f":"IFERROR(VLOOKUP(Z4959,CadMP!$B:$D,3,0),\"\")","v":""},{"$f":"IFERROR(VLOOKUP(AA4959,CadMP!$B:$D,3,0),\"\")","v":""},{"$f":"IFERROR(VLOOKUP(AB4959,CadMP!$B:$D,3,0),\"\")","v":""},{"$f":"IFERROR(VLOOKUP(AC4959,CadMP!$B:$D,3,0),\"\")","v":""},{"$f":"IFERROR(VLOOKUP(AD4959,CadMP!$B:$D,3,0),\"\")","v":""},{"$f":"IFERROR(VLOOKUP(AE4959,CadMP!$B:$D,3,0),\"\")","v":""},{"$f":"IFERROR(VLOOKUP(AF4959,CadMP!$B:$D,3,0),\"\")","v":""},{"$f":"IFERROR(VLOOKUP(AG4959,CadMP!$B:$D,3,0),\"\")","v":""},{"$f":"IFERROR(VLOOKUP(AH4959,CadMP!$B:$D,3,0),\"\")","v":""},{"$f":"IFERROR(VLOOKUP(AI4959,CadMP!$B:$D,3,0),\"\")","v":""},{"$f":"IFERROR(VLOOKUP(AJ4959,CadMP!$B:$D,3,0),\"\")","v":""},{"$f":"IFERROR(VLOOKUP(AK4959,CadMP!$B:$D,3,0),\"\")","v":""},0,0,0,0,0,0,0,0,0,0,0,0,0,0,0]
[4959,null,null,0,0,null,null,null,null,null,null,0,0,null,null,null,null,null,null,null,1,0,null,null,null,null,null,null,null,null,null,null,null,null,null,null,null,null,null,null,null,null,null,null,null,null,null,null,null,null,null,null,{"$f":"IFERROR(VLOOKUP(W4960,CadMP!$B:$D,2,0),\"\")","v":""},{"$f":"IFERROR(VLOOKUP(X4960,CadMP!$B:$D,2,0),\"\")","v":""},{"$f":"IFERROR(VLOOKUP(Y4960,CadMP!$B:$D,2,0),\"\")","v":""},{"$f":"IFERROR(VLOOKUP(Z4960,CadMP!$B:$D,2,0),\"\")","v":""},{"$f":"IFERROR(VLOOKUP(AA4960,CadMP!$B:$D,2,0),\"\")","v":""},{"$f":"IFERROR(VLOOKUP(AB4960,CadMP!$B:$D,2,0),\"\")","v":""},{"$f":"IFERROR(VLOOKUP(AC4960,CadMP!$B:$D,2,0),\"\")","v":""},{"$f":"IFERROR(VLOOKUP(AD4960,CadMP!$B:$D,2,0),\"\")","v":""},{"$f":"IFERROR(VLOOKUP(AE4960,CadMP!$B:$D,2,0),\"\")","v":""},{"$f":"IFERROR(VLOOKUP(AF4960,CadMP!$B:$D,2,0),\"\")","v":""},{"$f":"IFERROR(VLOOKUP(AG4960,CadMP!$B:$D,2,0),\"\")","v":""},{"$f":"IFERROR(VLOOKUP(AH4960,CadMP!$B:$D,2,0),\"\")","v":""},{"$f":"IFERROR(VLOOKUP(AI4960,CadMP!$B:$D,2,0),\"\")","v":""},{"$f":"IFERROR(VLOOKUP(AJ4960,CadMP!$B:$D,2,0),\"\")","v":""},{"$f":"IFERROR(VLOOKUP(AK4960,CadMP!$B:$D,2,0),\"\")","v":""},{"$f":"IFERROR(VLOOKUP(W4960,CadMP!$B:$D,3,0),\"\")","v":""},{"$f":"IFERROR(VLOOKUP(X4960,CadMP!$B:$D,3,0),\"\")","v":""},{"$f":"IFERROR(VLOOKUP(Y4960,CadMP!$B:$D,3,0),\"\")","v":""},{"$f":"IFERROR(VLOOKUP(Z4960,CadMP!$B:$D,3,0),\"\")","v":""},{"$f":"IFERROR(VLOOKUP(AA4960,CadMP!$B:$D,3,0),\"\")","v":""},{"$f":"IFERROR(VLOOKUP(AB4960,CadMP!$B:$D,3,0),\"\")","v":""},{"$f":"IFERROR(VLOOKUP(AC4960,CadMP!$B:$D,3,0),\"\")","v":""},{"$f":"IFERROR(VLOOKUP(AD4960,CadMP!$B:$D,3,0),\"\")","v":""},{"$f":"IFERROR(VLOOKUP(AE4960,CadMP!$B:$D,3,0),\"\")","v":""},{"$f":"IFERROR(VLOOKUP(AF4960,CadMP!$B:$D,3,0),\"\")","v":""},{"$f":"IFERROR(VLOOKUP(AG4960,CadMP!$B:$D,3,0),\"\")","v":""},{"$f":"IFERROR(VLOOKUP(AH4960,CadMP!$B:$D,3,0),\"\")","v":""},{"$f":"IFERROR(VLOOKUP(AI4960,CadMP!$B:$D,3,0),\"\")","v":""},{"$f":"IFERROR(VLOOKUP(AJ4960,CadMP!$B:$D,3,0),\"\")","v":""},{"$f":"IFERROR(VLOOKUP(AK4960,CadMP!$B:$D,3,0),\"\")","v":""},0,0,0,0,0,0,0,0,0,0,0,0,0,0,0]
[4960,null,null,0,0,null,null,null,null,null,null,0,0,null,null,null,null,null,null,null,1,0,null,null,null,null,null,null,null,null,null,null,null,null,null,null,null,null,null,null,null,null,null,null,null,null,null,null,null,null,null,null,{"$f":"IFERROR(VLOOKUP(W4961,CadMP!$B:$D,2,0),\"\")","v":""},{"$f":"IFERROR(VLOOKUP(X4961,CadMP!$B:$D,2,0),\"\")","v":""},{"$f":"IFERROR(VLOOKUP(Y4961,CadMP!$B:$D,2,0),\"\")","v":""},{"$f":"IFERROR(VLOOKUP(Z4961,CadMP!$B:$D,2,0),\"\")","v":""},{"$f":"IFERROR(VLOOKUP(AA4961,CadMP!$B:$D,2,0),\"\")","v":""},{"$f":"IFERROR(VLOOKUP(AB4961,CadMP!$B:$D,2,0),\"\")","v":""},{"$f":"IFERROR(VLOOKUP(AC4961,CadMP!$B:$D,2,0),\"\")","v":""},{"$f":"IFERROR(VLOOKUP(AD4961,CadMP!$B:$D,2,0),\"\")","v":""},{"$f":"IFERROR(VLOOKUP(AE4961,CadMP!$B:$D,2,0),\"\")","v":""},{"$f":"IFERROR(VLOOKUP(AF4961,CadMP!$B:$D,2,0),\"\")","v":""},{"$f":"IFERROR(VLOOKUP(AG4961,CadMP!$B:$D,2,0),\"\")","v":""},{"$f":"IFERROR(VLOOKUP(AH4961,CadMP!$B:$D,2,0),\"\")","v":""},{"$f":"IFERROR(VLOOKUP(AI4961,CadMP!$B:$D,2,0),\"\")","v":""},{"$f":"IFERROR(VLOOKUP(AJ4961,CadMP!$B:$D,2,0),\"\")","v":""},{"$f":"IFERROR(VLOOKUP(AK4961,CadMP!$B:$D,2,0),\"\")","v":""},{"$f":"IFERROR(VLOOKUP(W4961,CadMP!$B:$D,3,0),\"\")","v":""},{"$f":"IFERROR(VLOOKUP(X4961,CadMP!$B:$D,3,0),\"\")","v":""},{"$f":"IFERROR(VLOOKUP(Y4961,CadMP!$B:$D,3,0),\"\")","v":""},{"$f":"IFERROR(VLOOKUP(Z4961,CadMP!$B:$D,3,0),\"\")","v":""},{"$f":"IFERROR(VLOOKUP(AA4961,CadMP!$B:$D,3,0),\"\")","v":""},{"$f":"IFERROR(VLOOKUP(AB4961,CadMP!$B:$D,3,0),\"\")","v":""},{"$f":"IFERROR(VLOOKUP(AC4961,CadMP!$B:$D,3,0),\"\")","v":""},{"$f":"IFERROR(VLOOKUP(AD4961,CadMP!$B:$D,3,0),\"\")","v":""},{"$f":"IFERROR(VLOOKUP(AE4961,CadMP!$B:$D,3,0),\"\")","v":""},{"$f":"IFERROR(VLOOKUP(AF4961,CadMP!$B:$D,3,0),\"\")","v":""},{"$f":"IFERROR(VLOOKUP(AG4961,CadMP!$B:$D,3,0),\"\")","v":""},{"$f":"IFERROR(VLOOKUP(AH4961,CadMP!$B:$D,3,0),\"\")","v":""},{"$f":"IFERROR(VLOOKUP(AI4961,CadMP!$B:$D,3,0),\"\")","v":""},{"$f":"IFERROR(VLOOKUP(AJ4961,CadMP!$B:$D,3,0),\"\")","v":""},{"$f":"IFERROR(VLOOKUP(AK4961,CadMP!$B:$D,3,0),\"\")","v":""},0,0,0,0,0,0,0,0,0,0,0,0,0,0,0]
[4961,null,null,0,0,null,null,null,null,null,null,0,0,null,null,null,null,null,null,null,1,0,null,null,null,null,null,null,null,null,null,null,null,null,null,null,null,null,null,null,null,null,null,null,null,null,null,null,null,null,null,null,{"$f":"IFERROR(VLOOKUP(W4962,CadMP!$B:$D,2,0),\"\")","v":""},{"$f":"IFERROR(VLOOKUP(X4962,CadMP!$B:$D,2,0),\"\")","v":""},{"$f":"IFERROR(VLOOKUP(Y4962,CadMP!$B:$D,2,0),\"\")","v":""},{"$f":"IFERROR(VLOOKUP(Z4962,CadMP!$B:$D,2,0),\"\")","v":""},{"$f":"IFERROR(VLOOKUP(AA4962,CadMP!$B:$D,2,0),\"\")","v":""},{"$f":"IFERROR(VLOOKUP(AB4962,CadMP!$B:$D,2,0),\"\")","v":""},{"$f":"IFERROR(VLOOKUP(AC4962,CadMP!$B:$D,2,0),\"\")","v":""},{"$f":"IFERROR(VLOOKUP(AD4962,CadMP!$B:$D,2,0),\"\")","v":""},{"$f":"IFERROR(VLOOKUP(AE4962,CadMP!$B:$D,2,0),\"\")","v":""},{"$f":"IFERROR(VLOOKUP(AF4962,CadMP!$B:$D,2,0),\"\")","v":""},{"$f":"IFERROR(VLOOKUP(AG4962,CadMP!$B:$D,2,0),\"\")","v":""},{"$f":"IFERROR(VLOOKUP(AH4962,CadMP!$B:$D,2,0),\"\")","v":""},{"$f":"IFERROR(VLOOKUP(AI4962,CadMP!$B:$D,2,0),\"\")","v":""},{"$f":"IFERROR(VLOOKUP(AJ4962,CadMP!$B:$D,2,0),\"\")","v":""},{"$f":"IFERROR(VLOOKUP(AK4962,CadMP!$B:$D,2,0),\"\")","v":""},{"$f":"IFERROR(VLOOKUP(W4962,CadMP!$B:$D,3,0),\"\")","v":""},{"$f":"IFERROR(VLOOKUP(X4962,CadMP!$B:$D,3,0),\"\")","v":""},{"$f":"IFERROR(VLOOKUP(Y4962,CadMP!$B:$D,3,0),\"\")","v":""},{"$f":"IFERROR(VLOOKUP(Z4962,CadMP!$B:$D,3,0),\"\")","v":""},{"$f":"IFERROR(VLOOKUP(AA4962,CadMP!$B:$D,3,0),\"\")","v":""},{"$f":"IFERROR(VLOOKUP(AB4962,CadMP!$B:$D,3,0),\"\")","v":""},{"$f":"IFERROR(VLOOKUP(AC4962,CadMP!$B:$D,3,0),\"\")","v":""},{"$f":"IFERROR(VLOOKUP(AD4962,CadMP!$B:$D,3,0),\"\")","v":""},{"$f":"IFERROR(VLOOKUP(AE4962,CadMP!$B:$D,3,0),\"\")","v":""},{"$f":"IFERROR(VLOOKUP(AF4962,CadMP!$B:$D,3,0),\"\")","v":""},{"$f":"IFERROR(VLOOKUP(AG4962,CadMP!$B:$D,3,0),\"\")","v":""},{"$f":"IFERROR(VLOOKUP(AH4962,CadMP!$B:$D,3,0),\"\")","v":""},{"$f":"IFERROR(VLOOKUP(AI4962,CadMP!$B:$D,3,0),\"\")","v":""},{"$f":"IFERROR(VLOOKUP(AJ4962,CadMP!$B:$D,3,0),\"\")","v":""},{"$f":"IFERROR(VLOOKUP(AK4962,CadMP!$B:$D,3,0),\"\")","v":""},0,0,0,0,0,0,0,0,0,0,0,0,0,0,0]
[4962,null,null,0,0,null,null,null,null,null,null,0,0,null,null,null,null,null,null,null,1,0,null,null,null,null,null,null,null,null,null,null,null,null,null,null,null,null,null,null,null,null,null,null,null,null,null,null,null,null,null,null,{"$f":"IFERROR(VLOOKUP(W4963,CadMP!$B:$D,2,0),\"\")","v":""},{"$f":"IFERROR(VLOOKUP(X4963,CadMP!$B:$D,2,0),\"\")","v":""},{"$f":"IFERROR(VLOOKUP(Y4963,CadMP!$B:$D,2,0),\"\")","v":""},{"$f":"IFERROR(VLOOKUP(Z4963,CadMP!$B:$D,2,0),\"\")","v":""},{"$f":"IFERROR(VLOOKUP(AA4963,CadMP!$B:$D,2,0),\"\")","v":""},{"$f":"IFERROR(VLOOKUP(AB4963,CadMP!$B:$D,2,0),\"\")","v":""},{"$f":"IFERROR(VLOOKUP(AC4963,CadMP!$B:$D,2,0),\"\")","v":""},{"$f":"IFERROR(VLOOKUP(AD4963,CadMP!$B:$D,2,0),\"\")","v":""},{"$f":"IFERROR(VLOOKUP(AE4963,CadMP!$B:$D,2,0),\"\")","v":""},{"$f":"IFERROR(VLOOKUP(AF4963,CadMP!$B:$D,2,0),\"\")","v":""},{"$f":"IFERROR(VLOOKUP(AG4963,CadMP!$B:$D,2,0),\"\")","v":""},{"$f":"IFERROR(VLOOKUP(AH4963,CadMP!$B:$D,2,0),\"\")","v":""},{"$f":"IFERROR(VLOOKUP(AI4963,CadMP!$B:$D,2,0),\"\")","v":""},{"$f":"IFERROR(VLOOKUP(AJ4963,CadMP!$B:$D,2,0),\"\")","v":""},{"$f":"IFERROR(VLOOKUP(AK4963,CadMP!$B:$D,2,0),\"\")","v":""},{"$f":"IFERROR(VLOOKUP(W4963,CadMP!$B:$D,3,0),\"\")","v":""},{"$f":"IFERROR(VLOOKUP(X4963,CadMP!$B:$D,3,0),\"\")","v":""},{"$f":"IFERROR(VLOOKUP(Y4963,CadMP!$B:$D,3,0),\"\")","v":""},{"$f":"IFERROR(VLOOKUP(Z4963,CadMP!$B:$D,3,0),\"\")","v":""},{"$f":"IFERROR(VLOOKUP(AA4963,CadMP!$B:$D,3,0),\"\")","v":""},{"$f":"IFERROR(VLOOKUP(AB4963,CadMP!$B:$D,3,0),\"\")","v":""},{"$f":"IFERROR(VLOOKUP(AC4963,CadMP!$B:$D,3,0),\"\")","v":""},{"$f":"IFERROR(VLOOKUP(AD4963,CadMP!$B:$D,3,0),\"\")","v":""},{"$f":"IFERROR(VLOOKUP(AE4963,CadMP!$B:$D,3,0),\"\")","v":""},{"$f":"IFERROR(VLOOKUP(AF4963,CadMP!$B:$D,3,0),\"\")","v":""},{"$f":"IFERROR(VLOOKUP(AG4963,CadMP!$B:$D,3,0),\"\")","v":""},{"$f":"IFERROR(VLOOKUP(AH4963,CadMP!$B:$D,3,0),\"\")","v":""},{"$f":"IFERROR(VLOOKUP(AI4963,CadMP!$B:$D,3,0),\"\")","v":""},{"$f":"IFERROR(VLOOKUP(AJ4963,CadMP!$B:$D,3,0),\"\")","v":""},{"$f":"IFERROR(VLOOKUP(AK4963,CadMP!$B:$D,3,0),\"\")","v":""},0,0,0,0,0,0,0,0,0,0,0,0,0,0,0]
[4963,null,null,0,0,null,null,null,null,null,null,0,0,null,null,null,null,null,null,null,1,0,null,null,null,null,null,null,null,null,null,null,null,null,null,null,null,null,null,null,null,null,null,null,null,null,null,null,null,null,null,null,{"$f":"IFERROR(VLOOKUP(W4964,CadMP!$B:$D,2,0),\"\")","v":""},{"$f":"IFERROR(VLOOKUP(X4964,CadMP!$B:$D,2,0),\"\")","v":""},{"$f":"IFERROR(VLOOKUP(Y4964,CadMP!$B:$D,2,0),\"\")","v":""},{"$f":"IFERROR(VLOOKUP(Z4964,CadMP!$B:$D,2,0),\"\")","v":""},{"$f":"IFERROR(VLOOKUP(AA4964,CadMP!$B:$D,2,0),\"\")","v":""},{"$f":"IFERROR(VLOOKUP(AB4964,CadMP!$B:$D,2,0),\"\")","v":""},{"$f":"IFERROR(VLOOKUP(AC4964,CadMP!$B:$D,2,0),\"\")","v":""},{"$f":"IFERROR(VLOOKUP(AD4964,CadMP!$B:$D,2,0),\"\")","v":""},{"$f":"IFERROR(VLOOKUP(AE4964,CadMP!$B:$D,2,0),\"\")","v":""},{"$f":"IFERROR(VLOOKUP(AF4964,CadMP!$B:$D,2,0),\"\")","v":""},{"$f":"IFERROR(VLOOKUP(AG4964,CadMP!$B:$D,2,0),\"\")","v":""},{"$f":"IFERROR(VLOOKUP(AH4964,CadMP!$B:$D,2,0),\"\")","v":""},{"$f":"IFERROR(VLOOKUP(AI4964,CadMP!$B:$D,2,0),\"\")","v":""},{"$f":"IFERROR(VLOOKUP(AJ4964,CadMP!$B:$D,2,0),\"\")","v":""},{"$f":"IFERROR(VLOOKUP(AK4964,CadMP!$B:$D,2,0),\"\")","v":""},{"$f":"IFERROR(VLOOKUP(W4964,CadMP!$B:$D,3,0),\"\")","v":""},{"$f":"IFERROR(VLOOKUP(X4964,CadMP!$B:$D,3,0),\"\")","v":""},{"$f":"IFERROR(VLOOKUP(Y4964,CadMP!$B:$D,3,0),\"\")","v":""},{"$f":"IFERROR(VLOOKUP(Z4964,CadMP!$B:$D,3,0),\"\")","v":""},{"$f":"IFERROR(VLOOKUP(AA4964,CadMP!$B:$D,3,0),\"\")","v":""},{"$f":"IFERROR(VLOOKUP(AB4964,CadMP!$B:$D,3,0),\"\")","v":""},{"$f":"IFERROR(VLOOKUP(AC4964,CadMP!$B:$D,3,0),\"\")","v":""},{"$f":"IFERROR(VLOOKUP(AD4964,CadMP!$B:$D,3,0),\"\")","v":""},{"$f":"IFERROR(VLOOKUP(AE4964,CadMP!$B:$D,3,0),\"\")","v":""},{"$f":"IFERROR(VLOOKUP(AF4964,CadMP!$B:$D,3,0),\"\")","v":""},{"$f":"IFERROR(VLOOKUP(AG4964,CadMP!$B:$D,3,0),\"\")","v":""},{"$f":"IFERROR(VLOOKUP(AH4964,CadMP!$B:$D,3,0),\"\")","v":""},{"$f":"IFERROR(VLOOKUP(AI4964,CadMP!$B:$D,3,0),\"\")","v":""},{"$f":"IFERROR(VLOOKUP(AJ4964,CadMP!$B:$D,3,0),\"\")","v":""},{"$f":"IFERROR(VLOOKUP(AK4964,CadMP!$B:$D,3,0),\"\")","v":""},0,0,0,0,0,0,0,0,0,0,0,0,0,0,0]
[4964,null,null,0,0,null,null,null,null,null,null,0,0,null,null,null,null,null,null,null,1,0,null,null,null,null,null,null,null,null,null,null,null,null,null,null,null,null,null,null,null,null,null,null,null,null,null,null,null,null,null,null,{"$f":"IFERROR(VLOOKUP(W4965,CadMP!$B:$D,2,0),\"\")","v":""},{"$f":"IFERROR(VLOOKUP(X4965,CadMP!$B:$D,2,0),\"\")","v":""},{"$f":"IFERROR(VLOOKUP(Y4965,CadMP!$B:$D,2,0),\"\")","v":""},{"$f":"IFERROR(VLOOKUP(Z4965,CadMP!$B:$D,2,0),\"\")","v":""},{"$f":"IFERROR(VLOOKUP(AA4965,CadMP!$B:$D,2,0),\"\")","v":""},{"$f":"IFERROR(VLOOKUP(AB4965,CadMP!$B:$D,2,0),\"\")","v":""},{"$f":"IFERROR(VLOOKUP(AC4965,CadMP!$B:$D,2,0),\"\")","v":""},{"$f":"IFERROR(VLOOKUP(AD4965,CadMP!$B:$D,2,0),\"\")","v":""},{"$f":"IFERROR(VLOOKUP(AE4965,CadMP!$B:$D,2,0),\"\")","v":""},{"$f":"IFERROR(VLOOKUP(AF4965,CadMP!$B:$D,2,0),\"\")","v":""},{"$f":"IFERROR(VLOOKUP(AG4965,CadMP!$B:$D,2,0),\"\")","v":""},{"$f":"IFERROR(VLOOKUP(AH4965,CadMP!$B:$D,2,0),\"\")","v":""},{"$f":"IFERROR(VLOOKUP(AI4965,CadMP!$B:$D,2,0),\"\")","v":""},{"$f":"IFERROR(VLOOKUP(AJ4965,CadMP!$B:$D,2,0),\"\")","v":""},{"$f":"IFERROR(VLOOKUP(AK4965,CadMP!$B:$D,2,0),\"\")","v":""},{"$f":"IFERROR(VLOOKUP(W4965,CadMP!$B:$D,3,0),\"\")","v":""},{"$f":"IFERROR(VLOOKUP(X4965,CadMP!$B:$D,3,0),\"\")","v":""},{"$f":"IFERROR(VLOOKUP(Y4965,CadMP!$B:$D,3,0),\"\")","v":""},{"$f":"IFERROR(VLOOKUP(Z4965,CadMP!$B:$D,3,0),\"\")","v":""},{"$f":"IFERROR(VLOOKUP(AA4965,CadMP!$B:$D,3,0),\"\")","v":""},{"$f":"IFERROR(VLOOKUP(AB4965,CadMP!$B:$D,3,0),\"\")","v":""},{"$f":"IFERROR(VLOOKUP(AC4965,CadMP!$B:$D,3,0),\"\")","v":""},{"$f":"IFERROR(VLOOKUP(AD4965,CadMP!$B:$D,3,0),\"\")","v":""},{"$f":"IFERROR(VLOOKUP(AE4965,CadMP!$B:$D,3,0),\"\")","v":""},{"$f":"IFERROR(VLOOKUP(AF4965,CadMP!$B:$D,3,0),\"\")","v":""},{"$f":"IFERROR(VLOOKUP(AG4965,CadMP!$B:$D,3,0),\"\")","v":""},{"$f":"IFERROR(VLOOKUP(AH4965,CadMP!$B:$D,3,0),\"\")","v":""},{"$f":"IFERROR(VLOOKUP(AI4965,CadMP!$B:$D,3,0),\"\")","v":""},{"$f":"IFERROR(VLOOKUP(AJ4965,CadMP!$B:$D,3,0),\"\")","v":""},{"$f":"IFERROR(VLOOKUP(AK4965,CadMP!$B:$D,3,0),\"\")","v":""},0,0,0,0,0,0,0,0,0,0,0,0,0,0,0]
[4965,null,null,0,0,null,null,null,null,null,null,0,0,null,null,null,null,null,null,null,1,0,null,null,null,null,null,null,null,null,null,null,null,null,null,null,null,null,null,null,null,null,null,null,null,null,null,null,null,null,null,null,{"$f":"IFERROR(VLOOKUP(W4966,CadMP!$B:$D,2,0),\"\")","v":""},{"$f":"IFERROR(VLOOKUP(X4966,CadMP!$B:$D,2,0),\"\")","v":""},{"$f":"IFERROR(VLOOKUP(Y4966,CadMP!$B:$D,2,0),\"\")","v":""},{"$f":"IFERROR(VLOOKUP(Z4966,CadMP!$B:$D,2,0),\"\")","v":""},{"$f":"IFERROR(VLOOKUP(AA4966,CadMP!$B:$D,2,0),\"\")","v":""},{"$f":"IFERROR(VLOOKUP(AB4966,CadMP!$B:$D,2,0),\"\")","v":""},{"$f":"IFERROR(VLOOKUP(AC4966,CadMP!$B:$D,2,0),\"\")","v":""},{"$f":"IFERROR(VLOOKUP(AD4966,CadMP!$B:$D,2,0),\"\")","v":""},{"$f":"IFERROR(VLOOKUP(AE4966,CadMP!$B:$D,2,0),\"\")","v":""},{"$f":"IFERROR(VLOOKUP(AF4966,CadMP!$B:$D,2,0),\"\")","v":""},{"$f":"IFERROR(VLOOKUP(AG4966,CadMP!$B:$D,2,0),\"\")","v":""},{"$f":"IFERROR(VLOOKUP(AH4966,CadMP!$B:$D,2,0),\"\")","v":""},{"$f":"IFERROR(VLOOKUP(AI4966,CadMP!$B:$D,2,0),\"\")","v":""},{"$f":"IFERROR(VLOOKUP(AJ4966,CadMP!$B:$D,2,0),\"\")","v":""},{"$f":"IFERROR(VLOOKUP(AK4966,CadMP!$B:$D,2,0),\"\")","v":""},{"$f":"IFERROR(VLOOKUP(W4966,CadMP!$B:$D,3,0),\"\")","v":""},{"$f":"IFERROR(VLOOKUP(X4966,CadMP!$B:$D,3,0),\"\")","v":""},{"$f":"IFERROR(VLOOKUP(Y4966,CadMP!$B:$D,3,0),\"\")","v":""},{"$f":"IFERROR(VLOOKUP(Z4966,CadMP!$B:$D,3,0),\"\")","v":""},{"$f":"IFERROR(VLOOKUP(AA4966,CadMP!$B:$D,3,0),\"\")","v":""},{"$f":"IFERROR(VLOOKUP(AB4966,CadMP!$B:$D,3,0),\"\")","v":""},{"$f":"IFERROR(VLOOKUP(AC4966,CadMP!$B:$D,3,0),\"\")","v":""},{"$f":"IFERROR(VLOOKUP(AD4966,CadMP!$B:$D,3,0),\"\")","v":""},{"$f":"IFERROR(VLOOKUP(AE4966,CadMP!$B:$D,3,0),\"\")","v":""},{"$f":"IFERROR(VLOOKUP(AF4966,CadMP!$B:$D,3,0),\"\")","v":""},{"$f":"IFERROR(VLOOKUP(AG4966,CadMP!$B:$D,3,0),\"\")","v":""},{"$f":"IFERROR(VLOOKUP(AH4966,CadMP!$B:$D,3,0),\"\")","v":""},{"$f":"IFERROR(VLOOKUP(AI4966,CadMP!$B:$D,3,0),\"\")","v":""},{"$f":"IFERROR(VLOOKUP(AJ4966,CadMP!$B:$D,3,0),\"\")","v":""},{"$f":"IFERROR(VLOOKUP(AK4966,CadMP!$B:$D,3,0),\"\")","v":""},0,0,0,0,0,0,0,0,0,0,0,0,0,0,0]
[4966,null,null,0,0,null,null,null,null,null,null,0,0,null,null,null,null,null,null,null,1,0,null,null,null,null,null,null,null,null,null,null,null,null,null,null,null,null,null,null,null,null,null,null,null,null,null,null,null,null,null,null,{"$f":"IFERROR(VLOOKUP(W4967,CadMP!$B:$D,2,0),\"\")","v":""},{"$f":"IFERROR(VLOOKUP(X4967,CadMP!$B:$D,2,0),\"\")","v":""},{"$f":"IFERROR(VLOOKUP(Y4967,CadMP!$B:$D,2,0),\"\")","v":""},{"$f":"IFERROR(VLOOKUP(Z4967,CadMP!$B:$D,2,0),\"\")","v":""},{"$f":"IFERROR(VLOOKUP(AA4967,CadMP!$B:$D,2,0),\"\")","v":""},{"$f":"IFERROR(VLOOKUP(AB4967,CadMP!$B:$D,2,0),\"\")","v":""},{"$f":"IFERROR(VLOOKUP(AC4967,CadMP!$B:$D,2,0),\"\")","v":""},{"$f":"IFERROR(VLOOKUP(AD4967,CadMP!$B:$D,2,0),\"\")","v":""},{"$f":"IFERROR(VLOOKUP(AE4967,CadMP!$B:$D,2,0),\"\")","v":""},{"$f":"IFERROR(VLOOKUP(AF4967,CadMP!$B:$D,2,0),\"\")","v":""},{"$f":"IFERROR(VLOOKUP(AG4967,CadMP!$B:$D,2,0),\"\")","v":""},{"$f":"IFERROR(VLOOKUP(AH4967,CadMP!$B:$D,2,0),\"\")","v":""},{"$f":"IFERROR(VLOOKUP(AI4967,CadMP!$B:$D,2,0),\"\")","v":""},{"$f":"IFERROR(VLOOKUP(AJ4967,CadMP!$B:$D,2,0),\"\")","v":""},{"$f":"IFERROR(VLOOKUP(AK4967,CadMP!$B:$D,2,0),\"\")","v":""},{"$f":"IFERROR(VLOOKUP(W4967,CadMP!$B:$D,3,0),\"\")","v":""},{"$f":"IFERROR(VLOOKUP(X4967,CadMP!$B:$D,3,0),\"\")","v":""},{"$f":"IFERROR(VLOOKUP(Y4967,CadMP!$B:$D,3,0),\"\")","v":""},{"$f":"IFERROR(VLOOKUP(Z4967,CadMP!$B:$D,3,0),\"\")","v":""},{"$f":"IFERROR(VLOOKUP(AA4967,CadMP!$B:$D,3,0),\"\")","v":""},{"$f":"IFERROR(VLOOKUP(AB4967,CadMP!$B:$D,3,0),\"\")","v":""},{"$f":"IFERROR(VLOOKUP(AC4967,CadMP!$B:$D,3,0),\"\")","v":""},{"$f":"IFERROR(VLOOKUP(AD4967,CadMP!$B:$D,3,0),\"\")","v":""},{"$f":"IFERROR(VLOOKUP(AE4967,CadMP!$B:$D,3,0),\"\")","v":""},{"$f":"IFERROR(VLOOKUP(AF4967,CadMP!$B:$D,3,0),\"\")","v":""},{"$f":"IFERROR(VLOOKUP(AG4967,CadMP!$B:$D,3,0),\"\")","v":""},{"$f":"IFERROR(VLOOKUP(AH4967,CadMP!$B:$D,3,0),\"\")","v":""},{"$f":"IFERROR(VLOOKUP(AI4967,CadMP!$B:$D,3,0),\"\")","v":""},{"$f":"IFERROR(VLOOKUP(AJ4967,CadMP!$B:$D,3,0),\"\")","v":""},{"$f":"IFERROR(VLOOKUP(AK4967,CadMP!$B:$D,3,0),\"\")","v":""},0,0,0,0,0,0,0,0,0,0,0,0,0,0,0]
[4967,null,null,0,0,null,null,null,null,null,null,0,0,null,null,null,null,null,null,null,1,0,null,null,null,null,null,null,null,null,null,null,null,null,null,null,null,null,null,null,null,null,null,null,null,null,null,null,null,null,null,null,{"$f":"IFERROR(VLOOKUP(W4968,CadMP!$B:$D,2,0),\"\")","v":""},{"$f":"IFERROR(VLOOKUP(X4968,CadMP!$B:$D,2,0),\"\")","v":""},{"$f":"IFERROR(VLOOKUP(Y4968,CadMP!$B:$D,2,0),\"\")","v":""},{"$f":"IFERROR(VLOOKUP(Z4968,CadMP!$B:$D,2,0),\"\")","v":""},{"$f":"IFERROR(VLOOKUP(AA4968,CadMP!$B:$D,2,0),\"\")","v":""},{"$f":"IFERROR(VLOOKUP(AB4968,CadMP!$B:$D,2,0),\"\")","v":""},{"$f":"IFERROR(VLOOKUP(AC4968,CadMP!$B:$D,2,0),\"\")","v":""},{"$f":"IFERROR(VLOOKUP(AD4968,CadMP!$B:$D,2,0),\"\")","v":""},{"$f":"IFERROR(VLOOKUP(AE4968,CadMP!$B:$D,2,0),\"\")","v":""},{"$f":"IFERROR(VLOOKUP(AF4968,CadMP!$B:$D,2,0),\"\")","v":""},{"$f":"IFERROR(VLOOKUP(AG4968,CadMP!$B:$D,2,0),\"\")","v":""},{"$f":"IFERROR(VLOOKUP(AH4968,CadMP!$B:$D,2,0),\"\")","v":""},{"$f":"IFERROR(VLOOKUP(AI4968,CadMP!$B:$D,2,0),\"\")","v":""},{"$f":"IFERROR(VLOOKUP(AJ4968,CadMP!$B:$D,2,0),\"\")","v":""},{"$f":"IFERROR(VLOOKUP(AK4968,CadMP!$B:$D,2,0),\"\")","v":""},{"$f":"IFERROR(VLOOKUP(W4968,CadMP!$B:$D,3,0),\"\")","v":""},{"$f":"IFERROR(VLOOKUP(X4968,CadMP!$B:$D,3,0),\"\")","v":""},{"$f":"IFERROR(VLOOKUP(Y4968,CadMP!$B:$D,3,0),\"\")","v":""},{"$f":"IFERROR(VLOOKUP(Z4968,CadMP!$B:$D,3,0),\"\")","v":""},{"$f":"IFERROR(VLOOKUP(AA4968,CadMP!$B:$D,3,0),\"\")","v":""},{"$f":"IFERROR(VLOOKUP(AB4968,CadMP!$B:$D,3,0),\"\")","v":""},{"$f":"IFERROR(VLOOKUP(AC4968,CadMP!$B:$D,3,0),\"\")","v":""},{"$f":"IFERROR(VLOOKUP(AD4968,CadMP!$B:$D,3,0),\"\")","v":""},{"$f":"IFERROR(VLOOKUP(AE4968,CadMP!$B:$D,3,0),\"\")","v":""},{"$f":"IFERROR(VLOOKUP(AF4968,CadMP!$B:$D,3,0),\"\")","v":""},{"$f":"IFERROR(VLOOKUP(AG4968,CadMP!$B:$D,3,0),\"\")","v":""},{"$f":"IFERROR(VLOOKUP(AH4968,CadMP!$B:$D,3,0),\"\")","v":""},{"$f":"IFERROR(VLOOKUP(AI4968,CadMP!$B:$D,3,0),\"\")","v":""},{"$f":"IFERROR(VLOOKUP(AJ4968,CadMP!$B:$D,3,0),\"\")","v":""},{"$f":"IFERROR(VLOOKUP(AK4968,CadMP!$B:$D,3,0),\"\")","v":""},0,0,0,0,0,0,0,0,0,0,0,0,0,0,0]
[4968,null,null,0,0,null,null,null,null,null,null,0,0,null,null,null,null,null,null,null,1,0,null,null,null,null,null,null,null,null,null,null,null,null,null,null,null,null,null,null,null,null,null,null,null,null,null,null,null,null,null,null,{"$f":"IFERROR(VLOOKUP(W4969,CadMP!$B:$D,2,0),\"\")","v":""},{"$f":"IFERROR(VLOOKUP(X4969,CadMP!$B:$D,2,0),\"\")","v":""},{"$f":"IFERROR(VLOOKUP(Y4969,CadMP!$B:$D,2,0),\"\")","v":""},{"$f":"IFERROR(VLOOKUP(Z4969,CadMP!$B:$D,2,0),\"\")","v":""},{"$f":"IFERROR(VLOOKUP(AA4969,CadMP!$B:$D,2,0),\"\")","v":""},{"$f":"IFERROR(VLOOKUP(AB4969,CadMP!$B:$D,2,0),\"\")","v":""},{"$f":"IFERROR(VLOOKUP(AC4969,CadMP!$B:$D,2,0),\"\")","v":""},{"$f":"IFERROR(VLOOKUP(AD4969,CadMP!$B:$D,2,0),\"\")","v":""},{"$f":"IFERROR(VLOOKUP(AE4969,CadMP!$B:$D,2,0),\"\")","v":""},{"$f":"IFERROR(VLOOKUP(AF4969,CadMP!$B:$D,2,0),\"\")","v":""},{"$f":"IFERROR(VLOOKUP(AG4969,CadMP!$B:$D,2,0),\"\")","v":""},{"$f":"IFERROR(VLOOKUP(AH4969,CadMP!$B:$D,2,0),\"\")","v":""},{"$f":"IFERROR(VLOOKUP(AI4969,CadMP!$B:$D,2,0),\"\")","v":""},{"$f":"IFERROR(VLOOKUP(AJ4969,CadMP!$B:$D,2,0),\"\")","v":""},{"$f":"IFERROR(VLOOKUP(AK4969,CadMP!$B:$D,2,0),\"\")","v":""},{"$f":"IFERROR(VLOOKUP(W4969,CadMP!$B:$D,3,0),\"\")","v":""},{"$f":"IFERROR(VLOOKUP(X4969,CadMP!$B:$D,3,0),\"\")","v":""},{"$f":"IFERROR(VLOOKUP(Y4969,CadMP!$B:$D,3,0),\"\")","v":""},{"$f":"IFERROR(VLOOKUP(Z4969,CadMP!$B:$D,3,0),\"\")","v":""},{"$f":"IFERROR(VLOOKUP(AA4969,CadMP!$B:$D,3,0),\"\")","v":""},{"$f":"IFERROR(VLOOKUP(AB4969,CadMP!$B:$D,3,0),\"\")","v":""},{"$f":"IFERROR(VLOOKUP(AC4969,CadMP!$B:$D,3,0),\"\")","v":""},{"$f":"IFERROR(VLOOKUP(AD4969,CadMP!$B:$D,3,0),\"\")","v":""},{"$f":"IFERROR(VLOOKUP(AE4969,CadMP!$B:$D,3,0),\"\")","v":""},{"$f":"IFERROR(VLOOKUP(AF4969,CadMP!$B:$D,3,0),\"\")","v":""},{"$f":"IFERROR(VLOOKUP(AG4969,CadMP!$B:$D,3,0),\"\")","v":""},{"$f":"IFERROR(VLOOKUP(AH4969,CadMP!$B:$D,3,0),\"\")","v":""},{"$f":"IFERROR(VLOOKUP(AI4969,CadMP!$B:$D,3,0),\"\")","v":""},{"$f":"IFERROR(VLOOKUP(AJ4969,CadMP!$B:$D,3,0),\"\")","v":""},{"$f":"IFERROR(VLOOKUP(AK4969,CadMP!$B:$D,3,0),\"\")","v":""},0,0,0,0,0,0,0,0,0,0,0,0,0,0,0]
[4969,null,null,0,0,null,null,null,null,null,null,0,0,null,null,null,null,null,null,null,1,0,null,null,null,null,null,null,null,null,null,null,null,null,null,null,null,null,null,null,null,null,null,null,null,null,null,null,null,null,null,null,{"$f":"IFERROR(VLOOKUP(W4970,CadMP!$B:$D,2,0),\"\")","v":""},{"$f":"IFERROR(VLOOKUP(X4970,CadMP!$B:$D,2,0),\"\")","v":""},{"$f":"IFERROR(VLOOKUP(Y4970,CadMP!$B:$D,2,0),\"\")","v":""},{"$f":"IFERROR(VLOOKUP(Z4970,CadMP!$B:$D,2,0),\"\")","v":""},{"$f":"IFERROR(VLOOKUP(AA4970,CadMP!$B:$D,2,0),\"\")","v":""},{"$f":"IFERROR(VLOOKUP(AB4970,CadMP!$B:$D,2,0),\"\")","v":""},{"$f":"IFERROR(VLOOKUP(AC4970,CadMP!$B:$D,2,0),\"\")","v":""},{"$f":"IFERROR(VLOOKUP(AD4970,CadMP!$B:$D,2,0),\"\")","v":""},{"$f":"IFERROR(VLOOKUP(AE4970,CadMP!$B:$D,2,0),\"\")","v":""},{"$f":"IFERROR(VLOOKUP(AF4970,CadMP!$B:$D,2,0),\"\")","v":""},{"$f":"IFERROR(VLOOKUP(AG4970,CadMP!$B:$D,2,0),\"\")","v":""},{"$f":"IFERROR(VLOOKUP(AH4970,CadMP!$B:$D,2,0),\"\")","v":""},{"$f":"IFERROR(VLOOKUP(AI4970,CadMP!$B:$D,2,0),\"\")","v":""},{"$f":"IFERROR(VLOOKUP(AJ4970,CadMP!$B:$D,2,0),\"\")","v":""},{"$f":"IFERROR(VLOOKUP(AK4970,CadMP!$B:$D,2,0),\"\")","v":""},{"$f":"IFERROR(VLOOKUP(W4970,CadMP!$B:$D,3,0),\"\")","v":""},{"$f":"IFERROR(VLOOKUP(X4970,CadMP!$B:$D,3,0),\"\")","v":""},{"$f":"IFERROR(VLOOKUP(Y4970,CadMP!$B:$D,3,0),\"\")","v":""},{"$f":"IFERROR(VLOOKUP(Z4970,CadMP!$B:$D,3,0),\"\")","v":""},{"$f":"IFERROR(VLOOKUP(AA4970,CadMP!$B:$D,3,0),\"\")","v":""},{"$f":"IFERROR(VLOOKUP(AB4970,CadMP!$B:$D,3,0),\"\")","v":""},{"$f":"IFERROR(VLOOKUP(AC4970,CadMP!$B:$D,3,0),\"\")","v":""},{"$f":"IFERROR(VLOOKUP(AD4970,CadMP!$B:$D,3,0),\"\")","v":""},{"$f":"IFERROR(VLOOKUP(AE4970,CadMP!$B:$D,3,0),\"\")","v":""},{"$f":"IFERROR(VLOOKUP(AF4970,CadMP!$B:$D,3,0),\"\")","v":""},{"$f":"IFERROR(VLOOKUP(AG4970,CadMP!$B:$D,3,0),\"\")","v":""},{"$f":"IFERROR(VLOOKUP(AH4970,CadMP!$B:$D,3,0),\"\")","v":""},{"$f":"IFERROR(VLOOKUP(AI4970,CadMP!$B:$D,3,0),\"\")","v":""},{"$f":"IFERROR(VLOOKUP(AJ4970,CadMP!$B:$D,3,0),\"\")","v":""},{"$f":"IFERROR(VLOOKUP(AK4970,CadMP!$B:$D,3,0),\"\")","v":""},0,0,0,0,0,0,0,0,0,0,0,0,0,0,0]
[4970,null,null,0,0,null,null,null,null,null,null,0,0,null,null,null,null,null,null,null,1,0,null,null,null,null,null,null,null,null,null,null,null,null,null,null,null,null,null,null,null,null,null,null,null,null,null,null,null,null,null,null,{"$f":"IFERROR(VLOOKUP(W4971,CadMP!$B:$D,2,0),\"\")","v":""},{"$f":"IFERROR(VLOOKUP(X4971,CadMP!$B:$D,2,0),\"\")","v":""},{"$f":"IFERROR(VLOOKUP(Y4971,CadMP!$B:$D,2,0),\"\")","v":""},{"$f":"IFERROR(VLOOKUP(Z4971,CadMP!$B:$D,2,0),\"\")","v":""},{"$f":"IFERROR(VLOOKUP(AA4971,CadMP!$B:$D,2,0),\"\")","v":""},{"$f":"IFERROR(VLOOKUP(AB4971,CadMP!$B:$D,2,0),\"\")","v":""},{"$f":"IFERROR(VLOOKUP(AC4971,CadMP!$B:$D,2,0),\"\")","v":""},{"$f":"IFERROR(VLOOKUP(AD4971,CadMP!$B:$D,2,0),\"\")","v":""},{"$f":"IFERROR(VLOOKUP(AE4971,CadMP!$B:$D,2,0),\"\")","v":""},{"$f":"IFERROR(VLOOKUP(AF4971,CadMP!$B:$D,2,0),\"\")","v":""},{"$f":"IFERROR(VLOOKUP(AG4971,CadMP!$B:$D,2,0),\"\")","v":""},{"$f":"IFERROR(VLOOKUP(AH4971,CadMP!$B:$D,2,0),\"\")","v":""},{"$f":"IFERROR(VLOOKUP(AI4971,CadMP!$B:$D,2,0),\"\")","v":""},{"$f":"IFERROR(VLOOKUP(AJ4971,CadMP!$B:$D,2,0),\"\")","v":""},{"$f":"IFERROR(VLOOKUP(AK4971,CadMP!$B:$D,2,0),\"\")","v":""},{"$f":"IFERROR(VLOOKUP(W4971,CadMP!$B:$D,3,0),\"\")","v":""},{"$f":"IFERROR(VLOOKUP(X4971,CadMP!$B:$D,3,0),\"\")","v":""},{"$f":"IFERROR(VLOOKUP(Y4971,CadMP!$B:$D,3,0),\"\")","v":""},{"$f":"IFERROR(VLOOKUP(Z4971,CadMP!$B:$D,3,0),\"\")","v":""},{"$f":"IFERROR(VLOOKUP(AA4971,CadMP!$B:$D,3,0),\"\")","v":""},{"$f":"IFERROR(VLOOKUP(AB4971,CadMP!$B:$D,3,0),\"\")","v":""},{"$f":"IFERROR(VLOOKUP(AC4971,CadMP!$B:$D,3,0),\"\")","v":""},{"$f":"IFERROR(VLOOKUP(AD4971,CadMP!$B:$D,3,0),\"\")","v":""},{"$f":"IFERROR(VLOOKUP(AE4971,CadMP!$B:$D,3,0),\"\")","v":""},{"$f":"IFERROR(VLOOKUP(AF4971,CadMP!$B:$D,3,0),\"\")","v":""},{"$f":"IFERROR(VLOOKUP(AG4971,CadMP!$B:$D,3,0),\"\")","v":""},{"$f":"IFERROR(VLOOKUP(AH4971,CadMP!$B:$D,3,0),\"\")","v":""},{"$f":"IFERROR(VLOOKUP(AI4971,CadMP!$B:$D,3,0),\"\")","v":""},{"$f":"IFERROR(VLOOKUP(AJ4971,CadMP!$B:$D,3,0),\"\")","v":""},{"$f":"IFERROR(VLOOKUP(AK4971,CadMP!$B:$D,3,0),\"\")","v":""},0,0,0,0,0,0,0,0,0,0,0,0,0,0,0]
[4971,null,null,0,0,null,null,null,null,null,null,0,0,null,null,null,null,null,null,null,1,0,null,null,null,null,null,null,null,null,null,null,null,null,null,null,null,null,null,null,null,null,null,null,null,null,null,null,null,null,null,null,{"$f":"IFERROR(VLOOKUP(W4972,CadMP!$B:$D,2,0),\"\")","v":""},{"$f":"IFERROR(VLOOKUP(X4972,CadMP!$B:$D,2,0),\"\")","v":""},{"$f":"IFERROR(VLOOKUP(Y4972,CadMP!$B:$D,2,0),\"\")","v":""},{"$f":"IFERROR(VLOOKUP(Z4972,CadMP!$B:$D,2,0),\"\")","v":""},{"$f":"IFERROR(VLOOKUP(AA4972,CadMP!$B:$D,2,0),\"\")","v":""},{"$f":"IFERROR(VLOOKUP(AB4972,CadMP!$B:$D,2,0),\"\")","v":""},{"$f":"IFERROR(VLOOKUP(AC4972,CadMP!$B:$D,2,0),\"\")","v":""},{"$f":"IFERROR(VLOOKUP(AD4972,CadMP!$B:$D,2,0),\"\")","v":""},{"$f":"IFERROR(VLOOKUP(AE4972,CadMP!$B:$D,2,0),\"\")","v":""},{"$f":"IFERROR(VLOOKUP(AF4972,CadMP!$B:$D,2,0),\"\")","v":""},{"$f":"IFERROR(VLOOKUP(AG4972,CadMP!$B:$D,2,0),\"\")","v":""},{"$f":"IFERROR(VLOOKUP(AH4972,CadMP!$B:$D,2,0),\"\")","v":""},{"$f":"IFERROR(VLOOKUP(AI4972,CadMP!$B:$D,2,0),\"\")","v":""},{"$f":"IFERROR(VLOOKUP(AJ4972,CadMP!$B:$D,2,0),\"\")","v":""},{"$f":"IFERROR(VLOOKUP(AK4972,CadMP!$B:$D,2,0),\"\")","v":""},{"$f":"IFERROR(VLOOKUP(W4972,CadMP!$B:$D,3,0),\"\")","v":""},{"$f":"IFERROR(VLOOKUP(X4972,CadMP!$B:$D,3,0),\"\")","v":""},{"$f":"IFERROR(VLOOKUP(Y4972,CadMP!$B:$D,3,0),\"\")","v":""},{"$f":"IFERROR(VLOOKUP(Z4972,CadMP!$B:$D,3,0),\"\")","v":""},{"$f":"IFERROR(VLOOKUP(AA4972,CadMP!$B:$D,3,0),\"\")","v":""},{"$f":"IFERROR(VLOOKUP(AB4972,CadMP!$B:$D,3,0),\"\")","v":""},{"$f":"IFERROR(VLOOKUP(AC4972,CadMP!$B:$D,3,0),\"\")","v":""},{"$f":"IFERROR(VLOOKUP(AD4972,CadMP!$B:$D,3,0),\"\")","v":""},{"$f":"IFERROR(VLOOKUP(AE4972,CadMP!$B:$D,3,0),\"\")","v":""},{"$f":"IFERROR(VLOOKUP(AF4972,CadMP!$B:$D,3,0),\"\")","v":""},{"$f":"IFERROR(VLOOKUP(AG4972,CadMP!$B:$D,3,0),\"\")","v":""},{"$f":"IFERROR(VLOOKUP(AH4972,CadMP!$B:$D,3,0),\"\")","v":""},{"$f":"IFERROR(VLOOKUP(AI4972,CadMP!$B:$D,3,0),\"\")","v":""},{"$f":"IFERROR(VLOOKUP(AJ4972,CadMP!$B:$D,3,0),\"\")","v":""},{"$f":"IFERROR(VLOOKUP(AK4972,CadMP!$B:$D,3,0),\"\")","v":""},0,0,0,0,0,0,0,0,0,0,0,0,0,0,0]
[4972,null,null,0,0,null,null,null,null,null,null,0,0,null,null,null,null,null,null,null,1,0,null,null,null,null,null,null,null,null,null,null,null,null,null,null,null,null,null,null,null,null,null,null,null,null,null,null,null,null,null,null,{"$f":"IFERROR(VLOOKUP(W4973,CadMP!$B:$D,2,0),\"\")","v":""},{"$f":"IFERROR(VLOOKUP(X4973,CadMP!$B:$D,2,0),\"\")","v":""},{"$f":"IFERROR(VLOOKUP(Y4973,CadMP!$B:$D,2,0),\"\")","v":""},{"$f":"IFERROR(VLOOKUP(Z4973,CadMP!$B:$D,2,0),\"\")","v":""},{"$f":"IFERROR(VLOOKUP(AA4973,CadMP!$B:$D,2,0),\"\")","v":""},{"$f":"IFERROR(VLOOKUP(AB4973,CadMP!$B:$D,2,0),\"\")","v":""},{"$f":"IFERROR(VLOOKUP(AC4973,CadMP!$B:$D,2,0),\"\")","v":""},{"$f":"IFERROR(VLOOKUP(AD4973,CadMP!$B:$D,2,0),\"\")","v":""},{"$f":"IFERROR(VLOOKUP(AE4973,CadMP!$B:$D,2,0),\"\")","v":""},{"$f":"IFERROR(VLOOKUP(AF4973,CadMP!$B:$D,2,0),\"\")","v":""},{"$f":"IFERROR(VLOOKUP(AG4973,CadMP!$B:$D,2,0),\"\")","v":""},{"$f":"IFERROR(VLOOKUP(AH4973,CadMP!$B:$D,2,0),\"\")","v":""},{"$f":"IFERROR(VLOOKUP(AI4973,CadMP!$B:$D,2,0),\"\")","v":""},{"$f":"IFERROR(VLOOKUP(AJ4973,CadMP!$B:$D,2,0),\"\")","v":""},{"$f":"IFERROR(VLOOKUP(AK4973,CadMP!$B:$D,2,0),\"\")","v":""},{"$f":"IFERROR(VLOOKUP(W4973,CadMP!$B:$D,3,0),\"\")","v":""},{"$f":"IFERROR(VLOOKUP(X4973,CadMP!$B:$D,3,0),\"\")","v":""},{"$f":"IFERROR(VLOOKUP(Y4973,CadMP!$B:$D,3,0),\"\")","v":""},{"$f":"IFERROR(VLOOKUP(Z4973,CadMP!$B:$D,3,0),\"\")","v":""},{"$f":"IFERROR(VLOOKUP(AA4973,CadMP!$B:$D,3,0),\"\")","v":""},{"$f":"IFERROR(VLOOKUP(AB4973,CadMP!$B:$D,3,0),\"\")","v":""},{"$f":"IFERROR(VLOOKUP(AC4973,CadMP!$B:$D,3,0),\"\")","v":""},{"$f":"IFERROR(VLOOKUP(AD4973,CadMP!$B:$D,3,0),\"\")","v":""},{"$f":"IFERROR(VLOOKUP(AE4973,CadMP!$B:$D,3,0),\"\")","v":""},{"$f":"IFERROR(VLOOKUP(AF4973,CadMP!$B:$D,3,0),\"\")","v":""},{"$f":"IFERROR(VLOOKUP(AG4973,CadMP!$B:$D,3,0),\"\")","v":""},{"$f":"IFERROR(VLOOKUP(AH4973,CadMP!$B:$D,3,0),\"\")","v":""},{"$f":"IFERROR(VLOOKUP(AI4973,CadMP!$B:$D,3,0),\"\")","v":""},{"$f":"IFERROR(VLOOKUP(AJ4973,CadMP!$B:$D,3,0),\"\")","v":""},{"$f":"IFERROR(VLOOKUP(AK4973,CadMP!$B:$D,3,0),\"\")","v":""},0,0,0,0,0,0,0,0,0,0,0,0,0,0,0]
[4973,null,null,0,0,null,null,null,null,null,null,0,0,null,null,null,null,null,null,null,1,0,null,null,null,null,null,null,null,null,null,null,null,null,null,null,null,null,null,null,null,null,null,null,null,null,null,null,null,null,null,null,{"$f":"IFERROR(VLOOKUP(W4974,CadMP!$B:$D,2,0),\"\")","v":""},{"$f":"IFERROR(VLOOKUP(X4974,CadMP!$B:$D,2,0),\"\")","v":""},{"$f":"IFERROR(VLOOKUP(Y4974,CadMP!$B:$D,2,0),\"\")","v":""},{"$f":"IFERROR(VLOOKUP(Z4974,CadMP!$B:$D,2,0),\"\")","v":""},{"$f":"IFERROR(VLOOKUP(AA4974,CadMP!$B:$D,2,0),\"\")","v":""},{"$f":"IFERROR(VLOOKUP(AB4974,CadMP!$B:$D,2,0),\"\")","v":""},{"$f":"IFERROR(VLOOKUP(AC4974,CadMP!$B:$D,2,0),\"\")","v":""},{"$f":"IFERROR(VLOOKUP(AD4974,CadMP!$B:$D,2,0),\"\")","v":""},{"$f":"IFERROR(VLOOKUP(AE4974,CadMP!$B:$D,2,0),\"\")","v":""},{"$f":"IFERROR(VLOOKUP(AF4974,CadMP!$B:$D,2,0),\"\")","v":""},{"$f":"IFERROR(VLOOKUP(AG4974,CadMP!$B:$D,2,0),\"\")","v":""},{"$f":"IFERROR(VLOOKUP(AH4974,CadMP!$B:$D,2,0),\"\")","v":""},{"$f":"IFERROR(VLOOKUP(AI4974,CadMP!$B:$D,2,0),\"\")","v":""},{"$f":"IFERROR(VLOOKUP(AJ4974,CadMP!$B:$D,2,0),\"\")","v":""},{"$f":"IFERROR(VLOOKUP(AK4974,CadMP!$B:$D,2,0),\"\")","v":""},{"$f":"IFERROR(VLOOKUP(W4974,CadMP!$B:$D,3,0),\"\")","v":""},{"$f":"IFERROR(VLOOKUP(X4974,CadMP!$B:$D,3,0),\"\")","v":""},{"$f":"IFERROR(VLOOKUP(Y4974,CadMP!$B:$D,3,0),\"\")","v":""},{"$f":"IFERROR(VLOOKUP(Z4974,CadMP!$B:$D,3,0),\"\")","v":""},{"$f":"IFERROR(VLOOKUP(AA4974,CadMP!$B:$D,3,0),\"\")","v":""},{"$f":"IFERROR(VLOOKUP(AB4974,CadMP!$B:$D,3,0),\"\")","v":""},{"$f":"IFERROR(VLOOKUP(AC4974,CadMP!$B:$D,3,0),\"\")","v":""},{"$f":"IFERROR(VLOOKUP(AD4974,CadMP!$B:$D,3,0),\"\")","v":""},{"$f":"IFERROR(VLOOKUP(AE4974,CadMP!$B:$D,3,0),\"\")","v":""},{"$f":"IFERROR(VLOOKUP(AF4974,CadMP!$B:$D,3,0),\"\")","v":""},{"$f":"IFERROR(VLOOKUP(AG4974,CadMP!$B:$D,3,0),\"\")","v":""},{"$f":"IFERROR(VLOOKUP(AH4974,CadMP!$B:$D,3,0),\"\")","v":""},{"$f":"IFERROR(VLOOKUP(AI4974,CadMP!$B:$D,3,0),\"\")","v":""},{"$f":"IFERROR(VLOOKUP(AJ4974,CadMP!$B:$D,3,0),\"\")","v":""},{"$f":"IFERROR(VLOOKUP(AK4974,CadMP!$B:$D,3,0),\"\")","v":""},0,0,0,0,0,0,0,0,0,0,0,0,0,0,0]
[4974,null,null,0,0,null,null,null,null,null,null,0,0,null,null,null,null,null,null,null,1,0,null,null,null,null,null,null,null,null,null,null,null,null,null,null,null,null,null,null,null,null,null,null,null,null,null,null,null,null,null,null,{"$f":"IFERROR(VLOOKUP(W4975,CadMP!$B:$D,2,0),\"\")","v":""},{"$f":"IFERROR(VLOOKUP(X4975,CadMP!$B:$D,2,0),\"\")","v":""},{"$f":"IFERROR(VLOOKUP(Y4975,CadMP!$B:$D,2,0),\"\")","v":""},{"$f":"IFERROR(VLOOKUP(Z4975,CadMP!$B:$D,2,0),\"\")","v":""},{"$f":"IFERROR(VLOOKUP(AA4975,CadMP!$B:$D,2,0),\"\")","v":""},{"$f":"IFERROR(VLOOKUP(AB4975,CadMP!$B:$D,2,0),\"\")","v":""},{"$f":"IFERROR(VLOOKUP(AC4975,CadMP!$B:$D,2,0),\"\")","v":""},{"$f":"IFERROR(VLOOKUP(AD4975,CadMP!$B:$D,2,0),\"\")","v":""},{"$f":"IFERROR(VLOOKUP(AE4975,CadMP!$B:$D,2,0),\"\")","v":""},{"$f":"IFERROR(VLOOKUP(AF4975,CadMP!$B:$D,2,0),\"\")","v":""},{"$f":"IFERROR(VLOOKUP(AG4975,CadMP!$B:$D,2,0),\"\")","v":""},{"$f":"IFERROR(VLOOKUP(AH4975,CadMP!$B:$D,2,0),\"\")","v":""},{"$f":"IFERROR(VLOOKUP(AI4975,CadMP!$B:$D,2,0),\"\")","v":""},{"$f":"IFERROR(VLOOKUP(AJ4975,CadMP!$B:$D,2,0),\"\")","v":""},{"$f":"IFERROR(VLOOKUP(AK4975,CadMP!$B:$D,2,0),\"\")","v":""},{"$f":"IFERROR(VLOOKUP(W4975,CadMP!$B:$D,3,0),\"\")","v":""},{"$f":"IFERROR(VLOOKUP(X4975,CadMP!$B:$D,3,0),\"\")","v":""},{"$f":"IFERROR(VLOOKUP(Y4975,CadMP!$B:$D,3,0),\"\")","v":""},{"$f":"IFERROR(VLOOKUP(Z4975,CadMP!$B:$D,3,0),\"\")","v":""},{"$f":"IFERROR(VLOOKUP(AA4975,CadMP!$B:$D,3,0),\"\")","v":""},{"$f":"IFERROR(VLOOKUP(AB4975,CadMP!$B:$D,3,0),\"\")","v":""},{"$f":"IFERROR(VLOOKUP(AC4975,CadMP!$B:$D,3,0),\"\")","v":""},{"$f":"IFERROR(VLOOKUP(AD4975,CadMP!$B:$D,3,0),\"\")","v":""},{"$f":"IFERROR(VLOOKUP(AE4975,CadMP!$B:$D,3,0),\"\")","v":""},{"$f":"IFERROR(VLOOKUP(AF4975,CadMP!$B:$D,3,0),\"\")","v":""},{"$f":"IFERROR(VLOOKUP(AG4975,CadMP!$B:$D,3,0),\"\")","v":""},{"$f":"IFERROR(VLOOKUP(AH4975,CadMP!$B:$D,3,0),\"\")","v":""},{"$f":"IFERROR(VLOOKUP(AI4975,CadMP!$B:$D,3,0),\"\")","v":""},{"$f":"IFERROR(VLOOKUP(AJ4975,CadMP!$B:$D,3,0),\"\")","v":""},{"$f":"IFERROR(VLOOKUP(AK4975,CadMP!$B:$D,3,0),\"\")","v":""},0,0,0,0,0,0,0,0,0,0,0,0,0,0,0]
[4975,null,null,0,0,null,null,null,null,null,null,0,0,null,null,null,null,null,null,null,1,0,null,null,null,null,null,null,null,null,null,null,null,null,null,null,null,null,null,null,null,null,null,null,null,null,null,null,null,null,null,null,{"$f":"IFERROR(VLOOKUP(W4976,CadMP!$B:$D,2,0),\"\")","v":""},{"$f":"IFERROR(VLOOKUP(X4976,CadMP!$B:$D,2,0),\"\")","v":""},{"$f":"IFERROR(VLOOKUP(Y4976,CadMP!$B:$D,2,0),\"\")","v":""},{"$f":"IFERROR(VLOOKUP(Z4976,CadMP!$B:$D,2,0),\"\")","v":""},{"$f":"IFERROR(VLOOKUP(AA4976,CadMP!$B:$D,2,0),\"\")","v":""},{"$f":"IFERROR(VLOOKUP(AB4976,CadMP!$B:$D,2,0),\"\")","v":""},{"$f":"IFERROR(VLOOKUP(AC4976,CadMP!$B:$D,2,0),\"\")","v":""},{"$f":"IFERROR(VLOOKUP(AD4976,CadMP!$B:$D,2,0),\"\")","v":""},{"$f":"IFERROR(VLOOKUP(AE4976,CadMP!$B:$D,2,0),\"\")","v":""},{"$f":"IFERROR(VLOOKUP(AF4976,CadMP!$B:$D,2,0),\"\")","v":""},{"$f":"IFERROR(VLOOKUP(AG4976,CadMP!$B:$D,2,0),\"\")","v":""},{"$f":"IFERROR(VLOOKUP(AH4976,CadMP!$B:$D,2,0),\"\")","v":""},{"$f":"IFERROR(VLOOKUP(AI4976,CadMP!$B:$D,2,0),\"\")","v":""},{"$f":"IFERROR(VLOOKUP(AJ4976,CadMP!$B:$D,2,0),\"\")","v":""},{"$f":"IFERROR(VLOOKUP(AK4976,CadMP!$B:$D,2,0),\"\")","v":""},{"$f":"IFERROR(VLOOKUP(W4976,CadMP!$B:$D,3,0),\"\")","v":""},{"$f":"IFERROR(VLOOKUP(X4976,CadMP!$B:$D,3,0),\"\")","v":""},{"$f":"IFERROR(VLOOKUP(Y4976,CadMP!$B:$D,3,0),\"\")","v":""},{"$f":"IFERROR(VLOOKUP(Z4976,CadMP!$B:$D,3,0),\"\")","v":""},{"$f":"IFERROR(VLOOKUP(AA4976,CadMP!$B:$D,3,0),\"\")","v":""},{"$f":"IFERROR(VLOOKUP(AB4976,CadMP!$B:$D,3,0),\"\")","v":""},{"$f":"IFERROR(VLOOKUP(AC4976,CadMP!$B:$D,3,0),\"\")","v":""},{"$f":"IFERROR(VLOOKUP(AD4976,CadMP!$B:$D,3,0),\"\")","v":""},{"$f":"IFERROR(VLOOKUP(AE4976,CadMP!$B:$D,3,0),\"\")","v":""},{"$f":"IFERROR(VLOOKUP(AF4976,CadMP!$B:$D,3,0),\"\")","v":""},{"$f":"IFERROR(VLOOKUP(AG4976,CadMP!$B:$D,3,0),\"\")","v":""},{"$f":"IFERROR(VLOOKUP(AH4976,CadMP!$B:$D,3,0),\"\")","v":""},{"$f":"IFERROR(VLOOKUP(AI4976,CadMP!$B:$D,3,0),\"\")","v":""},{"$f":"IFERROR(VLOOKUP(AJ4976,CadMP!$B:$D,3,0),\"\")","v":""},{"$f":"IFERROR(VLOOKUP(AK4976,CadMP!$B:$D,3,0),\"\")","v":""},0,0,0,0,0,0,0,0,0,0,0,0,0,0,0]
[4976,null,null,0,0,null,null,null,null,null,null,0,0,null,null,null,null,null,null,null,1,0,null,null,null,null,null,null,null,null,null,null,null,null,null,null,null,null,null,null,null,null,null,null,null,null,null,null,null,null,null,null,{"$f":"IFERROR(VLOOKUP(W4977,CadMP!$B:$D,2,0),\"\")","v":""},{"$f":"IFERROR(VLOOKUP(X4977,CadMP!$B:$D,2,0),\"\")","v":""},{"$f":"IFERROR(VLOOKUP(Y4977,CadMP!$B:$D,2,0),\"\")","v":""},{"$f":"IFERROR(VLOOKUP(Z4977,CadMP!$B:$D,2,0),\"\")","v":""},{"$f":"IFERROR(VLOOKUP(AA4977,CadMP!$B:$D,2,0),\"\")","v":""},{"$f":"IFERROR(VLOOKUP(AB4977,CadMP!$B:$D,2,0),\"\")","v":""},{"$f":"IFERROR(VLOOKUP(AC4977,CadMP!$B:$D,2,0),\"\")","v":""},{"$f":"IFERROR(VLOOKUP(AD4977,CadMP!$B:$D,2,0),\"\")","v":""},{"$f":"IFERROR(VLOOKUP(AE4977,CadMP!$B:$D,2,0),\"\")","v":""},{"$f":"IFERROR(VLOOKUP(AF4977,CadMP!$B:$D,2,0),\"\")","v":""},{"$f":"IFERROR(VLOOKUP(AG4977,CadMP!$B:$D,2,0),\"\")","v":""},{"$f":"IFERROR(VLOOKUP(AH4977,CadMP!$B:$D,2,0),\"\")","v":""},{"$f":"IFERROR(VLOOKUP(AI4977,CadMP!$B:$D,2,0),\"\")","v":""},{"$f":"IFERROR(VLOOKUP(AJ4977,CadMP!$B:$D,2,0),\"\")","v":""},{"$f":"IFERROR(VLOOKUP(AK4977,CadMP!$B:$D,2,0),\"\")","v":""},{"$f":"IFERROR(VLOOKUP(W4977,CadMP!$B:$D,3,0),\"\")","v":""},{"$f":"IFERROR(VLOOKUP(X4977,CadMP!$B:$D,3,0),\"\")","v":""},{"$f":"IFERROR(VLOOKUP(Y4977,CadMP!$B:$D,3,0),\"\")","v":""},{"$f":"IFERROR(VLOOKUP(Z4977,CadMP!$B:$D,3,0),\"\")","v":""},{"$f":"IFERROR(VLOOKUP(AA4977,CadMP!$B:$D,3,0),\"\")","v":""},{"$f":"IFERROR(VLOOKUP(AB4977,CadMP!$B:$D,3,0),\"\")","v":""},{"$f":"IFERROR(VLOOKUP(AC4977,CadMP!$B:$D,3,0),\"\")","v":""},{"$f":"IFERROR(VLOOKUP(AD4977,CadMP!$B:$D,3,0),\"\")","v":""},{"$f":"IFERROR(VLOOKUP(AE4977,CadMP!$B:$D,3,0),\"\")","v":""},{"$f":"IFERROR(VLOOKUP(AF4977,CadMP!$B:$D,3,0),\"\")","v":""},{"$f":"IFERROR(VLOOKUP(AG4977,CadMP!$B:$D,3,0),\"\")","v":""},{"$f":"IFERROR(VLOOKUP(AH4977,CadMP!$B:$D,3,0),\"\")","v":""},{"$f":"IFERROR(VLOOKUP(AI4977,CadMP!$B:$D,3,0),\"\")","v":""},{"$f":"IFERROR(VLOOKUP(AJ4977,CadMP!$B:$D,3,0),\"\")","v":""},{"$f":"IFERROR(VLOOKUP(AK4977,CadMP!$B:$D,3,0),\"\")","v":""},0,0,0,0,0,0,0,0,0,0,0,0,0,0,0]
[4977,null,null,0,0,null,null,null,null,null,null,0,0,null,null,null,null,null,null,null,1,0,null,null,null,null,null,null,null,null,null,null,null,null,null,null,null,null,null,null,null,null,null,null,null,null,null,null,null,null,null,null,{"$f":"IFERROR(VLOOKUP(W4978,CadMP!$B:$D,2,0),\"\")","v":""},{"$f":"IFERROR(VLOOKUP(X4978,CadMP!$B:$D,2,0),\"\")","v":""},{"$f":"IFERROR(VLOOKUP(Y4978,CadMP!$B:$D,2,0),\"\")","v":""},{"$f":"IFERROR(VLOOKUP(Z4978,CadMP!$B:$D,2,0),\"\")","v":""},{"$f":"IFERROR(VLOOKUP(AA4978,CadMP!$B:$D,2,0),\"\")","v":""},{"$f":"IFERROR(VLOOKUP(AB4978,CadMP!$B:$D,2,0),\"\")","v":""},{"$f":"IFERROR(VLOOKUP(AC4978,CadMP!$B:$D,2,0),\"\")","v":""},{"$f":"IFERROR(VLOOKUP(AD4978,CadMP!$B:$D,2,0),\"\")","v":""},{"$f":"IFERROR(VLOOKUP(AE4978,CadMP!$B:$D,2,0),\"\")","v":""},{"$f":"IFERROR(VLOOKUP(AF4978,CadMP!$B:$D,2,0),\"\")","v":""},{"$f":"IFERROR(VLOOKUP(AG4978,CadMP!$B:$D,2,0),\"\")","v":""},{"$f":"IFERROR(VLOOKUP(AH4978,CadMP!$B:$D,2,0),\"\")","v":""},{"$f":"IFERROR(VLOOKUP(AI4978,CadMP!$B:$D,2,0),\"\")","v":""},{"$f":"IFERROR(VLOOKUP(AJ4978,CadMP!$B:$D,2,0),\"\")","v":""},{"$f":"IFERROR(VLOOKUP(AK4978,CadMP!$B:$D,2,0),\"\")","v":""},{"$f":"IFERROR(VLOOKUP(W4978,CadMP!$B:$D,3,0),\"\")","v":""},{"$f":"IFERROR(VLOOKUP(X4978,CadMP!$B:$D,3,0),\"\")","v":""},{"$f":"IFERROR(VLOOKUP(Y4978,CadMP!$B:$D,3,0),\"\")","v":""},{"$f":"IFERROR(VLOOKUP(Z4978,CadMP!$B:$D,3,0),\"\")","v":""},{"$f":"IFERROR(VLOOKUP(AA4978,CadMP!$B:$D,3,0),\"\")","v":""},{"$f":"IFERROR(VLOOKUP(AB4978,CadMP!$B:$D,3,0),\"\")","v":""},{"$f":"IFERROR(VLOOKUP(AC4978,CadMP!$B:$D,3,0),\"\")","v":""},{"$f":"IFERROR(VLOOKUP(AD4978,CadMP!$B:$D,3,0),\"\")","v":""},{"$f":"IFERROR(VLOOKUP(AE4978,CadMP!$B:$D,3,0),\"\")","v":""},{"$f":"IFERROR(VLOOKUP(AF4978,CadMP!$B:$D,3,0),\"\")","v":""},{"$f":"IFERROR(VLOOKUP(AG4978,CadMP!$B:$D,3,0),\"\")","v":""},{"$f":"IFERROR(VLOOKUP(AH4978,CadMP!$B:$D,3,0),\"\")","v":""},{"$f":"IFERROR(VLOOKUP(AI4978,CadMP!$B:$D,3,0),\"\")","v":""},{"$f":"IFERROR(VLOOKUP(AJ4978,CadMP!$B:$D,3,0),\"\")","v":""},{"$f":"IFERROR(VLOOKUP(AK4978,CadMP!$B:$D,3,0),\"\")","v":""},0,0,0,0,0,0,0,0,0,0,0,0,0,0,0]
[4978,null,null,0,0,null,null,null,null,null,null,0,0,null,null,null,null,null,null,null,1,0,null,null,null,null,null,null,null,null,null,null,null,null,null,null,null,null,null,null,null,null,null,null,null,null,null,null,null,null,null,null,{"$f":"IFERROR(VLOOKUP(W4979,CadMP!$B:$D,2,0),\"\")","v":""},{"$f":"IFERROR(VLOOKUP(X4979,CadMP!$B:$D,2,0),\"\")","v":""},{"$f":"IFERROR(VLOOKUP(Y4979,CadMP!$B:$D,2,0),\"\")","v":""},{"$f":"IFERROR(VLOOKUP(Z4979,CadMP!$B:$D,2,0),\"\")","v":""},{"$f":"IFERROR(VLOOKUP(AA4979,CadMP!$B:$D,2,0),\"\")","v":""},{"$f":"IFERROR(VLOOKUP(AB4979,CadMP!$B:$D,2,0),\"\")","v":""},{"$f":"IFERROR(VLOOKUP(AC4979,CadMP!$B:$D,2,0),\"\")","v":""},{"$f":"IFERROR(VLOOKUP(AD4979,CadMP!$B:$D,2,0),\"\")","v":""},{"$f":"IFERROR(VLOOKUP(AE4979,CadMP!$B:$D,2,0),\"\")","v":""},{"$f":"IFERROR(VLOOKUP(AF4979,CadMP!$B:$D,2,0),\"\")","v":""},{"$f":"IFERROR(VLOOKUP(AG4979,CadMP!$B:$D,2,0),\"\")","v":""},{"$f":"IFERROR(VLOOKUP(AH4979,CadMP!$B:$D,2,0),\"\")","v":""},{"$f":"IFERROR(VLOOKUP(AI4979,CadMP!$B:$D,2,0),\"\")","v":""},{"$f":"IFERROR(VLOOKUP(AJ4979,CadMP!$B:$D,2,0),\"\")","v":""},{"$f":"IFERROR(VLOOKUP(AK4979,CadMP!$B:$D,2,0),\"\")","v":""},{"$f":"IFERROR(VLOOKUP(W4979,CadMP!$B:$D,3,0),\"\")","v":""},{"$f":"IFERROR(VLOOKUP(X4979,CadMP!$B:$D,3,0),\"\")","v":""},{"$f":"IFERROR(VLOOKUP(Y4979,CadMP!$B:$D,3,0),\"\")","v":""},{"$f":"IFERROR(VLOOKUP(Z4979,CadMP!$B:$D,3,0),\"\")","v":""},{"$f":"IFERROR(VLOOKUP(AA4979,CadMP!$B:$D,3,0),\"\")","v":""},{"$f":"IFERROR(VLOOKUP(AB4979,CadMP!$B:$D,3,0),\"\")","v":""},{"$f":"IFERROR(VLOOKUP(AC4979,CadMP!$B:$D,3,0),\"\")","v":""},{"$f":"IFERROR(VLOOKUP(AD4979,CadMP!$B:$D,3,0),\"\")","v":""},{"$f":"IFERROR(VLOOKUP(AE4979,CadMP!$B:$D,3,0),\"\")","v":""},{"$f":"IFERROR(VLOOKUP(AF4979,CadMP!$B:$D,3,0),\"\")","v":""},{"$f":"IFERROR(VLOOKUP(AG4979,CadMP!$B:$D,3,0),\"\")","v":""},{"$f":"IFERROR(VLOOKUP(AH4979,CadMP!$B:$D,3,0),\"\")","v":""},{"$f":"IFERROR(VLOOKUP(AI4979,CadMP!$B:$D,3,0),\"\")","v":""},{"$f":"IFERROR(VLOOKUP(AJ4979,CadMP!$B:$D,3,0),\"\")","v":""},{"$f":"IFERROR(VLOOKUP(AK4979,CadMP!$B:$D,3,0),\"\")","v":""},0,0,0,0,0,0,0,0,0,0,0,0,0,0,0]
[4979,null,null,0,0,null,null,null,null,null,null,0,0,null,null,null,null,null,null,null,1,0,null,null,null,null,null,null,null,null,null,null,null,null,null,null,null,null,null,null,null,null,null,null,null,null,null,null,null,null,null,null,{"$f":"IFERROR(VLOOKUP(W4980,CadMP!$B:$D,2,0),\"\")","v":""},{"$f":"IFERROR(VLOOKUP(X4980,CadMP!$B:$D,2,0),\"\")","v":""},{"$f":"IFERROR(VLOOKUP(Y4980,CadMP!$B:$D,2,0),\"\")","v":""},{"$f":"IFERROR(VLOOKUP(Z4980,CadMP!$B:$D,2,0),\"\")","v":""},{"$f":"IFERROR(VLOOKUP(AA4980,CadMP!$B:$D,2,0),\"\")","v":""},{"$f":"IFERROR(VLOOKUP(AB4980,CadMP!$B:$D,2,0),\"\")","v":""},{"$f":"IFERROR(VLOOKUP(AC4980,CadMP!$B:$D,2,0),\"\")","v":""},{"$f":"IFERROR(VLOOKUP(AD4980,CadMP!$B:$D,2,0),\"\")","v":""},{"$f":"IFERROR(VLOOKUP(AE4980,CadMP!$B:$D,2,0),\"\")","v":""},{"$f":"IFERROR(VLOOKUP(AF4980,CadMP!$B:$D,2,0),\"\")","v":""},{"$f":"IFERROR(VLOOKUP(AG4980,CadMP!$B:$D,2,0),\"\")","v":""},{"$f":"IFERROR(VLOOKUP(AH4980,CadMP!$B:$D,2,0),\"\")","v":""},{"$f":"IFERROR(VLOOKUP(AI4980,CadMP!$B:$D,2,0),\"\")","v":""},{"$f":"IFERROR(VLOOKUP(AJ4980,CadMP!$B:$D,2,0),\"\")","v":""},{"$f":"IFERROR(VLOOKUP(AK4980,CadMP!$B:$D,2,0),\"\")","v":""},{"$f":"IFERROR(VLOOKUP(W4980,CadMP!$B:$D,3,0),\"\")","v":""},{"$f":"IFERROR(VLOOKUP(X4980,CadMP!$B:$D,3,0),\"\")","v":""},{"$f":"IFERROR(VLOOKUP(Y4980,CadMP!$B:$D,3,0),\"\")","v":""},{"$f":"IFERROR(VLOOKUP(Z4980,CadMP!$B:$D,3,0),\"\")","v":""},{"$f":"IFERROR(VLOOKUP(AA4980,CadMP!$B:$D,3,0),\"\")","v":""},{"$f":"IFERROR(VLOOKUP(AB4980,CadMP!$B:$D,3,0),\"\")","v":""},{"$f":"IFERROR(VLOOKUP(AC4980,CadMP!$B:$D,3,0),\"\")","v":""},{"$f":"IFERROR(VLOOKUP(AD4980,CadMP!$B:$D,3,0),\"\")","v":""},{"$f":"IFERROR(VLOOKUP(AE4980,CadMP!$B:$D,3,0),\"\")","v":""},{"$f":"IFERROR(VLOOKUP(AF4980,CadMP!$B:$D,3,0),\"\")","v":""},{"$f":"IFERROR(VLOOKUP(AG4980,CadMP!$B:$D,3,0),\"\")","v":""},{"$f":"IFERROR(VLOOKUP(AH4980,CadMP!$B:$D,3,0),\"\")","v":""},{"$f":"IFERROR(VLOOKUP(AI4980,CadMP!$B:$D,3,0),\"\")","v":""},{"$f":"IFERROR(VLOOKUP(AJ4980,CadMP!$B:$D,3,0),\"\")","v":""},{"$f":"IFERROR(VLOOKUP(AK4980,CadMP!$B:$D,3,0),\"\")","v":""},0,0,0,0,0,0,0,0,0,0,0,0,0,0,0]
[4980,null,null,0,0,null,null,null,null,null,null,0,0,null,null,null,null,null,null,null,1,0,null,null,null,null,null,null,null,null,null,null,null,null,null,null,null,null,null,null,null,null,null,null,null,null,null,null,null,null,null,null,{"$f":"IFERROR(VLOOKUP(W4981,CadMP!$B:$D,2,0),\"\")","v":""},{"$f":"IFERROR(VLOOKUP(X4981,CadMP!$B:$D,2,0),\"\")","v":""},{"$f":"IFERROR(VLOOKUP(Y4981,CadMP!$B:$D,2,0),\"\")","v":""},{"$f":"IFERROR(VLOOKUP(Z4981,CadMP!$B:$D,2,0),\"\")","v":""},{"$f":"IFERROR(VLOOKUP(AA4981,CadMP!$B:$D,2,0),\"\")","v":""},{"$f":"IFERROR(VLOOKUP(AB4981,CadMP!$B:$D,2,0),\"\")","v":""},{"$f":"IFERROR(VLOOKUP(AC4981,CadMP!$B:$D,2,0),\"\")","v":""},{"$f":"IFERROR(VLOOKUP(AD4981,CadMP!$B:$D,2,0),\"\")","v":""},{"$f":"IFERROR(VLOOKUP(AE4981,CadMP!$B:$D,2,0),\"\")","v":""},{"$f":"IFERROR(VLOOKUP(AF4981,CadMP!$B:$D,2,0),\"\")","v":""},{"$f":"IFERROR(VLOOKUP(AG4981,CadMP!$B:$D,2,0),\"\")","v":""},{"$f":"IFERROR(VLOOKUP(AH4981,CadMP!$B:$D,2,0),\"\")","v":""},{"$f":"IFERROR(VLOOKUP(AI4981,CadMP!$B:$D,2,0),\"\")","v":""},{"$f":"IFERROR(VLOOKUP(AJ4981,CadMP!$B:$D,2,0),\"\")","v":""},{"$f":"IFERROR(VLOOKUP(AK4981,CadMP!$B:$D,2,0),\"\")","v":""},{"$f":"IFERROR(VLOOKUP(W4981,CadMP!$B:$D,3,0),\"\")","v":""},{"$f":"IFERROR(VLOOKUP(X4981,CadMP!$B:$D,3,0),\"\")","v":""},{"$f":"IFERROR(VLOOKUP(Y4981,CadMP!$B:$D,3,0),\"\")","v":""},{"$f":"IFERROR(VLOOKUP(Z4981,CadMP!$B:$D,3,0),\"\")","v":""},{"$f":"IFERROR(VLOOKUP(AA4981,CadMP!$B:$D,3,0),\"\")","v":""},{"$f":"IFERROR(VLOOKUP(AB4981,CadMP!$B:$D,3,0),\"\")","v":""},{"$f":"IFERROR(VLOOKUP(AC4981,CadMP!$B:$D,3,0),\"\")","v":""},{"$f":"IFERROR(VLOOKUP(AD4981,CadMP!$B:$D,3,0),\"\")","v":""},{"$f":"IFERROR(VLOOKUP(AE4981,CadMP!$B:$D,3,0),\"\")","v":""},{"$f":"IFERROR(VLOOKUP(AF4981,CadMP!$B:$D,3,0),\"\")","v":""},{"$f":"IFERROR(VLOOKUP(AG4981,CadMP!$B:$D,3,0),\"\")","v":""},{"$f":"IFERROR(VLOOKUP(AH4981,CadMP!$B:$D,3,0),\"\")","v":""},{"$f":"IFERROR(VLOOKUP(AI4981,CadMP!$B:$D,3,0),\"\")","v":""},{"$f":"IFERROR(VLOOKUP(AJ4981,CadMP!$B:$D,3,0),\"\")","v":""},{"$f":"IFERROR(VLOOKUP(AK4981,CadMP!$B:$D,3,0),\"\")","v":""},0,0,0,0,0,0,0,0,0,0,0,0,0,0,0]
[4981,null,null,0,0,null,null,null,null,null,null,0,0,null,null,null,null,null,null,null,1,0,null,null,null,null,null,null,null,null,null,null,null,null,null,null,null,null,null,null,null,null,null,null,null,null,null,null,null,null,null,null,{"$f":"IFERROR(VLOOKUP(W4982,CadMP!$B:$D,2,0),\"\")","v":""},{"$f":"IFERROR(VLOOKUP(X4982,CadMP!$B:$D,2,0),\"\")","v":""},{"$f":"IFERROR(VLOOKUP(Y4982,CadMP!$B:$D,2,0),\"\")","v":""},{"$f":"IFERROR(VLOOKUP(Z4982,CadMP!$B:$D,2,0),\"\")","v":""},{"$f":"IFERROR(VLOOKUP(AA4982,CadMP!$B:$D,2,0),\"\")","v":""},{"$f":"IFERROR(VLOOKUP(AB4982,CadMP!$B:$D,2,0),\"\")","v":""},{"$f":"IFERROR(VLOOKUP(AC4982,CadMP!$B:$D,2,0),\"\")","v":""},{"$f":"IFERROR(VLOOKUP(AD4982,CadMP!$B:$D,2,0),\"\")","v":""},{"$f":"IFERROR(VLOOKUP(AE4982,CadMP!$B:$D,2,0),\"\")","v":""},{"$f":"IFERROR(VLOOKUP(AF4982,CadMP!$B:$D,2,0),\"\")","v":""},{"$f":"IFERROR(VLOOKUP(AG4982,CadMP!$B:$D,2,0),\"\")","v":""},{"$f":"IFERROR(VLOOKUP(AH4982,CadMP!$B:$D,2,0),\"\")","v":""},{"$f":"IFERROR(VLOOKUP(AI4982,CadMP!$B:$D,2,0),\"\")","v":""},{"$f":"IFERROR(VLOOKUP(AJ4982,CadMP!$B:$D,2,0),\"\")","v":""},{"$f":"IFERROR(VLOOKUP(AK4982,CadMP!$B:$D,2,0),\"\")","v":""},{"$f":"IFERROR(VLOOKUP(W4982,CadMP!$B:$D,3,0),\"\")","v":""},{"$f":"IFERROR(VLOOKUP(X4982,CadMP!$B:$D,3,0),\"\")","v":""},{"$f":"IFERROR(VLOOKUP(Y4982,CadMP!$B:$D,3,0),\"\")","v":""},{"$f":"IFERROR(VLOOKUP(Z4982,CadMP!$B:$D,3,0),\"\")","v":""},{"$f":"IFERROR(VLOOKUP(AA4982,CadMP!$B:$D,3,0),\"\")","v":""},{"$f":"IFERROR(VLOOKUP(AB4982,CadMP!$B:$D,3,0),\"\")","v":""},{"$f":"IFERROR(VLOOKUP(AC4982,CadMP!$B:$D,3,0),\"\")","v":""},{"$f":"IFERROR(VLOOKUP(AD4982,CadMP!$B:$D,3,0),\"\")","v":""},{"$f":"IFERROR(VLOOKUP(AE4982,CadMP!$B:$D,3,0),\"\")","v":""},{"$f":"IFERROR(VLOOKUP(AF4982,CadMP!$B:$D,3,0),\"\")","v":""},{"$f":"IFERROR(VLOOKUP(AG4982,CadMP!$B:$D,3,0),\"\")","v":""},{"$f":"IFERROR(VLOOKUP(AH4982,CadMP!$B:$D,3,0),\"\")","v":""},{"$f":"IFERROR(VLOOKUP(AI4982,CadMP!$B:$D,3,0),\"\")","v":""},{"$f":"IFERROR(VLOOKUP(AJ4982,CadMP!$B:$D,3,0),\"\")","v":""},{"$f":"IFERROR(VLOOKUP(AK4982,CadMP!$B:$D,3,0),\"\")","v":""},0,0,0,0,0,0,0,0,0,0,0,0,0,0,0]
[4982,null,null,0,0,null,null,null,null,null,null,0,0,null,null,null,null,null,null,null,1,0,null,null,null,null,null,null,null,null,null,null,null,null,null,null,null,null,null,null,null,null,null,null,null,null,null,null,null,null,null,null,{"$f":"IFERROR(VLOOKUP(W4983,CadMP!$B:$D,2,0),\"\")","v":""},{"$f":"IFERROR(VLOOKUP(X4983,CadMP!$B:$D,2,0),\"\")","v":""},{"$f":"IFERROR(VLOOKUP(Y4983,CadMP!$B:$D,2,0),\"\")","v":""},{"$f":"IFERROR(VLOOKUP(Z4983,CadMP!$B:$D,2,0),\"\")","v":""},{"$f":"IFERROR(VLOOKUP(AA4983,CadMP!$B:$D,2,0),\"\")","v":""},{"$f":"IFERROR(VLOOKUP(AB4983,CadMP!$B:$D,2,0),\"\")","v":""},{"$f":"IFERROR(VLOOKUP(AC4983,CadMP!$B:$D,2,0),\"\")","v":""},{"$f":"IFERROR(VLOOKUP(AD4983,CadMP!$B:$D,2,0),\"\")","v":""},{"$f":"IFERROR(VLOOKUP(AE4983,CadMP!$B:$D,2,0),\"\")","v":""},{"$f":"IFERROR(VLOOKUP(AF4983,CadMP!$B:$D,2,0),\"\")","v":""},{"$f":"IFERROR(VLOOKUP(AG4983,CadMP!$B:$D,2,0),\"\")","v":""},{"$f":"IFERROR(VLOOKUP(AH4983,CadMP!$B:$D,2,0),\"\")","v":""},{"$f":"IFERROR(VLOOKUP(AI4983,CadMP!$B:$D,2,0),\"\")","v":""},{"$f":"IFERROR(VLOOKUP(AJ4983,CadMP!$B:$D,2,0),\"\")","v":""},{"$f":"IFERROR(VLOOKUP(AK4983,CadMP!$B:$D,2,0),\"\")","v":""},{"$f":"IFERROR(VLOOKUP(W4983,CadMP!$B:$D,3,0),\"\")","v":""},{"$f":"IFERROR(VLOOKUP(X4983,CadMP!$B:$D,3,0),\"\")","v":""},{"$f":"IFERROR(VLOOKUP(Y4983,CadMP!$B:$D,3,0),\"\")","v":""},{"$f":"IFERROR(VLOOKUP(Z4983,CadMP!$B:$D,3,0),\"\")","v":""},{"$f":"IFERROR(VLOOKUP(AA4983,CadMP!$B:$D,3,0),\"\")","v":""},{"$f":"IFERROR(VLOOKUP(AB4983,CadMP!$B:$D,3,0),\"\")","v":""},{"$f":"IFERROR(VLOOKUP(AC4983,CadMP!$B:$D,3,0),\"\")","v":""},{"$f":"IFERROR(VLOOKUP(AD4983,CadMP!$B:$D,3,0),\"\")","v":""},{"$f":"IFERROR(VLOOKUP(AE4983,CadMP!$B:$D,3,0),\"\")","v":""},{"$f":"IFERROR(VLOOKUP(AF4983,CadMP!$B:$D,3,0),\"\")","v":""},{"$f":"IFERROR(VLOOKUP(AG4983,CadMP!$B:$D,3,0),\"\")","v":""},{"$f":"IFERROR(VLOOKUP(AH4983,CadMP!$B:$D,3,0),\"\")","v":""},{"$f":"IFERROR(VLOOKUP(AI4983,CadMP!$B:$D,3,0),\"\")","v":""},{"$f":"IFERROR(VLOOKUP(AJ4983,CadMP!$B:$D,3,0),\"\")","v":""},{"$f":"IFERROR(VLOOKUP(AK4983,CadMP!$B:$D,3,0),\"\")","v":""},0,0,0,0,0,0,0,0,0,0,0,0,0,0,0]
[4983,null,null,0,0,null,null,null,null,null,null,0,0,null,null,null,null,null,null,null,1,0,null,null,null,null,null,null,null,null,null,null,null,null,null,null,null,null,null,null,null,null,null,null,null,null,null,null,null,null,null,null,{"$f":"IFERROR(VLOOKUP(W4984,CadMP!$B:$D,2,0),\"\")","v":""},{"$f":"IFERROR(VLOOKUP(X4984,CadMP!$B:$D,2,0),\"\")","v":""},{"$f":"IFERROR(VLOOKUP(Y4984,CadMP!$B:$D,2,0),\"\")","v":""},{"$f":"IFERROR(VLOOKUP(Z4984,CadMP!$B:$D,2,0),\"\")","v":""},{"$f":"IFERROR(VLOOKUP(AA4984,CadMP!$B:$D,2,0),\"\")","v":""},{"$f":"IFERROR(VLOOKUP(AB4984,CadMP!$B:$D,2,0),\"\")","v":""},{"$f":"IFERROR(VLOOKUP(AC4984,CadMP!$B:$D,2,0),\"\")","v":""},{"$f":"IFERROR(VLOOKUP(AD4984,CadMP!$B:$D,2,0),\"\")","v":""},{"$f":"IFERROR(VLOOKUP(AE4984,CadMP!$B:$D,2,0),\"\")","v":""},{"$f":"IFERROR(VLOOKUP(AF4984,CadMP!$B:$D,2,0),\"\")","v":""},{"$f":"IFERROR(VLOOKUP(AG4984,CadMP!$B:$D,2,0),\"\")","v":""},{"$f":"IFERROR(VLOOKUP(AH4984,CadMP!$B:$D,2,0),\"\")","v":""},{"$f":"IFERROR(VLOOKUP(AI4984,CadMP!$B:$D,2,0),\"\")","v":""},{"$f":"IFERROR(VLOOKUP(AJ4984,CadMP!$B:$D,2,0),\"\")","v":""},{"$f":"IFERROR(VLOOKUP(AK4984,CadMP!$B:$D,2,0),\"\")","v":""},{"$f":"IFERROR(VLOOKUP(W4984,CadMP!$B:$D,3,0),\"\")","v":""},{"$f":"IFERROR(VLOOKUP(X4984,CadMP!$B:$D,3,0),\"\")","v":""},{"$f":"IFERROR(VLOOKUP(Y4984,CadMP!$B:$D,3,0),\"\")","v":""},{"$f":"IFERROR(VLOOKUP(Z4984,CadMP!$B:$D,3,0),\"\")","v":""},{"$f":"IFERROR(VLOOKUP(AA4984,CadMP!$B:$D,3,0),\"\")","v":""},{"$f":"IFERROR(VLOOKUP(AB4984,CadMP!$B:$D,3,0),\"\")","v":""},{"$f":"IFERROR(VLOOKUP(AC4984,CadMP!$B:$D,3,0),\"\")","v":""},{"$f":"IFERROR(VLOOKUP(AD4984,CadMP!$B:$D,3,0),\"\")","v":""},{"$f":"IFERROR(VLOOKUP(AE4984,CadMP!$B:$D,3,0),\"\")","v":""},{"$f":"IFERROR(VLOOKUP(AF4984,CadMP!$B:$D,3,0),\"\")","v":""},{"$f":"IFERROR(VLOOKUP(AG4984,CadMP!$B:$D,3,0),\"\")","v":""},{"$f":"IFERROR(VLOOKUP(AH4984,CadMP!$B:$D,3,0),\"\")","v":""},{"$f":"IFERROR(VLOOKUP(AI4984,CadMP!$B:$D,3,0),\"\")","v":""},{"$f":"IFERROR(VLOOKUP(AJ4984,CadMP!$B:$D,3,0),\"\")","v":""},{"$f":"IFERROR(VLOOKUP(AK4984,CadMP!$B:$D,3,0),\"\")","v":""},0,0,0,0,0,0,0,0,0,0,0,0,0,0,0]
[4984,null,null,0,0,null,null,null,null,null,null,0,0,null,null,null,null,null,null,null,1,0,null,null,null,null,null,null,null,null,null,null,null,null,null,null,null,null,null,null,null,null,null,null,null,null,null,null,null,null,null,null,{"$f":"IFERROR(VLOOKUP(W4985,CadMP!$B:$D,2,0),\"\")","v":""},{"$f":"IFERROR(VLOOKUP(X4985,CadMP!$B:$D,2,0),\"\")","v":""},{"$f":"IFERROR(VLOOKUP(Y4985,CadMP!$B:$D,2,0),\"\")","v":""},{"$f":"IFERROR(VLOOKUP(Z4985,CadMP!$B:$D,2,0),\"\")","v":""},{"$f":"IFERROR(VLOOKUP(AA4985,CadMP!$B:$D,2,0),\"\")","v":""},{"$f":"IFERROR(VLOOKUP(AB4985,CadMP!$B:$D,2,0),\"\")","v":""},{"$f":"IFERROR(VLOOKUP(AC4985,CadMP!$B:$D,2,0),\"\")","v":""},{"$f":"IFERROR(VLOOKUP(AD4985,CadMP!$B:$D,2,0),\"\")","v":""},{"$f":"IFERROR(VLOOKUP(AE4985,CadMP!$B:$D,2,0),\"\")","v":""},{"$f":"IFERROR(VLOOKUP(AF4985,CadMP!$B:$D,2,0),\"\")","v":""},{"$f":"IFERROR(VLOOKUP(AG4985,CadMP!$B:$D,2,0),\"\")","v":""},{"$f":"IFERROR(VLOOKUP(AH4985,CadMP!$B:$D,2,0),\"\")","v":""},{"$f":"IFERROR(VLOOKUP(AI4985,CadMP!$B:$D,2,0),\"\")","v":""},{"$f":"IFERROR(VLOOKUP(AJ4985,CadMP!$B:$D,2,0),\"\")","v":""},{"$f":"IFERROR(VLOOKUP(AK4985,CadMP!$B:$D,2,0),\"\")","v":""},{"$f":"IFERROR(VLOOKUP(W4985,CadMP!$B:$D,3,0),\"\")","v":""},{"$f":"IFERROR(VLOOKUP(X4985,CadMP!$B:$D,3,0),\"\")","v":""},{"$f":"IFERROR(VLOOKUP(Y4985,CadMP!$B:$D,3,0),\"\")","v":""},{"$f":"IFERROR(VLOOKUP(Z4985,CadMP!$B:$D,3,0),\"\")","v":""},{"$f":"IFERROR(VLOOKUP(AA4985,CadMP!$B:$D,3,0),\"\")","v":""},{"$f":"IFERROR(VLOOKUP(AB4985,CadMP!$B:$D,3,0),\"\")","v":""},{"$f":"IFERROR(VLOOKUP(AC4985,CadMP!$B:$D,3,0),\"\")","v":""},{"$f":"IFERROR(VLOOKUP(AD4985,CadMP!$B:$D,3,0),\"\")","v":""},{"$f":"IFERROR(VLOOKUP(AE4985,CadMP!$B:$D,3,0),\"\")","v":""},{"$f":"IFERROR(VLOOKUP(AF4985,CadMP!$B:$D,3,0),\"\")","v":""},{"$f":"IFERROR(VLOOKUP(AG4985,CadMP!$B:$D,3,0),\"\")","v":""},{"$f":"IFERROR(VLOOKUP(AH4985,CadMP!$B:$D,3,0),\"\")","v":""},{"$f":"IFERROR(VLOOKUP(AI4985,CadMP!$B:$D,3,0),\"\")","v":""},{"$f":"IFERROR(VLOOKUP(AJ4985,CadMP!$B:$D,3,0),\"\")","v":""},{"$f":"IFERROR(VLOOKUP(AK4985,CadMP!$B:$D,3,0),\"\")","v":""},0,0,0,0,0,0,0,0,0,0,0,0,0,0,0]
[4985,null,null,0,0,null,null,null,null,null,null,0,0,null,null,null,null,null,null,null,1,0,null,null,null,null,null,null,null,null,null,null,null,null,null,null,null,null,null,null,null,null,null,null,null,null,null,null,null,null,null,null,{"$f":"IFERROR(VLOOKUP(W4986,CadMP!$B:$D,2,0),\"\")","v":""},{"$f":"IFERROR(VLOOKUP(X4986,CadMP!$B:$D,2,0),\"\")","v":""},{"$f":"IFERROR(VLOOKUP(Y4986,CadMP!$B:$D,2,0),\"\")","v":""},{"$f":"IFERROR(VLOOKUP(Z4986,CadMP!$B:$D,2,0),\"\")","v":""},{"$f":"IFERROR(VLOOKUP(AA4986,CadMP!$B:$D,2,0),\"\")","v":""},{"$f":"IFERROR(VLOOKUP(AB4986,CadMP!$B:$D,2,0),\"\")","v":""},{"$f":"IFERROR(VLOOKUP(AC4986,CadMP!$B:$D,2,0),\"\")","v":""},{"$f":"IFERROR(VLOOKUP(AD4986,CadMP!$B:$D,2,0),\"\")","v":""},{"$f":"IFERROR(VLOOKUP(AE4986,CadMP!$B:$D,2,0),\"\")","v":""},{"$f":"IFERROR(VLOOKUP(AF4986,CadMP!$B:$D,2,0),\"\")","v":""},{"$f":"IFERROR(VLOOKUP(AG4986,CadMP!$B:$D,2,0),\"\")","v":""},{"$f":"IFERROR(VLOOKUP(AH4986,CadMP!$B:$D,2,0),\"\")","v":""},{"$f":"IFERROR(VLOOKUP(AI4986,CadMP!$B:$D,2,0),\"\")","v":""},{"$f":"IFERROR(VLOOKUP(AJ4986,CadMP!$B:$D,2,0),\"\")","v":""},{"$f":"IFERROR(VLOOKUP(AK4986,CadMP!$B:$D,2,0),\"\")","v":""},{"$f":"IFERROR(VLOOKUP(W4986,CadMP!$B:$D,3,0),\"\")","v":""},{"$f":"IFERROR(VLOOKUP(X4986,CadMP!$B:$D,3,0),\"\")","v":""},{"$f":"IFERROR(VLOOKUP(Y4986,CadMP!$B:$D,3,0),\"\")","v":""},{"$f":"IFERROR(VLOOKUP(Z4986,CadMP!$B:$D,3,0),\"\")","v":""},{"$f":"IFERROR(VLOOKUP(AA4986,CadMP!$B:$D,3,0),\"\")","v":""},{"$f":"IFERROR(VLOOKUP(AB4986,CadMP!$B:$D,3,0),\"\")","v":""},{"$f":"IFERROR(VLOOKUP(AC4986,CadMP!$B:$D,3,0),\"\")","v":""},{"$f":"IFERROR(VLOOKUP(AD4986,CadMP!$B:$D,3,0),\"\")","v":""},{"$f":"IFERROR(VLOOKUP(AE4986,CadMP!$B:$D,3,0),\"\")","v":""},{"$f":"IFERROR(VLOOKUP(AF4986,CadMP!$B:$D,3,0),\"\")","v":""},{"$f":"IFERROR(VLOOKUP(AG4986,CadMP!$B:$D,3,0),\"\")","v":""},{"$f":"IFERROR(VLOOKUP(AH4986,CadMP!$B:$D,3,0),\"\")","v":""},{"$f":"IFERROR(VLOOKUP(AI4986,CadMP!$B:$D,3,0),\"\")","v":""},{"$f":"IFERROR(VLOOKUP(AJ4986,CadMP!$B:$D,3,0),\"\")","v":""},{"$f":"IFERROR(VLOOKUP(AK4986,CadMP!$B:$D,3,0),\"\")","v":""},0,0,0,0,0,0,0,0,0,0,0,0,0,0,0]
[4986,null,null,0,0,null,null,null,null,null,null,0,0,null,null,null,null,null,null,null,1,0,null,null,null,null,null,null,null,null,null,null,null,null,null,null,null,null,null,null,null,null,null,null,null,null,null,null,null,null,null,null,{"$f":"IFERROR(VLOOKUP(W4987,CadMP!$B:$D,2,0),\"\")","v":""},{"$f":"IFERROR(VLOOKUP(X4987,CadMP!$B:$D,2,0),\"\")","v":""},{"$f":"IFERROR(VLOOKUP(Y4987,CadMP!$B:$D,2,0),\"\")","v":""},{"$f":"IFERROR(VLOOKUP(Z4987,CadMP!$B:$D,2,0),\"\")","v":""},{"$f":"IFERROR(VLOOKUP(AA4987,CadMP!$B:$D,2,0),\"\")","v":""},{"$f":"IFERROR(VLOOKUP(AB4987,CadMP!$B:$D,2,0),\"\")","v":""},{"$f":"IFERROR(VLOOKUP(AC4987,CadMP!$B:$D,2,0),\"\")","v":""},{"$f":"IFERROR(VLOOKUP(AD4987,CadMP!$B:$D,2,0),\"\")","v":""},{"$f":"IFERROR(VLOOKUP(AE4987,CadMP!$B:$D,2,0),\"\")","v":""},{"$f":"IFERROR(VLOOKUP(AF4987,CadMP!$B:$D,2,0),\"\")","v":""},{"$f":"IFERROR(VLOOKUP(AG4987,CadMP!$B:$D,2,0),\"\")","v":""},{"$f":"IFERROR(VLOOKUP(AH4987,CadMP!$B:$D,2,0),\"\")","v":""},{"$f":"IFERROR(VLOOKUP(AI4987,CadMP!$B:$D,2,0),\"\")","v":""},{"$f":"IFERROR(VLOOKUP(AJ4987,CadMP!$B:$D,2,0),\"\")","v":""},{"$f":"IFERROR(VLOOKUP(AK4987,CadMP!$B:$D,2,0),\"\")","v":""},{"$f":"IFERROR(VLOOKUP(W4987,CadMP!$B:$D,3,0),\"\")","v":""},{"$f":"IFERROR(VLOOKUP(X4987,CadMP!$B:$D,3,0),\"\")","v":""},{"$f":"IFERROR(VLOOKUP(Y4987,CadMP!$B:$D,3,0),\"\")","v":""},{"$f":"IFERROR(VLOOKUP(Z4987,CadMP!$B:$D,3,0),\"\")","v":""},{"$f":"IFERROR(VLOOKUP(AA4987,CadMP!$B:$D,3,0),\"\")","v":""},{"$f":"IFERROR(VLOOKUP(AB4987,CadMP!$B:$D,3,0),\"\")","v":""},{"$f":"IFERROR(VLOOKUP(AC4987,CadMP!$B:$D,3,0),\"\")","v":""},{"$f":"IFERROR(VLOOKUP(AD4987,CadMP!$B:$D,3,0),\"\")","v":""},{"$f":"IFERROR(VLOOKUP(AE4987,CadMP!$B:$D,3,0),\"\")","v":""},{"$f":"IFERROR(VLOOKUP(AF4987,CadMP!$B:$D,3,0),\"\")","v":""},{"$f":"IFERROR(VLOOKUP(AG4987,CadMP!$B:$D,3,0),\"\")","v":""},{"$f":"IFERROR(VLOOKUP(AH4987,CadMP!$B:$D,3,0),\"\")","v":""},{"$f":"IFERROR(VLOOKUP(AI4987,CadMP!$B:$D,3,0),\"\")","v":""},{"$f":"IFERROR(VLOOKUP(AJ4987,CadMP!$B:$D,3,0),\"\")","v":""},{"$f":"IFERROR(VLOOKUP(AK4987,CadMP!$B:$D,3,0),\"\")","v":""},0,0,0,0,0,0,0,0,0,0,0,0,0,0,0]
[4987,null,null,0,0,null,null,null,null,null,null,0,0,null,null,null,null,null,null,null,1,0,null,null,null,null,null,null,null,null,null,null,null,null,null,null,null,null,null,null,null,null,null,null,null,null,null,null,null,null,null,null,{"$f":"IFERROR(VLOOKUP(W4988,CadMP!$B:$D,2,0),\"\")","v":""},{"$f":"IFERROR(VLOOKUP(X4988,CadMP!$B:$D,2,0),\"\")","v":""},{"$f":"IFERROR(VLOOKUP(Y4988,CadMP!$B:$D,2,0),\"\")","v":""},{"$f":"IFERROR(VLOOKUP(Z4988,CadMP!$B:$D,2,0),\"\")","v":""},{"$f":"IFERROR(VLOOKUP(AA4988,CadMP!$B:$D,2,0),\"\")","v":""},{"$f":"IFERROR(VLOOKUP(AB4988,CadMP!$B:$D,2,0),\"\")","v":""},{"$f":"IFERROR(VLOOKUP(AC4988,CadMP!$B:$D,2,0),\"\")","v":""},{"$f":"IFERROR(VLOOKUP(AD4988,CadMP!$B:$D,2,0),\"\")","v":""},{"$f":"IFERROR(VLOOKUP(AE4988,CadMP!$B:$D,2,0),\"\")","v":""},{"$f":"IFERROR(VLOOKUP(AF4988,CadMP!$B:$D,2,0),\"\")","v":""},{"$f":"IFERROR(VLOOKUP(AG4988,CadMP!$B:$D,2,0),\"\")","v":""},{"$f":"IFERROR(VLOOKUP(AH4988,CadMP!$B:$D,2,0),\"\")","v":""},{"$f":"IFERROR(VLOOKUP(AI4988,CadMP!$B:$D,2,0),\"\")","v":""},{"$f":"IFERROR(VLOOKUP(AJ4988,CadMP!$B:$D,2,0),\"\")","v":""},{"$f":"IFERROR(VLOOKUP(AK4988,CadMP!$B:$D,2,0),\"\")","v":""},{"$f":"IFERROR(VLOOKUP(W4988,CadMP!$B:$D,3,0),\"\")","v":""},{"$f":"IFERROR(VLOOKUP(X4988,CadMP!$B:$D,3,0),\"\")","v":""},{"$f":"IFERROR(VLOOKUP(Y4988,CadMP!$B:$D,3,0),\"\")","v":""},{"$f":"IFERROR(VLOOKUP(Z4988,CadMP!$B:$D,3,0),\"\")","v":""},{"$f":"IFERROR(VLOOKUP(AA4988,CadMP!$B:$D,3,0),\"\")","v":""},{"$f":"IFERROR(VLOOKUP(AB4988,CadMP!$B:$D,3,0),\"\")","v":""},{"$f":"IFERROR(VLOOKUP(AC4988,CadMP!$B:$D,3,0),\"\")","v":""},{"$f":"IFERROR(VLOOKUP(AD4988,CadMP!$B:$D,3,0),\"\")","v":""},{"$f":"IFERROR(VLOOKUP(AE4988,CadMP!$B:$D,3,0),\"\")","v":""},{"$f":"IFERROR(VLOOKUP(AF4988,CadMP!$B:$D,3,0),\"\")","v":""},{"$f":"IFERROR(VLOOKUP(AG4988,CadMP!$B:$D,3,0),\"\")","v":""},{"$f":"IFERROR(VLOOKUP(AH4988,CadMP!$B:$D,3,0),\"\")","v":""},{"$f":"IFERROR(VLOOKUP(AI4988,CadMP!$B:$D,3,0),\"\")","v":""},{"$f":"IFERROR(VLOOKUP(AJ4988,CadMP!$B:$D,3,0),\"\")","v":""},{"$f":"IFERROR(VLOOKUP(AK4988,CadMP!$B:$D,3,0),\"\")","v":""},0,0,0,0,0,0,0,0,0,0,0,0,0,0,0]
[4988,null,null,0,0,null,null,null,null,null,null,0,0,null,null,null,null,null,null,null,1,0,null,null,null,null,null,null,null,null,null,null,null,null,null,null,null,null,null,null,null,null,null,null,null,null,null,null,null,null,null,null,{"$f":"IFERROR(VLOOKUP(W4989,CadMP!$B:$D,2,0),\"\")","v":""},{"$f":"IFERROR(VLOOKUP(X4989,CadMP!$B:$D,2,0),\"\")","v":""},{"$f":"IFERROR(VLOOKUP(Y4989,CadMP!$B:$D,2,0),\"\")","v":""},{"$f":"IFERROR(VLOOKUP(Z4989,CadMP!$B:$D,2,0),\"\")","v":""},{"$f":"IFERROR(VLOOKUP(AA4989,CadMP!$B:$D,2,0),\"\")","v":""},{"$f":"IFERROR(VLOOKUP(AB4989,CadMP!$B:$D,2,0),\"\")","v":""},{"$f":"IFERROR(VLOOKUP(AC4989,CadMP!$B:$D,2,0),\"\")","v":""},{"$f":"IFERROR(VLOOKUP(AD4989,CadMP!$B:$D,2,0),\"\")","v":""},{"$f":"IFERROR(VLOOKUP(AE4989,CadMP!$B:$D,2,0),\"\")","v":""},{"$f":"IFERROR(VLOOKUP(AF4989,CadMP!$B:$D,2,0),\"\")","v":""},{"$f":"IFERROR(VLOOKUP(AG4989,CadMP!$B:$D,2,0),\"\")","v":""},{"$f":"IFERROR(VLOOKUP(AH4989,CadMP!$B:$D,2,0),\"\")","v":""},{"$f":"IFERROR(VLOOKUP(AI4989,CadMP!$B:$D,2,0),\"\")","v":""},{"$f":"IFERROR(VLOOKUP(AJ4989,CadMP!$B:$D,2,0),\"\")","v":""},{"$f":"IFERROR(VLOOKUP(AK4989,CadMP!$B:$D,2,0),\"\")","v":""},{"$f":"IFERROR(VLOOKUP(W4989,CadMP!$B:$D,3,0),\"\")","v":""},{"$f":"IFERROR(VLOOKUP(X4989,CadMP!$B:$D,3,0),\"\")","v":""},{"$f":"IFERROR(VLOOKUP(Y4989,CadMP!$B:$D,3,0),\"\")","v":""},{"$f":"IFERROR(VLOOKUP(Z4989,CadMP!$B:$D,3,0),\"\")","v":""},{"$f":"IFERROR(VLOOKUP(AA4989,CadMP!$B:$D,3,0),\"\")","v":""},{"$f":"IFERROR(VLOOKUP(AB4989,CadMP!$B:$D,3,0),\"\")","v":""},{"$f":"IFERROR(VLOOKUP(AC4989,CadMP!$B:$D,3,0),\"\")","v":""},{"$f":"IFERROR(VLOOKUP(AD4989,CadMP!$B:$D,3,0),\"\")","v":""},{"$f":"IFERROR(VLOOKUP(AE4989,CadMP!$B:$D,3,0),\"\")","v":""},{"$f":"IFERROR(VLOOKUP(AF4989,CadMP!$B:$D,3,0),\"\")","v":""},{"$f":"IFERROR(VLOOKUP(AG4989,CadMP!$B:$D,3,0),\"\")","v":""},{"$f":"IFERROR(VLOOKUP(AH4989,CadMP!$B:$D,3,0),\"\")","v":""},{"$f":"IFERROR(VLOOKUP(AI4989,CadMP!$B:$D,3,0),\"\")","v":""},{"$f":"IFERROR(VLOOKUP(AJ4989,CadMP!$B:$D,3,0),\"\")","v":""},{"$f":"IFERROR(VLOOKUP(AK4989,CadMP!$B:$D,3,0),\"\")","v":""},0,0,0,0,0,0,0,0,0,0,0,0,0,0,0]
[4989,null,null,0,0,null,null,null,null,null,null,0,0,null,null,null,null,null,null,null,1,0,null,null,null,null,null,null,null,null,null,null,null,null,null,null,null,null,null,null,null,null,null,null,null,null,null,null,null,null,null,null,{"$f":"IFERROR(VLOOKUP(W4990,CadMP!$B:$D,2,0),\"\")","v":""},{"$f":"IFERROR(VLOOKUP(X4990,CadMP!$B:$D,2,0),\"\")","v":""},{"$f":"IFERROR(VLOOKUP(Y4990,CadMP!$B:$D,2,0),\"\")","v":""},{"$f":"IFERROR(VLOOKUP(Z4990,CadMP!$B:$D,2,0),\"\")","v":""},{"$f":"IFERROR(VLOOKUP(AA4990,CadMP!$B:$D,2,0),\"\")","v":""},{"$f":"IFERROR(VLOOKUP(AB4990,CadMP!$B:$D,2,0),\"\")","v":""},{"$f":"IFERROR(VLOOKUP(AC4990,CadMP!$B:$D,2,0),\"\")","v":""},{"$f":"IFERROR(VLOOKUP(AD4990,CadMP!$B:$D,2,0),\"\")","v":""},{"$f":"IFERROR(VLOOKUP(AE4990,CadMP!$B:$D,2,0),\"\")","v":""},{"$f":"IFERROR(VLOOKUP(AF4990,CadMP!$B:$D,2,0),\"\")","v":""},{"$f":"IFERROR(VLOOKUP(AG4990,CadMP!$B:$D,2,0),\"\")","v":""},{"$f":"IFERROR(VLOOKUP(AH4990,CadMP!$B:$D,2,0),\"\")","v":""},{"$f":"IFERROR(VLOOKUP(AI4990,CadMP!$B:$D,2,0),\"\")","v":""},{"$f":"IFERROR(VLOOKUP(AJ4990,CadMP!$B:$D,2,0),\"\")","v":""},{"$f":"IFERROR(VLOOKUP(AK4990,CadMP!$B:$D,2,0),\"\")","v":""},{"$f":"IFERROR(VLOOKUP(W4990,CadMP!$B:$D,3,0),\"\")","v":""},{"$f":"IFERROR(VLOOKUP(X4990,CadMP!$B:$D,3,0),\"\")","v":""},{"$f":"IFERROR(VLOOKUP(Y4990,CadMP!$B:$D,3,0),\"\")","v":""},{"$f":"IFERROR(VLOOKUP(Z4990,CadMP!$B:$D,3,0),\"\")","v":""},{"$f":"IFERROR(VLOOKUP(AA4990,CadMP!$B:$D,3,0),\"\")","v":""},{"$f":"IFERROR(VLOOKUP(AB4990,CadMP!$B:$D,3,0),\"\")","v":""},{"$f":"IFERROR(VLOOKUP(AC4990,CadMP!$B:$D,3,0),\"\")","v":""},{"$f":"IFERROR(VLOOKUP(AD4990,CadMP!$B:$D,3,0),\"\")","v":""},{"$f":"IFERROR(VLOOKUP(AE4990,CadMP!$B:$D,3,0),\"\")","v":""},{"$f":"IFERROR(VLOOKUP(AF4990,CadMP!$B:$D,3,0),\"\")","v":""},{"$f":"IFERROR(VLOOKUP(AG4990,CadMP!$B:$D,3,0),\"\")","v":""},{"$f":"IFERROR(VLOOKUP(AH4990,CadMP!$B:$D,3,0),\"\")","v":""},{"$f":"IFERROR(VLOOKUP(AI4990,CadMP!$B:$D,3,0),\"\")","v":""},{"$f":"IFERROR(VLOOKUP(AJ4990,CadMP!$B:$D,3,0),\"\")","v":""},{"$f":"IFERROR(VLOOKUP(AK4990,CadMP!$B:$D,3,0),\"\")","v":""},0,0,0,0,0,0,0,0,0,0,0,0,0,0,0]
[4990,null,null,0,0,null,null,null,null,null,null,0,0,null,null,null,null,null,null,null,1,0,null,null,null,null,null,null,null,null,null,null,null,null,null,null,null,null,null,null,null,null,null,null,null,null,null,null,null,null,null,null,{"$f":"IFERROR(VLOOKUP(W4991,CadMP!$B:$D,2,0),\"\")","v":""},{"$f":"IFERROR(VLOOKUP(X4991,CadMP!$B:$D,2,0),\"\")","v":""},{"$f":"IFERROR(VLOOKUP(Y4991,CadMP!$B:$D,2,0),\"\")","v":""},{"$f":"IFERROR(VLOOKUP(Z4991,CadMP!$B:$D,2,0),\"\")","v":""},{"$f":"IFERROR(VLOOKUP(AA4991,CadMP!$B:$D,2,0),\"\")","v":""},{"$f":"IFERROR(VLOOKUP(AB4991,CadMP!$B:$D,2,0),\"\")","v":""},{"$f":"IFERROR(VLOOKUP(AC4991,CadMP!$B:$D,2,0),\"\")","v":""},{"$f":"IFERROR(VLOOKUP(AD4991,CadMP!$B:$D,2,0),\"\")","v":""},{"$f":"IFERROR(VLOOKUP(AE4991,CadMP!$B:$D,2,0),\"\")","v":""},{"$f":"IFERROR(VLOOKUP(AF4991,CadMP!$B:$D,2,0),\"\")","v":""},{"$f":"IFERROR(VLOOKUP(AG4991,CadMP!$B:$D,2,0),\"\")","v":""},{"$f":"IFERROR(VLOOKUP(AH4991,CadMP!$B:$D,2,0),\"\")","v":""},{"$f":"IFERROR(VLOOKUP(AI4991,CadMP!$B:$D,2,0),\"\")","v":""},{"$f":"IFERROR(VLOOKUP(AJ4991,CadMP!$B:$D,2,0),\"\")","v":""},{"$f":"IFERROR(VLOOKUP(AK4991,CadMP!$B:$D,2,0),\"\")","v":""},{"$f":"IFERROR(VLOOKUP(W4991,CadMP!$B:$D,3,0),\"\")","v":""},{"$f":"IFERROR(VLOOKUP(X4991,CadMP!$B:$D,3,0),\"\")","v":""},{"$f":"IFERROR(VLOOKUP(Y4991,CadMP!$B:$D,3,0),\"\")","v":""},{"$f":"IFERROR(VLOOKUP(Z4991,CadMP!$B:$D,3,0),\"\")","v":""},{"$f":"IFERROR(VLOOKUP(AA4991,CadMP!$B:$D,3,0),\"\")","v":""},{"$f":"IFERROR(VLOOKUP(AB4991,CadMP!$B:$D,3,0),\"\")","v":""},{"$f":"IFERROR(VLOOKUP(AC4991,CadMP!$B:$D,3,0),\"\")","v":""},{"$f":"IFERROR(VLOOKUP(AD4991,CadMP!$B:$D,3,0),\"\")","v":""},{"$f":"IFERROR(VLOOKUP(AE4991,CadMP!$B:$D,3,0),\"\")","v":""},{"$f":"IFERROR(VLOOKUP(AF4991,CadMP!$B:$D,3,0),\"\")","v":""},{"$f":"IFERROR(VLOOKUP(AG4991,CadMP!$B:$D,3,0),\"\")","v":""},{"$f":"IFERROR(VLOOKUP(AH4991,CadMP!$B:$D,3,0),\"\")","v":""},{"$f":"IFERROR(VLOOKUP(AI4991,CadMP!$B:$D,3,0),\"\")","v":""},{"$f":"IFERROR(VLOOKUP(AJ4991,CadMP!$B:$D,3,0),\"\")","v":""},{"$f":"IFERROR(VLOOKUP(AK4991,CadMP!$B:$D,3,0),\"\")","v":""},0,0,0,0,0,0,0,0,0,0,0,0,0,0,0]
[4991,null,null,0,0,null,null,null,null,null,null,0,0,null,null,null,null,null,null,null,1,0,null,null,null,null,null,null,null,null,null,null,null,null,null,null,null,null,null,null,null,null,null,null,null,null,null,null,null,null,null,null,{"$f":"IFERROR(VLOOKUP(W4992,CadMP!$B:$D,2,0),\"\")","v":""},{"$f":"IFERROR(VLOOKUP(X4992,CadMP!$B:$D,2,0),\"\")","v":""},{"$f":"IFERROR(VLOOKUP(Y4992,CadMP!$B:$D,2,0),\"\")","v":""},{"$f":"IFERROR(VLOOKUP(Z4992,CadMP!$B:$D,2,0),\"\")","v":""},{"$f":"IFERROR(VLOOKUP(AA4992,CadMP!$B:$D,2,0),\"\")","v":""},{"$f":"IFERROR(VLOOKUP(AB4992,CadMP!$B:$D,2,0),\"\")","v":""},{"$f":"IFERROR(VLOOKUP(AC4992,CadMP!$B:$D,2,0),\"\")","v":""},{"$f":"IFERROR(VLOOKUP(AD4992,CadMP!$B:$D,2,0),\"\")","v":""},{"$f":"IFERROR(VLOOKUP(AE4992,CadMP!$B:$D,2,0),\"\")","v":""},{"$f":"IFERROR(VLOOKUP(AF4992,CadMP!$B:$D,2,0),\"\")","v":""},{"$f":"IFERROR(VLOOKUP(AG4992,CadMP!$B:$D,2,0),\"\")","v":""},{"$f":"IFERROR(VLOOKUP(AH4992,CadMP!$B:$D,2,0),\"\")","v":""},{"$f":"IFERROR(VLOOKUP(AI4992,CadMP!$B:$D,2,0),\"\")","v":""},{"$f":"IFERROR(VLOOKUP(AJ4992,CadMP!$B:$D,2,0),\"\")","v":""},{"$f":"IFERROR(VLOOKUP(AK4992,CadMP!$B:$D,2,0),\"\")","v":""},{"$f":"IFERROR(VLOOKUP(W4992,CadMP!$B:$D,3,0),\"\")","v":""},{"$f":"IFERROR(VLOOKUP(X4992,CadMP!$B:$D,3,0),\"\")","v":""},{"$f":"IFERROR(VLOOKUP(Y4992,CadMP!$B:$D,3,0),\"\")","v":""},{"$f":"IFERROR(VLOOKUP(Z4992,CadMP!$B:$D,3,0),\"\")","v":""},{"$f":"IFERROR(VLOOKUP(AA4992,CadMP!$B:$D,3,0),\"\")","v":""},{"$f":"IFERROR(VLOOKUP(AB4992,CadMP!$B:$D,3,0),\"\")","v":""},{"$f":"IFERROR(VLOOKUP(AC4992,CadMP!$B:$D,3,0),\"\")","v":""},{"$f":"IFERROR(VLOOKUP(AD4992,CadMP!$B:$D,3,0),\"\")","v":""},{"$f":"IFERROR(VLOOKUP(AE4992,CadMP!$B:$D,3,0),\"\")","v":""},{"$f":"IFERROR(VLOOKUP(AF4992,CadMP!$B:$D,3,0),\"\")","v":""},{"$f":"IFERROR(VLOOKUP(AG4992,CadMP!$B:$D,3,0),\"\")","v":""},{"$f":"IFERROR(VLOOKUP(AH4992,CadMP!$B:$D,3,0),\"\")","v":""},{"$f":"IFERROR(VLOOKUP(AI4992,CadMP!$B:$D,3,0),\"\")","v":""},{"$f":"IFERROR(VLOOKUP(AJ4992,CadMP!$B:$D,3,0),\"\")","v":""},{"$f":"IFERROR(VLOOKUP(AK4992,CadMP!$B:$D,3,0),\"\")","v":""},0,0,0,0,0,0,0,0,0,0,0,0,0,0,0]
[4992,null,null,0,0,null,null,null,null,null,null,0,0,null,null,null,null,null,null,null,1,0,null,null,null,null,null,null,null,null,null,null,null,null,null,null,null,null,null,null,null,null,null,null,null,null,null,null,null,null,null,null,{"$f":"IFERROR(VLOOKUP(W4993,CadMP!$B:$D,2,0),\"\")","v":""},{"$f":"IFERROR(VLOOKUP(X4993,CadMP!$B:$D,2,0),\"\")","v":""},{"$f":"IFERROR(VLOOKUP(Y4993,CadMP!$B:$D,2,0),\"\")","v":""},{"$f":"IFERROR(VLOOKUP(Z4993,CadMP!$B:$D,2,0),\"\")","v":""},{"$f":"IFERROR(VLOOKUP(AA4993,CadMP!$B:$D,2,0),\"\")","v":""},{"$f":"IFERROR(VLOOKUP(AB4993,CadMP!$B:$D,2,0),\"\")","v":""},{"$f":"IFERROR(VLOOKUP(AC4993,CadMP!$B:$D,2,0),\"\")","v":""},{"$f":"IFERROR(VLOOKUP(AD4993,CadMP!$B:$D,2,0),\"\")","v":""},{"$f":"IFERROR(VLOOKUP(AE4993,CadMP!$B:$D,2,0),\"\")","v":""},{"$f":"IFERROR(VLOOKUP(AF4993,CadMP!$B:$D,2,0),\"\")","v":""},{"$f":"IFERROR(VLOOKUP(AG4993,CadMP!$B:$D,2,0),\"\")","v":""},{"$f":"IFERROR(VLOOKUP(AH4993,CadMP!$B:$D,2,0),\"\")","v":""},{"$f":"IFERROR(VLOOKUP(AI4993,CadMP!$B:$D,2,0),\"\")","v":""},{"$f":"IFERROR(VLOOKUP(AJ4993,CadMP!$B:$D,2,0),\"\")","v":""},{"$f":"IFERROR(VLOOKUP(AK4993,CadMP!$B:$D,2,0),\"\")","v":""},{"$f":"IFERROR(VLOOKUP(W4993,CadMP!$B:$D,3,0),\"\")","v":""},{"$f":"IFERROR(VLOOKUP(X4993,CadMP!$B:$D,3,0),\"\")","v":""},{"$f":"IFERROR(VLOOKUP(Y4993,CadMP!$B:$D,3,0),\"\")","v":""},{"$f":"IFERROR(VLOOKUP(Z4993,CadMP!$B:$D,3,0),\"\")","v":""},{"$f":"IFERROR(VLOOKUP(AA4993,CadMP!$B:$D,3,0),\"\")","v":""},{"$f":"IFERROR(VLOOKUP(AB4993,CadMP!$B:$D,3,0),\"\")","v":""},{"$f":"IFERROR(VLOOKUP(AC4993,CadMP!$B:$D,3,0),\"\")","v":""},{"$f":"IFERROR(VLOOKUP(AD4993,CadMP!$B:$D,3,0),\"\")","v":""},{"$f":"IFERROR(VLOOKUP(AE4993,CadMP!$B:$D,3,0),\"\")","v":""},{"$f":"IFERROR(VLOOKUP(AF4993,CadMP!$B:$D,3,0),\"\")","v":""},{"$f":"IFERROR(VLOOKUP(AG4993,CadMP!$B:$D,3,0),\"\")","v":""},{"$f":"IFERROR(VLOOKUP(AH4993,CadMP!$B:$D,3,0),\"\")","v":""},{"$f":"IFERROR(VLOOKUP(AI4993,CadMP!$B:$D,3,0),\"\")","v":""},{"$f":"IFERROR(VLOOKUP(AJ4993,CadMP!$B:$D,3,0),\"\")","v":""},{"$f":"IFERROR(VLOOKUP(AK4993,CadMP!$B:$D,3,0),\"\")","v":""},0,0,0,0,0,0,0,0,0,0,0,0,0,0,0]
[4993,null,null,0,0,null,null,null,null,null,null,0,0,null,null,null,null,null,null,null,1,0,null,null,null,null,null,null,null,null,null,null,null,null,null,null,null,null,null,null,null,null,null,null,null,null,null,null,null,null,null,null,{"$f":"IFERROR(VLOOKUP(W4994,CadMP!$B:$D,2,0),\"\")","v":""},{"$f":"IFERROR(VLOOKUP(X4994,CadMP!$B:$D,2,0),\"\")","v":""},{"$f":"IFERROR(VLOOKUP(Y4994,CadMP!$B:$D,2,0),\"\")","v":""},{"$f":"IFERROR(VLOOKUP(Z4994,CadMP!$B:$D,2,0),\"\")","v":""},{"$f":"IFERROR(VLOOKUP(AA4994,CadMP!$B:$D,2,0),\"\")","v":""},{"$f":"IFERROR(VLOOKUP(AB4994,CadMP!$B:$D,2,0),\"\")","v":""},{"$f":"IFERROR(VLOOKUP(AC4994,CadMP!$B:$D,2,0),\"\")","v":""},{"$f":"IFERROR(VLOOKUP(AD4994,CadMP!$B:$D,2,0),\"\")","v":""},{"$f":"IFERROR(VLOOKUP(AE4994,CadMP!$B:$D,2,0),\"\")","v":""},{"$f":"IFERROR(VLOOKUP(AF4994,CadMP!$B:$D,2,0),\"\")","v":""},{"$f":"IFERROR(VLOOKUP(AG4994,CadMP!$B:$D,2,0),\"\")","v":""},{"$f":"IFERROR(VLOOKUP(AH4994,CadMP!$B:$D,2,0),\"\")","v":""},{"$f":"IFERROR(VLOOKUP(AI4994,CadMP!$B:$D,2,0),\"\")","v":""},{"$f":"IFERROR(VLOOKUP(AJ4994,CadMP!$B:$D,2,0),\"\")","v":""},{"$f":"IFERROR(VLOOKUP(AK4994,CadMP!$B:$D,2,0),\"\")","v":""},{"$f":"IFERROR(VLOOKUP(W4994,CadMP!$B:$D,3,0),\"\")","v":""},{"$f":"IFERROR(VLOOKUP(X4994,CadMP!$B:$D,3,0),\"\")","v":""},{"$f":"IFERROR(VLOOKUP(Y4994,CadMP!$B:$D,3,0),\"\")","v":""},{"$f":"IFERROR(VLOOKUP(Z4994,CadMP!$B:$D,3,0),\"\")","v":""},{"$f":"IFERROR(VLOOKUP(AA4994,CadMP!$B:$D,3,0),\"\")","v":""},{"$f":"IFERROR(VLOOKUP(AB4994,CadMP!$B:$D,3,0),\"\")","v":""},{"$f":"IFERROR(VLOOKUP(AC4994,CadMP!$B:$D,3,0),\"\")","v":""},{"$f":"IFERROR(VLOOKUP(AD4994,CadMP!$B:$D,3,0),\"\")","v":""},{"$f":"IFERROR(VLOOKUP(AE4994,CadMP!$B:$D,3,0),\"\")","v":""},{"$f":"IFERROR(VLOOKUP(AF4994,CadMP!$B:$D,3,0),\"\")","v":""},{"$f":"IFERROR(VLOOKUP(AG4994,CadMP!$B:$D,3,0),\"\")","v":""},{"$f":"IFERROR(VLOOKUP(AH4994,CadMP!$B:$D,3,0),\"\")","v":""},{"$f":"IFERROR(VLOOKUP(AI4994,CadMP!$B:$D,3,0),\"\")","v":""},{"$f":"IFERROR(VLOOKUP(AJ4994,CadMP!$B:$D,3,0),\"\")","v":""},{"$f":"IFERROR(VLOOKUP(AK4994,CadMP!$B:$D,3,0),\"\")","v":""},0,0,0,0,0,0,0,0,0,0,0,0,0,0,0]
[4994,null,null,{"$f":"SUM(CE4995:CS4995)","v":0},{"$f":"SUM(F4995:K4995)","v":0},null,null,null,null,null,null,{"$f":"SUM(D4995:E4995)","v":0},{"$f":"SUM(N4995:T4995)","v":0},null,null,null,null,null,null,null,{"$f":"(100)/(100-M4995)","v":1},{"$f":"L4995*U4995","v":0},null,null,null,null,null,null,null,null,null,null,null,null,null,null,null,null,null,null,null,null,null,null,null,null,null,null,null,null,null,null,{"$f":"IFERROR(VLOOKUP(W4995,CadMP!$B:$D,2,0),\"\")","v":""},{"$f":"IFERROR(VLOOKUP(X4995,CadMP!$B:$D,2,0),\"\")","v":""},{"$f":"IFERROR(VLOOKUP(Y4995,CadMP!$B:$D,2,0),\"\")","v":""},{"$f":"IFERROR(VLOOKUP(Z4995,CadMP!$B:$D,2,0),\"\")","v":""},{"$f":"IFERROR(VLOOKUP(AA4995,CadMP!$B:$D,2,0),\"\")","v":""},{"$f":"IFERROR(VLOOKUP(AB4995,CadMP!$B:$D,2,0),\"\")","v":""},{"$f":"IFERROR(VLOOKUP(AC4995,CadMP!$B:$D,2,0),\"\")","v":""},{"$f":"IFERROR(VLOOKUP(AD4995,CadMP!$B:$D,2,0),\"\")","v":""},{"$f":"IFERROR(VLOOKUP(AE4995,CadMP!$B:$D,2,0),\"\")","v":""},{"$f":"IFERROR(VLOOKUP(AF4995,CadMP!$B:$D,2,0),\"\")","v":""},{"$f":"IFERROR(VLOOKUP(AG4995,CadMP!$B:$D,2,0),\"\")","v":""},{"$f":"IFERROR(VLOOKUP(AH4995,CadMP!$B:$D,2,0),\"\")","v":""},{"$f":"IFERROR(VLOOKUP(AI4995,CadMP!$B:$D,2,0),\"\")","v":""},{"$f":"IFERROR(VLOOKUP(AJ4995,CadMP!$B:$D,2,0),\"\")","v":""},{"$f":"IFERROR(VLOOKUP(AK4995,CadMP!$B:$D,2,0),\"\")","v":""},{"$f":"IFERROR(VLOOKUP(W4995,CadMP!$B:$D,3,0),\"\")","v":""},{"$f":"IFERROR(VLOOKUP(X4995,CadMP!$B:$D,3,0),\"\")","v":""},{"$f":"IFERROR(VLOOKUP(Y4995,CadMP!$B:$D,3,0),\"\")","v":""},{"$f":"IFERROR(VLOOKUP(Z4995,CadMP!$B:$D,3,0),\"\")","v":""},{"$f":"IFERROR(VLOOKUP(AA4995,CadMP!$B:$D,3,0),\"\")","v":""},{"$f":"IFERROR(VLOOKUP(AB4995,CadMP!$B:$D,3,0),\"\")","v":""},{"$f":"IFERROR(VLOOKUP(AC4995,CadMP!$B:$D,3,0),\"\")","v":""},{"$f":"IFERROR(VLOOKUP(AD4995,CadMP!$B:$D,3,0),\"\")","v":""},{"$f":"IFERROR(VLOOKUP(AE4995,CadMP!$B:$D,3,0),\"\")","v":""},{"$f":"IFERROR(VLOOKUP(AF4995,CadMP!$B:$D,3,0),\"\")","v":""},{"$f":"IFERROR(VLOOKUP(AG4995,CadMP!$B:$D,3,0),\"\")","v":""},{"$f":"IFERROR(VLOOKUP(AH4995,CadMP!$B:$D,3,0),\"\")","v":""},{"$f":"IFERROR(VLOOKUP(AI4995,CadMP!$B:$D,3,0),\"\")","v":""},{"$f":"IFERROR(VLOOKUP(AJ4995,CadMP!$B:$D,3,0),\"\")","v":""},{"$f":"IFERROR(VLOOKUP(AK4995,CadMP!$B:$D,3,0),\"\")","v":""},{"$f":"IFERROR(AL4995*BP4995,0)","v":0},{"$f":"IFERROR(AM4995*BQ4995,0)","v":0},{"$f":"IFERROR(AN4995*BR4995,0)","v":0},{"$f":"IFERROR(AO4995*BS4995,0)","v":0},{"$f":"IFERROR(AP4995*BT4995,0)","v":0},{"$f":"IFERROR(AQ4995*BU4995,0)","v":0},{"$f":"IFERROR(AR4995*BV4995,0)","v":0},{"$f":"IFERROR(AS4995*BW4995,0)","v":0},{"$f":"IFERROR(AT4995*BX4995,0)","v":0},{"$f":"IFERROR(AU4995*BY4995,0)","v":0},{"$f":"IFERROR(AV4995*BZ4995,0)","v":0},{"$f":"IFERROR(AW4995*CA4995,0)","v":0},{"$f":"IFERROR(AX4995*CB4995,0)","v":0},{"$f":"IFERROR(AY4995*CC4995,0)","v":0},{"$f":"IFERROR(AZ4995*CD4995,0)","v":0}]
[4995,null,null,0,0,null,null,null,null,null,null,0,0,null,null,null,null,null,null,null,1,0,null,null,null,null,null,null,null,null,null,null,null,null,null,null,null,null,null,null,null,null,null,null,null,null,null,null,null,null,null,null,{"$f":"IFERROR(VLOOKUP(W4996,CadMP!$B:$D,2,0),\"\")","v":""},{"$f":"IFERROR(VLOOKUP(X4996,CadMP!$B:$D,2,0),\"\")","v":""},{"$f":"IFERROR(VLOOKUP(Y4996,CadMP!$B:$D,2,0),\"\")","v":""},{"$f":"IFERROR(VLOOKUP(Z4996,CadMP!$B:$D,2,0),\"\")","v":""},{"$f":"IFERROR(VLOOKUP(AA4996,CadMP!$B:$D,2,0),\"\")","v":""},{"$f":"IFERROR(VLOOKUP(AB4996,CadMP!$B:$D,2,0),\"\")","v":""},{"$f":"IFERROR(VLOOKUP(AC4996,CadMP!$B:$D,2,0),\"\")","v":""},{"$f":"IFERROR(VLOOKUP(AD4996,CadMP!$B:$D,2,0),\"\")","v":""},{"$f":"IFERROR(VLOOKUP(AE4996,CadMP!$B:$D,2,0),\"\")","v":""},{"$f":"IFERROR(VLOOKUP(AF4996,CadMP!$B:$D,2,0),\"\")","v":""},{"$f":"IFERROR(VLOOKUP(AG4996,CadMP!$B:$D,2,0),\"\")","v":""},{"$f":"IFERROR(VLOOKUP(AH4996,CadMP!$B:$D,2,0),\"\")","v":""},{"$f":"IFERROR(VLOOKUP(AI4996,CadMP!$B:$D,2,0),\"\")","v":""},{"$f":"IFERROR(VLOOKUP(AJ4996,CadMP!$B:$D,2,0),\"\")","v":""},{"$f":"IFERROR(VLOOKUP(AK4996,CadMP!$B:$D,2,0),\"\")","v":""},{"$f":"IFERROR(VLOOKUP(W4996,CadMP!$B:$D,3,0),\"\")","v":""},{"$f":"IFERROR(VLOOKUP(X4996,CadMP!$B:$D,3,0),\"\")","v":""},{"$f":"IFERROR(VLOOKUP(Y4996,CadMP!$B:$D,3,0),\"\")","v":""},{"$f":"IFERROR(VLOOKUP(Z4996,CadMP!$B:$D,3,0),\"\")","v":""},{"$f":"IFERROR(VLOOKUP(AA4996,CadMP!$B:$D,3,0),\"\")","v":""},{"$f":"IFERROR(VLOOKUP(AB4996,CadMP!$B:$D,3,0),\"\")","v":""},{"$f":"IFERROR(VLOOKUP(AC4996,CadMP!$B:$D,3,0),\"\")","v":""},{"$f":"IFERROR(VLOOKUP(AD4996,CadMP!$B:$D,3,0),\"\")","v":""},{"$f":"IFERROR(VLOOKUP(AE4996,CadMP!$B:$D,3,0),\"\")","v":""},{"$f":"IFERROR(VLOOKUP(AF4996,CadMP!$B:$D,3,0),\"\")","v":""},{"$f":"IFERROR(VLOOKUP(AG4996,CadMP!$B:$D,3,0),\"\")","v":""},{"$f":"IFERROR(VLOOKUP(AH4996,CadMP!$B:$D,3,0),\"\")","v":""},{"$f":"IFERROR(VLOOKUP(AI4996,CadMP!$B:$D,3,0),\"\")","v":""},{"$f":"IFERROR(VLOOKUP(AJ4996,CadMP!$B:$D,3,0),\"\")","v":""},{"$f":"IFERROR(VLOOKUP(AK4996,CadMP!$B:$D,3,0),\"\")","v":""},0,0,0,0,0,0,0,0,0,0,0,0,0,0,0]
[4996,null,null,0,0,null,null,null,null,null,null,0,0,null,null,null,null,null,null,null,1,0,null,null,null,null,null,null,null,null,null,null,null,null,null,null,null,null,null,null,null,null,null,null,null,null,null,null,null,null,null,null,{"$f":"IFERROR(VLOOKUP(W4997,CadMP!$B:$D,2,0),\"\")","v":""},{"$f":"IFERROR(VLOOKUP(X4997,CadMP!$B:$D,2,0),\"\")","v":""},{"$f":"IFERROR(VLOOKUP(Y4997,CadMP!$B:$D,2,0),\"\")","v":""},{"$f":"IFERROR(VLOOKUP(Z4997,CadMP!$B:$D,2,0),\"\")","v":""},{"$f":"IFERROR(VLOOKUP(AA4997,CadMP!$B:$D,2,0),\"\")","v":""},{"$f":"IFERROR(VLOOKUP(AB4997,CadMP!$B:$D,2,0),\"\")","v":""},{"$f":"IFERROR(VLOOKUP(AC4997,CadMP!$B:$D,2,0),\"\")","v":""},{"$f":"IFERROR(VLOOKUP(AD4997,CadMP!$B:$D,2,0),\"\")","v":""},{"$f":"IFERROR(VLOOKUP(AE4997,CadMP!$B:$D,2,0),\"\")","v":""},{"$f":"IFERROR(VLOOKUP(AF4997,CadMP!$B:$D,2,0),\"\")","v":""},{"$f":"IFERROR(VLOOKUP(AG4997,CadMP!$B:$D,2,0),\"\")","v":""},{"$f":"IFERROR(VLOOKUP(AH4997,CadMP!$B:$D,2,0),\"\")","v":""},{"$f":"IFERROR(VLOOKUP(AI4997,CadMP!$B:$D,2,0),\"\")","v":""},{"$f":"IFERROR(VLOOKUP(AJ4997,CadMP!$B:$D,2,0),\"\")","v":""},{"$f":"IFERROR(VLOOKUP(AK4997,CadMP!$B:$D,2,0),\"\")","v":""},{"$f":"IFERROR(VLOOKUP(W4997,CadMP!$B:$D,3,0),\"\")","v":""},{"$f":"IFERROR(VLOOKUP(X4997,CadMP!$B:$D,3,0),\"\")","v":""},{"$f":"IFERROR(VLOOKUP(Y4997,CadMP!$B:$D,3,0),\"\")","v":""},{"$f":"IFERROR(VLOOKUP(Z4997,CadMP!$B:$D,3,0),\"\")","v":""},{"$f":"IFERROR(VLOOKUP(AA4997,CadMP!$B:$D,3,0),\"\")","v":""},{"$f":"IFERROR(VLOOKUP(AB4997,CadMP!$B:$D,3,0),\"\")","v":""},{"$f":"IFERROR(VLOOKUP(AC4997,CadMP!$B:$D,3,0),\"\")","v":""},{"$f":"IFERROR(VLOOKUP(AD4997,CadMP!$B:$D,3,0),\"\")","v":""},{"$f":"IFERROR(VLOOKUP(AE4997,CadMP!$B:$D,3,0),\"\")","v":""},{"$f":"IFERROR(VLOOKUP(AF4997,CadMP!$B:$D,3,0),\"\")","v":""},{"$f":"IFERROR(VLOOKUP(AG4997,CadMP!$B:$D,3,0),\"\")","v":""},{"$f":"IFERROR(VLOOKUP(AH4997,CadMP!$B:$D,3,0),\"\")","v":""},{"$f":"IFERROR(VLOOKUP(AI4997,CadMP!$B:$D,3,0),\"\")","v":""},{"$f":"IFERROR(VLOOKUP(AJ4997,CadMP!$B:$D,3,0),\"\")","v":""},{"$f":"IFERROR(VLOOKUP(AK4997,CadMP!$B:$D,3,0),\"\")","v":""},0,0,0,0,0,0,0,0,0,0,0,0,0,0,0]
[4997,null,null,0,0,null,null,null,null,null,null,0,0,null,null,null,null,null,null,null,1,0,null,null,null,null,null,null,null,null,null,null,null,null,null,null,null,null,null,null,null,null,null,null,null,null,null,null,null,null,null,null,{"$f":"IFERROR(VLOOKUP(W4998,CadMP!$B:$D,2,0),\"\")","v":""},{"$f":"IFERROR(VLOOKUP(X4998,CadMP!$B:$D,2,0),\"\")","v":""},{"$f":"IFERROR(VLOOKUP(Y4998,CadMP!$B:$D,2,0),\"\")","v":""},{"$f":"IFERROR(VLOOKUP(Z4998,CadMP!$B:$D,2,0),\"\")","v":""},{"$f":"IFERROR(VLOOKUP(AA4998,CadMP!$B:$D,2,0),\"\")","v":""},{"$f":"IFERROR(VLOOKUP(AB4998,CadMP!$B:$D,2,0),\"\")","v":""},{"$f":"IFERROR(VLOOKUP(AC4998,CadMP!$B:$D,2,0),\"\")","v":""},{"$f":"IFERROR(VLOOKUP(AD4998,CadMP!$B:$D,2,0),\"\")","v":""},{"$f":"IFERROR(VLOOKUP(AE4998,CadMP!$B:$D,2,0),\"\")","v":""},{"$f":"IFERROR(VLOOKUP(AF4998,CadMP!$B:$D,2,0),\"\")","v":""},{"$f":"IFERROR(VLOOKUP(AG4998,CadMP!$B:$D,2,0),\"\")","v":""},{"$f":"IFERROR(VLOOKUP(AH4998,CadMP!$B:$D,2,0),\"\")","v":""},{"$f":"IFERROR(VLOOKUP(AI4998,CadMP!$B:$D,2,0),\"\")","v":""},{"$f":"IFERROR(VLOOKUP(AJ4998,CadMP!$B:$D,2,0),\"\")","v":""},{"$f":"IFERROR(VLOOKUP(AK4998,CadMP!$B:$D,2,0),\"\")","v":""},{"$f":"IFERROR(VLOOKUP(W4998,CadMP!$B:$D,3,0),\"\")","v":""},{"$f":"IFERROR(VLOOKUP(X4998,CadMP!$B:$D,3,0),\"\")","v":""},{"$f":"IFERROR(VLOOKUP(Y4998,CadMP!$B:$D,3,0),\"\")","v":""},{"$f":"IFERROR(VLOOKUP(Z4998,CadMP!$B:$D,3,0),\"\")","v":""},{"$f":"IFERROR(VLOOKUP(AA4998,CadMP!$B:$D,3,0),\"\")","v":""},{"$f":"IFERROR(VLOOKUP(AB4998,CadMP!$B:$D,3,0),\"\")","v":""},{"$f":"IFERROR(VLOOKUP(AC4998,CadMP!$B:$D,3,0),\"\")","v":""},{"$f":"IFERROR(VLOOKUP(AD4998,CadMP!$B:$D,3,0),\"\")","v":""},{"$f":"IFERROR(VLOOKUP(AE4998,CadMP!$B:$D,3,0),\"\")","v":""},{"$f":"IFERROR(VLOOKUP(AF4998,CadMP!$B:$D,3,0),\"\")","v":""},{"$f":"IFERROR(VLOOKUP(AG4998,CadMP!$B:$D,3,0),\"\")","v":""},{"$f":"IFERROR(VLOOKUP(AH4998,CadMP!$B:$D,3,0),\"\")","v":""},{"$f":"IFERROR(VLOOKUP(AI4998,CadMP!$B:$D,3,0),\"\")","v":""},{"$f":"IFERROR(VLOOKUP(AJ4998,CadMP!$B:$D,3,0),\"\")","v":""},{"$f":"IFERROR(VLOOKUP(AK4998,CadMP!$B:$D,3,0),\"\")","v":""},0,0,0,0,0,0,0,0,0,0,0,0,0,0,0]
[4998,null,null,0,0,null,null,null,null,null,null,0,0,null,null,null,null,null,null,null,1,0,null,null,null,null,null,null,null,null,null,null,null,null,null,null,null,null,null,null,null,null,null,null,null,null,null,null,null,null,null,null,{"$f":"IFERROR(VLOOKUP(W4999,CadMP!$B:$D,2,0),\"\")","v":""},{"$f":"IFERROR(VLOOKUP(X4999,CadMP!$B:$D,2,0),\"\")","v":""},{"$f":"IFERROR(VLOOKUP(Y4999,CadMP!$B:$D,2,0),\"\")","v":""},{"$f":"IFERROR(VLOOKUP(Z4999,CadMP!$B:$D,2,0),\"\")","v":""},{"$f":"IFERROR(VLOOKUP(AA4999,CadMP!$B:$D,2,0),\"\")","v":""},{"$f":"IFERROR(VLOOKUP(AB4999,CadMP!$B:$D,2,0),\"\")","v":""},{"$f":"IFERROR(VLOOKUP(AC4999,CadMP!$B:$D,2,0),\"\")","v":""},{"$f":"IFERROR(VLOOKUP(AD4999,CadMP!$B:$D,2,0),\"\")","v":""},{"$f":"IFERROR(VLOOKUP(AE4999,CadMP!$B:$D,2,0),\"\")","v":""},{"$f":"IFERROR(VLOOKUP(AF4999,CadMP!$B:$D,2,0),\"\")","v":""},{"$f":"IFERROR(VLOOKUP(AG4999,CadMP!$B:$D,2,0),\"\")","v":""},{"$f":"IFERROR(VLOOKUP(AH4999,CadMP!$B:$D,2,0),\"\")","v":""},{"$f":"IFERROR(VLOOKUP(AI4999,CadMP!$B:$D,2,0),\"\")","v":""},{"$f":"IFERROR(VLOOKUP(AJ4999,CadMP!$B:$D,2,0),\"\")","v":""},{"$f":"IFERROR(VLOOKUP(AK4999,CadMP!$B:$D,2,0),\"\")","v":""},{"$f":"IFERROR(VLOOKUP(W4999,CadMP!$B:$D,3,0),\"\")","v":""},{"$f":"IFERROR(VLOOKUP(X4999,CadMP!$B:$D,3,0),\"\")","v":""},{"$f":"IFERROR(VLOOKUP(Y4999,CadMP!$B:$D,3,0),\"\")","v":""},{"$f":"IFERROR(VLOOKUP(Z4999,CadMP!$B:$D,3,0),\"\")","v":""},{"$f":"IFERROR(VLOOKUP(AA4999,CadMP!$B:$D,3,0),\"\")","v":""},{"$f":"IFERROR(VLOOKUP(AB4999,CadMP!$B:$D,3,0),\"\")","v":""},{"$f":"IFERROR(VLOOKUP(AC4999,CadMP!$B:$D,3,0),\"\")","v":""},{"$f":"IFERROR(VLOOKUP(AD4999,CadMP!$B:$D,3,0),\"\")","v":""},{"$f":"IFERROR(VLOOKUP(AE4999,CadMP!$B:$D,3,0),\"\")","v":""},{"$f":"IFERROR(VLOOKUP(AF4999,CadMP!$B:$D,3,0),\"\")","v":""},{"$f":"IFERROR(VLOOKUP(AG4999,CadMP!$B:$D,3,0),\"\")","v":""},{"$f":"IFERROR(VLOOKUP(AH4999,CadMP!$B:$D,3,0),\"\")","v":""},{"$f":"IFERROR(VLOOKUP(AI4999,CadMP!$B:$D,3,0),\"\")","v":""},{"$f":"IFERROR(VLOOKUP(AJ4999,CadMP!$B:$D,3,0),\"\")","v":""},{"$f":"IFERROR(VLOOKUP(AK4999,CadMP!$B:$D,3,0),\"\")","v":""},0,0,0,0,0,0,0,0,0,0,0,0,0,0,0]
[4999,null,null,0,0,null,null,null,null,null,null,0,0,null,null,null,null,null,null,null,1,0,null,null,null,null,null,null,null,null,null,null,null,null,null,null,null,null,null,null,null,null,null,null,null,null,null,null,null,null,null,null,{"$f":"IFERROR(VLOOKUP(W5000,CadMP!$B:$D,2,0),\"\")","v":""},{"$f":"IFERROR(VLOOKUP(X5000,CadMP!$B:$D,2,0),\"\")","v":""},{"$f":"IFERROR(VLOOKUP(Y5000,CadMP!$B:$D,2,0),\"\")","v":""},{"$f":"IFERROR(VLOOKUP(Z5000,CadMP!$B:$D,2,0),\"\")","v":""},{"$f":"IFERROR(VLOOKUP(AA5000,CadMP!$B:$D,2,0),\"\")","v":""},{"$f":"IFERROR(VLOOKUP(AB5000,CadMP!$B:$D,2,0),\"\")","v":""},{"$f":"IFERROR(VLOOKUP(AC5000,CadMP!$B:$D,2,0),\"\")","v":""},{"$f":"IFERROR(VLOOKUP(AD5000,CadMP!$B:$D,2,0),\"\")","v":""},{"$f":"IFERROR(VLOOKUP(AE5000,CadMP!$B:$D,2,0),\"\")","v":""},{"$f":"IFERROR(VLOOKUP(AF5000,CadMP!$B:$D,2,0),\"\")","v":""},{"$f":"IFERROR(VLOOKUP(AG5000,CadMP!$B:$D,2,0),\"\")","v":""},{"$f":"IFERROR(VLOOKUP(AH5000,CadMP!$B:$D,2,0),\"\")","v":""},{"$f":"IFERROR(VLOOKUP(AI5000,CadMP!$B:$D,2,0),\"\")","v":""},{"$f":"IFERROR(VLOOKUP(AJ5000,CadMP!$B:$D,2,0),\"\")","v":""},{"$f":"IFERROR(VLOOKUP(AK5000,CadMP!$B:$D,2,0),\"\")","v":""},{"$f":"IFERROR(VLOOKUP(W5000,CadMP!$B:$D,3,0),\"\")","v":""},{"$f":"IFERROR(VLOOKUP(X5000,CadMP!$B:$D,3,0),\"\")","v":""},{"$f":"IFERROR(VLOOKUP(Y5000,CadMP!$B:$D,3,0),\"\")","v":""},{"$f":"IFERROR(VLOOKUP(Z5000,CadMP!$B:$D,3,0),\"\")","v":""},{"$f":"IFERROR(VLOOKUP(AA5000,CadMP!$B:$D,3,0),\"\")","v":""},{"$f":"IFERROR(VLOOKUP(AB5000,CadMP!$B:$D,3,0),\"\")","v":""},{"$f":"IFERROR(VLOOKUP(AC5000,CadMP!$B:$D,3,0),\"\")","v":""},{"$f":"IFERROR(VLOOKUP(AD5000,CadMP!$B:$D,3,0),\"\")","v":""},{"$f":"IFERROR(VLOOKUP(AE5000,CadMP!$B:$D,3,0),\"\")","v":""},{"$f":"IFERROR(VLOOKUP(AF5000,CadMP!$B:$D,3,0),\"\")","v":""},{"$f":"IFERROR(VLOOKUP(AG5000,CadMP!$B:$D,3,0),\"\")","v":""},{"$f":"IFERROR(VLOOKUP(AH5000,CadMP!$B:$D,3,0),\"\")","v":""},{"$f":"IFERROR(VLOOKUP(AI5000,CadMP!$B:$D,3,0),\"\")","v":""},{"$f":"IFERROR(VLOOKUP(AJ5000,CadMP!$B:$D,3,0),\"\")","v":""},{"$f":"IFERROR(VLOOKUP(AK5000,CadMP!$B:$D,3,0),\"\")","v":""},0,0,0,0,0,0,0,0,0,0,0,0,0,0,0]